{"text_format":"1","workbook":"xlsx","n_sheets":9,"sheets":["EINGABEMASKE","Vertragsregister","Körperschaften","Verwalter","Haushaltsstellen","Objekte","Vertragsarten","Vertragsgegenstand","Vertragspartner"],"not_rendered":{"charts":0,"images":0,"macros":1,"external_links":0,"defined_names":2,"comments":0,"pivot_tables":0},"unopened":[],"bounds":{"document_bytes":16777216,"sheet_cells":100000,"rows_first":2000,"rows_last":500,"rows_between":2000,"halvings":0,"cell_chars":16384,"cell_head_chars":4096},"cells_cut":0,"cells_raw":0,"read":"whole","date_system":"1900"}

{"sheet":"EINGABEMASKE","index":0,"n_rows":40,"n_cols":4,"rows_kept":40,"cut":false,"hidden":false,"merged":[[1,1,1,2],[41,1,41,2]]}
[]
[null,"Eingabemaske für neue Vertragsverhältnisse"]
[]
[null,"Eingabenummer",{"$f":"MAX(Vertragsregister!C:C)+1","v":1},"automatisch"]
[]
[null,"Status","laufend","Auswahl"]
[]
[null,"Körperschaft",null,"Auswahl"]
[]
[null,"Verwaltende Stelle",null,"Auswahl"]
[]
[null,"Haushaltsstelle",null,"Auswahl"]
[]
[null,"Objekt",null,"Auswahl"]
[]
[null,"Vertragsnummer",null,"Eingabe"]
[]
[null,{"$f":"Vertragsarten!B1","v":"Vertragsarten"},null,"Auswahl"]
[]
[null,{"$f":"Vertragsgegenstand!B1","v":"Vertragsgegenstand"},null,"Auswahl"]
[]
[null,"Beschreibung",null,"Eingabe"]
[]
[null,{"$f":"Vertragspartner!B1","v":"Vertragspartner"},null,"Auswahl"]
[]
[null,"Vertragsbeginn",null,"Eingabe"]
[]
[null,"Laufzeit in Jahren",null,"Eingabe"]
[]
[null,"Vertragsende",{"$f":"IF(C28=\"\",\"\",DATE(YEAR(C26)+C28,MONTH(C26),DAY(C26)-1))","v":""},"automatisch"]
[]
[null,"jährliche stille Verlängerung",null,"Auswahl"]
[]
[null,"Kündigungsfrist in Monaten",null,"Eingabe"]
[]
[null,"jährliche Zahlungshäufigkeit",null,"Auswahl"]
[]
[null,"Zahlbetrag",null,"Eingabe"]
[]
[null,"Bemerkungen",null,"Eingabe"]

{"sheet":"Vertragsregister","index":1,"n_rows":22,"n_cols":24,"rows_kept":22,"cut":false,"hidden":false,"merged":[]}
[null,"Eingabedatum","Eingabe-Nr.:","Status","Körperschaft","Verwaltende Stelle","Haushaltsstelle","Objekt","Vertragsnummer","Vertragsarten","Vertragsgegenstand","Beschreibung","Vertragspartner","Vertragsbeginn","Laufzeit in Jahren","Vertragsende","jährliche stille \nVerlängerung","Kündigungsfrist \nin Monaten","bisherige Laufzeit","nächstmögliche Kündigung bis","jährliche \nZahlungshäufigkeit","Zahlbetrag","Bemerkungen","Jahreswert"]
[{"$f":"IF(E2=\"\",\"\",B2+1)","v":""},{"$f":"TODAY()","v":"2021-09-21"}]
[null,null,null,null,null,null,null,null,null,null,null,null,null,null,null,null,null,null,{"$f":"IF(C3=\"\",\"\",YEAR($B$2)-YEAR(N3))","v":""},{"$f":"IF(C3=\"\",\"\",\n\nIF(OR(Q3=\"nein\",Q3=\"\"),\"\",\n\nIF(AND(Q3=\"ja\",D3=\"laufend\"),\n\nIF(R3=12,\n\nIF($B$2<DATE(YEAR(P3)-1,MONTH(P3),DAY(P3)),\n\nDATE(YEAR(P3)-1,MONTH(P3),DAY(P3)),\n\nDATE(YEAR($B$2)+1,MONTH(N3),DAY(N3))-1),\n\n\nIF($B$2<DATE(YEAR(P3),MONTH(N3)-R3,DAY(N3))-1,\n\nDATE(YEAR(P3),MONTH(N3)-R3,DAY(N3))-1,\n\nIF($B$2<DATE(YEAR($B$2),MONTH(N3)-R3,DAY(N3))-1,\n\nDATE(YEAR($B$2),MONTH(N3)-R3,DAY(N3))-1,\n\nDATE(YEAR($B$2)+1,MONTH(N3)-R3,DAY(N3))-1))))))","v":""}]
[null,null,null,null,null,null,null,null,null,null,null,null,null,null,null,null,null,null,{"$f":"IF(C4=\"\",\"\",YEAR($B$2)-YEAR(N4))","v":""},{"$f":"IF(C4=\"\",\"\",\n\nIF(OR(Q4=\"nein\",Q4=\"\"),\"\",\n\nIF(AND(Q4=\"ja\",D4=\"laufend\"),\n\nIF(R4=12,\n\nIF($B$2<DATE(YEAR(P4)-1,MONTH(P4),DAY(P4)),\n\nDATE(YEAR(P4)-1,MONTH(P4),DAY(P4)),\n\nDATE(YEAR($B$2)+1,MONTH(N4),DAY(N4))-1),\n\n\nIF($B$2<DATE(YEAR(P4),MONTH(N4)-R4,DAY(N4))-1,\n\nDATE(YEAR(P4),MONTH(N4)-R4,DAY(N4))-1,\n\nIF($B$2<DATE(YEAR($B$2),MONTH(N4)-R4,DAY(N4))-1,\n\nDATE(YEAR($B$2),MONTH(N4)-R4,DAY(N4))-1,\n\nDATE(YEAR($B$2)+1,MONTH(N4)-R4,DAY(N4))-1))))))","v":""}]
[null,null,null,null,null,null,null,null,null,null,null,null,null,null,null,null,null,null,"",""]
[null,null,null,null,null,null,null,null,null,null,null,null,null,null,null,null,null,null,"",""]
[null,null,null,null,null,null,null,null,null,null,null,null,null,null,null,null,null,null,"",""]
[null,null,null,null,null,null,null,null,null,null,null,null,null,null,null,null,null,null,"",""]
[null,null,null,null,null,null,null,null,null,null,null,null,null,null,null,null,null,null,"",""]
[null,null,null,null,null,null,null,null,null,null,null,null,null,null,null,null,null,null,"",""]
[null,null,null,null,null,null,null,null,null,null,null,null,null,null,null,null,null,null,"",""]
[null,null,null,null,null,null,null,null,null,null,null,null,null,null,null,null,null,null,"",""]
[null,null,null,null,null,null,null,null,null,null,null,null,null,null,null,null,null,null,"",""]
[null,null,null,null,null,null,null,null,null,null,null,null,null,null,null,null,null,null,"",""]
[null,null,null,null,null,null,null,null,null,null,null,null,null,null,null,null,null,null,"",""]
[null,null,null,null,null,null,null,null,null,null,null,null,null,null,null,null,null,null,"",""]
[null,null,null,null,null,null,null,null,null,null,null,null,null,null,null,null,null,null,"",""]
[null,null,null,null,null,null,null,null,null,null,null,null,null,null,null,null,null,null,"",""]
[null,null,null,null,null,null,null,null,null,null,null,null,null,null,null,null,null,null,"",""]
[null,null,null,null,null,null,null,null,null,null,null,null,null,null,null,null,null,null,"",""]
[null,null,null,null,null,null,null,null,null,null,null,null,null,null,null,null,null,null,{"$f":"IF(C21=\"\",\"\",YEAR($B$2)-YEAR(N21))","v":""},{"$f":"IF(C21=\"\",\"\",\n\nIF(OR(Q21=\"nein\",Q21=\"\"),\"\",\n\nIF(AND(Q21=\"ja\",D21=\"laufend\"),\n\nIF(R21=12,\n\nIF($B$2<DATE(YEAR(P21)-1,MONTH(P21),DAY(P21)),\n\nDATE(YEAR(P21)-1,MONTH(P21),DAY(P21)),\n\nDATE(YEAR($B$2)+1,MONTH(N21),DAY(N21))-1),\n\n\nIF($B$2<DATE(YEAR(P21),MONTH(N21)-R21,DAY(N21))-1,\n\nDATE(YEAR(P21),MONTH(N21)-R21,DAY(N21))-1,\n\nIF($B$2<DATE(YEAR($B$2),MONTH(N21)-R21,DAY(N21))-1,\n\nDATE(YEAR($B$2),MONTH(N21)-R21,DAY(N21))-1,\n\nDATE(YEAR($B$2)+1,MONTH(N21)-R21,DAY(N21))-1))))))","v":""}]
[null,null,null,null,null,null,null,null,null,null,null,null,null,null,null,null,null,null,"",{"$f":"IF(C22=\"\",\"\",\n\nIF(Q22=\"nein\",\"\",\n\nIF(AND(Q22=\"ja\",D22=\"laufend\"),\n\nIF(R22=12,\n\nIF($B$2<DATE(YEAR(P22)-1,MONTH(P22),DAY(P22)),\n\nDATE(YEAR(P22)-1,MONTH(P22),DAY(P22)),\n\nDATE(YEAR($B$2)+1,MONTH(N22),DAY(N22))-1),\n\n\nIF($B$2<DATE(YEAR(P22),MONTH(N22)-R22,DAY(N22))-1,\n\nDATE(YEAR(P22),MONTH(N22)-R22,DAY(N22))-1,\n\nIF($B$2<DATE(YEAR($B$2),MONTH(N22)-R22,DAY(N22))-1,\n\nDATE(YEAR($B$2),MONTH(N22)-R22,DAY(N22))-1,\n\nDATE(YEAR($B$2)+1,MONTH(N22)-R22,DAY(N22))-1))))))","v":""}]

{"sheet":"Körperschaften","index":2,"n_rows":1000,"n_cols":2,"rows_kept":1000,"cut":false,"hidden":false,"merged":[]}
[null,{"$f":"MID(CELL(\"Dateiname\",$A$1),FIND(\"]\", CELL(\"Dateiname\",$A$1))+1,31)","v":"Körperschaften"}]
[]
[{"$f":"IF(B3=\"\",\"\",1)","v":1},"Körperschaft 1"]
[{"$f":"IF(B4=\"\",\"\",MAX($A$1:A3)+1)","v":2},"Körperschaft 2"]
[{"$f":"IF(B5=\"\",\"\",MAX($A$1:A4)+1)","v":3},"Körperschaft 3"]
[{"$f":"IF(B6=\"\",\"\",MAX($A$1:A5)+1)","v":""}]
[{"$f":"IF(B7=\"\",\"\",MAX($A$1:A6)+1)","v":""}]
[{"$f":"IF(B8=\"\",\"\",MAX($A$1:A7)+1)","v":""}]
[{"$f":"IF(B9=\"\",\"\",MAX($A$1:A8)+1)","v":""}]
[{"$f":"IF(B10=\"\",\"\",MAX($A$1:A9)+1)","v":""}]
[{"$f":"IF(B11=\"\",\"\",MAX($A$1:A10)+1)","v":""}]
[{"$f":"IF(B12=\"\",\"\",MAX($A$1:A11)+1)","v":""}]
[{"$f":"IF(B13=\"\",\"\",MAX($A$1:A12)+1)","v":""}]
[{"$f":"IF(B14=\"\",\"\",MAX($A$1:A13)+1)","v":""}]
[{"$f":"IF(B15=\"\",\"\",MAX($A$1:A14)+1)","v":""}]
[{"$f":"IF(B16=\"\",\"\",MAX($A$1:A15)+1)","v":""}]
[{"$f":"IF(B17=\"\",\"\",MAX($A$1:A16)+1)","v":""}]
[{"$f":"IF(B18=\"\",\"\",MAX($A$1:A17)+1)","v":""}]
[{"$f":"IF(B19=\"\",\"\",MAX($A$1:A18)+1)","v":""}]
[{"$f":"IF(B20=\"\",\"\",MAX($A$1:A19)+1)","v":""}]
[{"$f":"IF(B21=\"\",\"\",MAX($A$1:A20)+1)","v":""}]
[{"$f":"IF(B22=\"\",\"\",MAX($A$1:A21)+1)","v":""}]
[{"$f":"IF(B23=\"\",\"\",MAX($A$1:A22)+1)","v":""}]
[{"$f":"IF(B24=\"\",\"\",MAX($A$1:A23)+1)","v":""}]
[{"$f":"IF(B25=\"\",\"\",MAX($A$1:A24)+1)","v":""}]
[{"$f":"IF(B26=\"\",\"\",MAX($A$1:A25)+1)","v":""}]
[{"$f":"IF(B27=\"\",\"\",MAX($A$1:A26)+1)","v":""}]
[{"$f":"IF(B28=\"\",\"\",MAX($A$1:A27)+1)","v":""}]
[{"$f":"IF(B29=\"\",\"\",MAX($A$1:A28)+1)","v":""}]
[{"$f":"IF(B30=\"\",\"\",MAX($A$1:A29)+1)","v":""}]
[{"$f":"IF(B31=\"\",\"\",MAX($A$1:A30)+1)","v":""}]
[{"$f":"IF(B32=\"\",\"\",MAX($A$1:A31)+1)","v":""}]
[{"$f":"IF(B33=\"\",\"\",MAX($A$1:A32)+1)","v":""}]
[{"$f":"IF(B34=\"\",\"\",MAX($A$1:A33)+1)","v":""}]
[{"$f":"IF(B35=\"\",\"\",MAX($A$1:A34)+1)","v":""}]
[{"$f":"IF(B36=\"\",\"\",MAX($A$1:A35)+1)","v":""}]
[{"$f":"IF(B37=\"\",\"\",MAX($A$1:A36)+1)","v":""}]
[{"$f":"IF(B38=\"\",\"\",MAX($A$1:A37)+1)","v":""}]
[{"$f":"IF(B39=\"\",\"\",MAX($A$1:A38)+1)","v":""}]
[{"$f":"IF(B40=\"\",\"\",MAX($A$1:A39)+1)","v":""}]
[{"$f":"IF(B41=\"\",\"\",MAX($A$1:A40)+1)","v":""}]
[{"$f":"IF(B42=\"\",\"\",MAX($A$1:A41)+1)","v":""}]
[{"$f":"IF(B43=\"\",\"\",MAX($A$1:A42)+1)","v":""}]
[{"$f":"IF(B44=\"\",\"\",MAX($A$1:A43)+1)","v":""}]
[{"$f":"IF(B45=\"\",\"\",MAX($A$1:A44)+1)","v":""}]
[{"$f":"IF(B46=\"\",\"\",MAX($A$1:A45)+1)","v":""}]
[{"$f":"IF(B47=\"\",\"\",MAX($A$1:A46)+1)","v":""}]
[{"$f":"IF(B48=\"\",\"\",MAX($A$1:A47)+1)","v":""}]
[{"$f":"IF(B49=\"\",\"\",MAX($A$1:A48)+1)","v":""}]
[{"$f":"IF(B50=\"\",\"\",MAX($A$1:A49)+1)","v":""}]
[{"$f":"IF(B51=\"\",\"\",MAX($A$1:A50)+1)","v":""}]
[{"$f":"IF(B52=\"\",\"\",MAX($A$1:A51)+1)","v":""}]
[{"$f":"IF(B53=\"\",\"\",MAX($A$1:A52)+1)","v":""}]
[{"$f":"IF(B54=\"\",\"\",MAX($A$1:A53)+1)","v":""}]
[{"$f":"IF(B55=\"\",\"\",MAX($A$1:A54)+1)","v":""}]
[{"$f":"IF(B56=\"\",\"\",MAX($A$1:A55)+1)","v":""}]
[{"$f":"IF(B57=\"\",\"\",MAX($A$1:A56)+1)","v":""}]
[{"$f":"IF(B58=\"\",\"\",MAX($A$1:A57)+1)","v":""}]
[{"$f":"IF(B59=\"\",\"\",MAX($A$1:A58)+1)","v":""}]
[{"$f":"IF(B60=\"\",\"\",MAX($A$1:A59)+1)","v":""}]
[{"$f":"IF(B61=\"\",\"\",MAX($A$1:A60)+1)","v":""}]
[{"$f":"IF(B62=\"\",\"\",MAX($A$1:A61)+1)","v":""}]
[{"$f":"IF(B63=\"\",\"\",MAX($A$1:A62)+1)","v":""}]
[{"$f":"IF(B64=\"\",\"\",MAX($A$1:A63)+1)","v":""}]
[{"$f":"IF(B65=\"\",\"\",MAX($A$1:A64)+1)","v":""}]
[{"$f":"IF(B66=\"\",\"\",MAX($A$1:A65)+1)","v":""}]
[{"$f":"IF(B67=\"\",\"\",MAX($A$1:A66)+1)","v":""}]
[{"$f":"IF(B68=\"\",\"\",MAX($A$1:A67)+1)","v":""}]
[{"$f":"IF(B69=\"\",\"\",MAX($A$1:A68)+1)","v":""}]
[{"$f":"IF(B70=\"\",\"\",MAX($A$1:A69)+1)","v":""}]
[{"$f":"IF(B71=\"\",\"\",MAX($A$1:A70)+1)","v":""}]
[{"$f":"IF(B72=\"\",\"\",MAX($A$1:A71)+1)","v":""}]
[{"$f":"IF(B73=\"\",\"\",MAX($A$1:A72)+1)","v":""}]
[{"$f":"IF(B74=\"\",\"\",MAX($A$1:A73)+1)","v":""}]
[{"$f":"IF(B75=\"\",\"\",MAX($A$1:A74)+1)","v":""}]
[{"$f":"IF(B76=\"\",\"\",MAX($A$1:A75)+1)","v":""}]
[{"$f":"IF(B77=\"\",\"\",MAX($A$1:A76)+1)","v":""}]
[{"$f":"IF(B78=\"\",\"\",MAX($A$1:A77)+1)","v":""}]
[{"$f":"IF(B79=\"\",\"\",MAX($A$1:A78)+1)","v":""}]
[{"$f":"IF(B80=\"\",\"\",MAX($A$1:A79)+1)","v":""}]
[{"$f":"IF(B81=\"\",\"\",MAX($A$1:A80)+1)","v":""}]
[{"$f":"IF(B82=\"\",\"\",MAX($A$1:A81)+1)","v":""}]
[{"$f":"IF(B83=\"\",\"\",MAX($A$1:A82)+1)","v":""}]
[{"$f":"IF(B84=\"\",\"\",MAX($A$1:A83)+1)","v":""}]
[{"$f":"IF(B85=\"\",\"\",MAX($A$1:A84)+1)","v":""}]
[{"$f":"IF(B86=\"\",\"\",MAX($A$1:A85)+1)","v":""}]
[{"$f":"IF(B87=\"\",\"\",MAX($A$1:A86)+1)","v":""}]
[{"$f":"IF(B88=\"\",\"\",MAX($A$1:A87)+1)","v":""}]
[{"$f":"IF(B89=\"\",\"\",MAX($A$1:A88)+1)","v":""}]
[{"$f":"IF(B90=\"\",\"\",MAX($A$1:A89)+1)","v":""}]
[{"$f":"IF(B91=\"\",\"\",MAX($A$1:A90)+1)","v":""}]
[{"$f":"IF(B92=\"\",\"\",MAX($A$1:A91)+1)","v":""}]
[{"$f":"IF(B93=\"\",\"\",MAX($A$1:A92)+1)","v":""}]
[{"$f":"IF(B94=\"\",\"\",MAX($A$1:A93)+1)","v":""}]
[{"$f":"IF(B95=\"\",\"\",MAX($A$1:A94)+1)","v":""}]
[{"$f":"IF(B96=\"\",\"\",MAX($A$1:A95)+1)","v":""}]
[{"$f":"IF(B97=\"\",\"\",MAX($A$1:A96)+1)","v":""}]
[{"$f":"IF(B98=\"\",\"\",MAX($A$1:A97)+1)","v":""}]
[{"$f":"IF(B99=\"\",\"\",MAX($A$1:A98)+1)","v":""}]
[{"$f":"IF(B100=\"\",\"\",MAX($A$1:A99)+1)","v":""}]
[{"$f":"IF(B101=\"\",\"\",MAX($A$1:A100)+1)","v":""}]
[{"$f":"IF(B102=\"\",\"\",MAX($A$1:A101)+1)","v":""}]
[{"$f":"IF(B103=\"\",\"\",MAX($A$1:A102)+1)","v":""}]
[{"$f":"IF(B104=\"\",\"\",MAX($A$1:A103)+1)","v":""}]
[{"$f":"IF(B105=\"\",\"\",MAX($A$1:A104)+1)","v":""}]
[{"$f":"IF(B106=\"\",\"\",MAX($A$1:A105)+1)","v":""}]
[{"$f":"IF(B107=\"\",\"\",MAX($A$1:A106)+1)","v":""}]
[{"$f":"IF(B108=\"\",\"\",MAX($A$1:A107)+1)","v":""}]
[{"$f":"IF(B109=\"\",\"\",MAX($A$1:A108)+1)","v":""}]
[{"$f":"IF(B110=\"\",\"\",MAX($A$1:A109)+1)","v":""}]
[{"$f":"IF(B111=\"\",\"\",MAX($A$1:A110)+1)","v":""}]
[{"$f":"IF(B112=\"\",\"\",MAX($A$1:A111)+1)","v":""}]
[{"$f":"IF(B113=\"\",\"\",MAX($A$1:A112)+1)","v":""}]
[{"$f":"IF(B114=\"\",\"\",MAX($A$1:A113)+1)","v":""}]
[{"$f":"IF(B115=\"\",\"\",MAX($A$1:A114)+1)","v":""}]
[{"$f":"IF(B116=\"\",\"\",MAX($A$1:A115)+1)","v":""}]
[{"$f":"IF(B117=\"\",\"\",MAX($A$1:A116)+1)","v":""}]
[{"$f":"IF(B118=\"\",\"\",MAX($A$1:A117)+1)","v":""}]
[{"$f":"IF(B119=\"\",\"\",MAX($A$1:A118)+1)","v":""}]
[{"$f":"IF(B120=\"\",\"\",MAX($A$1:A119)+1)","v":""}]
[{"$f":"IF(B121=\"\",\"\",MAX($A$1:A120)+1)","v":""}]
[{"$f":"IF(B122=\"\",\"\",MAX($A$1:A121)+1)","v":""}]
[{"$f":"IF(B123=\"\",\"\",MAX($A$1:A122)+1)","v":""}]
[{"$f":"IF(B124=\"\",\"\",MAX($A$1:A123)+1)","v":""}]
[{"$f":"IF(B125=\"\",\"\",MAX($A$1:A124)+1)","v":""}]
[{"$f":"IF(B126=\"\",\"\",MAX($A$1:A125)+1)","v":""}]
[{"$f":"IF(B127=\"\",\"\",MAX($A$1:A126)+1)","v":""}]
[{"$f":"IF(B128=\"\",\"\",MAX($A$1:A127)+1)","v":""}]
[{"$f":"IF(B129=\"\",\"\",MAX($A$1:A128)+1)","v":""}]
[{"$f":"IF(B130=\"\",\"\",MAX($A$1:A129)+1)","v":""}]
[{"$f":"IF(B131=\"\",\"\",MAX($A$1:A130)+1)","v":""}]
[{"$f":"IF(B132=\"\",\"\",MAX($A$1:A131)+1)","v":""}]
[{"$f":"IF(B133=\"\",\"\",MAX($A$1:A132)+1)","v":""}]
[{"$f":"IF(B134=\"\",\"\",MAX($A$1:A133)+1)","v":""}]
[{"$f":"IF(B135=\"\",\"\",MAX($A$1:A134)+1)","v":""}]
[{"$f":"IF(B136=\"\",\"\",MAX($A$1:A135)+1)","v":""}]
[{"$f":"IF(B137=\"\",\"\",MAX($A$1:A136)+1)","v":""}]
[{"$f":"IF(B138=\"\",\"\",MAX($A$1:A137)+1)","v":""}]
[{"$f":"IF(B139=\"\",\"\",MAX($A$1:A138)+1)","v":""}]
[{"$f":"IF(B140=\"\",\"\",MAX($A$1:A139)+1)","v":""}]
[{"$f":"IF(B141=\"\",\"\",MAX($A$1:A140)+1)","v":""}]
[{"$f":"IF(B142=\"\",\"\",MAX($A$1:A141)+1)","v":""}]
[{"$f":"IF(B143=\"\",\"\",MAX($A$1:A142)+1)","v":""}]
[{"$f":"IF(B144=\"\",\"\",MAX($A$1:A143)+1)","v":""}]
[{"$f":"IF(B145=\"\",\"\",MAX($A$1:A144)+1)","v":""}]
[{"$f":"IF(B146=\"\",\"\",MAX($A$1:A145)+1)","v":""}]
[{"$f":"IF(B147=\"\",\"\",MAX($A$1:A146)+1)","v":""}]
[{"$f":"IF(B148=\"\",\"\",MAX($A$1:A147)+1)","v":""}]
[{"$f":"IF(B149=\"\",\"\",MAX($A$1:A148)+1)","v":""}]
[{"$f":"IF(B150=\"\",\"\",MAX($A$1:A149)+1)","v":""}]
[{"$f":"IF(B151=\"\",\"\",MAX($A$1:A150)+1)","v":""}]
[{"$f":"IF(B152=\"\",\"\",MAX($A$1:A151)+1)","v":""}]
[{"$f":"IF(B153=\"\",\"\",MAX($A$1:A152)+1)","v":""}]
[{"$f":"IF(B154=\"\",\"\",MAX($A$1:A153)+1)","v":""}]
[{"$f":"IF(B155=\"\",\"\",MAX($A$1:A154)+1)","v":""}]
[{"$f":"IF(B156=\"\",\"\",MAX($A$1:A155)+1)","v":""}]
[{"$f":"IF(B157=\"\",\"\",MAX($A$1:A156)+1)","v":""}]
[{"$f":"IF(B158=\"\",\"\",MAX($A$1:A157)+1)","v":""}]
[{"$f":"IF(B159=\"\",\"\",MAX($A$1:A158)+1)","v":""}]
[{"$f":"IF(B160=\"\",\"\",MAX($A$1:A159)+1)","v":""}]
[{"$f":"IF(B161=\"\",\"\",MAX($A$1:A160)+1)","v":""}]
[{"$f":"IF(B162=\"\",\"\",MAX($A$1:A161)+1)","v":""}]
[{"$f":"IF(B163=\"\",\"\",MAX($A$1:A162)+1)","v":""}]
[{"$f":"IF(B164=\"\",\"\",MAX($A$1:A163)+1)","v":""}]
[{"$f":"IF(B165=\"\",\"\",MAX($A$1:A164)+1)","v":""}]
[{"$f":"IF(B166=\"\",\"\",MAX($A$1:A165)+1)","v":""}]
[{"$f":"IF(B167=\"\",\"\",MAX($A$1:A166)+1)","v":""}]
[{"$f":"IF(B168=\"\",\"\",MAX($A$1:A167)+1)","v":""}]
[{"$f":"IF(B169=\"\",\"\",MAX($A$1:A168)+1)","v":""}]
[{"$f":"IF(B170=\"\",\"\",MAX($A$1:A169)+1)","v":""}]
[{"$f":"IF(B171=\"\",\"\",MAX($A$1:A170)+1)","v":""}]
[{"$f":"IF(B172=\"\",\"\",MAX($A$1:A171)+1)","v":""}]
[{"$f":"IF(B173=\"\",\"\",MAX($A$1:A172)+1)","v":""}]
[{"$f":"IF(B174=\"\",\"\",MAX($A$1:A173)+1)","v":""}]
[{"$f":"IF(B175=\"\",\"\",MAX($A$1:A174)+1)","v":""}]
[{"$f":"IF(B176=\"\",\"\",MAX($A$1:A175)+1)","v":""}]
[{"$f":"IF(B177=\"\",\"\",MAX($A$1:A176)+1)","v":""}]
[{"$f":"IF(B178=\"\",\"\",MAX($A$1:A177)+1)","v":""}]
[{"$f":"IF(B179=\"\",\"\",MAX($A$1:A178)+1)","v":""}]
[{"$f":"IF(B180=\"\",\"\",MAX($A$1:A179)+1)","v":""}]
[{"$f":"IF(B181=\"\",\"\",MAX($A$1:A180)+1)","v":""}]
[{"$f":"IF(B182=\"\",\"\",MAX($A$1:A181)+1)","v":""}]
[{"$f":"IF(B183=\"\",\"\",MAX($A$1:A182)+1)","v":""}]
[{"$f":"IF(B184=\"\",\"\",MAX($A$1:A183)+1)","v":""}]
[{"$f":"IF(B185=\"\",\"\",MAX($A$1:A184)+1)","v":""}]
[{"$f":"IF(B186=\"\",\"\",MAX($A$1:A185)+1)","v":""}]
[{"$f":"IF(B187=\"\",\"\",MAX($A$1:A186)+1)","v":""}]
[{"$f":"IF(B188=\"\",\"\",MAX($A$1:A187)+1)","v":""}]
[{"$f":"IF(B189=\"\",\"\",MAX($A$1:A188)+1)","v":""}]
[{"$f":"IF(B190=\"\",\"\",MAX($A$1:A189)+1)","v":""}]
[{"$f":"IF(B191=\"\",\"\",MAX($A$1:A190)+1)","v":""}]
[{"$f":"IF(B192=\"\",\"\",MAX($A$1:A191)+1)","v":""}]
[{"$f":"IF(B193=\"\",\"\",MAX($A$1:A192)+1)","v":""}]
[{"$f":"IF(B194=\"\",\"\",MAX($A$1:A193)+1)","v":""}]
[{"$f":"IF(B195=\"\",\"\",MAX($A$1:A194)+1)","v":""}]
[{"$f":"IF(B196=\"\",\"\",MAX($A$1:A195)+1)","v":""}]
[{"$f":"IF(B197=\"\",\"\",MAX($A$1:A196)+1)","v":""}]
[{"$f":"IF(B198=\"\",\"\",MAX($A$1:A197)+1)","v":""}]
[{"$f":"IF(B199=\"\",\"\",MAX($A$1:A198)+1)","v":""}]
[{"$f":"IF(B200=\"\",\"\",MAX($A$1:A199)+1)","v":""}]
[{"$f":"IF(B201=\"\",\"\",MAX($A$1:A200)+1)","v":""}]
[{"$f":"IF(B202=\"\",\"\",MAX($A$1:A201)+1)","v":""}]
[{"$f":"IF(B203=\"\",\"\",MAX($A$1:A202)+1)","v":""}]
[{"$f":"IF(B204=\"\",\"\",MAX($A$1:A203)+1)","v":""}]
[{"$f":"IF(B205=\"\",\"\",MAX($A$1:A204)+1)","v":""}]
[{"$f":"IF(B206=\"\",\"\",MAX($A$1:A205)+1)","v":""}]
[{"$f":"IF(B207=\"\",\"\",MAX($A$1:A206)+1)","v":""}]
[{"$f":"IF(B208=\"\",\"\",MAX($A$1:A207)+1)","v":""}]
[{"$f":"IF(B209=\"\",\"\",MAX($A$1:A208)+1)","v":""}]
[{"$f":"IF(B210=\"\",\"\",MAX($A$1:A209)+1)","v":""}]
[{"$f":"IF(B211=\"\",\"\",MAX($A$1:A210)+1)","v":""}]
[{"$f":"IF(B212=\"\",\"\",MAX($A$1:A211)+1)","v":""}]
[{"$f":"IF(B213=\"\",\"\",MAX($A$1:A212)+1)","v":""}]
[{"$f":"IF(B214=\"\",\"\",MAX($A$1:A213)+1)","v":""}]
[{"$f":"IF(B215=\"\",\"\",MAX($A$1:A214)+1)","v":""}]
[{"$f":"IF(B216=\"\",\"\",MAX($A$1:A215)+1)","v":""}]
[{"$f":"IF(B217=\"\",\"\",MAX($A$1:A216)+1)","v":""}]
[{"$f":"IF(B218=\"\",\"\",MAX($A$1:A217)+1)","v":""}]
[{"$f":"IF(B219=\"\",\"\",MAX($A$1:A218)+1)","v":""}]
[{"$f":"IF(B220=\"\",\"\",MAX($A$1:A219)+1)","v":""}]
[{"$f":"IF(B221=\"\",\"\",MAX($A$1:A220)+1)","v":""}]
[{"$f":"IF(B222=\"\",\"\",MAX($A$1:A221)+1)","v":""}]
[{"$f":"IF(B223=\"\",\"\",MAX($A$1:A222)+1)","v":""}]
[{"$f":"IF(B224=\"\",\"\",MAX($A$1:A223)+1)","v":""}]
[{"$f":"IF(B225=\"\",\"\",MAX($A$1:A224)+1)","v":""}]
[{"$f":"IF(B226=\"\",\"\",MAX($A$1:A225)+1)","v":""}]
[{"$f":"IF(B227=\"\",\"\",MAX($A$1:A226)+1)","v":""}]
[{"$f":"IF(B228=\"\",\"\",MAX($A$1:A227)+1)","v":""}]
[{"$f":"IF(B229=\"\",\"\",MAX($A$1:A228)+1)","v":""}]
[{"$f":"IF(B230=\"\",\"\",MAX($A$1:A229)+1)","v":""}]
[{"$f":"IF(B231=\"\",\"\",MAX($A$1:A230)+1)","v":""}]
[{"$f":"IF(B232=\"\",\"\",MAX($A$1:A231)+1)","v":""}]
[{"$f":"IF(B233=\"\",\"\",MAX($A$1:A232)+1)","v":""}]
[{"$f":"IF(B234=\"\",\"\",MAX($A$1:A233)+1)","v":""}]
[{"$f":"IF(B235=\"\",\"\",MAX($A$1:A234)+1)","v":""}]
[{"$f":"IF(B236=\"\",\"\",MAX($A$1:A235)+1)","v":""}]
[{"$f":"IF(B237=\"\",\"\",MAX($A$1:A236)+1)","v":""}]
[{"$f":"IF(B238=\"\",\"\",MAX($A$1:A237)+1)","v":""}]
[{"$f":"IF(B239=\"\",\"\",MAX($A$1:A238)+1)","v":""}]
[{"$f":"IF(B240=\"\",\"\",MAX($A$1:A239)+1)","v":""}]
[{"$f":"IF(B241=\"\",\"\",MAX($A$1:A240)+1)","v":""}]
[{"$f":"IF(B242=\"\",\"\",MAX($A$1:A241)+1)","v":""}]
[{"$f":"IF(B243=\"\",\"\",MAX($A$1:A242)+1)","v":""}]
[{"$f":"IF(B244=\"\",\"\",MAX($A$1:A243)+1)","v":""}]
[{"$f":"IF(B245=\"\",\"\",MAX($A$1:A244)+1)","v":""}]
[{"$f":"IF(B246=\"\",\"\",MAX($A$1:A245)+1)","v":""}]
[{"$f":"IF(B247=\"\",\"\",MAX($A$1:A246)+1)","v":""}]
[{"$f":"IF(B248=\"\",\"\",MAX($A$1:A247)+1)","v":""}]
[{"$f":"IF(B249=\"\",\"\",MAX($A$1:A248)+1)","v":""}]
[{"$f":"IF(B250=\"\",\"\",MAX($A$1:A249)+1)","v":""}]
[{"$f":"IF(B251=\"\",\"\",MAX($A$1:A250)+1)","v":""}]
[{"$f":"IF(B252=\"\",\"\",MAX($A$1:A251)+1)","v":""}]
[{"$f":"IF(B253=\"\",\"\",MAX($A$1:A252)+1)","v":""}]
[{"$f":"IF(B254=\"\",\"\",MAX($A$1:A253)+1)","v":""}]
[{"$f":"IF(B255=\"\",\"\",MAX($A$1:A254)+1)","v":""}]
[{"$f":"IF(B256=\"\",\"\",MAX($A$1:A255)+1)","v":""}]
[{"$f":"IF(B257=\"\",\"\",MAX($A$1:A256)+1)","v":""}]
[{"$f":"IF(B258=\"\",\"\",MAX($A$1:A257)+1)","v":""}]
[{"$f":"IF(B259=\"\",\"\",MAX($A$1:A258)+1)","v":""}]
[{"$f":"IF(B260=\"\",\"\",MAX($A$1:A259)+1)","v":""}]
[{"$f":"IF(B261=\"\",\"\",MAX($A$1:A260)+1)","v":""}]
[{"$f":"IF(B262=\"\",\"\",MAX($A$1:A261)+1)","v":""}]
[{"$f":"IF(B263=\"\",\"\",MAX($A$1:A262)+1)","v":""}]
[{"$f":"IF(B264=\"\",\"\",MAX($A$1:A263)+1)","v":""}]
[{"$f":"IF(B265=\"\",\"\",MAX($A$1:A264)+1)","v":""}]
[{"$f":"IF(B266=\"\",\"\",MAX($A$1:A265)+1)","v":""}]
[{"$f":"IF(B267=\"\",\"\",MAX($A$1:A266)+1)","v":""}]
[{"$f":"IF(B268=\"\",\"\",MAX($A$1:A267)+1)","v":""}]
[{"$f":"IF(B269=\"\",\"\",MAX($A$1:A268)+1)","v":""}]
[{"$f":"IF(B270=\"\",\"\",MAX($A$1:A269)+1)","v":""}]
[{"$f":"IF(B271=\"\",\"\",MAX($A$1:A270)+1)","v":""}]
[{"$f":"IF(B272=\"\",\"\",MAX($A$1:A271)+1)","v":""}]
[{"$f":"IF(B273=\"\",\"\",MAX($A$1:A272)+1)","v":""}]
[{"$f":"IF(B274=\"\",\"\",MAX($A$1:A273)+1)","v":""}]
[{"$f":"IF(B275=\"\",\"\",MAX($A$1:A274)+1)","v":""}]
[{"$f":"IF(B276=\"\",\"\",MAX($A$1:A275)+1)","v":""}]
[{"$f":"IF(B277=\"\",\"\",MAX($A$1:A276)+1)","v":""}]
[{"$f":"IF(B278=\"\",\"\",MAX($A$1:A277)+1)","v":""}]
[{"$f":"IF(B279=\"\",\"\",MAX($A$1:A278)+1)","v":""}]
[{"$f":"IF(B280=\"\",\"\",MAX($A$1:A279)+1)","v":""}]
[{"$f":"IF(B281=\"\",\"\",MAX($A$1:A280)+1)","v":""}]
[{"$f":"IF(B282=\"\",\"\",MAX($A$1:A281)+1)","v":""}]
[{"$f":"IF(B283=\"\",\"\",MAX($A$1:A282)+1)","v":""}]
[{"$f":"IF(B284=\"\",\"\",MAX($A$1:A283)+1)","v":""}]
[{"$f":"IF(B285=\"\",\"\",MAX($A$1:A284)+1)","v":""}]
[{"$f":"IF(B286=\"\",\"\",MAX($A$1:A285)+1)","v":""}]
[{"$f":"IF(B287=\"\",\"\",MAX($A$1:A286)+1)","v":""}]
[{"$f":"IF(B288=\"\",\"\",MAX($A$1:A287)+1)","v":""}]
[{"$f":"IF(B289=\"\",\"\",MAX($A$1:A288)+1)","v":""}]
[{"$f":"IF(B290=\"\",\"\",MAX($A$1:A289)+1)","v":""}]
[{"$f":"IF(B291=\"\",\"\",MAX($A$1:A290)+1)","v":""}]
[{"$f":"IF(B292=\"\",\"\",MAX($A$1:A291)+1)","v":""}]
[{"$f":"IF(B293=\"\",\"\",MAX($A$1:A292)+1)","v":""}]
[{"$f":"IF(B294=\"\",\"\",MAX($A$1:A293)+1)","v":""}]
[{"$f":"IF(B295=\"\",\"\",MAX($A$1:A294)+1)","v":""}]
[{"$f":"IF(B296=\"\",\"\",MAX($A$1:A295)+1)","v":""}]
[{"$f":"IF(B297=\"\",\"\",MAX($A$1:A296)+1)","v":""}]
[{"$f":"IF(B298=\"\",\"\",MAX($A$1:A297)+1)","v":""}]
[{"$f":"IF(B299=\"\",\"\",MAX($A$1:A298)+1)","v":""}]
[{"$f":"IF(B300=\"\",\"\",MAX($A$1:A299)+1)","v":""}]
[{"$f":"IF(B301=\"\",\"\",MAX($A$1:A300)+1)","v":""}]
[{"$f":"IF(B302=\"\",\"\",MAX($A$1:A301)+1)","v":""}]
[{"$f":"IF(B303=\"\",\"\",MAX($A$1:A302)+1)","v":""}]
[{"$f":"IF(B304=\"\",\"\",MAX($A$1:A303)+1)","v":""}]
[{"$f":"IF(B305=\"\",\"\",MAX($A$1:A304)+1)","v":""}]
[{"$f":"IF(B306=\"\",\"\",MAX($A$1:A305)+1)","v":""}]
[{"$f":"IF(B307=\"\",\"\",MAX($A$1:A306)+1)","v":""}]
[{"$f":"IF(B308=\"\",\"\",MAX($A$1:A307)+1)","v":""}]
[{"$f":"IF(B309=\"\",\"\",MAX($A$1:A308)+1)","v":""}]
[{"$f":"IF(B310=\"\",\"\",MAX($A$1:A309)+1)","v":""}]
[{"$f":"IF(B311=\"\",\"\",MAX($A$1:A310)+1)","v":""}]
[{"$f":"IF(B312=\"\",\"\",MAX($A$1:A311)+1)","v":""}]
[{"$f":"IF(B313=\"\",\"\",MAX($A$1:A312)+1)","v":""}]
[{"$f":"IF(B314=\"\",\"\",MAX($A$1:A313)+1)","v":""}]
[{"$f":"IF(B315=\"\",\"\",MAX($A$1:A314)+1)","v":""}]
[{"$f":"IF(B316=\"\",\"\",MAX($A$1:A315)+1)","v":""}]
[{"$f":"IF(B317=\"\",\"\",MAX($A$1:A316)+1)","v":""}]
[{"$f":"IF(B318=\"\",\"\",MAX($A$1:A317)+1)","v":""}]
[{"$f":"IF(B319=\"\",\"\",MAX($A$1:A318)+1)","v":""}]
[{"$f":"IF(B320=\"\",\"\",MAX($A$1:A319)+1)","v":""}]
[{"$f":"IF(B321=\"\",\"\",MAX($A$1:A320)+1)","v":""}]
[{"$f":"IF(B322=\"\",\"\",MAX($A$1:A321)+1)","v":""}]
[{"$f":"IF(B323=\"\",\"\",MAX($A$1:A322)+1)","v":""}]
[{"$f":"IF(B324=\"\",\"\",MAX($A$1:A323)+1)","v":""}]
[{"$f":"IF(B325=\"\",\"\",MAX($A$1:A324)+1)","v":""}]
[{"$f":"IF(B326=\"\",\"\",MAX($A$1:A325)+1)","v":""}]
[{"$f":"IF(B327=\"\",\"\",MAX($A$1:A326)+1)","v":""}]
[{"$f":"IF(B328=\"\",\"\",MAX($A$1:A327)+1)","v":""}]
[{"$f":"IF(B329=\"\",\"\",MAX($A$1:A328)+1)","v":""}]
[{"$f":"IF(B330=\"\",\"\",MAX($A$1:A329)+1)","v":""}]
[{"$f":"IF(B331=\"\",\"\",MAX($A$1:A330)+1)","v":""}]
[{"$f":"IF(B332=\"\",\"\",MAX($A$1:A331)+1)","v":""}]
[{"$f":"IF(B333=\"\",\"\",MAX($A$1:A332)+1)","v":""}]
[{"$f":"IF(B334=\"\",\"\",MAX($A$1:A333)+1)","v":""}]
[{"$f":"IF(B335=\"\",\"\",MAX($A$1:A334)+1)","v":""}]
[{"$f":"IF(B336=\"\",\"\",MAX($A$1:A335)+1)","v":""}]
[{"$f":"IF(B337=\"\",\"\",MAX($A$1:A336)+1)","v":""}]
[{"$f":"IF(B338=\"\",\"\",MAX($A$1:A337)+1)","v":""}]
[{"$f":"IF(B339=\"\",\"\",MAX($A$1:A338)+1)","v":""}]
[{"$f":"IF(B340=\"\",\"\",MAX($A$1:A339)+1)","v":""}]
[{"$f":"IF(B341=\"\",\"\",MAX($A$1:A340)+1)","v":""}]
[{"$f":"IF(B342=\"\",\"\",MAX($A$1:A341)+1)","v":""}]
[{"$f":"IF(B343=\"\",\"\",MAX($A$1:A342)+1)","v":""}]
[{"$f":"IF(B344=\"\",\"\",MAX($A$1:A343)+1)","v":""}]
[{"$f":"IF(B345=\"\",\"\",MAX($A$1:A344)+1)","v":""}]
[{"$f":"IF(B346=\"\",\"\",MAX($A$1:A345)+1)","v":""}]
[{"$f":"IF(B347=\"\",\"\",MAX($A$1:A346)+1)","v":""}]
[{"$f":"IF(B348=\"\",\"\",MAX($A$1:A347)+1)","v":""}]
[{"$f":"IF(B349=\"\",\"\",MAX($A$1:A348)+1)","v":""}]
[{"$f":"IF(B350=\"\",\"\",MAX($A$1:A349)+1)","v":""}]
[{"$f":"IF(B351=\"\",\"\",MAX($A$1:A350)+1)","v":""}]
[{"$f":"IF(B352=\"\",\"\",MAX($A$1:A351)+1)","v":""}]
[{"$f":"IF(B353=\"\",\"\",MAX($A$1:A352)+1)","v":""}]
[{"$f":"IF(B354=\"\",\"\",MAX($A$1:A353)+1)","v":""}]
[{"$f":"IF(B355=\"\",\"\",MAX($A$1:A354)+1)","v":""}]
[{"$f":"IF(B356=\"\",\"\",MAX($A$1:A355)+1)","v":""}]
[{"$f":"IF(B357=\"\",\"\",MAX($A$1:A356)+1)","v":""}]
[{"$f":"IF(B358=\"\",\"\",MAX($A$1:A357)+1)","v":""}]
[{"$f":"IF(B359=\"\",\"\",MAX($A$1:A358)+1)","v":""}]
[{"$f":"IF(B360=\"\",\"\",MAX($A$1:A359)+1)","v":""}]
[{"$f":"IF(B361=\"\",\"\",MAX($A$1:A360)+1)","v":""}]
[{"$f":"IF(B362=\"\",\"\",MAX($A$1:A361)+1)","v":""}]
[{"$f":"IF(B363=\"\",\"\",MAX($A$1:A362)+1)","v":""}]
[{"$f":"IF(B364=\"\",\"\",MAX($A$1:A363)+1)","v":""}]
[{"$f":"IF(B365=\"\",\"\",MAX($A$1:A364)+1)","v":""}]
[{"$f":"IF(B366=\"\",\"\",MAX($A$1:A365)+1)","v":""}]
[{"$f":"IF(B367=\"\",\"\",MAX($A$1:A366)+1)","v":""}]
[{"$f":"IF(B368=\"\",\"\",MAX($A$1:A367)+1)","v":""}]
[{"$f":"IF(B369=\"\",\"\",MAX($A$1:A368)+1)","v":""}]
[{"$f":"IF(B370=\"\",\"\",MAX($A$1:A369)+1)","v":""}]
[{"$f":"IF(B371=\"\",\"\",MAX($A$1:A370)+1)","v":""}]
[{"$f":"IF(B372=\"\",\"\",MAX($A$1:A371)+1)","v":""}]
[{"$f":"IF(B373=\"\",\"\",MAX($A$1:A372)+1)","v":""}]
[{"$f":"IF(B374=\"\",\"\",MAX($A$1:A373)+1)","v":""}]
[{"$f":"IF(B375=\"\",\"\",MAX($A$1:A374)+1)","v":""}]
[{"$f":"IF(B376=\"\",\"\",MAX($A$1:A375)+1)","v":""}]
[{"$f":"IF(B377=\"\",\"\",MAX($A$1:A376)+1)","v":""}]
[{"$f":"IF(B378=\"\",\"\",MAX($A$1:A377)+1)","v":""}]
[{"$f":"IF(B379=\"\",\"\",MAX($A$1:A378)+1)","v":""}]
[{"$f":"IF(B380=\"\",\"\",MAX($A$1:A379)+1)","v":""}]
[{"$f":"IF(B381=\"\",\"\",MAX($A$1:A380)+1)","v":""}]
[{"$f":"IF(B382=\"\",\"\",MAX($A$1:A381)+1)","v":""}]
[{"$f":"IF(B383=\"\",\"\",MAX($A$1:A382)+1)","v":""}]
[{"$f":"IF(B384=\"\",\"\",MAX($A$1:A383)+1)","v":""}]
[{"$f":"IF(B385=\"\",\"\",MAX($A$1:A384)+1)","v":""}]
[{"$f":"IF(B386=\"\",\"\",MAX($A$1:A385)+1)","v":""}]
[{"$f":"IF(B387=\"\",\"\",MAX($A$1:A386)+1)","v":""}]
[{"$f":"IF(B388=\"\",\"\",MAX($A$1:A387)+1)","v":""}]
[{"$f":"IF(B389=\"\",\"\",MAX($A$1:A388)+1)","v":""}]
[{"$f":"IF(B390=\"\",\"\",MAX($A$1:A389)+1)","v":""}]
[{"$f":"IF(B391=\"\",\"\",MAX($A$1:A390)+1)","v":""}]
[{"$f":"IF(B392=\"\",\"\",MAX($A$1:A391)+1)","v":""}]
[{"$f":"IF(B393=\"\",\"\",MAX($A$1:A392)+1)","v":""}]
[{"$f":"IF(B394=\"\",\"\",MAX($A$1:A393)+1)","v":""}]
[{"$f":"IF(B395=\"\",\"\",MAX($A$1:A394)+1)","v":""}]
[{"$f":"IF(B396=\"\",\"\",MAX($A$1:A395)+1)","v":""}]
[{"$f":"IF(B397=\"\",\"\",MAX($A$1:A396)+1)","v":""}]
[{"$f":"IF(B398=\"\",\"\",MAX($A$1:A397)+1)","v":""}]
[{"$f":"IF(B399=\"\",\"\",MAX($A$1:A398)+1)","v":""}]
[{"$f":"IF(B400=\"\",\"\",MAX($A$1:A399)+1)","v":""}]
[{"$f":"IF(B401=\"\",\"\",MAX($A$1:A400)+1)","v":""}]
[{"$f":"IF(B402=\"\",\"\",MAX($A$1:A401)+1)","v":""}]
[{"$f":"IF(B403=\"\",\"\",MAX($A$1:A402)+1)","v":""}]
[{"$f":"IF(B404=\"\",\"\",MAX($A$1:A403)+1)","v":""}]
[{"$f":"IF(B405=\"\",\"\",MAX($A$1:A404)+1)","v":""}]
[{"$f":"IF(B406=\"\",\"\",MAX($A$1:A405)+1)","v":""}]
[{"$f":"IF(B407=\"\",\"\",MAX($A$1:A406)+1)","v":""}]
[{"$f":"IF(B408=\"\",\"\",MAX($A$1:A407)+1)","v":""}]
[{"$f":"IF(B409=\"\",\"\",MAX($A$1:A408)+1)","v":""}]
[{"$f":"IF(B410=\"\",\"\",MAX($A$1:A409)+1)","v":""}]
[{"$f":"IF(B411=\"\",\"\",MAX($A$1:A410)+1)","v":""}]
[{"$f":"IF(B412=\"\",\"\",MAX($A$1:A411)+1)","v":""}]
[{"$f":"IF(B413=\"\",\"\",MAX($A$1:A412)+1)","v":""}]
[{"$f":"IF(B414=\"\",\"\",MAX($A$1:A413)+1)","v":""}]
[{"$f":"IF(B415=\"\",\"\",MAX($A$1:A414)+1)","v":""}]
[{"$f":"IF(B416=\"\",\"\",MAX($A$1:A415)+1)","v":""}]
[{"$f":"IF(B417=\"\",\"\",MAX($A$1:A416)+1)","v":""}]
[{"$f":"IF(B418=\"\",\"\",MAX($A$1:A417)+1)","v":""}]
[{"$f":"IF(B419=\"\",\"\",MAX($A$1:A418)+1)","v":""}]
[{"$f":"IF(B420=\"\",\"\",MAX($A$1:A419)+1)","v":""}]
[{"$f":"IF(B421=\"\",\"\",MAX($A$1:A420)+1)","v":""}]
[{"$f":"IF(B422=\"\",\"\",MAX($A$1:A421)+1)","v":""}]
[{"$f":"IF(B423=\"\",\"\",MAX($A$1:A422)+1)","v":""}]
[{"$f":"IF(B424=\"\",\"\",MAX($A$1:A423)+1)","v":""}]
[{"$f":"IF(B425=\"\",\"\",MAX($A$1:A424)+1)","v":""}]
[{"$f":"IF(B426=\"\",\"\",MAX($A$1:A425)+1)","v":""}]
[{"$f":"IF(B427=\"\",\"\",MAX($A$1:A426)+1)","v":""}]
[{"$f":"IF(B428=\"\",\"\",MAX($A$1:A427)+1)","v":""}]
[{"$f":"IF(B429=\"\",\"\",MAX($A$1:A428)+1)","v":""}]
[{"$f":"IF(B430=\"\",\"\",MAX($A$1:A429)+1)","v":""}]
[{"$f":"IF(B431=\"\",\"\",MAX($A$1:A430)+1)","v":""}]
[{"$f":"IF(B432=\"\",\"\",MAX($A$1:A431)+1)","v":""}]
[{"$f":"IF(B433=\"\",\"\",MAX($A$1:A432)+1)","v":""}]
[{"$f":"IF(B434=\"\",\"\",MAX($A$1:A433)+1)","v":""}]
[{"$f":"IF(B435=\"\",\"\",MAX($A$1:A434)+1)","v":""}]
[{"$f":"IF(B436=\"\",\"\",MAX($A$1:A435)+1)","v":""}]
[{"$f":"IF(B437=\"\",\"\",MAX($A$1:A436)+1)","v":""}]
[{"$f":"IF(B438=\"\",\"\",MAX($A$1:A437)+1)","v":""}]
[{"$f":"IF(B439=\"\",\"\",MAX($A$1:A438)+1)","v":""}]
[{"$f":"IF(B440=\"\",\"\",MAX($A$1:A439)+1)","v":""}]
[{"$f":"IF(B441=\"\",\"\",MAX($A$1:A440)+1)","v":""}]
[{"$f":"IF(B442=\"\",\"\",MAX($A$1:A441)+1)","v":""}]
[{"$f":"IF(B443=\"\",\"\",MAX($A$1:A442)+1)","v":""}]
[{"$f":"IF(B444=\"\",\"\",MAX($A$1:A443)+1)","v":""}]
[{"$f":"IF(B445=\"\",\"\",MAX($A$1:A444)+1)","v":""}]
[{"$f":"IF(B446=\"\",\"\",MAX($A$1:A445)+1)","v":""}]
[{"$f":"IF(B447=\"\",\"\",MAX($A$1:A446)+1)","v":""}]
[{"$f":"IF(B448=\"\",\"\",MAX($A$1:A447)+1)","v":""}]
[{"$f":"IF(B449=\"\",\"\",MAX($A$1:A448)+1)","v":""}]
[{"$f":"IF(B450=\"\",\"\",MAX($A$1:A449)+1)","v":""}]
[{"$f":"IF(B451=\"\",\"\",MAX($A$1:A450)+1)","v":""}]
[{"$f":"IF(B452=\"\",\"\",MAX($A$1:A451)+1)","v":""}]
[{"$f":"IF(B453=\"\",\"\",MAX($A$1:A452)+1)","v":""}]
[{"$f":"IF(B454=\"\",\"\",MAX($A$1:A453)+1)","v":""}]
[{"$f":"IF(B455=\"\",\"\",MAX($A$1:A454)+1)","v":""}]
[{"$f":"IF(B456=\"\",\"\",MAX($A$1:A455)+1)","v":""}]
[{"$f":"IF(B457=\"\",\"\",MAX($A$1:A456)+1)","v":""}]
[{"$f":"IF(B458=\"\",\"\",MAX($A$1:A457)+1)","v":""}]
[{"$f":"IF(B459=\"\",\"\",MAX($A$1:A458)+1)","v":""}]
[{"$f":"IF(B460=\"\",\"\",MAX($A$1:A459)+1)","v":""}]
[{"$f":"IF(B461=\"\",\"\",MAX($A$1:A460)+1)","v":""}]
[{"$f":"IF(B462=\"\",\"\",MAX($A$1:A461)+1)","v":""}]
[{"$f":"IF(B463=\"\",\"\",MAX($A$1:A462)+1)","v":""}]
[{"$f":"IF(B464=\"\",\"\",MAX($A$1:A463)+1)","v":""}]
[{"$f":"IF(B465=\"\",\"\",MAX($A$1:A464)+1)","v":""}]
[{"$f":"IF(B466=\"\",\"\",MAX($A$1:A465)+1)","v":""}]
[{"$f":"IF(B467=\"\",\"\",MAX($A$1:A466)+1)","v":""}]
[{"$f":"IF(B468=\"\",\"\",MAX($A$1:A467)+1)","v":""}]
[{"$f":"IF(B469=\"\",\"\",MAX($A$1:A468)+1)","v":""}]
[{"$f":"IF(B470=\"\",\"\",MAX($A$1:A469)+1)","v":""}]
[{"$f":"IF(B471=\"\",\"\",MAX($A$1:A470)+1)","v":""}]
[{"$f":"IF(B472=\"\",\"\",MAX($A$1:A471)+1)","v":""}]
[{"$f":"IF(B473=\"\",\"\",MAX($A$1:A472)+1)","v":""}]
[{"$f":"IF(B474=\"\",\"\",MAX($A$1:A473)+1)","v":""}]
[{"$f":"IF(B475=\"\",\"\",MAX($A$1:A474)+1)","v":""}]
[{"$f":"IF(B476=\"\",\"\",MAX($A$1:A475)+1)","v":""}]
[{"$f":"IF(B477=\"\",\"\",MAX($A$1:A476)+1)","v":""}]
[{"$f":"IF(B478=\"\",\"\",MAX($A$1:A477)+1)","v":""}]
[{"$f":"IF(B479=\"\",\"\",MAX($A$1:A478)+1)","v":""}]
[{"$f":"IF(B480=\"\",\"\",MAX($A$1:A479)+1)","v":""}]
[{"$f":"IF(B481=\"\",\"\",MAX($A$1:A480)+1)","v":""}]
[{"$f":"IF(B482=\"\",\"\",MAX($A$1:A481)+1)","v":""}]
[{"$f":"IF(B483=\"\",\"\",MAX($A$1:A482)+1)","v":""}]
[{"$f":"IF(B484=\"\",\"\",MAX($A$1:A483)+1)","v":""}]
[{"$f":"IF(B485=\"\",\"\",MAX($A$1:A484)+1)","v":""}]
[{"$f":"IF(B486=\"\",\"\",MAX($A$1:A485)+1)","v":""}]
[{"$f":"IF(B487=\"\",\"\",MAX($A$1:A486)+1)","v":""}]
[{"$f":"IF(B488=\"\",\"\",MAX($A$1:A487)+1)","v":""}]
[{"$f":"IF(B489=\"\",\"\",MAX($A$1:A488)+1)","v":""}]
[{"$f":"IF(B490=\"\",\"\",MAX($A$1:A489)+1)","v":""}]
[{"$f":"IF(B491=\"\",\"\",MAX($A$1:A490)+1)","v":""}]
[{"$f":"IF(B492=\"\",\"\",MAX($A$1:A491)+1)","v":""}]
[{"$f":"IF(B493=\"\",\"\",MAX($A$1:A492)+1)","v":""}]
[{"$f":"IF(B494=\"\",\"\",MAX($A$1:A493)+1)","v":""}]
[{"$f":"IF(B495=\"\",\"\",MAX($A$1:A494)+1)","v":""}]
[{"$f":"IF(B496=\"\",\"\",MAX($A$1:A495)+1)","v":""}]
[{"$f":"IF(B497=\"\",\"\",MAX($A$1:A496)+1)","v":""}]
[{"$f":"IF(B498=\"\",\"\",MAX($A$1:A497)+1)","v":""}]
[{"$f":"IF(B499=\"\",\"\",MAX($A$1:A498)+1)","v":""}]
[{"$f":"IF(B500=\"\",\"\",MAX($A$1:A499)+1)","v":""}]
[{"$f":"IF(B501=\"\",\"\",MAX($A$1:A500)+1)","v":""}]
[{"$f":"IF(B502=\"\",\"\",MAX($A$1:A501)+1)","v":""}]
[{"$f":"IF(B503=\"\",\"\",MAX($A$1:A502)+1)","v":""}]
[{"$f":"IF(B504=\"\",\"\",MAX($A$1:A503)+1)","v":""}]
[{"$f":"IF(B505=\"\",\"\",MAX($A$1:A504)+1)","v":""}]
[{"$f":"IF(B506=\"\",\"\",MAX($A$1:A505)+1)","v":""}]
[{"$f":"IF(B507=\"\",\"\",MAX($A$1:A506)+1)","v":""}]
[{"$f":"IF(B508=\"\",\"\",MAX($A$1:A507)+1)","v":""}]
[{"$f":"IF(B509=\"\",\"\",MAX($A$1:A508)+1)","v":""}]
[{"$f":"IF(B510=\"\",\"\",MAX($A$1:A509)+1)","v":""}]
[{"$f":"IF(B511=\"\",\"\",MAX($A$1:A510)+1)","v":""}]
[{"$f":"IF(B512=\"\",\"\",MAX($A$1:A511)+1)","v":""}]
[{"$f":"IF(B513=\"\",\"\",MAX($A$1:A512)+1)","v":""}]
[{"$f":"IF(B514=\"\",\"\",MAX($A$1:A513)+1)","v":""}]
[{"$f":"IF(B515=\"\",\"\",MAX($A$1:A514)+1)","v":""}]
[{"$f":"IF(B516=\"\",\"\",MAX($A$1:A515)+1)","v":""}]
[{"$f":"IF(B517=\"\",\"\",MAX($A$1:A516)+1)","v":""}]
[{"$f":"IF(B518=\"\",\"\",MAX($A$1:A517)+1)","v":""}]
[{"$f":"IF(B519=\"\",\"\",MAX($A$1:A518)+1)","v":""}]
[{"$f":"IF(B520=\"\",\"\",MAX($A$1:A519)+1)","v":""}]
[{"$f":"IF(B521=\"\",\"\",MAX($A$1:A520)+1)","v":""}]
[{"$f":"IF(B522=\"\",\"\",MAX($A$1:A521)+1)","v":""}]
[{"$f":"IF(B523=\"\",\"\",MAX($A$1:A522)+1)","v":""}]
[{"$f":"IF(B524=\"\",\"\",MAX($A$1:A523)+1)","v":""}]
[{"$f":"IF(B525=\"\",\"\",MAX($A$1:A524)+1)","v":""}]
[{"$f":"IF(B526=\"\",\"\",MAX($A$1:A525)+1)","v":""}]
[{"$f":"IF(B527=\"\",\"\",MAX($A$1:A526)+1)","v":""}]
[{"$f":"IF(B528=\"\",\"\",MAX($A$1:A527)+1)","v":""}]
[{"$f":"IF(B529=\"\",\"\",MAX($A$1:A528)+1)","v":""}]
[{"$f":"IF(B530=\"\",\"\",MAX($A$1:A529)+1)","v":""}]
[{"$f":"IF(B531=\"\",\"\",MAX($A$1:A530)+1)","v":""}]
[{"$f":"IF(B532=\"\",\"\",MAX($A$1:A531)+1)","v":""}]
[{"$f":"IF(B533=\"\",\"\",MAX($A$1:A532)+1)","v":""}]
[{"$f":"IF(B534=\"\",\"\",MAX($A$1:A533)+1)","v":""}]
[{"$f":"IF(B535=\"\",\"\",MAX($A$1:A534)+1)","v":""}]
[{"$f":"IF(B536=\"\",\"\",MAX($A$1:A535)+1)","v":""}]
[{"$f":"IF(B537=\"\",\"\",MAX($A$1:A536)+1)","v":""}]
[{"$f":"IF(B538=\"\",\"\",MAX($A$1:A537)+1)","v":""}]
[{"$f":"IF(B539=\"\",\"\",MAX($A$1:A538)+1)","v":""}]
[{"$f":"IF(B540=\"\",\"\",MAX($A$1:A539)+1)","v":""}]
[{"$f":"IF(B541=\"\",\"\",MAX($A$1:A540)+1)","v":""}]
[{"$f":"IF(B542=\"\",\"\",MAX($A$1:A541)+1)","v":""}]
[{"$f":"IF(B543=\"\",\"\",MAX($A$1:A542)+1)","v":""}]
[{"$f":"IF(B544=\"\",\"\",MAX($A$1:A543)+1)","v":""}]
[{"$f":"IF(B545=\"\",\"\",MAX($A$1:A544)+1)","v":""}]
[{"$f":"IF(B546=\"\",\"\",MAX($A$1:A545)+1)","v":""}]
[{"$f":"IF(B547=\"\",\"\",MAX($A$1:A546)+1)","v":""}]
[{"$f":"IF(B548=\"\",\"\",MAX($A$1:A547)+1)","v":""}]
[{"$f":"IF(B549=\"\",\"\",MAX($A$1:A548)+1)","v":""}]
[{"$f":"IF(B550=\"\",\"\",MAX($A$1:A549)+1)","v":""}]
[{"$f":"IF(B551=\"\",\"\",MAX($A$1:A550)+1)","v":""}]
[{"$f":"IF(B552=\"\",\"\",MAX($A$1:A551)+1)","v":""}]
[{"$f":"IF(B553=\"\",\"\",MAX($A$1:A552)+1)","v":""}]
[{"$f":"IF(B554=\"\",\"\",MAX($A$1:A553)+1)","v":""}]
[{"$f":"IF(B555=\"\",\"\",MAX($A$1:A554)+1)","v":""}]
[{"$f":"IF(B556=\"\",\"\",MAX($A$1:A555)+1)","v":""}]
[{"$f":"IF(B557=\"\",\"\",MAX($A$1:A556)+1)","v":""}]
[{"$f":"IF(B558=\"\",\"\",MAX($A$1:A557)+1)","v":""}]
[{"$f":"IF(B559=\"\",\"\",MAX($A$1:A558)+1)","v":""}]
[{"$f":"IF(B560=\"\",\"\",MAX($A$1:A559)+1)","v":""}]
[{"$f":"IF(B561=\"\",\"\",MAX($A$1:A560)+1)","v":""}]
[{"$f":"IF(B562=\"\",\"\",MAX($A$1:A561)+1)","v":""}]
[{"$f":"IF(B563=\"\",\"\",MAX($A$1:A562)+1)","v":""}]
[{"$f":"IF(B564=\"\",\"\",MAX($A$1:A563)+1)","v":""}]
[{"$f":"IF(B565=\"\",\"\",MAX($A$1:A564)+1)","v":""}]
[{"$f":"IF(B566=\"\",\"\",MAX($A$1:A565)+1)","v":""}]
[{"$f":"IF(B567=\"\",\"\",MAX($A$1:A566)+1)","v":""}]
[{"$f":"IF(B568=\"\",\"\",MAX($A$1:A567)+1)","v":""}]
[{"$f":"IF(B569=\"\",\"\",MAX($A$1:A568)+1)","v":""}]
[{"$f":"IF(B570=\"\",\"\",MAX($A$1:A569)+1)","v":""}]
[{"$f":"IF(B571=\"\",\"\",MAX($A$1:A570)+1)","v":""}]
[{"$f":"IF(B572=\"\",\"\",MAX($A$1:A571)+1)","v":""}]
[{"$f":"IF(B573=\"\",\"\",MAX($A$1:A572)+1)","v":""}]
[{"$f":"IF(B574=\"\",\"\",MAX($A$1:A573)+1)","v":""}]
[{"$f":"IF(B575=\"\",\"\",MAX($A$1:A574)+1)","v":""}]
[{"$f":"IF(B576=\"\",\"\",MAX($A$1:A575)+1)","v":""}]
[{"$f":"IF(B577=\"\",\"\",MAX($A$1:A576)+1)","v":""}]
[{"$f":"IF(B578=\"\",\"\",MAX($A$1:A577)+1)","v":""}]
[{"$f":"IF(B579=\"\",\"\",MAX($A$1:A578)+1)","v":""}]
[{"$f":"IF(B580=\"\",\"\",MAX($A$1:A579)+1)","v":""}]
[{"$f":"IF(B581=\"\",\"\",MAX($A$1:A580)+1)","v":""}]
[{"$f":"IF(B582=\"\",\"\",MAX($A$1:A581)+1)","v":""}]
[{"$f":"IF(B583=\"\",\"\",MAX($A$1:A582)+1)","v":""}]
[{"$f":"IF(B584=\"\",\"\",MAX($A$1:A583)+1)","v":""}]
[{"$f":"IF(B585=\"\",\"\",MAX($A$1:A584)+1)","v":""}]
[{"$f":"IF(B586=\"\",\"\",MAX($A$1:A585)+1)","v":""}]
[{"$f":"IF(B587=\"\",\"\",MAX($A$1:A586)+1)","v":""}]
[{"$f":"IF(B588=\"\",\"\",MAX($A$1:A587)+1)","v":""}]
[{"$f":"IF(B589=\"\",\"\",MAX($A$1:A588)+1)","v":""}]
[{"$f":"IF(B590=\"\",\"\",MAX($A$1:A589)+1)","v":""}]
[{"$f":"IF(B591=\"\",\"\",MAX($A$1:A590)+1)","v":""}]
[{"$f":"IF(B592=\"\",\"\",MAX($A$1:A591)+1)","v":""}]
[{"$f":"IF(B593=\"\",\"\",MAX($A$1:A592)+1)","v":""}]
[{"$f":"IF(B594=\"\",\"\",MAX($A$1:A593)+1)","v":""}]
[{"$f":"IF(B595=\"\",\"\",MAX($A$1:A594)+1)","v":""}]
[{"$f":"IF(B596=\"\",\"\",MAX($A$1:A595)+1)","v":""}]
[{"$f":"IF(B597=\"\",\"\",MAX($A$1:A596)+1)","v":""}]
[{"$f":"IF(B598=\"\",\"\",MAX($A$1:A597)+1)","v":""}]
[{"$f":"IF(B599=\"\",\"\",MAX($A$1:A598)+1)","v":""}]
[{"$f":"IF(B600=\"\",\"\",MAX($A$1:A599)+1)","v":""}]
[{"$f":"IF(B601=\"\",\"\",MAX($A$1:A600)+1)","v":""}]
[{"$f":"IF(B602=\"\",\"\",MAX($A$1:A601)+1)","v":""}]
[{"$f":"IF(B603=\"\",\"\",MAX($A$1:A602)+1)","v":""}]
[{"$f":"IF(B604=\"\",\"\",MAX($A$1:A603)+1)","v":""}]
[{"$f":"IF(B605=\"\",\"\",MAX($A$1:A604)+1)","v":""}]
[{"$f":"IF(B606=\"\",\"\",MAX($A$1:A605)+1)","v":""}]
[{"$f":"IF(B607=\"\",\"\",MAX($A$1:A606)+1)","v":""}]
[{"$f":"IF(B608=\"\",\"\",MAX($A$1:A607)+1)","v":""}]
[{"$f":"IF(B609=\"\",\"\",MAX($A$1:A608)+1)","v":""}]
[{"$f":"IF(B610=\"\",\"\",MAX($A$1:A609)+1)","v":""}]
[{"$f":"IF(B611=\"\",\"\",MAX($A$1:A610)+1)","v":""}]
[{"$f":"IF(B612=\"\",\"\",MAX($A$1:A611)+1)","v":""}]
[{"$f":"IF(B613=\"\",\"\",MAX($A$1:A612)+1)","v":""}]
[{"$f":"IF(B614=\"\",\"\",MAX($A$1:A613)+1)","v":""}]
[{"$f":"IF(B615=\"\",\"\",MAX($A$1:A614)+1)","v":""}]
[{"$f":"IF(B616=\"\",\"\",MAX($A$1:A615)+1)","v":""}]
[{"$f":"IF(B617=\"\",\"\",MAX($A$1:A616)+1)","v":""}]
[{"$f":"IF(B618=\"\",\"\",MAX($A$1:A617)+1)","v":""}]
[{"$f":"IF(B619=\"\",\"\",MAX($A$1:A618)+1)","v":""}]
[{"$f":"IF(B620=\"\",\"\",MAX($A$1:A619)+1)","v":""}]
[{"$f":"IF(B621=\"\",\"\",MAX($A$1:A620)+1)","v":""}]
[{"$f":"IF(B622=\"\",\"\",MAX($A$1:A621)+1)","v":""}]
[{"$f":"IF(B623=\"\",\"\",MAX($A$1:A622)+1)","v":""}]
[{"$f":"IF(B624=\"\",\"\",MAX($A$1:A623)+1)","v":""}]
[{"$f":"IF(B625=\"\",\"\",MAX($A$1:A624)+1)","v":""}]
[{"$f":"IF(B626=\"\",\"\",MAX($A$1:A625)+1)","v":""}]
[{"$f":"IF(B627=\"\",\"\",MAX($A$1:A626)+1)","v":""}]
[{"$f":"IF(B628=\"\",\"\",MAX($A$1:A627)+1)","v":""}]
[{"$f":"IF(B629=\"\",\"\",MAX($A$1:A628)+1)","v":""}]
[{"$f":"IF(B630=\"\",\"\",MAX($A$1:A629)+1)","v":""}]
[{"$f":"IF(B631=\"\",\"\",MAX($A$1:A630)+1)","v":""}]
[{"$f":"IF(B632=\"\",\"\",MAX($A$1:A631)+1)","v":""}]
[{"$f":"IF(B633=\"\",\"\",MAX($A$1:A632)+1)","v":""}]
[{"$f":"IF(B634=\"\",\"\",MAX($A$1:A633)+1)","v":""}]
[{"$f":"IF(B635=\"\",\"\",MAX($A$1:A634)+1)","v":""}]
[{"$f":"IF(B636=\"\",\"\",MAX($A$1:A635)+1)","v":""}]
[{"$f":"IF(B637=\"\",\"\",MAX($A$1:A636)+1)","v":""}]
[{"$f":"IF(B638=\"\",\"\",MAX($A$1:A637)+1)","v":""}]
[{"$f":"IF(B639=\"\",\"\",MAX($A$1:A638)+1)","v":""}]
[{"$f":"IF(B640=\"\",\"\",MAX($A$1:A639)+1)","v":""}]
[{"$f":"IF(B641=\"\",\"\",MAX($A$1:A640)+1)","v":""}]
[{"$f":"IF(B642=\"\",\"\",MAX($A$1:A641)+1)","v":""}]
[{"$f":"IF(B643=\"\",\"\",MAX($A$1:A642)+1)","v":""}]
[{"$f":"IF(B644=\"\",\"\",MAX($A$1:A643)+1)","v":""}]
[{"$f":"IF(B645=\"\",\"\",MAX($A$1:A644)+1)","v":""}]
[{"$f":"IF(B646=\"\",\"\",MAX($A$1:A645)+1)","v":""}]
[{"$f":"IF(B647=\"\",\"\",MAX($A$1:A646)+1)","v":""}]
[{"$f":"IF(B648=\"\",\"\",MAX($A$1:A647)+1)","v":""}]
[{"$f":"IF(B649=\"\",\"\",MAX($A$1:A648)+1)","v":""}]
[{"$f":"IF(B650=\"\",\"\",MAX($A$1:A649)+1)","v":""}]
[{"$f":"IF(B651=\"\",\"\",MAX($A$1:A650)+1)","v":""}]
[{"$f":"IF(B652=\"\",\"\",MAX($A$1:A651)+1)","v":""}]
[{"$f":"IF(B653=\"\",\"\",MAX($A$1:A652)+1)","v":""}]
[{"$f":"IF(B654=\"\",\"\",MAX($A$1:A653)+1)","v":""}]
[{"$f":"IF(B655=\"\",\"\",MAX($A$1:A654)+1)","v":""}]
[{"$f":"IF(B656=\"\",\"\",MAX($A$1:A655)+1)","v":""}]
[{"$f":"IF(B657=\"\",\"\",MAX($A$1:A656)+1)","v":""}]
[{"$f":"IF(B658=\"\",\"\",MAX($A$1:A657)+1)","v":""}]
[{"$f":"IF(B659=\"\",\"\",MAX($A$1:A658)+1)","v":""}]
[{"$f":"IF(B660=\"\",\"\",MAX($A$1:A659)+1)","v":""}]
[{"$f":"IF(B661=\"\",\"\",MAX($A$1:A660)+1)","v":""}]
[{"$f":"IF(B662=\"\",\"\",MAX($A$1:A661)+1)","v":""}]
[{"$f":"IF(B663=\"\",\"\",MAX($A$1:A662)+1)","v":""}]
[{"$f":"IF(B664=\"\",\"\",MAX($A$1:A663)+1)","v":""}]
[{"$f":"IF(B665=\"\",\"\",MAX($A$1:A664)+1)","v":""}]
[{"$f":"IF(B666=\"\",\"\",MAX($A$1:A665)+1)","v":""}]
[{"$f":"IF(B667=\"\",\"\",MAX($A$1:A666)+1)","v":""}]
[{"$f":"IF(B668=\"\",\"\",MAX($A$1:A667)+1)","v":""}]
[{"$f":"IF(B669=\"\",\"\",MAX($A$1:A668)+1)","v":""}]
[{"$f":"IF(B670=\"\",\"\",MAX($A$1:A669)+1)","v":""}]
[{"$f":"IF(B671=\"\",\"\",MAX($A$1:A670)+1)","v":""}]
[{"$f":"IF(B672=\"\",\"\",MAX($A$1:A671)+1)","v":""}]
[{"$f":"IF(B673=\"\",\"\",MAX($A$1:A672)+1)","v":""}]
[{"$f":"IF(B674=\"\",\"\",MAX($A$1:A673)+1)","v":""}]
[{"$f":"IF(B675=\"\",\"\",MAX($A$1:A674)+1)","v":""}]
[{"$f":"IF(B676=\"\",\"\",MAX($A$1:A675)+1)","v":""}]
[{"$f":"IF(B677=\"\",\"\",MAX($A$1:A676)+1)","v":""}]
[{"$f":"IF(B678=\"\",\"\",MAX($A$1:A677)+1)","v":""}]
[{"$f":"IF(B679=\"\",\"\",MAX($A$1:A678)+1)","v":""}]
[{"$f":"IF(B680=\"\",\"\",MAX($A$1:A679)+1)","v":""}]
[{"$f":"IF(B681=\"\",\"\",MAX($A$1:A680)+1)","v":""}]
[{"$f":"IF(B682=\"\",\"\",MAX($A$1:A681)+1)","v":""}]
[{"$f":"IF(B683=\"\",\"\",MAX($A$1:A682)+1)","v":""}]
[{"$f":"IF(B684=\"\",\"\",MAX($A$1:A683)+1)","v":""}]
[{"$f":"IF(B685=\"\",\"\",MAX($A$1:A684)+1)","v":""}]
[{"$f":"IF(B686=\"\",\"\",MAX($A$1:A685)+1)","v":""}]
[{"$f":"IF(B687=\"\",\"\",MAX($A$1:A686)+1)","v":""}]
[{"$f":"IF(B688=\"\",\"\",MAX($A$1:A687)+1)","v":""}]
[{"$f":"IF(B689=\"\",\"\",MAX($A$1:A688)+1)","v":""}]
[{"$f":"IF(B690=\"\",\"\",MAX($A$1:A689)+1)","v":""}]
[{"$f":"IF(B691=\"\",\"\",MAX($A$1:A690)+1)","v":""}]
[{"$f":"IF(B692=\"\",\"\",MAX($A$1:A691)+1)","v":""}]
[{"$f":"IF(B693=\"\",\"\",MAX($A$1:A692)+1)","v":""}]
[{"$f":"IF(B694=\"\",\"\",MAX($A$1:A693)+1)","v":""}]
[{"$f":"IF(B695=\"\",\"\",MAX($A$1:A694)+1)","v":""}]
[{"$f":"IF(B696=\"\",\"\",MAX($A$1:A695)+1)","v":""}]
[{"$f":"IF(B697=\"\",\"\",MAX($A$1:A696)+1)","v":""}]
[{"$f":"IF(B698=\"\",\"\",MAX($A$1:A697)+1)","v":""}]
[{"$f":"IF(B699=\"\",\"\",MAX($A$1:A698)+1)","v":""}]
[{"$f":"IF(B700=\"\",\"\",MAX($A$1:A699)+1)","v":""}]
[{"$f":"IF(B701=\"\",\"\",MAX($A$1:A700)+1)","v":""}]
[{"$f":"IF(B702=\"\",\"\",MAX($A$1:A701)+1)","v":""}]
[{"$f":"IF(B703=\"\",\"\",MAX($A$1:A702)+1)","v":""}]
[{"$f":"IF(B704=\"\",\"\",MAX($A$1:A703)+1)","v":""}]
[{"$f":"IF(B705=\"\",\"\",MAX($A$1:A704)+1)","v":""}]
[{"$f":"IF(B706=\"\",\"\",MAX($A$1:A705)+1)","v":""}]
[{"$f":"IF(B707=\"\",\"\",MAX($A$1:A706)+1)","v":""}]
[{"$f":"IF(B708=\"\",\"\",MAX($A$1:A707)+1)","v":""}]
[{"$f":"IF(B709=\"\",\"\",MAX($A$1:A708)+1)","v":""}]
[{"$f":"IF(B710=\"\",\"\",MAX($A$1:A709)+1)","v":""}]
[{"$f":"IF(B711=\"\",\"\",MAX($A$1:A710)+1)","v":""}]
[{"$f":"IF(B712=\"\",\"\",MAX($A$1:A711)+1)","v":""}]
[{"$f":"IF(B713=\"\",\"\",MAX($A$1:A712)+1)","v":""}]
[{"$f":"IF(B714=\"\",\"\",MAX($A$1:A713)+1)","v":""}]
[{"$f":"IF(B715=\"\",\"\",MAX($A$1:A714)+1)","v":""}]
[{"$f":"IF(B716=\"\",\"\",MAX($A$1:A715)+1)","v":""}]
[{"$f":"IF(B717=\"\",\"\",MAX($A$1:A716)+1)","v":""}]
[{"$f":"IF(B718=\"\",\"\",MAX($A$1:A717)+1)","v":""}]
[{"$f":"IF(B719=\"\",\"\",MAX($A$1:A718)+1)","v":""}]
[{"$f":"IF(B720=\"\",\"\",MAX($A$1:A719)+1)","v":""}]
[{"$f":"IF(B721=\"\",\"\",MAX($A$1:A720)+1)","v":""}]
[{"$f":"IF(B722=\"\",\"\",MAX($A$1:A721)+1)","v":""}]
[{"$f":"IF(B723=\"\",\"\",MAX($A$1:A722)+1)","v":""}]
[{"$f":"IF(B724=\"\",\"\",MAX($A$1:A723)+1)","v":""}]
[{"$f":"IF(B725=\"\",\"\",MAX($A$1:A724)+1)","v":""}]
[{"$f":"IF(B726=\"\",\"\",MAX($A$1:A725)+1)","v":""}]
[{"$f":"IF(B727=\"\",\"\",MAX($A$1:A726)+1)","v":""}]
[{"$f":"IF(B728=\"\",\"\",MAX($A$1:A727)+1)","v":""}]
[{"$f":"IF(B729=\"\",\"\",MAX($A$1:A728)+1)","v":""}]
[{"$f":"IF(B730=\"\",\"\",MAX($A$1:A729)+1)","v":""}]
[{"$f":"IF(B731=\"\",\"\",MAX($A$1:A730)+1)","v":""}]
[{"$f":"IF(B732=\"\",\"\",MAX($A$1:A731)+1)","v":""}]
[{"$f":"IF(B733=\"\",\"\",MAX($A$1:A732)+1)","v":""}]
[{"$f":"IF(B734=\"\",\"\",MAX($A$1:A733)+1)","v":""}]
[{"$f":"IF(B735=\"\",\"\",MAX($A$1:A734)+1)","v":""}]
[{"$f":"IF(B736=\"\",\"\",MAX($A$1:A735)+1)","v":""}]
[{"$f":"IF(B737=\"\",\"\",MAX($A$1:A736)+1)","v":""}]
[{"$f":"IF(B738=\"\",\"\",MAX($A$1:A737)+1)","v":""}]
[{"$f":"IF(B739=\"\",\"\",MAX($A$1:A738)+1)","v":""}]
[{"$f":"IF(B740=\"\",\"\",MAX($A$1:A739)+1)","v":""}]
[{"$f":"IF(B741=\"\",\"\",MAX($A$1:A740)+1)","v":""}]
[{"$f":"IF(B742=\"\",\"\",MAX($A$1:A741)+1)","v":""}]
[{"$f":"IF(B743=\"\",\"\",MAX($A$1:A742)+1)","v":""}]
[{"$f":"IF(B744=\"\",\"\",MAX($A$1:A743)+1)","v":""}]
[{"$f":"IF(B745=\"\",\"\",MAX($A$1:A744)+1)","v":""}]
[{"$f":"IF(B746=\"\",\"\",MAX($A$1:A745)+1)","v":""}]
[{"$f":"IF(B747=\"\",\"\",MAX($A$1:A746)+1)","v":""}]
[{"$f":"IF(B748=\"\",\"\",MAX($A$1:A747)+1)","v":""}]
[{"$f":"IF(B749=\"\",\"\",MAX($A$1:A748)+1)","v":""}]
[{"$f":"IF(B750=\"\",\"\",MAX($A$1:A749)+1)","v":""}]
[{"$f":"IF(B751=\"\",\"\",MAX($A$1:A750)+1)","v":""}]
[{"$f":"IF(B752=\"\",\"\",MAX($A$1:A751)+1)","v":""}]
[{"$f":"IF(B753=\"\",\"\",MAX($A$1:A752)+1)","v":""}]
[{"$f":"IF(B754=\"\",\"\",MAX($A$1:A753)+1)","v":""}]
[{"$f":"IF(B755=\"\",\"\",MAX($A$1:A754)+1)","v":""}]
[{"$f":"IF(B756=\"\",\"\",MAX($A$1:A755)+1)","v":""}]
[{"$f":"IF(B757=\"\",\"\",MAX($A$1:A756)+1)","v":""}]
[{"$f":"IF(B758=\"\",\"\",MAX($A$1:A757)+1)","v":""}]
[{"$f":"IF(B759=\"\",\"\",MAX($A$1:A758)+1)","v":""}]
[{"$f":"IF(B760=\"\",\"\",MAX($A$1:A759)+1)","v":""}]
[{"$f":"IF(B761=\"\",\"\",MAX($A$1:A760)+1)","v":""}]
[{"$f":"IF(B762=\"\",\"\",MAX($A$1:A761)+1)","v":""}]
[{"$f":"IF(B763=\"\",\"\",MAX($A$1:A762)+1)","v":""}]
[{"$f":"IF(B764=\"\",\"\",MAX($A$1:A763)+1)","v":""}]
[{"$f":"IF(B765=\"\",\"\",MAX($A$1:A764)+1)","v":""}]
[{"$f":"IF(B766=\"\",\"\",MAX($A$1:A765)+1)","v":""}]
[{"$f":"IF(B767=\"\",\"\",MAX($A$1:A766)+1)","v":""}]
[{"$f":"IF(B768=\"\",\"\",MAX($A$1:A767)+1)","v":""}]
[{"$f":"IF(B769=\"\",\"\",MAX($A$1:A768)+1)","v":""}]
[{"$f":"IF(B770=\"\",\"\",MAX($A$1:A769)+1)","v":""}]
[{"$f":"IF(B771=\"\",\"\",MAX($A$1:A770)+1)","v":""}]
[{"$f":"IF(B772=\"\",\"\",MAX($A$1:A771)+1)","v":""}]
[{"$f":"IF(B773=\"\",\"\",MAX($A$1:A772)+1)","v":""}]
[{"$f":"IF(B774=\"\",\"\",MAX($A$1:A773)+1)","v":""}]
[{"$f":"IF(B775=\"\",\"\",MAX($A$1:A774)+1)","v":""}]
[{"$f":"IF(B776=\"\",\"\",MAX($A$1:A775)+1)","v":""}]
[{"$f":"IF(B777=\"\",\"\",MAX($A$1:A776)+1)","v":""}]
[{"$f":"IF(B778=\"\",\"\",MAX($A$1:A777)+1)","v":""}]
[{"$f":"IF(B779=\"\",\"\",MAX($A$1:A778)+1)","v":""}]
[{"$f":"IF(B780=\"\",\"\",MAX($A$1:A779)+1)","v":""}]
[{"$f":"IF(B781=\"\",\"\",MAX($A$1:A780)+1)","v":""}]
[{"$f":"IF(B782=\"\",\"\",MAX($A$1:A781)+1)","v":""}]
[{"$f":"IF(B783=\"\",\"\",MAX($A$1:A782)+1)","v":""}]
[{"$f":"IF(B784=\"\",\"\",MAX($A$1:A783)+1)","v":""}]
[{"$f":"IF(B785=\"\",\"\",MAX($A$1:A784)+1)","v":""}]
[{"$f":"IF(B786=\"\",\"\",MAX($A$1:A785)+1)","v":""}]
[{"$f":"IF(B787=\"\",\"\",MAX($A$1:A786)+1)","v":""}]
[{"$f":"IF(B788=\"\",\"\",MAX($A$1:A787)+1)","v":""}]
[{"$f":"IF(B789=\"\",\"\",MAX($A$1:A788)+1)","v":""}]
[{"$f":"IF(B790=\"\",\"\",MAX($A$1:A789)+1)","v":""}]
[{"$f":"IF(B791=\"\",\"\",MAX($A$1:A790)+1)","v":""}]
[{"$f":"IF(B792=\"\",\"\",MAX($A$1:A791)+1)","v":""}]
[{"$f":"IF(B793=\"\",\"\",MAX($A$1:A792)+1)","v":""}]
[{"$f":"IF(B794=\"\",\"\",MAX($A$1:A793)+1)","v":""}]
[{"$f":"IF(B795=\"\",\"\",MAX($A$1:A794)+1)","v":""}]
[{"$f":"IF(B796=\"\",\"\",MAX($A$1:A795)+1)","v":""}]
[{"$f":"IF(B797=\"\",\"\",MAX($A$1:A796)+1)","v":""}]
[{"$f":"IF(B798=\"\",\"\",MAX($A$1:A797)+1)","v":""}]
[{"$f":"IF(B799=\"\",\"\",MAX($A$1:A798)+1)","v":""}]
[{"$f":"IF(B800=\"\",\"\",MAX($A$1:A799)+1)","v":""}]
[{"$f":"IF(B801=\"\",\"\",MAX($A$1:A800)+1)","v":""}]
[{"$f":"IF(B802=\"\",\"\",MAX($A$1:A801)+1)","v":""}]
[{"$f":"IF(B803=\"\",\"\",MAX($A$1:A802)+1)","v":""}]
[{"$f":"IF(B804=\"\",\"\",MAX($A$1:A803)+1)","v":""}]
[{"$f":"IF(B805=\"\",\"\",MAX($A$1:A804)+1)","v":""}]
[{"$f":"IF(B806=\"\",\"\",MAX($A$1:A805)+1)","v":""}]
[{"$f":"IF(B807=\"\",\"\",MAX($A$1:A806)+1)","v":""}]
[{"$f":"IF(B808=\"\",\"\",MAX($A$1:A807)+1)","v":""}]
[{"$f":"IF(B809=\"\",\"\",MAX($A$1:A808)+1)","v":""}]
[{"$f":"IF(B810=\"\",\"\",MAX($A$1:A809)+1)","v":""}]
[{"$f":"IF(B811=\"\",\"\",MAX($A$1:A810)+1)","v":""}]
[{"$f":"IF(B812=\"\",\"\",MAX($A$1:A811)+1)","v":""}]
[{"$f":"IF(B813=\"\",\"\",MAX($A$1:A812)+1)","v":""}]
[{"$f":"IF(B814=\"\",\"\",MAX($A$1:A813)+1)","v":""}]
[{"$f":"IF(B815=\"\",\"\",MAX($A$1:A814)+1)","v":""}]
[{"$f":"IF(B816=\"\",\"\",MAX($A$1:A815)+1)","v":""}]
[{"$f":"IF(B817=\"\",\"\",MAX($A$1:A816)+1)","v":""}]
[{"$f":"IF(B818=\"\",\"\",MAX($A$1:A817)+1)","v":""}]
[{"$f":"IF(B819=\"\",\"\",MAX($A$1:A818)+1)","v":""}]
[{"$f":"IF(B820=\"\",\"\",MAX($A$1:A819)+1)","v":""}]
[{"$f":"IF(B821=\"\",\"\",MAX($A$1:A820)+1)","v":""}]
[{"$f":"IF(B822=\"\",\"\",MAX($A$1:A821)+1)","v":""}]
[{"$f":"IF(B823=\"\",\"\",MAX($A$1:A822)+1)","v":""}]
[{"$f":"IF(B824=\"\",\"\",MAX($A$1:A823)+1)","v":""}]
[{"$f":"IF(B825=\"\",\"\",MAX($A$1:A824)+1)","v":""}]
[{"$f":"IF(B826=\"\",\"\",MAX($A$1:A825)+1)","v":""}]
[{"$f":"IF(B827=\"\",\"\",MAX($A$1:A826)+1)","v":""}]
[{"$f":"IF(B828=\"\",\"\",MAX($A$1:A827)+1)","v":""}]
[{"$f":"IF(B829=\"\",\"\",MAX($A$1:A828)+1)","v":""}]
[{"$f":"IF(B830=\"\",\"\",MAX($A$1:A829)+1)","v":""}]
[{"$f":"IF(B831=\"\",\"\",MAX($A$1:A830)+1)","v":""}]
[{"$f":"IF(B832=\"\",\"\",MAX($A$1:A831)+1)","v":""}]
[{"$f":"IF(B833=\"\",\"\",MAX($A$1:A832)+1)","v":""}]
[{"$f":"IF(B834=\"\",\"\",MAX($A$1:A833)+1)","v":""}]
[{"$f":"IF(B835=\"\",\"\",MAX($A$1:A834)+1)","v":""}]
[{"$f":"IF(B836=\"\",\"\",MAX($A$1:A835)+1)","v":""}]
[{"$f":"IF(B837=\"\",\"\",MAX($A$1:A836)+1)","v":""}]
[{"$f":"IF(B838=\"\",\"\",MAX($A$1:A837)+1)","v":""}]
[{"$f":"IF(B839=\"\",\"\",MAX($A$1:A838)+1)","v":""}]
[{"$f":"IF(B840=\"\",\"\",MAX($A$1:A839)+1)","v":""}]
[{"$f":"IF(B841=\"\",\"\",MAX($A$1:A840)+1)","v":""}]
[{"$f":"IF(B842=\"\",\"\",MAX($A$1:A841)+1)","v":""}]
[{"$f":"IF(B843=\"\",\"\",MAX($A$1:A842)+1)","v":""}]
[{"$f":"IF(B844=\"\",\"\",MAX($A$1:A843)+1)","v":""}]
[{"$f":"IF(B845=\"\",\"\",MAX($A$1:A844)+1)","v":""}]
[{"$f":"IF(B846=\"\",\"\",MAX($A$1:A845)+1)","v":""}]
[{"$f":"IF(B847=\"\",\"\",MAX($A$1:A846)+1)","v":""}]
[{"$f":"IF(B848=\"\",\"\",MAX($A$1:A847)+1)","v":""}]
[{"$f":"IF(B849=\"\",\"\",MAX($A$1:A848)+1)","v":""}]
[{"$f":"IF(B850=\"\",\"\",MAX($A$1:A849)+1)","v":""}]
[{"$f":"IF(B851=\"\",\"\",MAX($A$1:A850)+1)","v":""}]
[{"$f":"IF(B852=\"\",\"\",MAX($A$1:A851)+1)","v":""}]
[{"$f":"IF(B853=\"\",\"\",MAX($A$1:A852)+1)","v":""}]
[{"$f":"IF(B854=\"\",\"\",MAX($A$1:A853)+1)","v":""}]
[{"$f":"IF(B855=\"\",\"\",MAX($A$1:A854)+1)","v":""}]
[{"$f":"IF(B856=\"\",\"\",MAX($A$1:A855)+1)","v":""}]
[{"$f":"IF(B857=\"\",\"\",MAX($A$1:A856)+1)","v":""}]
[{"$f":"IF(B858=\"\",\"\",MAX($A$1:A857)+1)","v":""}]
[{"$f":"IF(B859=\"\",\"\",MAX($A$1:A858)+1)","v":""}]
[{"$f":"IF(B860=\"\",\"\",MAX($A$1:A859)+1)","v":""}]
[{"$f":"IF(B861=\"\",\"\",MAX($A$1:A860)+1)","v":""}]
[{"$f":"IF(B862=\"\",\"\",MAX($A$1:A861)+1)","v":""}]
[{"$f":"IF(B863=\"\",\"\",MAX($A$1:A862)+1)","v":""}]
[{"$f":"IF(B864=\"\",\"\",MAX($A$1:A863)+1)","v":""}]
[{"$f":"IF(B865=\"\",\"\",MAX($A$1:A864)+1)","v":""}]
[{"$f":"IF(B866=\"\",\"\",MAX($A$1:A865)+1)","v":""}]
[{"$f":"IF(B867=\"\",\"\",MAX($A$1:A866)+1)","v":""}]
[{"$f":"IF(B868=\"\",\"\",MAX($A$1:A867)+1)","v":""}]
[{"$f":"IF(B869=\"\",\"\",MAX($A$1:A868)+1)","v":""}]
[{"$f":"IF(B870=\"\",\"\",MAX($A$1:A869)+1)","v":""}]
[{"$f":"IF(B871=\"\",\"\",MAX($A$1:A870)+1)","v":""}]
[{"$f":"IF(B872=\"\",\"\",MAX($A$1:A871)+1)","v":""}]
[{"$f":"IF(B873=\"\",\"\",MAX($A$1:A872)+1)","v":""}]
[{"$f":"IF(B874=\"\",\"\",MAX($A$1:A873)+1)","v":""}]
[{"$f":"IF(B875=\"\",\"\",MAX($A$1:A874)+1)","v":""}]
[{"$f":"IF(B876=\"\",\"\",MAX($A$1:A875)+1)","v":""}]
[{"$f":"IF(B877=\"\",\"\",MAX($A$1:A876)+1)","v":""}]
[{"$f":"IF(B878=\"\",\"\",MAX($A$1:A877)+1)","v":""}]
[{"$f":"IF(B879=\"\",\"\",MAX($A$1:A878)+1)","v":""}]
[{"$f":"IF(B880=\"\",\"\",MAX($A$1:A879)+1)","v":""}]
[{"$f":"IF(B881=\"\",\"\",MAX($A$1:A880)+1)","v":""}]
[{"$f":"IF(B882=\"\",\"\",MAX($A$1:A881)+1)","v":""}]
[{"$f":"IF(B883=\"\",\"\",MAX($A$1:A882)+1)","v":""}]
[{"$f":"IF(B884=\"\",\"\",MAX($A$1:A883)+1)","v":""}]
[{"$f":"IF(B885=\"\",\"\",MAX($A$1:A884)+1)","v":""}]
[{"$f":"IF(B886=\"\",\"\",MAX($A$1:A885)+1)","v":""}]
[{"$f":"IF(B887=\"\",\"\",MAX($A$1:A886)+1)","v":""}]
[{"$f":"IF(B888=\"\",\"\",MAX($A$1:A887)+1)","v":""}]
[{"$f":"IF(B889=\"\",\"\",MAX($A$1:A888)+1)","v":""}]
[{"$f":"IF(B890=\"\",\"\",MAX($A$1:A889)+1)","v":""}]
[{"$f":"IF(B891=\"\",\"\",MAX($A$1:A890)+1)","v":""}]
[{"$f":"IF(B892=\"\",\"\",MAX($A$1:A891)+1)","v":""}]
[{"$f":"IF(B893=\"\",\"\",MAX($A$1:A892)+1)","v":""}]
[{"$f":"IF(B894=\"\",\"\",MAX($A$1:A893)+1)","v":""}]
[{"$f":"IF(B895=\"\",\"\",MAX($A$1:A894)+1)","v":""}]
[{"$f":"IF(B896=\"\",\"\",MAX($A$1:A895)+1)","v":""}]
[{"$f":"IF(B897=\"\",\"\",MAX($A$1:A896)+1)","v":""}]
[{"$f":"IF(B898=\"\",\"\",MAX($A$1:A897)+1)","v":""}]
[{"$f":"IF(B899=\"\",\"\",MAX($A$1:A898)+1)","v":""}]
[{"$f":"IF(B900=\"\",\"\",MAX($A$1:A899)+1)","v":""}]
[{"$f":"IF(B901=\"\",\"\",MAX($A$1:A900)+1)","v":""}]
[{"$f":"IF(B902=\"\",\"\",MAX($A$1:A901)+1)","v":""}]
[{"$f":"IF(B903=\"\",\"\",MAX($A$1:A902)+1)","v":""}]
[{"$f":"IF(B904=\"\",\"\",MAX($A$1:A903)+1)","v":""}]
[{"$f":"IF(B905=\"\",\"\",MAX($A$1:A904)+1)","v":""}]
[{"$f":"IF(B906=\"\",\"\",MAX($A$1:A905)+1)","v":""}]
[{"$f":"IF(B907=\"\",\"\",MAX($A$1:A906)+1)","v":""}]
[{"$f":"IF(B908=\"\",\"\",MAX($A$1:A907)+1)","v":""}]
[{"$f":"IF(B909=\"\",\"\",MAX($A$1:A908)+1)","v":""}]
[{"$f":"IF(B910=\"\",\"\",MAX($A$1:A909)+1)","v":""}]
[{"$f":"IF(B911=\"\",\"\",MAX($A$1:A910)+1)","v":""}]
[{"$f":"IF(B912=\"\",\"\",MAX($A$1:A911)+1)","v":""}]
[{"$f":"IF(B913=\"\",\"\",MAX($A$1:A912)+1)","v":""}]
[{"$f":"IF(B914=\"\",\"\",MAX($A$1:A913)+1)","v":""}]
[{"$f":"IF(B915=\"\",\"\",MAX($A$1:A914)+1)","v":""}]
[{"$f":"IF(B916=\"\",\"\",MAX($A$1:A915)+1)","v":""}]
[{"$f":"IF(B917=\"\",\"\",MAX($A$1:A916)+1)","v":""}]
[{"$f":"IF(B918=\"\",\"\",MAX($A$1:A917)+1)","v":""}]
[{"$f":"IF(B919=\"\",\"\",MAX($A$1:A918)+1)","v":""}]
[{"$f":"IF(B920=\"\",\"\",MAX($A$1:A919)+1)","v":""}]
[{"$f":"IF(B921=\"\",\"\",MAX($A$1:A920)+1)","v":""}]
[{"$f":"IF(B922=\"\",\"\",MAX($A$1:A921)+1)","v":""}]
[{"$f":"IF(B923=\"\",\"\",MAX($A$1:A922)+1)","v":""}]
[{"$f":"IF(B924=\"\",\"\",MAX($A$1:A923)+1)","v":""}]
[{"$f":"IF(B925=\"\",\"\",MAX($A$1:A924)+1)","v":""}]
[{"$f":"IF(B926=\"\",\"\",MAX($A$1:A925)+1)","v":""}]
[{"$f":"IF(B927=\"\",\"\",MAX($A$1:A926)+1)","v":""}]
[{"$f":"IF(B928=\"\",\"\",MAX($A$1:A927)+1)","v":""}]
[{"$f":"IF(B929=\"\",\"\",MAX($A$1:A928)+1)","v":""}]
[{"$f":"IF(B930=\"\",\"\",MAX($A$1:A929)+1)","v":""}]
[{"$f":"IF(B931=\"\",\"\",MAX($A$1:A930)+1)","v":""}]
[{"$f":"IF(B932=\"\",\"\",MAX($A$1:A931)+1)","v":""}]
[{"$f":"IF(B933=\"\",\"\",MAX($A$1:A932)+1)","v":""}]
[{"$f":"IF(B934=\"\",\"\",MAX($A$1:A933)+1)","v":""}]
[{"$f":"IF(B935=\"\",\"\",MAX($A$1:A934)+1)","v":""}]
[{"$f":"IF(B936=\"\",\"\",MAX($A$1:A935)+1)","v":""}]
[{"$f":"IF(B937=\"\",\"\",MAX($A$1:A936)+1)","v":""}]
[{"$f":"IF(B938=\"\",\"\",MAX($A$1:A937)+1)","v":""}]
[{"$f":"IF(B939=\"\",\"\",MAX($A$1:A938)+1)","v":""}]
[{"$f":"IF(B940=\"\",\"\",MAX($A$1:A939)+1)","v":""}]
[{"$f":"IF(B941=\"\",\"\",MAX($A$1:A940)+1)","v":""}]
[{"$f":"IF(B942=\"\",\"\",MAX($A$1:A941)+1)","v":""}]
[{"$f":"IF(B943=\"\",\"\",MAX($A$1:A942)+1)","v":""}]
[{"$f":"IF(B944=\"\",\"\",MAX($A$1:A943)+1)","v":""}]
[{"$f":"IF(B945=\"\",\"\",MAX($A$1:A944)+1)","v":""}]
[{"$f":"IF(B946=\"\",\"\",MAX($A$1:A945)+1)","v":""}]
[{"$f":"IF(B947=\"\",\"\",MAX($A$1:A946)+1)","v":""}]
[{"$f":"IF(B948=\"\",\"\",MAX($A$1:A947)+1)","v":""}]
[{"$f":"IF(B949=\"\",\"\",MAX($A$1:A948)+1)","v":""}]
[{"$f":"IF(B950=\"\",\"\",MAX($A$1:A949)+1)","v":""}]
[{"$f":"IF(B951=\"\",\"\",MAX($A$1:A950)+1)","v":""}]
[{"$f":"IF(B952=\"\",\"\",MAX($A$1:A951)+1)","v":""}]
[{"$f":"IF(B953=\"\",\"\",MAX($A$1:A952)+1)","v":""}]
[{"$f":"IF(B954=\"\",\"\",MAX($A$1:A953)+1)","v":""}]
[{"$f":"IF(B955=\"\",\"\",MAX($A$1:A954)+1)","v":""}]
[{"$f":"IF(B956=\"\",\"\",MAX($A$1:A955)+1)","v":""}]
[{"$f":"IF(B957=\"\",\"\",MAX($A$1:A956)+1)","v":""}]
[{"$f":"IF(B958=\"\",\"\",MAX($A$1:A957)+1)","v":""}]
[{"$f":"IF(B959=\"\",\"\",MAX($A$1:A958)+1)","v":""}]
[{"$f":"IF(B960=\"\",\"\",MAX($A$1:A959)+1)","v":""}]
[{"$f":"IF(B961=\"\",\"\",MAX($A$1:A960)+1)","v":""}]
[{"$f":"IF(B962=\"\",\"\",MAX($A$1:A961)+1)","v":""}]
[{"$f":"IF(B963=\"\",\"\",MAX($A$1:A962)+1)","v":""}]
[{"$f":"IF(B964=\"\",\"\",MAX($A$1:A963)+1)","v":""}]
[{"$f":"IF(B965=\"\",\"\",MAX($A$1:A964)+1)","v":""}]
[{"$f":"IF(B966=\"\",\"\",MAX($A$1:A965)+1)","v":""}]
[{"$f":"IF(B967=\"\",\"\",MAX($A$1:A966)+1)","v":""}]
[{"$f":"IF(B968=\"\",\"\",MAX($A$1:A967)+1)","v":""}]
[{"$f":"IF(B969=\"\",\"\",MAX($A$1:A968)+1)","v":""}]
[{"$f":"IF(B970=\"\",\"\",MAX($A$1:A969)+1)","v":""}]
[{"$f":"IF(B971=\"\",\"\",MAX($A$1:A970)+1)","v":""}]
[{"$f":"IF(B972=\"\",\"\",MAX($A$1:A971)+1)","v":""}]
[{"$f":"IF(B973=\"\",\"\",MAX($A$1:A972)+1)","v":""}]
[{"$f":"IF(B974=\"\",\"\",MAX($A$1:A973)+1)","v":""}]
[{"$f":"IF(B975=\"\",\"\",MAX($A$1:A974)+1)","v":""}]
[{"$f":"IF(B976=\"\",\"\",MAX($A$1:A975)+1)","v":""}]
[{"$f":"IF(B977=\"\",\"\",MAX($A$1:A976)+1)","v":""}]
[{"$f":"IF(B978=\"\",\"\",MAX($A$1:A977)+1)","v":""}]
[{"$f":"IF(B979=\"\",\"\",MAX($A$1:A978)+1)","v":""}]
[{"$f":"IF(B980=\"\",\"\",MAX($A$1:A979)+1)","v":""}]
[{"$f":"IF(B981=\"\",\"\",MAX($A$1:A980)+1)","v":""}]
[{"$f":"IF(B982=\"\",\"\",MAX($A$1:A981)+1)","v":""}]
[{"$f":"IF(B983=\"\",\"\",MAX($A$1:A982)+1)","v":""}]
[{"$f":"IF(B984=\"\",\"\",MAX($A$1:A983)+1)","v":""}]
[{"$f":"IF(B985=\"\",\"\",MAX($A$1:A984)+1)","v":""}]
[{"$f":"IF(B986=\"\",\"\",MAX($A$1:A985)+1)","v":""}]
[{"$f":"IF(B987=\"\",\"\",MAX($A$1:A986)+1)","v":""}]
[{"$f":"IF(B988=\"\",\"\",MAX($A$1:A987)+1)","v":""}]
[{"$f":"IF(B989=\"\",\"\",MAX($A$1:A988)+1)","v":""}]
[{"$f":"IF(B990=\"\",\"\",MAX($A$1:A989)+1)","v":""}]
[{"$f":"IF(B991=\"\",\"\",MAX($A$1:A990)+1)","v":""}]
[{"$f":"IF(B992=\"\",\"\",MAX($A$1:A991)+1)","v":""}]
[{"$f":"IF(B993=\"\",\"\",MAX($A$1:A992)+1)","v":""}]
[{"$f":"IF(B994=\"\",\"\",MAX($A$1:A993)+1)","v":""}]
[{"$f":"IF(B995=\"\",\"\",MAX($A$1:A994)+1)","v":""}]
[{"$f":"IF(B996=\"\",\"\",MAX($A$1:A995)+1)","v":""}]
[{"$f":"IF(B997=\"\",\"\",MAX($A$1:A996)+1)","v":""}]
[{"$f":"IF(B998=\"\",\"\",MAX($A$1:A997)+1)","v":""}]
[{"$f":"IF(B999=\"\",\"\",MAX($A$1:A998)+1)","v":""}]
[{"$f":"IF(B1000=\"\",\"\",MAX($A$1:A999)+1)","v":""}]

{"sheet":"Verwalter","index":3,"n_rows":1000,"n_cols":2,"rows_kept":1000,"cut":false,"hidden":false,"merged":[]}
[null,{"$f":"MID(CELL(\"Dateiname\",$A$1),FIND(\"]\", CELL(\"Dateiname\",$A$1))+1,31)","v":"Verwalter"}]
[]
[{"$f":"IF(B3=\"\",\"\",1)","v":1},"Verwalter 1"]
[{"$f":"IF(B4=\"\",\"\",MAX($A$1:A3)+1)","v":2},"Verwalter 2"]
[{"$f":"IF(B5=\"\",\"\",MAX($A$1:A4)+1)","v":3},"Verwalter 3"]
[{"$f":"IF(B6=\"\",\"\",MAX($A$1:A5)+1)","v":4},"Verwalter 4"]
[{"$f":"IF(B7=\"\",\"\",MAX($A$1:A6)+1)","v":""}]
[{"$f":"IF(B8=\"\",\"\",MAX($A$1:A7)+1)","v":""}]
[{"$f":"IF(B9=\"\",\"\",MAX($A$1:A8)+1)","v":""}]
[{"$f":"IF(B10=\"\",\"\",MAX($A$1:A9)+1)","v":""}]
[{"$f":"IF(B11=\"\",\"\",MAX($A$1:A10)+1)","v":""}]
[{"$f":"IF(B12=\"\",\"\",MAX($A$1:A11)+1)","v":""}]
[{"$f":"IF(B13=\"\",\"\",MAX($A$1:A12)+1)","v":""}]
[{"$f":"IF(B14=\"\",\"\",MAX($A$1:A13)+1)","v":""}]
[{"$f":"IF(B15=\"\",\"\",MAX($A$1:A14)+1)","v":""}]
[{"$f":"IF(B16=\"\",\"\",MAX($A$1:A15)+1)","v":""}]
[{"$f":"IF(B17=\"\",\"\",MAX($A$1:A16)+1)","v":""}]
[{"$f":"IF(B18=\"\",\"\",MAX($A$1:A17)+1)","v":""}]
[{"$f":"IF(B19=\"\",\"\",MAX($A$1:A18)+1)","v":""}]
[{"$f":"IF(B20=\"\",\"\",MAX($A$1:A19)+1)","v":""}]
[{"$f":"IF(B21=\"\",\"\",MAX($A$1:A20)+1)","v":""}]
[{"$f":"IF(B22=\"\",\"\",MAX($A$1:A21)+1)","v":""}]
[{"$f":"IF(B23=\"\",\"\",MAX($A$1:A22)+1)","v":""}]
[{"$f":"IF(B24=\"\",\"\",MAX($A$1:A23)+1)","v":""}]
[{"$f":"IF(B25=\"\",\"\",MAX($A$1:A24)+1)","v":""}]
[{"$f":"IF(B26=\"\",\"\",MAX($A$1:A25)+1)","v":""}]
[{"$f":"IF(B27=\"\",\"\",MAX($A$1:A26)+1)","v":""}]
[{"$f":"IF(B28=\"\",\"\",MAX($A$1:A27)+1)","v":""}]
[{"$f":"IF(B29=\"\",\"\",MAX($A$1:A28)+1)","v":""}]
[{"$f":"IF(B30=\"\",\"\",MAX($A$1:A29)+1)","v":""}]
[{"$f":"IF(B31=\"\",\"\",MAX($A$1:A30)+1)","v":""}]
[{"$f":"IF(B32=\"\",\"\",MAX($A$1:A31)+1)","v":""}]
[{"$f":"IF(B33=\"\",\"\",MAX($A$1:A32)+1)","v":""}]
[{"$f":"IF(B34=\"\",\"\",MAX($A$1:A33)+1)","v":""}]
[{"$f":"IF(B35=\"\",\"\",MAX($A$1:A34)+1)","v":""}]
[{"$f":"IF(B36=\"\",\"\",MAX($A$1:A35)+1)","v":""}]
[{"$f":"IF(B37=\"\",\"\",MAX($A$1:A36)+1)","v":""}]
[{"$f":"IF(B38=\"\",\"\",MAX($A$1:A37)+1)","v":""}]
[{"$f":"IF(B39=\"\",\"\",MAX($A$1:A38)+1)","v":""}]
[{"$f":"IF(B40=\"\",\"\",MAX($A$1:A39)+1)","v":""}]
[{"$f":"IF(B41=\"\",\"\",MAX($A$1:A40)+1)","v":""}]
[{"$f":"IF(B42=\"\",\"\",MAX($A$1:A41)+1)","v":""}]
[{"$f":"IF(B43=\"\",\"\",MAX($A$1:A42)+1)","v":""}]
[{"$f":"IF(B44=\"\",\"\",MAX($A$1:A43)+1)","v":""}]
[{"$f":"IF(B45=\"\",\"\",MAX($A$1:A44)+1)","v":""}]
[{"$f":"IF(B46=\"\",\"\",MAX($A$1:A45)+1)","v":""}]
[{"$f":"IF(B47=\"\",\"\",MAX($A$1:A46)+1)","v":""}]
[{"$f":"IF(B48=\"\",\"\",MAX($A$1:A47)+1)","v":""}]
[{"$f":"IF(B49=\"\",\"\",MAX($A$1:A48)+1)","v":""}]
[{"$f":"IF(B50=\"\",\"\",MAX($A$1:A49)+1)","v":""}]
[{"$f":"IF(B51=\"\",\"\",MAX($A$1:A50)+1)","v":""}]
[{"$f":"IF(B52=\"\",\"\",MAX($A$1:A51)+1)","v":""}]
[{"$f":"IF(B53=\"\",\"\",MAX($A$1:A52)+1)","v":""}]
[{"$f":"IF(B54=\"\",\"\",MAX($A$1:A53)+1)","v":""}]
[{"$f":"IF(B55=\"\",\"\",MAX($A$1:A54)+1)","v":""}]
[{"$f":"IF(B56=\"\",\"\",MAX($A$1:A55)+1)","v":""}]
[{"$f":"IF(B57=\"\",\"\",MAX($A$1:A56)+1)","v":""}]
[{"$f":"IF(B58=\"\",\"\",MAX($A$1:A57)+1)","v":""}]
[{"$f":"IF(B59=\"\",\"\",MAX($A$1:A58)+1)","v":""}]
[{"$f":"IF(B60=\"\",\"\",MAX($A$1:A59)+1)","v":""}]
[{"$f":"IF(B61=\"\",\"\",MAX($A$1:A60)+1)","v":""}]
[{"$f":"IF(B62=\"\",\"\",MAX($A$1:A61)+1)","v":""}]
[{"$f":"IF(B63=\"\",\"\",MAX($A$1:A62)+1)","v":""}]
[{"$f":"IF(B64=\"\",\"\",MAX($A$1:A63)+1)","v":""}]
[{"$f":"IF(B65=\"\",\"\",MAX($A$1:A64)+1)","v":""}]
[{"$f":"IF(B66=\"\",\"\",MAX($A$1:A65)+1)","v":""}]
[{"$f":"IF(B67=\"\",\"\",MAX($A$1:A66)+1)","v":""}]
[{"$f":"IF(B68=\"\",\"\",MAX($A$1:A67)+1)","v":""}]
[{"$f":"IF(B69=\"\",\"\",MAX($A$1:A68)+1)","v":""}]
[{"$f":"IF(B70=\"\",\"\",MAX($A$1:A69)+1)","v":""}]
[{"$f":"IF(B71=\"\",\"\",MAX($A$1:A70)+1)","v":""}]
[{"$f":"IF(B72=\"\",\"\",MAX($A$1:A71)+1)","v":""}]
[{"$f":"IF(B73=\"\",\"\",MAX($A$1:A72)+1)","v":""}]
[{"$f":"IF(B74=\"\",\"\",MAX($A$1:A73)+1)","v":""}]
[{"$f":"IF(B75=\"\",\"\",MAX($A$1:A74)+1)","v":""}]
[{"$f":"IF(B76=\"\",\"\",MAX($A$1:A75)+1)","v":""}]
[{"$f":"IF(B77=\"\",\"\",MAX($A$1:A76)+1)","v":""}]
[{"$f":"IF(B78=\"\",\"\",MAX($A$1:A77)+1)","v":""}]
[{"$f":"IF(B79=\"\",\"\",MAX($A$1:A78)+1)","v":""}]
[{"$f":"IF(B80=\"\",\"\",MAX($A$1:A79)+1)","v":""}]
[{"$f":"IF(B81=\"\",\"\",MAX($A$1:A80)+1)","v":""}]
[{"$f":"IF(B82=\"\",\"\",MAX($A$1:A81)+1)","v":""}]
[{"$f":"IF(B83=\"\",\"\",MAX($A$1:A82)+1)","v":""}]
[{"$f":"IF(B84=\"\",\"\",MAX($A$1:A83)+1)","v":""}]
[{"$f":"IF(B85=\"\",\"\",MAX($A$1:A84)+1)","v":""}]
[{"$f":"IF(B86=\"\",\"\",MAX($A$1:A85)+1)","v":""}]
[{"$f":"IF(B87=\"\",\"\",MAX($A$1:A86)+1)","v":""}]
[{"$f":"IF(B88=\"\",\"\",MAX($A$1:A87)+1)","v":""}]
[{"$f":"IF(B89=\"\",\"\",MAX($A$1:A88)+1)","v":""}]
[{"$f":"IF(B90=\"\",\"\",MAX($A$1:A89)+1)","v":""}]
[{"$f":"IF(B91=\"\",\"\",MAX($A$1:A90)+1)","v":""}]
[{"$f":"IF(B92=\"\",\"\",MAX($A$1:A91)+1)","v":""}]
[{"$f":"IF(B93=\"\",\"\",MAX($A$1:A92)+1)","v":""}]
[{"$f":"IF(B94=\"\",\"\",MAX($A$1:A93)+1)","v":""}]
[{"$f":"IF(B95=\"\",\"\",MAX($A$1:A94)+1)","v":""}]
[{"$f":"IF(B96=\"\",\"\",MAX($A$1:A95)+1)","v":""}]
[{"$f":"IF(B97=\"\",\"\",MAX($A$1:A96)+1)","v":""}]
[{"$f":"IF(B98=\"\",\"\",MAX($A$1:A97)+1)","v":""}]
[{"$f":"IF(B99=\"\",\"\",MAX($A$1:A98)+1)","v":""}]
[{"$f":"IF(B100=\"\",\"\",MAX($A$1:A99)+1)","v":""}]
[{"$f":"IF(B101=\"\",\"\",MAX($A$1:A100)+1)","v":""}]
[{"$f":"IF(B102=\"\",\"\",MAX($A$1:A101)+1)","v":""}]
[{"$f":"IF(B103=\"\",\"\",MAX($A$1:A102)+1)","v":""}]
[{"$f":"IF(B104=\"\",\"\",MAX($A$1:A103)+1)","v":""}]
[{"$f":"IF(B105=\"\",\"\",MAX($A$1:A104)+1)","v":""}]
[{"$f":"IF(B106=\"\",\"\",MAX($A$1:A105)+1)","v":""}]
[{"$f":"IF(B107=\"\",\"\",MAX($A$1:A106)+1)","v":""}]
[{"$f":"IF(B108=\"\",\"\",MAX($A$1:A107)+1)","v":""}]
[{"$f":"IF(B109=\"\",\"\",MAX($A$1:A108)+1)","v":""}]
[{"$f":"IF(B110=\"\",\"\",MAX($A$1:A109)+1)","v":""}]
[{"$f":"IF(B111=\"\",\"\",MAX($A$1:A110)+1)","v":""}]
[{"$f":"IF(B112=\"\",\"\",MAX($A$1:A111)+1)","v":""}]
[{"$f":"IF(B113=\"\",\"\",MAX($A$1:A112)+1)","v":""}]
[{"$f":"IF(B114=\"\",\"\",MAX($A$1:A113)+1)","v":""}]
[{"$f":"IF(B115=\"\",\"\",MAX($A$1:A114)+1)","v":""}]
[{"$f":"IF(B116=\"\",\"\",MAX($A$1:A115)+1)","v":""}]
[{"$f":"IF(B117=\"\",\"\",MAX($A$1:A116)+1)","v":""}]
[{"$f":"IF(B118=\"\",\"\",MAX($A$1:A117)+1)","v":""}]
[{"$f":"IF(B119=\"\",\"\",MAX($A$1:A118)+1)","v":""}]
[{"$f":"IF(B120=\"\",\"\",MAX($A$1:A119)+1)","v":""}]
[{"$f":"IF(B121=\"\",\"\",MAX($A$1:A120)+1)","v":""}]
[{"$f":"IF(B122=\"\",\"\",MAX($A$1:A121)+1)","v":""}]
[{"$f":"IF(B123=\"\",\"\",MAX($A$1:A122)+1)","v":""}]
[{"$f":"IF(B124=\"\",\"\",MAX($A$1:A123)+1)","v":""}]
[{"$f":"IF(B125=\"\",\"\",MAX($A$1:A124)+1)","v":""}]
[{"$f":"IF(B126=\"\",\"\",MAX($A$1:A125)+1)","v":""}]
[{"$f":"IF(B127=\"\",\"\",MAX($A$1:A126)+1)","v":""}]
[{"$f":"IF(B128=\"\",\"\",MAX($A$1:A127)+1)","v":""}]
[{"$f":"IF(B129=\"\",\"\",MAX($A$1:A128)+1)","v":""}]
[{"$f":"IF(B130=\"\",\"\",MAX($A$1:A129)+1)","v":""}]
[{"$f":"IF(B131=\"\",\"\",MAX($A$1:A130)+1)","v":""}]
[{"$f":"IF(B132=\"\",\"\",MAX($A$1:A131)+1)","v":""}]
[{"$f":"IF(B133=\"\",\"\",MAX($A$1:A132)+1)","v":""}]
[{"$f":"IF(B134=\"\",\"\",MAX($A$1:A133)+1)","v":""}]
[{"$f":"IF(B135=\"\",\"\",MAX($A$1:A134)+1)","v":""}]
[{"$f":"IF(B136=\"\",\"\",MAX($A$1:A135)+1)","v":""}]
[{"$f":"IF(B137=\"\",\"\",MAX($A$1:A136)+1)","v":""}]
[{"$f":"IF(B138=\"\",\"\",MAX($A$1:A137)+1)","v":""}]
[{"$f":"IF(B139=\"\",\"\",MAX($A$1:A138)+1)","v":""}]
[{"$f":"IF(B140=\"\",\"\",MAX($A$1:A139)+1)","v":""}]
[{"$f":"IF(B141=\"\",\"\",MAX($A$1:A140)+1)","v":""}]
[{"$f":"IF(B142=\"\",\"\",MAX($A$1:A141)+1)","v":""}]
[{"$f":"IF(B143=\"\",\"\",MAX($A$1:A142)+1)","v":""}]
[{"$f":"IF(B144=\"\",\"\",MAX($A$1:A143)+1)","v":""}]
[{"$f":"IF(B145=\"\",\"\",MAX($A$1:A144)+1)","v":""}]
[{"$f":"IF(B146=\"\",\"\",MAX($A$1:A145)+1)","v":""}]
[{"$f":"IF(B147=\"\",\"\",MAX($A$1:A146)+1)","v":""}]
[{"$f":"IF(B148=\"\",\"\",MAX($A$1:A147)+1)","v":""}]
[{"$f":"IF(B149=\"\",\"\",MAX($A$1:A148)+1)","v":""}]
[{"$f":"IF(B150=\"\",\"\",MAX($A$1:A149)+1)","v":""}]
[{"$f":"IF(B151=\"\",\"\",MAX($A$1:A150)+1)","v":""}]
[{"$f":"IF(B152=\"\",\"\",MAX($A$1:A151)+1)","v":""}]
[{"$f":"IF(B153=\"\",\"\",MAX($A$1:A152)+1)","v":""}]
[{"$f":"IF(B154=\"\",\"\",MAX($A$1:A153)+1)","v":""}]
[{"$f":"IF(B155=\"\",\"\",MAX($A$1:A154)+1)","v":""}]
[{"$f":"IF(B156=\"\",\"\",MAX($A$1:A155)+1)","v":""}]
[{"$f":"IF(B157=\"\",\"\",MAX($A$1:A156)+1)","v":""}]
[{"$f":"IF(B158=\"\",\"\",MAX($A$1:A157)+1)","v":""}]
[{"$f":"IF(B159=\"\",\"\",MAX($A$1:A158)+1)","v":""}]
[{"$f":"IF(B160=\"\",\"\",MAX($A$1:A159)+1)","v":""}]
[{"$f":"IF(B161=\"\",\"\",MAX($A$1:A160)+1)","v":""}]
[{"$f":"IF(B162=\"\",\"\",MAX($A$1:A161)+1)","v":""}]
[{"$f":"IF(B163=\"\",\"\",MAX($A$1:A162)+1)","v":""}]
[{"$f":"IF(B164=\"\",\"\",MAX($A$1:A163)+1)","v":""}]
[{"$f":"IF(B165=\"\",\"\",MAX($A$1:A164)+1)","v":""}]
[{"$f":"IF(B166=\"\",\"\",MAX($A$1:A165)+1)","v":""}]
[{"$f":"IF(B167=\"\",\"\",MAX($A$1:A166)+1)","v":""}]
[{"$f":"IF(B168=\"\",\"\",MAX($A$1:A167)+1)","v":""}]
[{"$f":"IF(B169=\"\",\"\",MAX($A$1:A168)+1)","v":""}]
[{"$f":"IF(B170=\"\",\"\",MAX($A$1:A169)+1)","v":""}]
[{"$f":"IF(B171=\"\",\"\",MAX($A$1:A170)+1)","v":""}]
[{"$f":"IF(B172=\"\",\"\",MAX($A$1:A171)+1)","v":""}]
[{"$f":"IF(B173=\"\",\"\",MAX($A$1:A172)+1)","v":""}]
[{"$f":"IF(B174=\"\",\"\",MAX($A$1:A173)+1)","v":""}]
[{"$f":"IF(B175=\"\",\"\",MAX($A$1:A174)+1)","v":""}]
[{"$f":"IF(B176=\"\",\"\",MAX($A$1:A175)+1)","v":""}]
[{"$f":"IF(B177=\"\",\"\",MAX($A$1:A176)+1)","v":""}]
[{"$f":"IF(B178=\"\",\"\",MAX($A$1:A177)+1)","v":""}]
[{"$f":"IF(B179=\"\",\"\",MAX($A$1:A178)+1)","v":""}]
[{"$f":"IF(B180=\"\",\"\",MAX($A$1:A179)+1)","v":""}]
[{"$f":"IF(B181=\"\",\"\",MAX($A$1:A180)+1)","v":""}]
[{"$f":"IF(B182=\"\",\"\",MAX($A$1:A181)+1)","v":""}]
[{"$f":"IF(B183=\"\",\"\",MAX($A$1:A182)+1)","v":""}]
[{"$f":"IF(B184=\"\",\"\",MAX($A$1:A183)+1)","v":""}]
[{"$f":"IF(B185=\"\",\"\",MAX($A$1:A184)+1)","v":""}]
[{"$f":"IF(B186=\"\",\"\",MAX($A$1:A185)+1)","v":""}]
[{"$f":"IF(B187=\"\",\"\",MAX($A$1:A186)+1)","v":""}]
[{"$f":"IF(B188=\"\",\"\",MAX($A$1:A187)+1)","v":""}]
[{"$f":"IF(B189=\"\",\"\",MAX($A$1:A188)+1)","v":""}]
[{"$f":"IF(B190=\"\",\"\",MAX($A$1:A189)+1)","v":""}]
[{"$f":"IF(B191=\"\",\"\",MAX($A$1:A190)+1)","v":""}]
[{"$f":"IF(B192=\"\",\"\",MAX($A$1:A191)+1)","v":""}]
[{"$f":"IF(B193=\"\",\"\",MAX($A$1:A192)+1)","v":""}]
[{"$f":"IF(B194=\"\",\"\",MAX($A$1:A193)+1)","v":""}]
[{"$f":"IF(B195=\"\",\"\",MAX($A$1:A194)+1)","v":""}]
[{"$f":"IF(B196=\"\",\"\",MAX($A$1:A195)+1)","v":""}]
[{"$f":"IF(B197=\"\",\"\",MAX($A$1:A196)+1)","v":""}]
[{"$f":"IF(B198=\"\",\"\",MAX($A$1:A197)+1)","v":""}]
[{"$f":"IF(B199=\"\",\"\",MAX($A$1:A198)+1)","v":""}]
[{"$f":"IF(B200=\"\",\"\",MAX($A$1:A199)+1)","v":""}]
[{"$f":"IF(B201=\"\",\"\",MAX($A$1:A200)+1)","v":""}]
[{"$f":"IF(B202=\"\",\"\",MAX($A$1:A201)+1)","v":""}]
[{"$f":"IF(B203=\"\",\"\",MAX($A$1:A202)+1)","v":""}]
[{"$f":"IF(B204=\"\",\"\",MAX($A$1:A203)+1)","v":""}]
[{"$f":"IF(B205=\"\",\"\",MAX($A$1:A204)+1)","v":""}]
[{"$f":"IF(B206=\"\",\"\",MAX($A$1:A205)+1)","v":""}]
[{"$f":"IF(B207=\"\",\"\",MAX($A$1:A206)+1)","v":""}]
[{"$f":"IF(B208=\"\",\"\",MAX($A$1:A207)+1)","v":""}]
[{"$f":"IF(B209=\"\",\"\",MAX($A$1:A208)+1)","v":""}]
[{"$f":"IF(B210=\"\",\"\",MAX($A$1:A209)+1)","v":""}]
[{"$f":"IF(B211=\"\",\"\",MAX($A$1:A210)+1)","v":""}]
[{"$f":"IF(B212=\"\",\"\",MAX($A$1:A211)+1)","v":""}]
[{"$f":"IF(B213=\"\",\"\",MAX($A$1:A212)+1)","v":""}]
[{"$f":"IF(B214=\"\",\"\",MAX($A$1:A213)+1)","v":""}]
[{"$f":"IF(B215=\"\",\"\",MAX($A$1:A214)+1)","v":""}]
[{"$f":"IF(B216=\"\",\"\",MAX($A$1:A215)+1)","v":""}]
[{"$f":"IF(B217=\"\",\"\",MAX($A$1:A216)+1)","v":""}]
[{"$f":"IF(B218=\"\",\"\",MAX($A$1:A217)+1)","v":""}]
[{"$f":"IF(B219=\"\",\"\",MAX($A$1:A218)+1)","v":""}]
[{"$f":"IF(B220=\"\",\"\",MAX($A$1:A219)+1)","v":""}]
[{"$f":"IF(B221=\"\",\"\",MAX($A$1:A220)+1)","v":""}]
[{"$f":"IF(B222=\"\",\"\",MAX($A$1:A221)+1)","v":""}]
[{"$f":"IF(B223=\"\",\"\",MAX($A$1:A222)+1)","v":""}]
[{"$f":"IF(B224=\"\",\"\",MAX($A$1:A223)+1)","v":""}]
[{"$f":"IF(B225=\"\",\"\",MAX($A$1:A224)+1)","v":""}]
[{"$f":"IF(B226=\"\",\"\",MAX($A$1:A225)+1)","v":""}]
[{"$f":"IF(B227=\"\",\"\",MAX($A$1:A226)+1)","v":""}]
[{"$f":"IF(B228=\"\",\"\",MAX($A$1:A227)+1)","v":""}]
[{"$f":"IF(B229=\"\",\"\",MAX($A$1:A228)+1)","v":""}]
[{"$f":"IF(B230=\"\",\"\",MAX($A$1:A229)+1)","v":""}]
[{"$f":"IF(B231=\"\",\"\",MAX($A$1:A230)+1)","v":""}]
[{"$f":"IF(B232=\"\",\"\",MAX($A$1:A231)+1)","v":""}]
[{"$f":"IF(B233=\"\",\"\",MAX($A$1:A232)+1)","v":""}]
[{"$f":"IF(B234=\"\",\"\",MAX($A$1:A233)+1)","v":""}]
[{"$f":"IF(B235=\"\",\"\",MAX($A$1:A234)+1)","v":""}]
[{"$f":"IF(B236=\"\",\"\",MAX($A$1:A235)+1)","v":""}]
[{"$f":"IF(B237=\"\",\"\",MAX($A$1:A236)+1)","v":""}]
[{"$f":"IF(B238=\"\",\"\",MAX($A$1:A237)+1)","v":""}]
[{"$f":"IF(B239=\"\",\"\",MAX($A$1:A238)+1)","v":""}]
[{"$f":"IF(B240=\"\",\"\",MAX($A$1:A239)+1)","v":""}]
[{"$f":"IF(B241=\"\",\"\",MAX($A$1:A240)+1)","v":""}]
[{"$f":"IF(B242=\"\",\"\",MAX($A$1:A241)+1)","v":""}]
[{"$f":"IF(B243=\"\",\"\",MAX($A$1:A242)+1)","v":""}]
[{"$f":"IF(B244=\"\",\"\",MAX($A$1:A243)+1)","v":""}]
[{"$f":"IF(B245=\"\",\"\",MAX($A$1:A244)+1)","v":""}]
[{"$f":"IF(B246=\"\",\"\",MAX($A$1:A245)+1)","v":""}]
[{"$f":"IF(B247=\"\",\"\",MAX($A$1:A246)+1)","v":""}]
[{"$f":"IF(B248=\"\",\"\",MAX($A$1:A247)+1)","v":""}]
[{"$f":"IF(B249=\"\",\"\",MAX($A$1:A248)+1)","v":""}]
[{"$f":"IF(B250=\"\",\"\",MAX($A$1:A249)+1)","v":""}]
[{"$f":"IF(B251=\"\",\"\",MAX($A$1:A250)+1)","v":""}]
[{"$f":"IF(B252=\"\",\"\",MAX($A$1:A251)+1)","v":""}]
[{"$f":"IF(B253=\"\",\"\",MAX($A$1:A252)+1)","v":""}]
[{"$f":"IF(B254=\"\",\"\",MAX($A$1:A253)+1)","v":""}]
[{"$f":"IF(B255=\"\",\"\",MAX($A$1:A254)+1)","v":""}]
[{"$f":"IF(B256=\"\",\"\",MAX($A$1:A255)+1)","v":""}]
[{"$f":"IF(B257=\"\",\"\",MAX($A$1:A256)+1)","v":""}]
[{"$f":"IF(B258=\"\",\"\",MAX($A$1:A257)+1)","v":""}]
[{"$f":"IF(B259=\"\",\"\",MAX($A$1:A258)+1)","v":""}]
[{"$f":"IF(B260=\"\",\"\",MAX($A$1:A259)+1)","v":""}]
[{"$f":"IF(B261=\"\",\"\",MAX($A$1:A260)+1)","v":""}]
[{"$f":"IF(B262=\"\",\"\",MAX($A$1:A261)+1)","v":""}]
[{"$f":"IF(B263=\"\",\"\",MAX($A$1:A262)+1)","v":""}]
[{"$f":"IF(B264=\"\",\"\",MAX($A$1:A263)+1)","v":""}]
[{"$f":"IF(B265=\"\",\"\",MAX($A$1:A264)+1)","v":""}]
[{"$f":"IF(B266=\"\",\"\",MAX($A$1:A265)+1)","v":""}]
[{"$f":"IF(B267=\"\",\"\",MAX($A$1:A266)+1)","v":""}]
[{"$f":"IF(B268=\"\",\"\",MAX($A$1:A267)+1)","v":""}]
[{"$f":"IF(B269=\"\",\"\",MAX($A$1:A268)+1)","v":""}]
[{"$f":"IF(B270=\"\",\"\",MAX($A$1:A269)+1)","v":""}]
[{"$f":"IF(B271=\"\",\"\",MAX($A$1:A270)+1)","v":""}]
[{"$f":"IF(B272=\"\",\"\",MAX($A$1:A271)+1)","v":""}]
[{"$f":"IF(B273=\"\",\"\",MAX($A$1:A272)+1)","v":""}]
[{"$f":"IF(B274=\"\",\"\",MAX($A$1:A273)+1)","v":""}]
[{"$f":"IF(B275=\"\",\"\",MAX($A$1:A274)+1)","v":""}]
[{"$f":"IF(B276=\"\",\"\",MAX($A$1:A275)+1)","v":""}]
[{"$f":"IF(B277=\"\",\"\",MAX($A$1:A276)+1)","v":""}]
[{"$f":"IF(B278=\"\",\"\",MAX($A$1:A277)+1)","v":""}]
[{"$f":"IF(B279=\"\",\"\",MAX($A$1:A278)+1)","v":""}]
[{"$f":"IF(B280=\"\",\"\",MAX($A$1:A279)+1)","v":""}]
[{"$f":"IF(B281=\"\",\"\",MAX($A$1:A280)+1)","v":""}]
[{"$f":"IF(B282=\"\",\"\",MAX($A$1:A281)+1)","v":""}]
[{"$f":"IF(B283=\"\",\"\",MAX($A$1:A282)+1)","v":""}]
[{"$f":"IF(B284=\"\",\"\",MAX($A$1:A283)+1)","v":""}]
[{"$f":"IF(B285=\"\",\"\",MAX($A$1:A284)+1)","v":""}]
[{"$f":"IF(B286=\"\",\"\",MAX($A$1:A285)+1)","v":""}]
[{"$f":"IF(B287=\"\",\"\",MAX($A$1:A286)+1)","v":""}]
[{"$f":"IF(B288=\"\",\"\",MAX($A$1:A287)+1)","v":""}]
[{"$f":"IF(B289=\"\",\"\",MAX($A$1:A288)+1)","v":""}]
[{"$f":"IF(B290=\"\",\"\",MAX($A$1:A289)+1)","v":""}]
[{"$f":"IF(B291=\"\",\"\",MAX($A$1:A290)+1)","v":""}]
[{"$f":"IF(B292=\"\",\"\",MAX($A$1:A291)+1)","v":""}]
[{"$f":"IF(B293=\"\",\"\",MAX($A$1:A292)+1)","v":""}]
[{"$f":"IF(B294=\"\",\"\",MAX($A$1:A293)+1)","v":""}]
[{"$f":"IF(B295=\"\",\"\",MAX($A$1:A294)+1)","v":""}]
[{"$f":"IF(B296=\"\",\"\",MAX($A$1:A295)+1)","v":""}]
[{"$f":"IF(B297=\"\",\"\",MAX($A$1:A296)+1)","v":""}]
[{"$f":"IF(B298=\"\",\"\",MAX($A$1:A297)+1)","v":""}]
[{"$f":"IF(B299=\"\",\"\",MAX($A$1:A298)+1)","v":""}]
[{"$f":"IF(B300=\"\",\"\",MAX($A$1:A299)+1)","v":""}]
[{"$f":"IF(B301=\"\",\"\",MAX($A$1:A300)+1)","v":""}]
[{"$f":"IF(B302=\"\",\"\",MAX($A$1:A301)+1)","v":""}]
[{"$f":"IF(B303=\"\",\"\",MAX($A$1:A302)+1)","v":""}]
[{"$f":"IF(B304=\"\",\"\",MAX($A$1:A303)+1)","v":""}]
[{"$f":"IF(B305=\"\",\"\",MAX($A$1:A304)+1)","v":""}]
[{"$f":"IF(B306=\"\",\"\",MAX($A$1:A305)+1)","v":""}]
[{"$f":"IF(B307=\"\",\"\",MAX($A$1:A306)+1)","v":""}]
[{"$f":"IF(B308=\"\",\"\",MAX($A$1:A307)+1)","v":""}]
[{"$f":"IF(B309=\"\",\"\",MAX($A$1:A308)+1)","v":""}]
[{"$f":"IF(B310=\"\",\"\",MAX($A$1:A309)+1)","v":""}]
[{"$f":"IF(B311=\"\",\"\",MAX($A$1:A310)+1)","v":""}]
[{"$f":"IF(B312=\"\",\"\",MAX($A$1:A311)+1)","v":""}]
[{"$f":"IF(B313=\"\",\"\",MAX($A$1:A312)+1)","v":""}]
[{"$f":"IF(B314=\"\",\"\",MAX($A$1:A313)+1)","v":""}]
[{"$f":"IF(B315=\"\",\"\",MAX($A$1:A314)+1)","v":""}]
[{"$f":"IF(B316=\"\",\"\",MAX($A$1:A315)+1)","v":""}]
[{"$f":"IF(B317=\"\",\"\",MAX($A$1:A316)+1)","v":""}]
[{"$f":"IF(B318=\"\",\"\",MAX($A$1:A317)+1)","v":""}]
[{"$f":"IF(B319=\"\",\"\",MAX($A$1:A318)+1)","v":""}]
[{"$f":"IF(B320=\"\",\"\",MAX($A$1:A319)+1)","v":""}]
[{"$f":"IF(B321=\"\",\"\",MAX($A$1:A320)+1)","v":""}]
[{"$f":"IF(B322=\"\",\"\",MAX($A$1:A321)+1)","v":""}]
[{"$f":"IF(B323=\"\",\"\",MAX($A$1:A322)+1)","v":""}]
[{"$f":"IF(B324=\"\",\"\",MAX($A$1:A323)+1)","v":""}]
[{"$f":"IF(B325=\"\",\"\",MAX($A$1:A324)+1)","v":""}]
[{"$f":"IF(B326=\"\",\"\",MAX($A$1:A325)+1)","v":""}]
[{"$f":"IF(B327=\"\",\"\",MAX($A$1:A326)+1)","v":""}]
[{"$f":"IF(B328=\"\",\"\",MAX($A$1:A327)+1)","v":""}]
[{"$f":"IF(B329=\"\",\"\",MAX($A$1:A328)+1)","v":""}]
[{"$f":"IF(B330=\"\",\"\",MAX($A$1:A329)+1)","v":""}]
[{"$f":"IF(B331=\"\",\"\",MAX($A$1:A330)+1)","v":""}]
[{"$f":"IF(B332=\"\",\"\",MAX($A$1:A331)+1)","v":""}]
[{"$f":"IF(B333=\"\",\"\",MAX($A$1:A332)+1)","v":""}]
[{"$f":"IF(B334=\"\",\"\",MAX($A$1:A333)+1)","v":""}]
[{"$f":"IF(B335=\"\",\"\",MAX($A$1:A334)+1)","v":""}]
[{"$f":"IF(B336=\"\",\"\",MAX($A$1:A335)+1)","v":""}]
[{"$f":"IF(B337=\"\",\"\",MAX($A$1:A336)+1)","v":""}]
[{"$f":"IF(B338=\"\",\"\",MAX($A$1:A337)+1)","v":""}]
[{"$f":"IF(B339=\"\",\"\",MAX($A$1:A338)+1)","v":""}]
[{"$f":"IF(B340=\"\",\"\",MAX($A$1:A339)+1)","v":""}]
[{"$f":"IF(B341=\"\",\"\",MAX($A$1:A340)+1)","v":""}]
[{"$f":"IF(B342=\"\",\"\",MAX($A$1:A341)+1)","v":""}]
[{"$f":"IF(B343=\"\",\"\",MAX($A$1:A342)+1)","v":""}]
[{"$f":"IF(B344=\"\",\"\",MAX($A$1:A343)+1)","v":""}]
[{"$f":"IF(B345=\"\",\"\",MAX($A$1:A344)+1)","v":""}]
[{"$f":"IF(B346=\"\",\"\",MAX($A$1:A345)+1)","v":""}]
[{"$f":"IF(B347=\"\",\"\",MAX($A$1:A346)+1)","v":""}]
[{"$f":"IF(B348=\"\",\"\",MAX($A$1:A347)+1)","v":""}]
[{"$f":"IF(B349=\"\",\"\",MAX($A$1:A348)+1)","v":""}]
[{"$f":"IF(B350=\"\",\"\",MAX($A$1:A349)+1)","v":""}]
[{"$f":"IF(B351=\"\",\"\",MAX($A$1:A350)+1)","v":""}]
[{"$f":"IF(B352=\"\",\"\",MAX($A$1:A351)+1)","v":""}]
[{"$f":"IF(B353=\"\",\"\",MAX($A$1:A352)+1)","v":""}]
[{"$f":"IF(B354=\"\",\"\",MAX($A$1:A353)+1)","v":""}]
[{"$f":"IF(B355=\"\",\"\",MAX($A$1:A354)+1)","v":""}]
[{"$f":"IF(B356=\"\",\"\",MAX($A$1:A355)+1)","v":""}]
[{"$f":"IF(B357=\"\",\"\",MAX($A$1:A356)+1)","v":""}]
[{"$f":"IF(B358=\"\",\"\",MAX($A$1:A357)+1)","v":""}]
[{"$f":"IF(B359=\"\",\"\",MAX($A$1:A358)+1)","v":""}]
[{"$f":"IF(B360=\"\",\"\",MAX($A$1:A359)+1)","v":""}]
[{"$f":"IF(B361=\"\",\"\",MAX($A$1:A360)+1)","v":""}]
[{"$f":"IF(B362=\"\",\"\",MAX($A$1:A361)+1)","v":""}]
[{"$f":"IF(B363=\"\",\"\",MAX($A$1:A362)+1)","v":""}]
[{"$f":"IF(B364=\"\",\"\",MAX($A$1:A363)+1)","v":""}]
[{"$f":"IF(B365=\"\",\"\",MAX($A$1:A364)+1)","v":""}]
[{"$f":"IF(B366=\"\",\"\",MAX($A$1:A365)+1)","v":""}]
[{"$f":"IF(B367=\"\",\"\",MAX($A$1:A366)+1)","v":""}]
[{"$f":"IF(B368=\"\",\"\",MAX($A$1:A367)+1)","v":""}]
[{"$f":"IF(B369=\"\",\"\",MAX($A$1:A368)+1)","v":""}]
[{"$f":"IF(B370=\"\",\"\",MAX($A$1:A369)+1)","v":""}]
[{"$f":"IF(B371=\"\",\"\",MAX($A$1:A370)+1)","v":""}]
[{"$f":"IF(B372=\"\",\"\",MAX($A$1:A371)+1)","v":""}]
[{"$f":"IF(B373=\"\",\"\",MAX($A$1:A372)+1)","v":""}]
[{"$f":"IF(B374=\"\",\"\",MAX($A$1:A373)+1)","v":""}]
[{"$f":"IF(B375=\"\",\"\",MAX($A$1:A374)+1)","v":""}]
[{"$f":"IF(B376=\"\",\"\",MAX($A$1:A375)+1)","v":""}]
[{"$f":"IF(B377=\"\",\"\",MAX($A$1:A376)+1)","v":""}]
[{"$f":"IF(B378=\"\",\"\",MAX($A$1:A377)+1)","v":""}]
[{"$f":"IF(B379=\"\",\"\",MAX($A$1:A378)+1)","v":""}]
[{"$f":"IF(B380=\"\",\"\",MAX($A$1:A379)+1)","v":""}]
[{"$f":"IF(B381=\"\",\"\",MAX($A$1:A380)+1)","v":""}]
[{"$f":"IF(B382=\"\",\"\",MAX($A$1:A381)+1)","v":""}]
[{"$f":"IF(B383=\"\",\"\",MAX($A$1:A382)+1)","v":""}]
[{"$f":"IF(B384=\"\",\"\",MAX($A$1:A383)+1)","v":""}]
[{"$f":"IF(B385=\"\",\"\",MAX($A$1:A384)+1)","v":""}]
[{"$f":"IF(B386=\"\",\"\",MAX($A$1:A385)+1)","v":""}]
[{"$f":"IF(B387=\"\",\"\",MAX($A$1:A386)+1)","v":""}]
[{"$f":"IF(B388=\"\",\"\",MAX($A$1:A387)+1)","v":""}]
[{"$f":"IF(B389=\"\",\"\",MAX($A$1:A388)+1)","v":""}]
[{"$f":"IF(B390=\"\",\"\",MAX($A$1:A389)+1)","v":""}]
[{"$f":"IF(B391=\"\",\"\",MAX($A$1:A390)+1)","v":""}]
[{"$f":"IF(B392=\"\",\"\",MAX($A$1:A391)+1)","v":""}]
[{"$f":"IF(B393=\"\",\"\",MAX($A$1:A392)+1)","v":""}]
[{"$f":"IF(B394=\"\",\"\",MAX($A$1:A393)+1)","v":""}]
[{"$f":"IF(B395=\"\",\"\",MAX($A$1:A394)+1)","v":""}]
[{"$f":"IF(B396=\"\",\"\",MAX($A$1:A395)+1)","v":""}]
[{"$f":"IF(B397=\"\",\"\",MAX($A$1:A396)+1)","v":""}]
[{"$f":"IF(B398=\"\",\"\",MAX($A$1:A397)+1)","v":""}]
[{"$f":"IF(B399=\"\",\"\",MAX($A$1:A398)+1)","v":""}]
[{"$f":"IF(B400=\"\",\"\",MAX($A$1:A399)+1)","v":""}]
[{"$f":"IF(B401=\"\",\"\",MAX($A$1:A400)+1)","v":""}]
[{"$f":"IF(B402=\"\",\"\",MAX($A$1:A401)+1)","v":""}]
[{"$f":"IF(B403=\"\",\"\",MAX($A$1:A402)+1)","v":""}]
[{"$f":"IF(B404=\"\",\"\",MAX($A$1:A403)+1)","v":""}]
[{"$f":"IF(B405=\"\",\"\",MAX($A$1:A404)+1)","v":""}]
[{"$f":"IF(B406=\"\",\"\",MAX($A$1:A405)+1)","v":""}]
[{"$f":"IF(B407=\"\",\"\",MAX($A$1:A406)+1)","v":""}]
[{"$f":"IF(B408=\"\",\"\",MAX($A$1:A407)+1)","v":""}]
[{"$f":"IF(B409=\"\",\"\",MAX($A$1:A408)+1)","v":""}]
[{"$f":"IF(B410=\"\",\"\",MAX($A$1:A409)+1)","v":""}]
[{"$f":"IF(B411=\"\",\"\",MAX($A$1:A410)+1)","v":""}]
[{"$f":"IF(B412=\"\",\"\",MAX($A$1:A411)+1)","v":""}]
[{"$f":"IF(B413=\"\",\"\",MAX($A$1:A412)+1)","v":""}]
[{"$f":"IF(B414=\"\",\"\",MAX($A$1:A413)+1)","v":""}]
[{"$f":"IF(B415=\"\",\"\",MAX($A$1:A414)+1)","v":""}]
[{"$f":"IF(B416=\"\",\"\",MAX($A$1:A415)+1)","v":""}]
[{"$f":"IF(B417=\"\",\"\",MAX($A$1:A416)+1)","v":""}]
[{"$f":"IF(B418=\"\",\"\",MAX($A$1:A417)+1)","v":""}]
[{"$f":"IF(B419=\"\",\"\",MAX($A$1:A418)+1)","v":""}]
[{"$f":"IF(B420=\"\",\"\",MAX($A$1:A419)+1)","v":""}]
[{"$f":"IF(B421=\"\",\"\",MAX($A$1:A420)+1)","v":""}]
[{"$f":"IF(B422=\"\",\"\",MAX($A$1:A421)+1)","v":""}]
[{"$f":"IF(B423=\"\",\"\",MAX($A$1:A422)+1)","v":""}]
[{"$f":"IF(B424=\"\",\"\",MAX($A$1:A423)+1)","v":""}]
[{"$f":"IF(B425=\"\",\"\",MAX($A$1:A424)+1)","v":""}]
[{"$f":"IF(B426=\"\",\"\",MAX($A$1:A425)+1)","v":""}]
[{"$f":"IF(B427=\"\",\"\",MAX($A$1:A426)+1)","v":""}]
[{"$f":"IF(B428=\"\",\"\",MAX($A$1:A427)+1)","v":""}]
[{"$f":"IF(B429=\"\",\"\",MAX($A$1:A428)+1)","v":""}]
[{"$f":"IF(B430=\"\",\"\",MAX($A$1:A429)+1)","v":""}]
[{"$f":"IF(B431=\"\",\"\",MAX($A$1:A430)+1)","v":""}]
[{"$f":"IF(B432=\"\",\"\",MAX($A$1:A431)+1)","v":""}]
[{"$f":"IF(B433=\"\",\"\",MAX($A$1:A432)+1)","v":""}]
[{"$f":"IF(B434=\"\",\"\",MAX($A$1:A433)+1)","v":""}]
[{"$f":"IF(B435=\"\",\"\",MAX($A$1:A434)+1)","v":""}]
[{"$f":"IF(B436=\"\",\"\",MAX($A$1:A435)+1)","v":""}]
[{"$f":"IF(B437=\"\",\"\",MAX($A$1:A436)+1)","v":""}]
[{"$f":"IF(B438=\"\",\"\",MAX($A$1:A437)+1)","v":""}]
[{"$f":"IF(B439=\"\",\"\",MAX($A$1:A438)+1)","v":""}]
[{"$f":"IF(B440=\"\",\"\",MAX($A$1:A439)+1)","v":""}]
[{"$f":"IF(B441=\"\",\"\",MAX($A$1:A440)+1)","v":""}]
[{"$f":"IF(B442=\"\",\"\",MAX($A$1:A441)+1)","v":""}]
[{"$f":"IF(B443=\"\",\"\",MAX($A$1:A442)+1)","v":""}]
[{"$f":"IF(B444=\"\",\"\",MAX($A$1:A443)+1)","v":""}]
[{"$f":"IF(B445=\"\",\"\",MAX($A$1:A444)+1)","v":""}]
[{"$f":"IF(B446=\"\",\"\",MAX($A$1:A445)+1)","v":""}]
[{"$f":"IF(B447=\"\",\"\",MAX($A$1:A446)+1)","v":""}]
[{"$f":"IF(B448=\"\",\"\",MAX($A$1:A447)+1)","v":""}]
[{"$f":"IF(B449=\"\",\"\",MAX($A$1:A448)+1)","v":""}]
[{"$f":"IF(B450=\"\",\"\",MAX($A$1:A449)+1)","v":""}]
[{"$f":"IF(B451=\"\",\"\",MAX($A$1:A450)+1)","v":""}]
[{"$f":"IF(B452=\"\",\"\",MAX($A$1:A451)+1)","v":""}]
[{"$f":"IF(B453=\"\",\"\",MAX($A$1:A452)+1)","v":""}]
[{"$f":"IF(B454=\"\",\"\",MAX($A$1:A453)+1)","v":""}]
[{"$f":"IF(B455=\"\",\"\",MAX($A$1:A454)+1)","v":""}]
[{"$f":"IF(B456=\"\",\"\",MAX($A$1:A455)+1)","v":""}]
[{"$f":"IF(B457=\"\",\"\",MAX($A$1:A456)+1)","v":""}]
[{"$f":"IF(B458=\"\",\"\",MAX($A$1:A457)+1)","v":""}]
[{"$f":"IF(B459=\"\",\"\",MAX($A$1:A458)+1)","v":""}]
[{"$f":"IF(B460=\"\",\"\",MAX($A$1:A459)+1)","v":""}]
[{"$f":"IF(B461=\"\",\"\",MAX($A$1:A460)+1)","v":""}]
[{"$f":"IF(B462=\"\",\"\",MAX($A$1:A461)+1)","v":""}]
[{"$f":"IF(B463=\"\",\"\",MAX($A$1:A462)+1)","v":""}]
[{"$f":"IF(B464=\"\",\"\",MAX($A$1:A463)+1)","v":""}]
[{"$f":"IF(B465=\"\",\"\",MAX($A$1:A464)+1)","v":""}]
[{"$f":"IF(B466=\"\",\"\",MAX($A$1:A465)+1)","v":""}]
[{"$f":"IF(B467=\"\",\"\",MAX($A$1:A466)+1)","v":""}]
[{"$f":"IF(B468=\"\",\"\",MAX($A$1:A467)+1)","v":""}]
[{"$f":"IF(B469=\"\",\"\",MAX($A$1:A468)+1)","v":""}]
[{"$f":"IF(B470=\"\",\"\",MAX($A$1:A469)+1)","v":""}]
[{"$f":"IF(B471=\"\",\"\",MAX($A$1:A470)+1)","v":""}]
[{"$f":"IF(B472=\"\",\"\",MAX($A$1:A471)+1)","v":""}]
[{"$f":"IF(B473=\"\",\"\",MAX($A$1:A472)+1)","v":""}]
[{"$f":"IF(B474=\"\",\"\",MAX($A$1:A473)+1)","v":""}]
[{"$f":"IF(B475=\"\",\"\",MAX($A$1:A474)+1)","v":""}]
[{"$f":"IF(B476=\"\",\"\",MAX($A$1:A475)+1)","v":""}]
[{"$f":"IF(B477=\"\",\"\",MAX($A$1:A476)+1)","v":""}]
[{"$f":"IF(B478=\"\",\"\",MAX($A$1:A477)+1)","v":""}]
[{"$f":"IF(B479=\"\",\"\",MAX($A$1:A478)+1)","v":""}]
[{"$f":"IF(B480=\"\",\"\",MAX($A$1:A479)+1)","v":""}]
[{"$f":"IF(B481=\"\",\"\",MAX($A$1:A480)+1)","v":""}]
[{"$f":"IF(B482=\"\",\"\",MAX($A$1:A481)+1)","v":""}]
[{"$f":"IF(B483=\"\",\"\",MAX($A$1:A482)+1)","v":""}]
[{"$f":"IF(B484=\"\",\"\",MAX($A$1:A483)+1)","v":""}]
[{"$f":"IF(B485=\"\",\"\",MAX($A$1:A484)+1)","v":""}]
[{"$f":"IF(B486=\"\",\"\",MAX($A$1:A485)+1)","v":""}]
[{"$f":"IF(B487=\"\",\"\",MAX($A$1:A486)+1)","v":""}]
[{"$f":"IF(B488=\"\",\"\",MAX($A$1:A487)+1)","v":""}]
[{"$f":"IF(B489=\"\",\"\",MAX($A$1:A488)+1)","v":""}]
[{"$f":"IF(B490=\"\",\"\",MAX($A$1:A489)+1)","v":""}]
[{"$f":"IF(B491=\"\",\"\",MAX($A$1:A490)+1)","v":""}]
[{"$f":"IF(B492=\"\",\"\",MAX($A$1:A491)+1)","v":""}]
[{"$f":"IF(B493=\"\",\"\",MAX($A$1:A492)+1)","v":""}]
[{"$f":"IF(B494=\"\",\"\",MAX($A$1:A493)+1)","v":""}]
[{"$f":"IF(B495=\"\",\"\",MAX($A$1:A494)+1)","v":""}]
[{"$f":"IF(B496=\"\",\"\",MAX($A$1:A495)+1)","v":""}]
[{"$f":"IF(B497=\"\",\"\",MAX($A$1:A496)+1)","v":""}]
[{"$f":"IF(B498=\"\",\"\",MAX($A$1:A497)+1)","v":""}]
[{"$f":"IF(B499=\"\",\"\",MAX($A$1:A498)+1)","v":""}]
[{"$f":"IF(B500=\"\",\"\",MAX($A$1:A499)+1)","v":""}]
[{"$f":"IF(B501=\"\",\"\",MAX($A$1:A500)+1)","v":""}]
[{"$f":"IF(B502=\"\",\"\",MAX($A$1:A501)+1)","v":""}]
[{"$f":"IF(B503=\"\",\"\",MAX($A$1:A502)+1)","v":""}]
[{"$f":"IF(B504=\"\",\"\",MAX($A$1:A503)+1)","v":""}]
[{"$f":"IF(B505=\"\",\"\",MAX($A$1:A504)+1)","v":""}]
[{"$f":"IF(B506=\"\",\"\",MAX($A$1:A505)+1)","v":""}]
[{"$f":"IF(B507=\"\",\"\",MAX($A$1:A506)+1)","v":""}]
[{"$f":"IF(B508=\"\",\"\",MAX($A$1:A507)+1)","v":""}]
[{"$f":"IF(B509=\"\",\"\",MAX($A$1:A508)+1)","v":""}]
[{"$f":"IF(B510=\"\",\"\",MAX($A$1:A509)+1)","v":""}]
[{"$f":"IF(B511=\"\",\"\",MAX($A$1:A510)+1)","v":""}]
[{"$f":"IF(B512=\"\",\"\",MAX($A$1:A511)+1)","v":""}]
[{"$f":"IF(B513=\"\",\"\",MAX($A$1:A512)+1)","v":""}]
[{"$f":"IF(B514=\"\",\"\",MAX($A$1:A513)+1)","v":""}]
[{"$f":"IF(B515=\"\",\"\",MAX($A$1:A514)+1)","v":""}]
[{"$f":"IF(B516=\"\",\"\",MAX($A$1:A515)+1)","v":""}]
[{"$f":"IF(B517=\"\",\"\",MAX($A$1:A516)+1)","v":""}]
[{"$f":"IF(B518=\"\",\"\",MAX($A$1:A517)+1)","v":""}]
[{"$f":"IF(B519=\"\",\"\",MAX($A$1:A518)+1)","v":""}]
[{"$f":"IF(B520=\"\",\"\",MAX($A$1:A519)+1)","v":""}]
[{"$f":"IF(B521=\"\",\"\",MAX($A$1:A520)+1)","v":""}]
[{"$f":"IF(B522=\"\",\"\",MAX($A$1:A521)+1)","v":""}]
[{"$f":"IF(B523=\"\",\"\",MAX($A$1:A522)+1)","v":""}]
[{"$f":"IF(B524=\"\",\"\",MAX($A$1:A523)+1)","v":""}]
[{"$f":"IF(B525=\"\",\"\",MAX($A$1:A524)+1)","v":""}]
[{"$f":"IF(B526=\"\",\"\",MAX($A$1:A525)+1)","v":""}]
[{"$f":"IF(B527=\"\",\"\",MAX($A$1:A526)+1)","v":""}]
[{"$f":"IF(B528=\"\",\"\",MAX($A$1:A527)+1)","v":""}]
[{"$f":"IF(B529=\"\",\"\",MAX($A$1:A528)+1)","v":""}]
[{"$f":"IF(B530=\"\",\"\",MAX($A$1:A529)+1)","v":""}]
[{"$f":"IF(B531=\"\",\"\",MAX($A$1:A530)+1)","v":""}]
[{"$f":"IF(B532=\"\",\"\",MAX($A$1:A531)+1)","v":""}]
[{"$f":"IF(B533=\"\",\"\",MAX($A$1:A532)+1)","v":""}]
[{"$f":"IF(B534=\"\",\"\",MAX($A$1:A533)+1)","v":""}]
[{"$f":"IF(B535=\"\",\"\",MAX($A$1:A534)+1)","v":""}]
[{"$f":"IF(B536=\"\",\"\",MAX($A$1:A535)+1)","v":""}]
[{"$f":"IF(B537=\"\",\"\",MAX($A$1:A536)+1)","v":""}]
[{"$f":"IF(B538=\"\",\"\",MAX($A$1:A537)+1)","v":""}]
[{"$f":"IF(B539=\"\",\"\",MAX($A$1:A538)+1)","v":""}]
[{"$f":"IF(B540=\"\",\"\",MAX($A$1:A539)+1)","v":""}]
[{"$f":"IF(B541=\"\",\"\",MAX($A$1:A540)+1)","v":""}]
[{"$f":"IF(B542=\"\",\"\",MAX($A$1:A541)+1)","v":""}]
[{"$f":"IF(B543=\"\",\"\",MAX($A$1:A542)+1)","v":""}]
[{"$f":"IF(B544=\"\",\"\",MAX($A$1:A543)+1)","v":""}]
[{"$f":"IF(B545=\"\",\"\",MAX($A$1:A544)+1)","v":""}]
[{"$f":"IF(B546=\"\",\"\",MAX($A$1:A545)+1)","v":""}]
[{"$f":"IF(B547=\"\",\"\",MAX($A$1:A546)+1)","v":""}]
[{"$f":"IF(B548=\"\",\"\",MAX($A$1:A547)+1)","v":""}]
[{"$f":"IF(B549=\"\",\"\",MAX($A$1:A548)+1)","v":""}]
[{"$f":"IF(B550=\"\",\"\",MAX($A$1:A549)+1)","v":""}]
[{"$f":"IF(B551=\"\",\"\",MAX($A$1:A550)+1)","v":""}]
[{"$f":"IF(B552=\"\",\"\",MAX($A$1:A551)+1)","v":""}]
[{"$f":"IF(B553=\"\",\"\",MAX($A$1:A552)+1)","v":""}]
[{"$f":"IF(B554=\"\",\"\",MAX($A$1:A553)+1)","v":""}]
[{"$f":"IF(B555=\"\",\"\",MAX($A$1:A554)+1)","v":""}]
[{"$f":"IF(B556=\"\",\"\",MAX($A$1:A555)+1)","v":""}]
[{"$f":"IF(B557=\"\",\"\",MAX($A$1:A556)+1)","v":""}]
[{"$f":"IF(B558=\"\",\"\",MAX($A$1:A557)+1)","v":""}]
[{"$f":"IF(B559=\"\",\"\",MAX($A$1:A558)+1)","v":""}]
[{"$f":"IF(B560=\"\",\"\",MAX($A$1:A559)+1)","v":""}]
[{"$f":"IF(B561=\"\",\"\",MAX($A$1:A560)+1)","v":""}]
[{"$f":"IF(B562=\"\",\"\",MAX($A$1:A561)+1)","v":""}]
[{"$f":"IF(B563=\"\",\"\",MAX($A$1:A562)+1)","v":""}]
[{"$f":"IF(B564=\"\",\"\",MAX($A$1:A563)+1)","v":""}]
[{"$f":"IF(B565=\"\",\"\",MAX($A$1:A564)+1)","v":""}]
[{"$f":"IF(B566=\"\",\"\",MAX($A$1:A565)+1)","v":""}]
[{"$f":"IF(B567=\"\",\"\",MAX($A$1:A566)+1)","v":""}]
[{"$f":"IF(B568=\"\",\"\",MAX($A$1:A567)+1)","v":""}]
[{"$f":"IF(B569=\"\",\"\",MAX($A$1:A568)+1)","v":""}]
[{"$f":"IF(B570=\"\",\"\",MAX($A$1:A569)+1)","v":""}]
[{"$f":"IF(B571=\"\",\"\",MAX($A$1:A570)+1)","v":""}]
[{"$f":"IF(B572=\"\",\"\",MAX($A$1:A571)+1)","v":""}]
[{"$f":"IF(B573=\"\",\"\",MAX($A$1:A572)+1)","v":""}]
[{"$f":"IF(B574=\"\",\"\",MAX($A$1:A573)+1)","v":""}]
[{"$f":"IF(B575=\"\",\"\",MAX($A$1:A574)+1)","v":""}]
[{"$f":"IF(B576=\"\",\"\",MAX($A$1:A575)+1)","v":""}]
[{"$f":"IF(B577=\"\",\"\",MAX($A$1:A576)+1)","v":""}]
[{"$f":"IF(B578=\"\",\"\",MAX($A$1:A577)+1)","v":""}]
[{"$f":"IF(B579=\"\",\"\",MAX($A$1:A578)+1)","v":""}]
[{"$f":"IF(B580=\"\",\"\",MAX($A$1:A579)+1)","v":""}]
[{"$f":"IF(B581=\"\",\"\",MAX($A$1:A580)+1)","v":""}]
[{"$f":"IF(B582=\"\",\"\",MAX($A$1:A581)+1)","v":""}]
[{"$f":"IF(B583=\"\",\"\",MAX($A$1:A582)+1)","v":""}]
[{"$f":"IF(B584=\"\",\"\",MAX($A$1:A583)+1)","v":""}]
[{"$f":"IF(B585=\"\",\"\",MAX($A$1:A584)+1)","v":""}]
[{"$f":"IF(B586=\"\",\"\",MAX($A$1:A585)+1)","v":""}]
[{"$f":"IF(B587=\"\",\"\",MAX($A$1:A586)+1)","v":""}]
[{"$f":"IF(B588=\"\",\"\",MAX($A$1:A587)+1)","v":""}]
[{"$f":"IF(B589=\"\",\"\",MAX($A$1:A588)+1)","v":""}]
[{"$f":"IF(B590=\"\",\"\",MAX($A$1:A589)+1)","v":""}]
[{"$f":"IF(B591=\"\",\"\",MAX($A$1:A590)+1)","v":""}]
[{"$f":"IF(B592=\"\",\"\",MAX($A$1:A591)+1)","v":""}]
[{"$f":"IF(B593=\"\",\"\",MAX($A$1:A592)+1)","v":""}]
[{"$f":"IF(B594=\"\",\"\",MAX($A$1:A593)+1)","v":""}]
[{"$f":"IF(B595=\"\",\"\",MAX($A$1:A594)+1)","v":""}]
[{"$f":"IF(B596=\"\",\"\",MAX($A$1:A595)+1)","v":""}]
[{"$f":"IF(B597=\"\",\"\",MAX($A$1:A596)+1)","v":""}]
[{"$f":"IF(B598=\"\",\"\",MAX($A$1:A597)+1)","v":""}]
[{"$f":"IF(B599=\"\",\"\",MAX($A$1:A598)+1)","v":""}]
[{"$f":"IF(B600=\"\",\"\",MAX($A$1:A599)+1)","v":""}]
[{"$f":"IF(B601=\"\",\"\",MAX($A$1:A600)+1)","v":""}]
[{"$f":"IF(B602=\"\",\"\",MAX($A$1:A601)+1)","v":""}]
[{"$f":"IF(B603=\"\",\"\",MAX($A$1:A602)+1)","v":""}]
[{"$f":"IF(B604=\"\",\"\",MAX($A$1:A603)+1)","v":""}]
[{"$f":"IF(B605=\"\",\"\",MAX($A$1:A604)+1)","v":""}]
[{"$f":"IF(B606=\"\",\"\",MAX($A$1:A605)+1)","v":""}]
[{"$f":"IF(B607=\"\",\"\",MAX($A$1:A606)+1)","v":""}]
[{"$f":"IF(B608=\"\",\"\",MAX($A$1:A607)+1)","v":""}]
[{"$f":"IF(B609=\"\",\"\",MAX($A$1:A608)+1)","v":""}]
[{"$f":"IF(B610=\"\",\"\",MAX($A$1:A609)+1)","v":""}]
[{"$f":"IF(B611=\"\",\"\",MAX($A$1:A610)+1)","v":""}]
[{"$f":"IF(B612=\"\",\"\",MAX($A$1:A611)+1)","v":""}]
[{"$f":"IF(B613=\"\",\"\",MAX($A$1:A612)+1)","v":""}]
[{"$f":"IF(B614=\"\",\"\",MAX($A$1:A613)+1)","v":""}]
[{"$f":"IF(B615=\"\",\"\",MAX($A$1:A614)+1)","v":""}]
[{"$f":"IF(B616=\"\",\"\",MAX($A$1:A615)+1)","v":""}]
[{"$f":"IF(B617=\"\",\"\",MAX($A$1:A616)+1)","v":""}]
[{"$f":"IF(B618=\"\",\"\",MAX($A$1:A617)+1)","v":""}]
[{"$f":"IF(B619=\"\",\"\",MAX($A$1:A618)+1)","v":""}]
[{"$f":"IF(B620=\"\",\"\",MAX($A$1:A619)+1)","v":""}]
[{"$f":"IF(B621=\"\",\"\",MAX($A$1:A620)+1)","v":""}]
[{"$f":"IF(B622=\"\",\"\",MAX($A$1:A621)+1)","v":""}]
[{"$f":"IF(B623=\"\",\"\",MAX($A$1:A622)+1)","v":""}]
[{"$f":"IF(B624=\"\",\"\",MAX($A$1:A623)+1)","v":""}]
[{"$f":"IF(B625=\"\",\"\",MAX($A$1:A624)+1)","v":""}]
[{"$f":"IF(B626=\"\",\"\",MAX($A$1:A625)+1)","v":""}]
[{"$f":"IF(B627=\"\",\"\",MAX($A$1:A626)+1)","v":""}]
[{"$f":"IF(B628=\"\",\"\",MAX($A$1:A627)+1)","v":""}]
[{"$f":"IF(B629=\"\",\"\",MAX($A$1:A628)+1)","v":""}]
[{"$f":"IF(B630=\"\",\"\",MAX($A$1:A629)+1)","v":""}]
[{"$f":"IF(B631=\"\",\"\",MAX($A$1:A630)+1)","v":""}]
[{"$f":"IF(B632=\"\",\"\",MAX($A$1:A631)+1)","v":""}]
[{"$f":"IF(B633=\"\",\"\",MAX($A$1:A632)+1)","v":""}]
[{"$f":"IF(B634=\"\",\"\",MAX($A$1:A633)+1)","v":""}]
[{"$f":"IF(B635=\"\",\"\",MAX($A$1:A634)+1)","v":""}]
[{"$f":"IF(B636=\"\",\"\",MAX($A$1:A635)+1)","v":""}]
[{"$f":"IF(B637=\"\",\"\",MAX($A$1:A636)+1)","v":""}]
[{"$f":"IF(B638=\"\",\"\",MAX($A$1:A637)+1)","v":""}]
[{"$f":"IF(B639=\"\",\"\",MAX($A$1:A638)+1)","v":""}]
[{"$f":"IF(B640=\"\",\"\",MAX($A$1:A639)+1)","v":""}]
[{"$f":"IF(B641=\"\",\"\",MAX($A$1:A640)+1)","v":""}]
[{"$f":"IF(B642=\"\",\"\",MAX($A$1:A641)+1)","v":""}]
[{"$f":"IF(B643=\"\",\"\",MAX($A$1:A642)+1)","v":""}]
[{"$f":"IF(B644=\"\",\"\",MAX($A$1:A643)+1)","v":""}]
[{"$f":"IF(B645=\"\",\"\",MAX($A$1:A644)+1)","v":""}]
[{"$f":"IF(B646=\"\",\"\",MAX($A$1:A645)+1)","v":""}]
[{"$f":"IF(B647=\"\",\"\",MAX($A$1:A646)+1)","v":""}]
[{"$f":"IF(B648=\"\",\"\",MAX($A$1:A647)+1)","v":""}]
[{"$f":"IF(B649=\"\",\"\",MAX($A$1:A648)+1)","v":""}]
[{"$f":"IF(B650=\"\",\"\",MAX($A$1:A649)+1)","v":""}]
[{"$f":"IF(B651=\"\",\"\",MAX($A$1:A650)+1)","v":""}]
[{"$f":"IF(B652=\"\",\"\",MAX($A$1:A651)+1)","v":""}]
[{"$f":"IF(B653=\"\",\"\",MAX($A$1:A652)+1)","v":""}]
[{"$f":"IF(B654=\"\",\"\",MAX($A$1:A653)+1)","v":""}]
[{"$f":"IF(B655=\"\",\"\",MAX($A$1:A654)+1)","v":""}]
[{"$f":"IF(B656=\"\",\"\",MAX($A$1:A655)+1)","v":""}]
[{"$f":"IF(B657=\"\",\"\",MAX($A$1:A656)+1)","v":""}]
[{"$f":"IF(B658=\"\",\"\",MAX($A$1:A657)+1)","v":""}]
[{"$f":"IF(B659=\"\",\"\",MAX($A$1:A658)+1)","v":""}]
[{"$f":"IF(B660=\"\",\"\",MAX($A$1:A659)+1)","v":""}]
[{"$f":"IF(B661=\"\",\"\",MAX($A$1:A660)+1)","v":""}]
[{"$f":"IF(B662=\"\",\"\",MAX($A$1:A661)+1)","v":""}]
[{"$f":"IF(B663=\"\",\"\",MAX($A$1:A662)+1)","v":""}]
[{"$f":"IF(B664=\"\",\"\",MAX($A$1:A663)+1)","v":""}]
[{"$f":"IF(B665=\"\",\"\",MAX($A$1:A664)+1)","v":""}]
[{"$f":"IF(B666=\"\",\"\",MAX($A$1:A665)+1)","v":""}]
[{"$f":"IF(B667=\"\",\"\",MAX($A$1:A666)+1)","v":""}]
[{"$f":"IF(B668=\"\",\"\",MAX($A$1:A667)+1)","v":""}]
[{"$f":"IF(B669=\"\",\"\",MAX($A$1:A668)+1)","v":""}]
[{"$f":"IF(B670=\"\",\"\",MAX($A$1:A669)+1)","v":""}]
[{"$f":"IF(B671=\"\",\"\",MAX($A$1:A670)+1)","v":""}]
[{"$f":"IF(B672=\"\",\"\",MAX($A$1:A671)+1)","v":""}]
[{"$f":"IF(B673=\"\",\"\",MAX($A$1:A672)+1)","v":""}]
[{"$f":"IF(B674=\"\",\"\",MAX($A$1:A673)+1)","v":""}]
[{"$f":"IF(B675=\"\",\"\",MAX($A$1:A674)+1)","v":""}]
[{"$f":"IF(B676=\"\",\"\",MAX($A$1:A675)+1)","v":""}]
[{"$f":"IF(B677=\"\",\"\",MAX($A$1:A676)+1)","v":""}]
[{"$f":"IF(B678=\"\",\"\",MAX($A$1:A677)+1)","v":""}]
[{"$f":"IF(B679=\"\",\"\",MAX($A$1:A678)+1)","v":""}]
[{"$f":"IF(B680=\"\",\"\",MAX($A$1:A679)+1)","v":""}]
[{"$f":"IF(B681=\"\",\"\",MAX($A$1:A680)+1)","v":""}]
[{"$f":"IF(B682=\"\",\"\",MAX($A$1:A681)+1)","v":""}]
[{"$f":"IF(B683=\"\",\"\",MAX($A$1:A682)+1)","v":""}]
[{"$f":"IF(B684=\"\",\"\",MAX($A$1:A683)+1)","v":""}]
[{"$f":"IF(B685=\"\",\"\",MAX($A$1:A684)+1)","v":""}]
[{"$f":"IF(B686=\"\",\"\",MAX($A$1:A685)+1)","v":""}]
[{"$f":"IF(B687=\"\",\"\",MAX($A$1:A686)+1)","v":""}]
[{"$f":"IF(B688=\"\",\"\",MAX($A$1:A687)+1)","v":""}]
[{"$f":"IF(B689=\"\",\"\",MAX($A$1:A688)+1)","v":""}]
[{"$f":"IF(B690=\"\",\"\",MAX($A$1:A689)+1)","v":""}]
[{"$f":"IF(B691=\"\",\"\",MAX($A$1:A690)+1)","v":""}]
[{"$f":"IF(B692=\"\",\"\",MAX($A$1:A691)+1)","v":""}]
[{"$f":"IF(B693=\"\",\"\",MAX($A$1:A692)+1)","v":""}]
[{"$f":"IF(B694=\"\",\"\",MAX($A$1:A693)+1)","v":""}]
[{"$f":"IF(B695=\"\",\"\",MAX($A$1:A694)+1)","v":""}]
[{"$f":"IF(B696=\"\",\"\",MAX($A$1:A695)+1)","v":""}]
[{"$f":"IF(B697=\"\",\"\",MAX($A$1:A696)+1)","v":""}]
[{"$f":"IF(B698=\"\",\"\",MAX($A$1:A697)+1)","v":""}]
[{"$f":"IF(B699=\"\",\"\",MAX($A$1:A698)+1)","v":""}]
[{"$f":"IF(B700=\"\",\"\",MAX($A$1:A699)+1)","v":""}]
[{"$f":"IF(B701=\"\",\"\",MAX($A$1:A700)+1)","v":""}]
[{"$f":"IF(B702=\"\",\"\",MAX($A$1:A701)+1)","v":""}]
[{"$f":"IF(B703=\"\",\"\",MAX($A$1:A702)+1)","v":""}]
[{"$f":"IF(B704=\"\",\"\",MAX($A$1:A703)+1)","v":""}]
[{"$f":"IF(B705=\"\",\"\",MAX($A$1:A704)+1)","v":""}]
[{"$f":"IF(B706=\"\",\"\",MAX($A$1:A705)+1)","v":""}]
[{"$f":"IF(B707=\"\",\"\",MAX($A$1:A706)+1)","v":""}]
[{"$f":"IF(B708=\"\",\"\",MAX($A$1:A707)+1)","v":""}]
[{"$f":"IF(B709=\"\",\"\",MAX($A$1:A708)+1)","v":""}]
[{"$f":"IF(B710=\"\",\"\",MAX($A$1:A709)+1)","v":""}]
[{"$f":"IF(B711=\"\",\"\",MAX($A$1:A710)+1)","v":""}]
[{"$f":"IF(B712=\"\",\"\",MAX($A$1:A711)+1)","v":""}]
[{"$f":"IF(B713=\"\",\"\",MAX($A$1:A712)+1)","v":""}]
[{"$f":"IF(B714=\"\",\"\",MAX($A$1:A713)+1)","v":""}]
[{"$f":"IF(B715=\"\",\"\",MAX($A$1:A714)+1)","v":""}]
[{"$f":"IF(B716=\"\",\"\",MAX($A$1:A715)+1)","v":""}]
[{"$f":"IF(B717=\"\",\"\",MAX($A$1:A716)+1)","v":""}]
[{"$f":"IF(B718=\"\",\"\",MAX($A$1:A717)+1)","v":""}]
[{"$f":"IF(B719=\"\",\"\",MAX($A$1:A718)+1)","v":""}]
[{"$f":"IF(B720=\"\",\"\",MAX($A$1:A719)+1)","v":""}]
[{"$f":"IF(B721=\"\",\"\",MAX($A$1:A720)+1)","v":""}]
[{"$f":"IF(B722=\"\",\"\",MAX($A$1:A721)+1)","v":""}]
[{"$f":"IF(B723=\"\",\"\",MAX($A$1:A722)+1)","v":""}]
[{"$f":"IF(B724=\"\",\"\",MAX($A$1:A723)+1)","v":""}]
[{"$f":"IF(B725=\"\",\"\",MAX($A$1:A724)+1)","v":""}]
[{"$f":"IF(B726=\"\",\"\",MAX($A$1:A725)+1)","v":""}]
[{"$f":"IF(B727=\"\",\"\",MAX($A$1:A726)+1)","v":""}]
[{"$f":"IF(B728=\"\",\"\",MAX($A$1:A727)+1)","v":""}]
[{"$f":"IF(B729=\"\",\"\",MAX($A$1:A728)+1)","v":""}]
[{"$f":"IF(B730=\"\",\"\",MAX($A$1:A729)+1)","v":""}]
[{"$f":"IF(B731=\"\",\"\",MAX($A$1:A730)+1)","v":""}]
[{"$f":"IF(B732=\"\",\"\",MAX($A$1:A731)+1)","v":""}]
[{"$f":"IF(B733=\"\",\"\",MAX($A$1:A732)+1)","v":""}]
[{"$f":"IF(B734=\"\",\"\",MAX($A$1:A733)+1)","v":""}]
[{"$f":"IF(B735=\"\",\"\",MAX($A$1:A734)+1)","v":""}]
[{"$f":"IF(B736=\"\",\"\",MAX($A$1:A735)+1)","v":""}]
[{"$f":"IF(B737=\"\",\"\",MAX($A$1:A736)+1)","v":""}]
[{"$f":"IF(B738=\"\",\"\",MAX($A$1:A737)+1)","v":""}]
[{"$f":"IF(B739=\"\",\"\",MAX($A$1:A738)+1)","v":""}]
[{"$f":"IF(B740=\"\",\"\",MAX($A$1:A739)+1)","v":""}]
[{"$f":"IF(B741=\"\",\"\",MAX($A$1:A740)+1)","v":""}]
[{"$f":"IF(B742=\"\",\"\",MAX($A$1:A741)+1)","v":""}]
[{"$f":"IF(B743=\"\",\"\",MAX($A$1:A742)+1)","v":""}]
[{"$f":"IF(B744=\"\",\"\",MAX($A$1:A743)+1)","v":""}]
[{"$f":"IF(B745=\"\",\"\",MAX($A$1:A744)+1)","v":""}]
[{"$f":"IF(B746=\"\",\"\",MAX($A$1:A745)+1)","v":""}]
[{"$f":"IF(B747=\"\",\"\",MAX($A$1:A746)+1)","v":""}]
[{"$f":"IF(B748=\"\",\"\",MAX($A$1:A747)+1)","v":""}]
[{"$f":"IF(B749=\"\",\"\",MAX($A$1:A748)+1)","v":""}]
[{"$f":"IF(B750=\"\",\"\",MAX($A$1:A749)+1)","v":""}]
[{"$f":"IF(B751=\"\",\"\",MAX($A$1:A750)+1)","v":""}]
[{"$f":"IF(B752=\"\",\"\",MAX($A$1:A751)+1)","v":""}]
[{"$f":"IF(B753=\"\",\"\",MAX($A$1:A752)+1)","v":""}]
[{"$f":"IF(B754=\"\",\"\",MAX($A$1:A753)+1)","v":""}]
[{"$f":"IF(B755=\"\",\"\",MAX($A$1:A754)+1)","v":""}]
[{"$f":"IF(B756=\"\",\"\",MAX($A$1:A755)+1)","v":""}]
[{"$f":"IF(B757=\"\",\"\",MAX($A$1:A756)+1)","v":""}]
[{"$f":"IF(B758=\"\",\"\",MAX($A$1:A757)+1)","v":""}]
[{"$f":"IF(B759=\"\",\"\",MAX($A$1:A758)+1)","v":""}]
[{"$f":"IF(B760=\"\",\"\",MAX($A$1:A759)+1)","v":""}]
[{"$f":"IF(B761=\"\",\"\",MAX($A$1:A760)+1)","v":""}]
[{"$f":"IF(B762=\"\",\"\",MAX($A$1:A761)+1)","v":""}]
[{"$f":"IF(B763=\"\",\"\",MAX($A$1:A762)+1)","v":""}]
[{"$f":"IF(B764=\"\",\"\",MAX($A$1:A763)+1)","v":""}]
[{"$f":"IF(B765=\"\",\"\",MAX($A$1:A764)+1)","v":""}]
[{"$f":"IF(B766=\"\",\"\",MAX($A$1:A765)+1)","v":""}]
[{"$f":"IF(B767=\"\",\"\",MAX($A$1:A766)+1)","v":""}]
[{"$f":"IF(B768=\"\",\"\",MAX($A$1:A767)+1)","v":""}]
[{"$f":"IF(B769=\"\",\"\",MAX($A$1:A768)+1)","v":""}]
[{"$f":"IF(B770=\"\",\"\",MAX($A$1:A769)+1)","v":""}]
[{"$f":"IF(B771=\"\",\"\",MAX($A$1:A770)+1)","v":""}]
[{"$f":"IF(B772=\"\",\"\",MAX($A$1:A771)+1)","v":""}]
[{"$f":"IF(B773=\"\",\"\",MAX($A$1:A772)+1)","v":""}]
[{"$f":"IF(B774=\"\",\"\",MAX($A$1:A773)+1)","v":""}]
[{"$f":"IF(B775=\"\",\"\",MAX($A$1:A774)+1)","v":""}]
[{"$f":"IF(B776=\"\",\"\",MAX($A$1:A775)+1)","v":""}]
[{"$f":"IF(B777=\"\",\"\",MAX($A$1:A776)+1)","v":""}]
[{"$f":"IF(B778=\"\",\"\",MAX($A$1:A777)+1)","v":""}]
[{"$f":"IF(B779=\"\",\"\",MAX($A$1:A778)+1)","v":""}]
[{"$f":"IF(B780=\"\",\"\",MAX($A$1:A779)+1)","v":""}]
[{"$f":"IF(B781=\"\",\"\",MAX($A$1:A780)+1)","v":""}]
[{"$f":"IF(B782=\"\",\"\",MAX($A$1:A781)+1)","v":""}]
[{"$f":"IF(B783=\"\",\"\",MAX($A$1:A782)+1)","v":""}]
[{"$f":"IF(B784=\"\",\"\",MAX($A$1:A783)+1)","v":""}]
[{"$f":"IF(B785=\"\",\"\",MAX($A$1:A784)+1)","v":""}]
[{"$f":"IF(B786=\"\",\"\",MAX($A$1:A785)+1)","v":""}]
[{"$f":"IF(B787=\"\",\"\",MAX($A$1:A786)+1)","v":""}]
[{"$f":"IF(B788=\"\",\"\",MAX($A$1:A787)+1)","v":""}]
[{"$f":"IF(B789=\"\",\"\",MAX($A$1:A788)+1)","v":""}]
[{"$f":"IF(B790=\"\",\"\",MAX($A$1:A789)+1)","v":""}]
[{"$f":"IF(B791=\"\",\"\",MAX($A$1:A790)+1)","v":""}]
[{"$f":"IF(B792=\"\",\"\",MAX($A$1:A791)+1)","v":""}]
[{"$f":"IF(B793=\"\",\"\",MAX($A$1:A792)+1)","v":""}]
[{"$f":"IF(B794=\"\",\"\",MAX($A$1:A793)+1)","v":""}]
[{"$f":"IF(B795=\"\",\"\",MAX($A$1:A794)+1)","v":""}]
[{"$f":"IF(B796=\"\",\"\",MAX($A$1:A795)+1)","v":""}]
[{"$f":"IF(B797=\"\",\"\",MAX($A$1:A796)+1)","v":""}]
[{"$f":"IF(B798=\"\",\"\",MAX($A$1:A797)+1)","v":""}]
[{"$f":"IF(B799=\"\",\"\",MAX($A$1:A798)+1)","v":""}]
[{"$f":"IF(B800=\"\",\"\",MAX($A$1:A799)+1)","v":""}]
[{"$f":"IF(B801=\"\",\"\",MAX($A$1:A800)+1)","v":""}]
[{"$f":"IF(B802=\"\",\"\",MAX($A$1:A801)+1)","v":""}]
[{"$f":"IF(B803=\"\",\"\",MAX($A$1:A802)+1)","v":""}]
[{"$f":"IF(B804=\"\",\"\",MAX($A$1:A803)+1)","v":""}]
[{"$f":"IF(B805=\"\",\"\",MAX($A$1:A804)+1)","v":""}]
[{"$f":"IF(B806=\"\",\"\",MAX($A$1:A805)+1)","v":""}]
[{"$f":"IF(B807=\"\",\"\",MAX($A$1:A806)+1)","v":""}]
[{"$f":"IF(B808=\"\",\"\",MAX($A$1:A807)+1)","v":""}]
[{"$f":"IF(B809=\"\",\"\",MAX($A$1:A808)+1)","v":""}]
[{"$f":"IF(B810=\"\",\"\",MAX($A$1:A809)+1)","v":""}]
[{"$f":"IF(B811=\"\",\"\",MAX($A$1:A810)+1)","v":""}]
[{"$f":"IF(B812=\"\",\"\",MAX($A$1:A811)+1)","v":""}]
[{"$f":"IF(B813=\"\",\"\",MAX($A$1:A812)+1)","v":""}]
[{"$f":"IF(B814=\"\",\"\",MAX($A$1:A813)+1)","v":""}]
[{"$f":"IF(B815=\"\",\"\",MAX($A$1:A814)+1)","v":""}]
[{"$f":"IF(B816=\"\",\"\",MAX($A$1:A815)+1)","v":""}]
[{"$f":"IF(B817=\"\",\"\",MAX($A$1:A816)+1)","v":""}]
[{"$f":"IF(B818=\"\",\"\",MAX($A$1:A817)+1)","v":""}]
[{"$f":"IF(B819=\"\",\"\",MAX($A$1:A818)+1)","v":""}]
[{"$f":"IF(B820=\"\",\"\",MAX($A$1:A819)+1)","v":""}]
[{"$f":"IF(B821=\"\",\"\",MAX($A$1:A820)+1)","v":""}]
[{"$f":"IF(B822=\"\",\"\",MAX($A$1:A821)+1)","v":""}]
[{"$f":"IF(B823=\"\",\"\",MAX($A$1:A822)+1)","v":""}]
[{"$f":"IF(B824=\"\",\"\",MAX($A$1:A823)+1)","v":""}]
[{"$f":"IF(B825=\"\",\"\",MAX($A$1:A824)+1)","v":""}]
[{"$f":"IF(B826=\"\",\"\",MAX($A$1:A825)+1)","v":""}]
[{"$f":"IF(B827=\"\",\"\",MAX($A$1:A826)+1)","v":""}]
[{"$f":"IF(B828=\"\",\"\",MAX($A$1:A827)+1)","v":""}]
[{"$f":"IF(B829=\"\",\"\",MAX($A$1:A828)+1)","v":""}]
[{"$f":"IF(B830=\"\",\"\",MAX($A$1:A829)+1)","v":""}]
[{"$f":"IF(B831=\"\",\"\",MAX($A$1:A830)+1)","v":""}]
[{"$f":"IF(B832=\"\",\"\",MAX($A$1:A831)+1)","v":""}]
[{"$f":"IF(B833=\"\",\"\",MAX($A$1:A832)+1)","v":""}]
[{"$f":"IF(B834=\"\",\"\",MAX($A$1:A833)+1)","v":""}]
[{"$f":"IF(B835=\"\",\"\",MAX($A$1:A834)+1)","v":""}]
[{"$f":"IF(B836=\"\",\"\",MAX($A$1:A835)+1)","v":""}]
[{"$f":"IF(B837=\"\",\"\",MAX($A$1:A836)+1)","v":""}]
[{"$f":"IF(B838=\"\",\"\",MAX($A$1:A837)+1)","v":""}]
[{"$f":"IF(B839=\"\",\"\",MAX($A$1:A838)+1)","v":""}]
[{"$f":"IF(B840=\"\",\"\",MAX($A$1:A839)+1)","v":""}]
[{"$f":"IF(B841=\"\",\"\",MAX($A$1:A840)+1)","v":""}]
[{"$f":"IF(B842=\"\",\"\",MAX($A$1:A841)+1)","v":""}]
[{"$f":"IF(B843=\"\",\"\",MAX($A$1:A842)+1)","v":""}]
[{"$f":"IF(B844=\"\",\"\",MAX($A$1:A843)+1)","v":""}]
[{"$f":"IF(B845=\"\",\"\",MAX($A$1:A844)+1)","v":""}]
[{"$f":"IF(B846=\"\",\"\",MAX($A$1:A845)+1)","v":""}]
[{"$f":"IF(B847=\"\",\"\",MAX($A$1:A846)+1)","v":""}]
[{"$f":"IF(B848=\"\",\"\",MAX($A$1:A847)+1)","v":""}]
[{"$f":"IF(B849=\"\",\"\",MAX($A$1:A848)+1)","v":""}]
[{"$f":"IF(B850=\"\",\"\",MAX($A$1:A849)+1)","v":""}]
[{"$f":"IF(B851=\"\",\"\",MAX($A$1:A850)+1)","v":""}]
[{"$f":"IF(B852=\"\",\"\",MAX($A$1:A851)+1)","v":""}]
[{"$f":"IF(B853=\"\",\"\",MAX($A$1:A852)+1)","v":""}]
[{"$f":"IF(B854=\"\",\"\",MAX($A$1:A853)+1)","v":""}]
[{"$f":"IF(B855=\"\",\"\",MAX($A$1:A854)+1)","v":""}]
[{"$f":"IF(B856=\"\",\"\",MAX($A$1:A855)+1)","v":""}]
[{"$f":"IF(B857=\"\",\"\",MAX($A$1:A856)+1)","v":""}]
[{"$f":"IF(B858=\"\",\"\",MAX($A$1:A857)+1)","v":""}]
[{"$f":"IF(B859=\"\",\"\",MAX($A$1:A858)+1)","v":""}]
[{"$f":"IF(B860=\"\",\"\",MAX($A$1:A859)+1)","v":""}]
[{"$f":"IF(B861=\"\",\"\",MAX($A$1:A860)+1)","v":""}]
[{"$f":"IF(B862=\"\",\"\",MAX($A$1:A861)+1)","v":""}]
[{"$f":"IF(B863=\"\",\"\",MAX($A$1:A862)+1)","v":""}]
[{"$f":"IF(B864=\"\",\"\",MAX($A$1:A863)+1)","v":""}]
[{"$f":"IF(B865=\"\",\"\",MAX($A$1:A864)+1)","v":""}]
[{"$f":"IF(B866=\"\",\"\",MAX($A$1:A865)+1)","v":""}]
[{"$f":"IF(B867=\"\",\"\",MAX($A$1:A866)+1)","v":""}]
[{"$f":"IF(B868=\"\",\"\",MAX($A$1:A867)+1)","v":""}]
[{"$f":"IF(B869=\"\",\"\",MAX($A$1:A868)+1)","v":""}]
[{"$f":"IF(B870=\"\",\"\",MAX($A$1:A869)+1)","v":""}]
[{"$f":"IF(B871=\"\",\"\",MAX($A$1:A870)+1)","v":""}]
[{"$f":"IF(B872=\"\",\"\",MAX($A$1:A871)+1)","v":""}]
[{"$f":"IF(B873=\"\",\"\",MAX($A$1:A872)+1)","v":""}]
[{"$f":"IF(B874=\"\",\"\",MAX($A$1:A873)+1)","v":""}]
[{"$f":"IF(B875=\"\",\"\",MAX($A$1:A874)+1)","v":""}]
[{"$f":"IF(B876=\"\",\"\",MAX($A$1:A875)+1)","v":""}]
[{"$f":"IF(B877=\"\",\"\",MAX($A$1:A876)+1)","v":""}]
[{"$f":"IF(B878=\"\",\"\",MAX($A$1:A877)+1)","v":""}]
[{"$f":"IF(B879=\"\",\"\",MAX($A$1:A878)+1)","v":""}]
[{"$f":"IF(B880=\"\",\"\",MAX($A$1:A879)+1)","v":""}]
[{"$f":"IF(B881=\"\",\"\",MAX($A$1:A880)+1)","v":""}]
[{"$f":"IF(B882=\"\",\"\",MAX($A$1:A881)+1)","v":""}]
[{"$f":"IF(B883=\"\",\"\",MAX($A$1:A882)+1)","v":""}]
[{"$f":"IF(B884=\"\",\"\",MAX($A$1:A883)+1)","v":""}]
[{"$f":"IF(B885=\"\",\"\",MAX($A$1:A884)+1)","v":""}]
[{"$f":"IF(B886=\"\",\"\",MAX($A$1:A885)+1)","v":""}]
[{"$f":"IF(B887=\"\",\"\",MAX($A$1:A886)+1)","v":""}]
[{"$f":"IF(B888=\"\",\"\",MAX($A$1:A887)+1)","v":""}]
[{"$f":"IF(B889=\"\",\"\",MAX($A$1:A888)+1)","v":""}]
[{"$f":"IF(B890=\"\",\"\",MAX($A$1:A889)+1)","v":""}]
[{"$f":"IF(B891=\"\",\"\",MAX($A$1:A890)+1)","v":""}]
[{"$f":"IF(B892=\"\",\"\",MAX($A$1:A891)+1)","v":""}]
[{"$f":"IF(B893=\"\",\"\",MAX($A$1:A892)+1)","v":""}]
[{"$f":"IF(B894=\"\",\"\",MAX($A$1:A893)+1)","v":""}]
[{"$f":"IF(B895=\"\",\"\",MAX($A$1:A894)+1)","v":""}]
[{"$f":"IF(B896=\"\",\"\",MAX($A$1:A895)+1)","v":""}]
[{"$f":"IF(B897=\"\",\"\",MAX($A$1:A896)+1)","v":""}]
[{"$f":"IF(B898=\"\",\"\",MAX($A$1:A897)+1)","v":""}]
[{"$f":"IF(B899=\"\",\"\",MAX($A$1:A898)+1)","v":""}]
[{"$f":"IF(B900=\"\",\"\",MAX($A$1:A899)+1)","v":""}]
[{"$f":"IF(B901=\"\",\"\",MAX($A$1:A900)+1)","v":""}]
[{"$f":"IF(B902=\"\",\"\",MAX($A$1:A901)+1)","v":""}]
[{"$f":"IF(B903=\"\",\"\",MAX($A$1:A902)+1)","v":""}]
[{"$f":"IF(B904=\"\",\"\",MAX($A$1:A903)+1)","v":""}]
[{"$f":"IF(B905=\"\",\"\",MAX($A$1:A904)+1)","v":""}]
[{"$f":"IF(B906=\"\",\"\",MAX($A$1:A905)+1)","v":""}]
[{"$f":"IF(B907=\"\",\"\",MAX($A$1:A906)+1)","v":""}]
[{"$f":"IF(B908=\"\",\"\",MAX($A$1:A907)+1)","v":""}]
[{"$f":"IF(B909=\"\",\"\",MAX($A$1:A908)+1)","v":""}]
[{"$f":"IF(B910=\"\",\"\",MAX($A$1:A909)+1)","v":""}]
[{"$f":"IF(B911=\"\",\"\",MAX($A$1:A910)+1)","v":""}]
[{"$f":"IF(B912=\"\",\"\",MAX($A$1:A911)+1)","v":""}]
[{"$f":"IF(B913=\"\",\"\",MAX($A$1:A912)+1)","v":""}]
[{"$f":"IF(B914=\"\",\"\",MAX($A$1:A913)+1)","v":""}]
[{"$f":"IF(B915=\"\",\"\",MAX($A$1:A914)+1)","v":""}]
[{"$f":"IF(B916=\"\",\"\",MAX($A$1:A915)+1)","v":""}]
[{"$f":"IF(B917=\"\",\"\",MAX($A$1:A916)+1)","v":""}]
[{"$f":"IF(B918=\"\",\"\",MAX($A$1:A917)+1)","v":""}]
[{"$f":"IF(B919=\"\",\"\",MAX($A$1:A918)+1)","v":""}]
[{"$f":"IF(B920=\"\",\"\",MAX($A$1:A919)+1)","v":""}]
[{"$f":"IF(B921=\"\",\"\",MAX($A$1:A920)+1)","v":""}]
[{"$f":"IF(B922=\"\",\"\",MAX($A$1:A921)+1)","v":""}]
[{"$f":"IF(B923=\"\",\"\",MAX($A$1:A922)+1)","v":""}]
[{"$f":"IF(B924=\"\",\"\",MAX($A$1:A923)+1)","v":""}]
[{"$f":"IF(B925=\"\",\"\",MAX($A$1:A924)+1)","v":""}]
[{"$f":"IF(B926=\"\",\"\",MAX($A$1:A925)+1)","v":""}]
[{"$f":"IF(B927=\"\",\"\",MAX($A$1:A926)+1)","v":""}]
[{"$f":"IF(B928=\"\",\"\",MAX($A$1:A927)+1)","v":""}]
[{"$f":"IF(B929=\"\",\"\",MAX($A$1:A928)+1)","v":""}]
[{"$f":"IF(B930=\"\",\"\",MAX($A$1:A929)+1)","v":""}]
[{"$f":"IF(B931=\"\",\"\",MAX($A$1:A930)+1)","v":""}]
[{"$f":"IF(B932=\"\",\"\",MAX($A$1:A931)+1)","v":""}]
[{"$f":"IF(B933=\"\",\"\",MAX($A$1:A932)+1)","v":""}]
[{"$f":"IF(B934=\"\",\"\",MAX($A$1:A933)+1)","v":""}]
[{"$f":"IF(B935=\"\",\"\",MAX($A$1:A934)+1)","v":""}]
[{"$f":"IF(B936=\"\",\"\",MAX($A$1:A935)+1)","v":""}]
[{"$f":"IF(B937=\"\",\"\",MAX($A$1:A936)+1)","v":""}]
[{"$f":"IF(B938=\"\",\"\",MAX($A$1:A937)+1)","v":""}]
[{"$f":"IF(B939=\"\",\"\",MAX($A$1:A938)+1)","v":""}]
[{"$f":"IF(B940=\"\",\"\",MAX($A$1:A939)+1)","v":""}]
[{"$f":"IF(B941=\"\",\"\",MAX($A$1:A940)+1)","v":""}]
[{"$f":"IF(B942=\"\",\"\",MAX($A$1:A941)+1)","v":""}]
[{"$f":"IF(B943=\"\",\"\",MAX($A$1:A942)+1)","v":""}]
[{"$f":"IF(B944=\"\",\"\",MAX($A$1:A943)+1)","v":""}]
[{"$f":"IF(B945=\"\",\"\",MAX($A$1:A944)+1)","v":""}]
[{"$f":"IF(B946=\"\",\"\",MAX($A$1:A945)+1)","v":""}]
[{"$f":"IF(B947=\"\",\"\",MAX($A$1:A946)+1)","v":""}]
[{"$f":"IF(B948=\"\",\"\",MAX($A$1:A947)+1)","v":""}]
[{"$f":"IF(B949=\"\",\"\",MAX($A$1:A948)+1)","v":""}]
[{"$f":"IF(B950=\"\",\"\",MAX($A$1:A949)+1)","v":""}]
[{"$f":"IF(B951=\"\",\"\",MAX($A$1:A950)+1)","v":""}]
[{"$f":"IF(B952=\"\",\"\",MAX($A$1:A951)+1)","v":""}]
[{"$f":"IF(B953=\"\",\"\",MAX($A$1:A952)+1)","v":""}]
[{"$f":"IF(B954=\"\",\"\",MAX($A$1:A953)+1)","v":""}]
[{"$f":"IF(B955=\"\",\"\",MAX($A$1:A954)+1)","v":""}]
[{"$f":"IF(B956=\"\",\"\",MAX($A$1:A955)+1)","v":""}]
[{"$f":"IF(B957=\"\",\"\",MAX($A$1:A956)+1)","v":""}]
[{"$f":"IF(B958=\"\",\"\",MAX($A$1:A957)+1)","v":""}]
[{"$f":"IF(B959=\"\",\"\",MAX($A$1:A958)+1)","v":""}]
[{"$f":"IF(B960=\"\",\"\",MAX($A$1:A959)+1)","v":""}]
[{"$f":"IF(B961=\"\",\"\",MAX($A$1:A960)+1)","v":""}]
[{"$f":"IF(B962=\"\",\"\",MAX($A$1:A961)+1)","v":""}]
[{"$f":"IF(B963=\"\",\"\",MAX($A$1:A962)+1)","v":""}]
[{"$f":"IF(B964=\"\",\"\",MAX($A$1:A963)+1)","v":""}]
[{"$f":"IF(B965=\"\",\"\",MAX($A$1:A964)+1)","v":""}]
[{"$f":"IF(B966=\"\",\"\",MAX($A$1:A965)+1)","v":""}]
[{"$f":"IF(B967=\"\",\"\",MAX($A$1:A966)+1)","v":""}]
[{"$f":"IF(B968=\"\",\"\",MAX($A$1:A967)+1)","v":""}]
[{"$f":"IF(B969=\"\",\"\",MAX($A$1:A968)+1)","v":""}]
[{"$f":"IF(B970=\"\",\"\",MAX($A$1:A969)+1)","v":""}]
[{"$f":"IF(B971=\"\",\"\",MAX($A$1:A970)+1)","v":""}]
[{"$f":"IF(B972=\"\",\"\",MAX($A$1:A971)+1)","v":""}]
[{"$f":"IF(B973=\"\",\"\",MAX($A$1:A972)+1)","v":""}]
[{"$f":"IF(B974=\"\",\"\",MAX($A$1:A973)+1)","v":""}]
[{"$f":"IF(B975=\"\",\"\",MAX($A$1:A974)+1)","v":""}]
[{"$f":"IF(B976=\"\",\"\",MAX($A$1:A975)+1)","v":""}]
[{"$f":"IF(B977=\"\",\"\",MAX($A$1:A976)+1)","v":""}]
[{"$f":"IF(B978=\"\",\"\",MAX($A$1:A977)+1)","v":""}]
[{"$f":"IF(B979=\"\",\"\",MAX($A$1:A978)+1)","v":""}]
[{"$f":"IF(B980=\"\",\"\",MAX($A$1:A979)+1)","v":""}]
[{"$f":"IF(B981=\"\",\"\",MAX($A$1:A980)+1)","v":""}]
[{"$f":"IF(B982=\"\",\"\",MAX($A$1:A981)+1)","v":""}]
[{"$f":"IF(B983=\"\",\"\",MAX($A$1:A982)+1)","v":""}]
[{"$f":"IF(B984=\"\",\"\",MAX($A$1:A983)+1)","v":""}]
[{"$f":"IF(B985=\"\",\"\",MAX($A$1:A984)+1)","v":""}]
[{"$f":"IF(B986=\"\",\"\",MAX($A$1:A985)+1)","v":""}]
[{"$f":"IF(B987=\"\",\"\",MAX($A$1:A986)+1)","v":""}]
[{"$f":"IF(B988=\"\",\"\",MAX($A$1:A987)+1)","v":""}]
[{"$f":"IF(B989=\"\",\"\",MAX($A$1:A988)+1)","v":""}]
[{"$f":"IF(B990=\"\",\"\",MAX($A$1:A989)+1)","v":""}]
[{"$f":"IF(B991=\"\",\"\",MAX($A$1:A990)+1)","v":""}]
[{"$f":"IF(B992=\"\",\"\",MAX($A$1:A991)+1)","v":""}]
[{"$f":"IF(B993=\"\",\"\",MAX($A$1:A992)+1)","v":""}]
[{"$f":"IF(B994=\"\",\"\",MAX($A$1:A993)+1)","v":""}]
[{"$f":"IF(B995=\"\",\"\",MAX($A$1:A994)+1)","v":""}]
[{"$f":"IF(B996=\"\",\"\",MAX($A$1:A995)+1)","v":""}]
[{"$f":"IF(B997=\"\",\"\",MAX($A$1:A996)+1)","v":""}]
[{"$f":"IF(B998=\"\",\"\",MAX($A$1:A997)+1)","v":""}]
[{"$f":"IF(B999=\"\",\"\",MAX($A$1:A998)+1)","v":""}]
[{"$f":"IF(B1000=\"\",\"\",MAX($A$1:A999)+1)","v":""}]

{"sheet":"Haushaltsstellen","index":4,"n_rows":1000,"n_cols":2,"rows_kept":1000,"cut":false,"hidden":false,"merged":[]}
[null,{"$f":"MID(CELL(\"Dateiname\",$A$1),FIND(\"]\", CELL(\"Dateiname\",$A$1))+1,31)","v":"Haushaltsstellen"}]
[]
[{"$f":"IF(B3=\"\",\"\",1)","v":1},"000.000.001"]
[{"$f":"IF(B4=\"\",\"\",MAX($A$1:A3)+1)","v":2},"000.000.002"]
[{"$f":"IF(B5=\"\",\"\",MAX($A$1:A4)+1)","v":3},"000.000.003"]
[{"$f":"IF(B6=\"\",\"\",MAX($A$1:A5)+1)","v":""}]
[{"$f":"IF(B7=\"\",\"\",MAX($A$1:A6)+1)","v":""}]
[{"$f":"IF(B8=\"\",\"\",MAX($A$1:A7)+1)","v":""}]
[{"$f":"IF(B9=\"\",\"\",MAX($A$1:A8)+1)","v":""}]
[{"$f":"IF(B10=\"\",\"\",MAX($A$1:A9)+1)","v":""}]
[{"$f":"IF(B11=\"\",\"\",MAX($A$1:A10)+1)","v":""}]
[{"$f":"IF(B12=\"\",\"\",MAX($A$1:A11)+1)","v":""}]
[{"$f":"IF(B13=\"\",\"\",MAX($A$1:A12)+1)","v":""}]
[{"$f":"IF(B14=\"\",\"\",MAX($A$1:A13)+1)","v":""}]
[{"$f":"IF(B15=\"\",\"\",MAX($A$1:A14)+1)","v":""}]
[{"$f":"IF(B16=\"\",\"\",MAX($A$1:A15)+1)","v":""}]
[{"$f":"IF(B17=\"\",\"\",MAX($A$1:A16)+1)","v":""}]
[{"$f":"IF(B18=\"\",\"\",MAX($A$1:A17)+1)","v":""}]
[{"$f":"IF(B19=\"\",\"\",MAX($A$1:A18)+1)","v":""}]
[{"$f":"IF(B20=\"\",\"\",MAX($A$1:A19)+1)","v":""}]
[{"$f":"IF(B21=\"\",\"\",MAX($A$1:A20)+1)","v":""}]
[{"$f":"IF(B22=\"\",\"\",MAX($A$1:A21)+1)","v":""}]
[{"$f":"IF(B23=\"\",\"\",MAX($A$1:A22)+1)","v":""}]
[{"$f":"IF(B24=\"\",\"\",MAX($A$1:A23)+1)","v":""}]
[{"$f":"IF(B25=\"\",\"\",MAX($A$1:A24)+1)","v":""}]
[{"$f":"IF(B26=\"\",\"\",MAX($A$1:A25)+1)","v":""}]
[{"$f":"IF(B27=\"\",\"\",MAX($A$1:A26)+1)","v":""}]
[{"$f":"IF(B28=\"\",\"\",MAX($A$1:A27)+1)","v":""}]
[{"$f":"IF(B29=\"\",\"\",MAX($A$1:A28)+1)","v":""}]
[{"$f":"IF(B30=\"\",\"\",MAX($A$1:A29)+1)","v":""}]
[{"$f":"IF(B31=\"\",\"\",MAX($A$1:A30)+1)","v":""}]
[{"$f":"IF(B32=\"\",\"\",MAX($A$1:A31)+1)","v":""}]
[{"$f":"IF(B33=\"\",\"\",MAX($A$1:A32)+1)","v":""}]
[{"$f":"IF(B34=\"\",\"\",MAX($A$1:A33)+1)","v":""}]
[{"$f":"IF(B35=\"\",\"\",MAX($A$1:A34)+1)","v":""}]
[{"$f":"IF(B36=\"\",\"\",MAX($A$1:A35)+1)","v":""}]
[{"$f":"IF(B37=\"\",\"\",MAX($A$1:A36)+1)","v":""}]
[{"$f":"IF(B38=\"\",\"\",MAX($A$1:A37)+1)","v":""}]
[{"$f":"IF(B39=\"\",\"\",MAX($A$1:A38)+1)","v":""}]
[{"$f":"IF(B40=\"\",\"\",MAX($A$1:A39)+1)","v":""}]
[{"$f":"IF(B41=\"\",\"\",MAX($A$1:A40)+1)","v":""}]
[{"$f":"IF(B42=\"\",\"\",MAX($A$1:A41)+1)","v":""}]
[{"$f":"IF(B43=\"\",\"\",MAX($A$1:A42)+1)","v":""}]
[{"$f":"IF(B44=\"\",\"\",MAX($A$1:A43)+1)","v":""}]
[{"$f":"IF(B45=\"\",\"\",MAX($A$1:A44)+1)","v":""}]
[{"$f":"IF(B46=\"\",\"\",MAX($A$1:A45)+1)","v":""}]
[{"$f":"IF(B47=\"\",\"\",MAX($A$1:A46)+1)","v":""}]
[{"$f":"IF(B48=\"\",\"\",MAX($A$1:A47)+1)","v":""}]
[{"$f":"IF(B49=\"\",\"\",MAX($A$1:A48)+1)","v":""}]
[{"$f":"IF(B50=\"\",\"\",MAX($A$1:A49)+1)","v":""}]
[{"$f":"IF(B51=\"\",\"\",MAX($A$1:A50)+1)","v":""}]
[{"$f":"IF(B52=\"\",\"\",MAX($A$1:A51)+1)","v":""}]
[{"$f":"IF(B53=\"\",\"\",MAX($A$1:A52)+1)","v":""}]
[{"$f":"IF(B54=\"\",\"\",MAX($A$1:A53)+1)","v":""}]
[{"$f":"IF(B55=\"\",\"\",MAX($A$1:A54)+1)","v":""}]
[{"$f":"IF(B56=\"\",\"\",MAX($A$1:A55)+1)","v":""}]
[{"$f":"IF(B57=\"\",\"\",MAX($A$1:A56)+1)","v":""}]
[{"$f":"IF(B58=\"\",\"\",MAX($A$1:A57)+1)","v":""}]
[{"$f":"IF(B59=\"\",\"\",MAX($A$1:A58)+1)","v":""}]
[{"$f":"IF(B60=\"\",\"\",MAX($A$1:A59)+1)","v":""}]
[{"$f":"IF(B61=\"\",\"\",MAX($A$1:A60)+1)","v":""}]
[{"$f":"IF(B62=\"\",\"\",MAX($A$1:A61)+1)","v":""}]
[{"$f":"IF(B63=\"\",\"\",MAX($A$1:A62)+1)","v":""}]
[{"$f":"IF(B64=\"\",\"\",MAX($A$1:A63)+1)","v":""}]
[{"$f":"IF(B65=\"\",\"\",MAX($A$1:A64)+1)","v":""}]
[{"$f":"IF(B66=\"\",\"\",MAX($A$1:A65)+1)","v":""}]
[{"$f":"IF(B67=\"\",\"\",MAX($A$1:A66)+1)","v":""}]
[{"$f":"IF(B68=\"\",\"\",MAX($A$1:A67)+1)","v":""}]
[{"$f":"IF(B69=\"\",\"\",MAX($A$1:A68)+1)","v":""}]
[{"$f":"IF(B70=\"\",\"\",MAX($A$1:A69)+1)","v":""}]
[{"$f":"IF(B71=\"\",\"\",MAX($A$1:A70)+1)","v":""}]
[{"$f":"IF(B72=\"\",\"\",MAX($A$1:A71)+1)","v":""}]
[{"$f":"IF(B73=\"\",\"\",MAX($A$1:A72)+1)","v":""}]
[{"$f":"IF(B74=\"\",\"\",MAX($A$1:A73)+1)","v":""}]
[{"$f":"IF(B75=\"\",\"\",MAX($A$1:A74)+1)","v":""}]
[{"$f":"IF(B76=\"\",\"\",MAX($A$1:A75)+1)","v":""}]
[{"$f":"IF(B77=\"\",\"\",MAX($A$1:A76)+1)","v":""}]
[{"$f":"IF(B78=\"\",\"\",MAX($A$1:A77)+1)","v":""}]
[{"$f":"IF(B79=\"\",\"\",MAX($A$1:A78)+1)","v":""}]
[{"$f":"IF(B80=\"\",\"\",MAX($A$1:A79)+1)","v":""}]
[{"$f":"IF(B81=\"\",\"\",MAX($A$1:A80)+1)","v":""}]
[{"$f":"IF(B82=\"\",\"\",MAX($A$1:A81)+1)","v":""}]
[{"$f":"IF(B83=\"\",\"\",MAX($A$1:A82)+1)","v":""}]
[{"$f":"IF(B84=\"\",\"\",MAX($A$1:A83)+1)","v":""}]
[{"$f":"IF(B85=\"\",\"\",MAX($A$1:A84)+1)","v":""}]
[{"$f":"IF(B86=\"\",\"\",MAX($A$1:A85)+1)","v":""}]
[{"$f":"IF(B87=\"\",\"\",MAX($A$1:A86)+1)","v":""}]
[{"$f":"IF(B88=\"\",\"\",MAX($A$1:A87)+1)","v":""}]
[{"$f":"IF(B89=\"\",\"\",MAX($A$1:A88)+1)","v":""}]
[{"$f":"IF(B90=\"\",\"\",MAX($A$1:A89)+1)","v":""}]
[{"$f":"IF(B91=\"\",\"\",MAX($A$1:A90)+1)","v":""}]
[{"$f":"IF(B92=\"\",\"\",MAX($A$1:A91)+1)","v":""}]
[{"$f":"IF(B93=\"\",\"\",MAX($A$1:A92)+1)","v":""}]
[{"$f":"IF(B94=\"\",\"\",MAX($A$1:A93)+1)","v":""}]
[{"$f":"IF(B95=\"\",\"\",MAX($A$1:A94)+1)","v":""}]
[{"$f":"IF(B96=\"\",\"\",MAX($A$1:A95)+1)","v":""}]
[{"$f":"IF(B97=\"\",\"\",MAX($A$1:A96)+1)","v":""}]
[{"$f":"IF(B98=\"\",\"\",MAX($A$1:A97)+1)","v":""}]
[{"$f":"IF(B99=\"\",\"\",MAX($A$1:A98)+1)","v":""}]
[{"$f":"IF(B100=\"\",\"\",MAX($A$1:A99)+1)","v":""}]
[{"$f":"IF(B101=\"\",\"\",MAX($A$1:A100)+1)","v":""}]
[{"$f":"IF(B102=\"\",\"\",MAX($A$1:A101)+1)","v":""}]
[{"$f":"IF(B103=\"\",\"\",MAX($A$1:A102)+1)","v":""}]
[{"$f":"IF(B104=\"\",\"\",MAX($A$1:A103)+1)","v":""}]
[{"$f":"IF(B105=\"\",\"\",MAX($A$1:A104)+1)","v":""}]
[{"$f":"IF(B106=\"\",\"\",MAX($A$1:A105)+1)","v":""}]
[{"$f":"IF(B107=\"\",\"\",MAX($A$1:A106)+1)","v":""}]
[{"$f":"IF(B108=\"\",\"\",MAX($A$1:A107)+1)","v":""}]
[{"$f":"IF(B109=\"\",\"\",MAX($A$1:A108)+1)","v":""}]
[{"$f":"IF(B110=\"\",\"\",MAX($A$1:A109)+1)","v":""}]
[{"$f":"IF(B111=\"\",\"\",MAX($A$1:A110)+1)","v":""}]
[{"$f":"IF(B112=\"\",\"\",MAX($A$1:A111)+1)","v":""}]
[{"$f":"IF(B113=\"\",\"\",MAX($A$1:A112)+1)","v":""}]
[{"$f":"IF(B114=\"\",\"\",MAX($A$1:A113)+1)","v":""}]
[{"$f":"IF(B115=\"\",\"\",MAX($A$1:A114)+1)","v":""}]
[{"$f":"IF(B116=\"\",\"\",MAX($A$1:A115)+1)","v":""}]
[{"$f":"IF(B117=\"\",\"\",MAX($A$1:A116)+1)","v":""}]
[{"$f":"IF(B118=\"\",\"\",MAX($A$1:A117)+1)","v":""}]
[{"$f":"IF(B119=\"\",\"\",MAX($A$1:A118)+1)","v":""}]
[{"$f":"IF(B120=\"\",\"\",MAX($A$1:A119)+1)","v":""}]
[{"$f":"IF(B121=\"\",\"\",MAX($A$1:A120)+1)","v":""}]
[{"$f":"IF(B122=\"\",\"\",MAX($A$1:A121)+1)","v":""}]
[{"$f":"IF(B123=\"\",\"\",MAX($A$1:A122)+1)","v":""}]
[{"$f":"IF(B124=\"\",\"\",MAX($A$1:A123)+1)","v":""}]
[{"$f":"IF(B125=\"\",\"\",MAX($A$1:A124)+1)","v":""}]
[{"$f":"IF(B126=\"\",\"\",MAX($A$1:A125)+1)","v":""}]
[{"$f":"IF(B127=\"\",\"\",MAX($A$1:A126)+1)","v":""}]
[{"$f":"IF(B128=\"\",\"\",MAX($A$1:A127)+1)","v":""}]
[{"$f":"IF(B129=\"\",\"\",MAX($A$1:A128)+1)","v":""}]
[{"$f":"IF(B130=\"\",\"\",MAX($A$1:A129)+1)","v":""}]
[{"$f":"IF(B131=\"\",\"\",MAX($A$1:A130)+1)","v":""}]
[{"$f":"IF(B132=\"\",\"\",MAX($A$1:A131)+1)","v":""}]
[{"$f":"IF(B133=\"\",\"\",MAX($A$1:A132)+1)","v":""}]
[{"$f":"IF(B134=\"\",\"\",MAX($A$1:A133)+1)","v":""}]
[{"$f":"IF(B135=\"\",\"\",MAX($A$1:A134)+1)","v":""}]
[{"$f":"IF(B136=\"\",\"\",MAX($A$1:A135)+1)","v":""}]
[{"$f":"IF(B137=\"\",\"\",MAX($A$1:A136)+1)","v":""}]
[{"$f":"IF(B138=\"\",\"\",MAX($A$1:A137)+1)","v":""}]
[{"$f":"IF(B139=\"\",\"\",MAX($A$1:A138)+1)","v":""}]
[{"$f":"IF(B140=\"\",\"\",MAX($A$1:A139)+1)","v":""}]
[{"$f":"IF(B141=\"\",\"\",MAX($A$1:A140)+1)","v":""}]
[{"$f":"IF(B142=\"\",\"\",MAX($A$1:A141)+1)","v":""}]
[{"$f":"IF(B143=\"\",\"\",MAX($A$1:A142)+1)","v":""}]
[{"$f":"IF(B144=\"\",\"\",MAX($A$1:A143)+1)","v":""}]
[{"$f":"IF(B145=\"\",\"\",MAX($A$1:A144)+1)","v":""}]
[{"$f":"IF(B146=\"\",\"\",MAX($A$1:A145)+1)","v":""}]
[{"$f":"IF(B147=\"\",\"\",MAX($A$1:A146)+1)","v":""}]
[{"$f":"IF(B148=\"\",\"\",MAX($A$1:A147)+1)","v":""}]
[{"$f":"IF(B149=\"\",\"\",MAX($A$1:A148)+1)","v":""}]
[{"$f":"IF(B150=\"\",\"\",MAX($A$1:A149)+1)","v":""}]
[{"$f":"IF(B151=\"\",\"\",MAX($A$1:A150)+1)","v":""}]
[{"$f":"IF(B152=\"\",\"\",MAX($A$1:A151)+1)","v":""}]
[{"$f":"IF(B153=\"\",\"\",MAX($A$1:A152)+1)","v":""}]
[{"$f":"IF(B154=\"\",\"\",MAX($A$1:A153)+1)","v":""}]
[{"$f":"IF(B155=\"\",\"\",MAX($A$1:A154)+1)","v":""}]
[{"$f":"IF(B156=\"\",\"\",MAX($A$1:A155)+1)","v":""}]
[{"$f":"IF(B157=\"\",\"\",MAX($A$1:A156)+1)","v":""}]
[{"$f":"IF(B158=\"\",\"\",MAX($A$1:A157)+1)","v":""}]
[{"$f":"IF(B159=\"\",\"\",MAX($A$1:A158)+1)","v":""}]
[{"$f":"IF(B160=\"\",\"\",MAX($A$1:A159)+1)","v":""}]
[{"$f":"IF(B161=\"\",\"\",MAX($A$1:A160)+1)","v":""}]
[{"$f":"IF(B162=\"\",\"\",MAX($A$1:A161)+1)","v":""}]
[{"$f":"IF(B163=\"\",\"\",MAX($A$1:A162)+1)","v":""}]
[{"$f":"IF(B164=\"\",\"\",MAX($A$1:A163)+1)","v":""}]
[{"$f":"IF(B165=\"\",\"\",MAX($A$1:A164)+1)","v":""}]
[{"$f":"IF(B166=\"\",\"\",MAX($A$1:A165)+1)","v":""}]
[{"$f":"IF(B167=\"\",\"\",MAX($A$1:A166)+1)","v":""}]
[{"$f":"IF(B168=\"\",\"\",MAX($A$1:A167)+1)","v":""}]
[{"$f":"IF(B169=\"\",\"\",MAX($A$1:A168)+1)","v":""}]
[{"$f":"IF(B170=\"\",\"\",MAX($A$1:A169)+1)","v":""}]
[{"$f":"IF(B171=\"\",\"\",MAX($A$1:A170)+1)","v":""}]
[{"$f":"IF(B172=\"\",\"\",MAX($A$1:A171)+1)","v":""}]
[{"$f":"IF(B173=\"\",\"\",MAX($A$1:A172)+1)","v":""}]
[{"$f":"IF(B174=\"\",\"\",MAX($A$1:A173)+1)","v":""}]
[{"$f":"IF(B175=\"\",\"\",MAX($A$1:A174)+1)","v":""}]
[{"$f":"IF(B176=\"\",\"\",MAX($A$1:A175)+1)","v":""}]
[{"$f":"IF(B177=\"\",\"\",MAX($A$1:A176)+1)","v":""}]
[{"$f":"IF(B178=\"\",\"\",MAX($A$1:A177)+1)","v":""}]
[{"$f":"IF(B179=\"\",\"\",MAX($A$1:A178)+1)","v":""}]
[{"$f":"IF(B180=\"\",\"\",MAX($A$1:A179)+1)","v":""}]
[{"$f":"IF(B181=\"\",\"\",MAX($A$1:A180)+1)","v":""}]
[{"$f":"IF(B182=\"\",\"\",MAX($A$1:A181)+1)","v":""}]
[{"$f":"IF(B183=\"\",\"\",MAX($A$1:A182)+1)","v":""}]
[{"$f":"IF(B184=\"\",\"\",MAX($A$1:A183)+1)","v":""}]
[{"$f":"IF(B185=\"\",\"\",MAX($A$1:A184)+1)","v":""}]
[{"$f":"IF(B186=\"\",\"\",MAX($A$1:A185)+1)","v":""}]
[{"$f":"IF(B187=\"\",\"\",MAX($A$1:A186)+1)","v":""}]
[{"$f":"IF(B188=\"\",\"\",MAX($A$1:A187)+1)","v":""}]
[{"$f":"IF(B189=\"\",\"\",MAX($A$1:A188)+1)","v":""}]
[{"$f":"IF(B190=\"\",\"\",MAX($A$1:A189)+1)","v":""}]
[{"$f":"IF(B191=\"\",\"\",MAX($A$1:A190)+1)","v":""}]
[{"$f":"IF(B192=\"\",\"\",MAX($A$1:A191)+1)","v":""}]
[{"$f":"IF(B193=\"\",\"\",MAX($A$1:A192)+1)","v":""}]
[{"$f":"IF(B194=\"\",\"\",MAX($A$1:A193)+1)","v":""}]
[{"$f":"IF(B195=\"\",\"\",MAX($A$1:A194)+1)","v":""}]
[{"$f":"IF(B196=\"\",\"\",MAX($A$1:A195)+1)","v":""}]
[{"$f":"IF(B197=\"\",\"\",MAX($A$1:A196)+1)","v":""}]
[{"$f":"IF(B198=\"\",\"\",MAX($A$1:A197)+1)","v":""}]
[{"$f":"IF(B199=\"\",\"\",MAX($A$1:A198)+1)","v":""}]
[{"$f":"IF(B200=\"\",\"\",MAX($A$1:A199)+1)","v":""}]
[{"$f":"IF(B201=\"\",\"\",MAX($A$1:A200)+1)","v":""}]
[{"$f":"IF(B202=\"\",\"\",MAX($A$1:A201)+1)","v":""}]
[{"$f":"IF(B203=\"\",\"\",MAX($A$1:A202)+1)","v":""}]
[{"$f":"IF(B204=\"\",\"\",MAX($A$1:A203)+1)","v":""}]
[{"$f":"IF(B205=\"\",\"\",MAX($A$1:A204)+1)","v":""}]
[{"$f":"IF(B206=\"\",\"\",MAX($A$1:A205)+1)","v":""}]
[{"$f":"IF(B207=\"\",\"\",MAX($A$1:A206)+1)","v":""}]
[{"$f":"IF(B208=\"\",\"\",MAX($A$1:A207)+1)","v":""}]
[{"$f":"IF(B209=\"\",\"\",MAX($A$1:A208)+1)","v":""}]
[{"$f":"IF(B210=\"\",\"\",MAX($A$1:A209)+1)","v":""}]
[{"$f":"IF(B211=\"\",\"\",MAX($A$1:A210)+1)","v":""}]
[{"$f":"IF(B212=\"\",\"\",MAX($A$1:A211)+1)","v":""}]
[{"$f":"IF(B213=\"\",\"\",MAX($A$1:A212)+1)","v":""}]
[{"$f":"IF(B214=\"\",\"\",MAX($A$1:A213)+1)","v":""}]
[{"$f":"IF(B215=\"\",\"\",MAX($A$1:A214)+1)","v":""}]
[{"$f":"IF(B216=\"\",\"\",MAX($A$1:A215)+1)","v":""}]
[{"$f":"IF(B217=\"\",\"\",MAX($A$1:A216)+1)","v":""}]
[{"$f":"IF(B218=\"\",\"\",MAX($A$1:A217)+1)","v":""}]
[{"$f":"IF(B219=\"\",\"\",MAX($A$1:A218)+1)","v":""}]
[{"$f":"IF(B220=\"\",\"\",MAX($A$1:A219)+1)","v":""}]
[{"$f":"IF(B221=\"\",\"\",MAX($A$1:A220)+1)","v":""}]
[{"$f":"IF(B222=\"\",\"\",MAX($A$1:A221)+1)","v":""}]
[{"$f":"IF(B223=\"\",\"\",MAX($A$1:A222)+1)","v":""}]
[{"$f":"IF(B224=\"\",\"\",MAX($A$1:A223)+1)","v":""}]
[{"$f":"IF(B225=\"\",\"\",MAX($A$1:A224)+1)","v":""}]
[{"$f":"IF(B226=\"\",\"\",MAX($A$1:A225)+1)","v":""}]
[{"$f":"IF(B227=\"\",\"\",MAX($A$1:A226)+1)","v":""}]
[{"$f":"IF(B228=\"\",\"\",MAX($A$1:A227)+1)","v":""}]
[{"$f":"IF(B229=\"\",\"\",MAX($A$1:A228)+1)","v":""}]
[{"$f":"IF(B230=\"\",\"\",MAX($A$1:A229)+1)","v":""}]
[{"$f":"IF(B231=\"\",\"\",MAX($A$1:A230)+1)","v":""}]
[{"$f":"IF(B232=\"\",\"\",MAX($A$1:A231)+1)","v":""}]
[{"$f":"IF(B233=\"\",\"\",MAX($A$1:A232)+1)","v":""}]
[{"$f":"IF(B234=\"\",\"\",MAX($A$1:A233)+1)","v":""}]
[{"$f":"IF(B235=\"\",\"\",MAX($A$1:A234)+1)","v":""}]
[{"$f":"IF(B236=\"\",\"\",MAX($A$1:A235)+1)","v":""}]
[{"$f":"IF(B237=\"\",\"\",MAX($A$1:A236)+1)","v":""}]
[{"$f":"IF(B238=\"\",\"\",MAX($A$1:A237)+1)","v":""}]
[{"$f":"IF(B239=\"\",\"\",MAX($A$1:A238)+1)","v":""}]
[{"$f":"IF(B240=\"\",\"\",MAX($A$1:A239)+1)","v":""}]
[{"$f":"IF(B241=\"\",\"\",MAX($A$1:A240)+1)","v":""}]
[{"$f":"IF(B242=\"\",\"\",MAX($A$1:A241)+1)","v":""}]
[{"$f":"IF(B243=\"\",\"\",MAX($A$1:A242)+1)","v":""}]
[{"$f":"IF(B244=\"\",\"\",MAX($A$1:A243)+1)","v":""}]
[{"$f":"IF(B245=\"\",\"\",MAX($A$1:A244)+1)","v":""}]
[{"$f":"IF(B246=\"\",\"\",MAX($A$1:A245)+1)","v":""}]
[{"$f":"IF(B247=\"\",\"\",MAX($A$1:A246)+1)","v":""}]
[{"$f":"IF(B248=\"\",\"\",MAX($A$1:A247)+1)","v":""}]
[{"$f":"IF(B249=\"\",\"\",MAX($A$1:A248)+1)","v":""}]
[{"$f":"IF(B250=\"\",\"\",MAX($A$1:A249)+1)","v":""}]
[{"$f":"IF(B251=\"\",\"\",MAX($A$1:A250)+1)","v":""}]
[{"$f":"IF(B252=\"\",\"\",MAX($A$1:A251)+1)","v":""}]
[{"$f":"IF(B253=\"\",\"\",MAX($A$1:A252)+1)","v":""}]
[{"$f":"IF(B254=\"\",\"\",MAX($A$1:A253)+1)","v":""}]
[{"$f":"IF(B255=\"\",\"\",MAX($A$1:A254)+1)","v":""}]
[{"$f":"IF(B256=\"\",\"\",MAX($A$1:A255)+1)","v":""}]
[{"$f":"IF(B257=\"\",\"\",MAX($A$1:A256)+1)","v":""}]
[{"$f":"IF(B258=\"\",\"\",MAX($A$1:A257)+1)","v":""}]
[{"$f":"IF(B259=\"\",\"\",MAX($A$1:A258)+1)","v":""}]
[{"$f":"IF(B260=\"\",\"\",MAX($A$1:A259)+1)","v":""}]
[{"$f":"IF(B261=\"\",\"\",MAX($A$1:A260)+1)","v":""}]
[{"$f":"IF(B262=\"\",\"\",MAX($A$1:A261)+1)","v":""}]
[{"$f":"IF(B263=\"\",\"\",MAX($A$1:A262)+1)","v":""}]
[{"$f":"IF(B264=\"\",\"\",MAX($A$1:A263)+1)","v":""}]
[{"$f":"IF(B265=\"\",\"\",MAX($A$1:A264)+1)","v":""}]
[{"$f":"IF(B266=\"\",\"\",MAX($A$1:A265)+1)","v":""}]
[{"$f":"IF(B267=\"\",\"\",MAX($A$1:A266)+1)","v":""}]
[{"$f":"IF(B268=\"\",\"\",MAX($A$1:A267)+1)","v":""}]
[{"$f":"IF(B269=\"\",\"\",MAX($A$1:A268)+1)","v":""}]
[{"$f":"IF(B270=\"\",\"\",MAX($A$1:A269)+1)","v":""}]
[{"$f":"IF(B271=\"\",\"\",MAX($A$1:A270)+1)","v":""}]
[{"$f":"IF(B272=\"\",\"\",MAX($A$1:A271)+1)","v":""}]
[{"$f":"IF(B273=\"\",\"\",MAX($A$1:A272)+1)","v":""}]
[{"$f":"IF(B274=\"\",\"\",MAX($A$1:A273)+1)","v":""}]
[{"$f":"IF(B275=\"\",\"\",MAX($A$1:A274)+1)","v":""}]
[{"$f":"IF(B276=\"\",\"\",MAX($A$1:A275)+1)","v":""}]
[{"$f":"IF(B277=\"\",\"\",MAX($A$1:A276)+1)","v":""}]
[{"$f":"IF(B278=\"\",\"\",MAX($A$1:A277)+1)","v":""}]
[{"$f":"IF(B279=\"\",\"\",MAX($A$1:A278)+1)","v":""}]
[{"$f":"IF(B280=\"\",\"\",MAX($A$1:A279)+1)","v":""}]
[{"$f":"IF(B281=\"\",\"\",MAX($A$1:A280)+1)","v":""}]
[{"$f":"IF(B282=\"\",\"\",MAX($A$1:A281)+1)","v":""}]
[{"$f":"IF(B283=\"\",\"\",MAX($A$1:A282)+1)","v":""}]
[{"$f":"IF(B284=\"\",\"\",MAX($A$1:A283)+1)","v":""}]
[{"$f":"IF(B285=\"\",\"\",MAX($A$1:A284)+1)","v":""}]
[{"$f":"IF(B286=\"\",\"\",MAX($A$1:A285)+1)","v":""}]
[{"$f":"IF(B287=\"\",\"\",MAX($A$1:A286)+1)","v":""}]
[{"$f":"IF(B288=\"\",\"\",MAX($A$1:A287)+1)","v":""}]
[{"$f":"IF(B289=\"\",\"\",MAX($A$1:A288)+1)","v":""}]
[{"$f":"IF(B290=\"\",\"\",MAX($A$1:A289)+1)","v":""}]
[{"$f":"IF(B291=\"\",\"\",MAX($A$1:A290)+1)","v":""}]
[{"$f":"IF(B292=\"\",\"\",MAX($A$1:A291)+1)","v":""}]
[{"$f":"IF(B293=\"\",\"\",MAX($A$1:A292)+1)","v":""}]
[{"$f":"IF(B294=\"\",\"\",MAX($A$1:A293)+1)","v":""}]
[{"$f":"IF(B295=\"\",\"\",MAX($A$1:A294)+1)","v":""}]
[{"$f":"IF(B296=\"\",\"\",MAX($A$1:A295)+1)","v":""}]
[{"$f":"IF(B297=\"\",\"\",MAX($A$1:A296)+1)","v":""}]
[{"$f":"IF(B298=\"\",\"\",MAX($A$1:A297)+1)","v":""}]
[{"$f":"IF(B299=\"\",\"\",MAX($A$1:A298)+1)","v":""}]
[{"$f":"IF(B300=\"\",\"\",MAX($A$1:A299)+1)","v":""}]
[{"$f":"IF(B301=\"\",\"\",MAX($A$1:A300)+1)","v":""}]
[{"$f":"IF(B302=\"\",\"\",MAX($A$1:A301)+1)","v":""}]
[{"$f":"IF(B303=\"\",\"\",MAX($A$1:A302)+1)","v":""}]
[{"$f":"IF(B304=\"\",\"\",MAX($A$1:A303)+1)","v":""}]
[{"$f":"IF(B305=\"\",\"\",MAX($A$1:A304)+1)","v":""}]
[{"$f":"IF(B306=\"\",\"\",MAX($A$1:A305)+1)","v":""}]
[{"$f":"IF(B307=\"\",\"\",MAX($A$1:A306)+1)","v":""}]
[{"$f":"IF(B308=\"\",\"\",MAX($A$1:A307)+1)","v":""}]
[{"$f":"IF(B309=\"\",\"\",MAX($A$1:A308)+1)","v":""}]
[{"$f":"IF(B310=\"\",\"\",MAX($A$1:A309)+1)","v":""}]
[{"$f":"IF(B311=\"\",\"\",MAX($A$1:A310)+1)","v":""}]
[{"$f":"IF(B312=\"\",\"\",MAX($A$1:A311)+1)","v":""}]
[{"$f":"IF(B313=\"\",\"\",MAX($A$1:A312)+1)","v":""}]
[{"$f":"IF(B314=\"\",\"\",MAX($A$1:A313)+1)","v":""}]
[{"$f":"IF(B315=\"\",\"\",MAX($A$1:A314)+1)","v":""}]
[{"$f":"IF(B316=\"\",\"\",MAX($A$1:A315)+1)","v":""}]
[{"$f":"IF(B317=\"\",\"\",MAX($A$1:A316)+1)","v":""}]
[{"$f":"IF(B318=\"\",\"\",MAX($A$1:A317)+1)","v":""}]
[{"$f":"IF(B319=\"\",\"\",MAX($A$1:A318)+1)","v":""}]
[{"$f":"IF(B320=\"\",\"\",MAX($A$1:A319)+1)","v":""}]
[{"$f":"IF(B321=\"\",\"\",MAX($A$1:A320)+1)","v":""}]
[{"$f":"IF(B322=\"\",\"\",MAX($A$1:A321)+1)","v":""}]
[{"$f":"IF(B323=\"\",\"\",MAX($A$1:A322)+1)","v":""}]
[{"$f":"IF(B324=\"\",\"\",MAX($A$1:A323)+1)","v":""}]
[{"$f":"IF(B325=\"\",\"\",MAX($A$1:A324)+1)","v":""}]
[{"$f":"IF(B326=\"\",\"\",MAX($A$1:A325)+1)","v":""}]
[{"$f":"IF(B327=\"\",\"\",MAX($A$1:A326)+1)","v":""}]
[{"$f":"IF(B328=\"\",\"\",MAX($A$1:A327)+1)","v":""}]
[{"$f":"IF(B329=\"\",\"\",MAX($A$1:A328)+1)","v":""}]
[{"$f":"IF(B330=\"\",\"\",MAX($A$1:A329)+1)","v":""}]
[{"$f":"IF(B331=\"\",\"\",MAX($A$1:A330)+1)","v":""}]
[{"$f":"IF(B332=\"\",\"\",MAX($A$1:A331)+1)","v":""}]
[{"$f":"IF(B333=\"\",\"\",MAX($A$1:A332)+1)","v":""}]
[{"$f":"IF(B334=\"\",\"\",MAX($A$1:A333)+1)","v":""}]
[{"$f":"IF(B335=\"\",\"\",MAX($A$1:A334)+1)","v":""}]
[{"$f":"IF(B336=\"\",\"\",MAX($A$1:A335)+1)","v":""}]
[{"$f":"IF(B337=\"\",\"\",MAX($A$1:A336)+1)","v":""}]
[{"$f":"IF(B338=\"\",\"\",MAX($A$1:A337)+1)","v":""}]
[{"$f":"IF(B339=\"\",\"\",MAX($A$1:A338)+1)","v":""}]
[{"$f":"IF(B340=\"\",\"\",MAX($A$1:A339)+1)","v":""}]
[{"$f":"IF(B341=\"\",\"\",MAX($A$1:A340)+1)","v":""}]
[{"$f":"IF(B342=\"\",\"\",MAX($A$1:A341)+1)","v":""}]
[{"$f":"IF(B343=\"\",\"\",MAX($A$1:A342)+1)","v":""}]
[{"$f":"IF(B344=\"\",\"\",MAX($A$1:A343)+1)","v":""}]
[{"$f":"IF(B345=\"\",\"\",MAX($A$1:A344)+1)","v":""}]
[{"$f":"IF(B346=\"\",\"\",MAX($A$1:A345)+1)","v":""}]
[{"$f":"IF(B347=\"\",\"\",MAX($A$1:A346)+1)","v":""}]
[{"$f":"IF(B348=\"\",\"\",MAX($A$1:A347)+1)","v":""}]
[{"$f":"IF(B349=\"\",\"\",MAX($A$1:A348)+1)","v":""}]
[{"$f":"IF(B350=\"\",\"\",MAX($A$1:A349)+1)","v":""}]
[{"$f":"IF(B351=\"\",\"\",MAX($A$1:A350)+1)","v":""}]
[{"$f":"IF(B352=\"\",\"\",MAX($A$1:A351)+1)","v":""}]
[{"$f":"IF(B353=\"\",\"\",MAX($A$1:A352)+1)","v":""}]
[{"$f":"IF(B354=\"\",\"\",MAX($A$1:A353)+1)","v":""}]
[{"$f":"IF(B355=\"\",\"\",MAX($A$1:A354)+1)","v":""}]
[{"$f":"IF(B356=\"\",\"\",MAX($A$1:A355)+1)","v":""}]
[{"$f":"IF(B357=\"\",\"\",MAX($A$1:A356)+1)","v":""}]
[{"$f":"IF(B358=\"\",\"\",MAX($A$1:A357)+1)","v":""}]
[{"$f":"IF(B359=\"\",\"\",MAX($A$1:A358)+1)","v":""}]
[{"$f":"IF(B360=\"\",\"\",MAX($A$1:A359)+1)","v":""}]
[{"$f":"IF(B361=\"\",\"\",MAX($A$1:A360)+1)","v":""}]
[{"$f":"IF(B362=\"\",\"\",MAX($A$1:A361)+1)","v":""}]
[{"$f":"IF(B363=\"\",\"\",MAX($A$1:A362)+1)","v":""}]
[{"$f":"IF(B364=\"\",\"\",MAX($A$1:A363)+1)","v":""}]
[{"$f":"IF(B365=\"\",\"\",MAX($A$1:A364)+1)","v":""}]
[{"$f":"IF(B366=\"\",\"\",MAX($A$1:A365)+1)","v":""}]
[{"$f":"IF(B367=\"\",\"\",MAX($A$1:A366)+1)","v":""}]
[{"$f":"IF(B368=\"\",\"\",MAX($A$1:A367)+1)","v":""}]
[{"$f":"IF(B369=\"\",\"\",MAX($A$1:A368)+1)","v":""}]
[{"$f":"IF(B370=\"\",\"\",MAX($A$1:A369)+1)","v":""}]
[{"$f":"IF(B371=\"\",\"\",MAX($A$1:A370)+1)","v":""}]
[{"$f":"IF(B372=\"\",\"\",MAX($A$1:A371)+1)","v":""}]
[{"$f":"IF(B373=\"\",\"\",MAX($A$1:A372)+1)","v":""}]
[{"$f":"IF(B374=\"\",\"\",MAX($A$1:A373)+1)","v":""}]
[{"$f":"IF(B375=\"\",\"\",MAX($A$1:A374)+1)","v":""}]
[{"$f":"IF(B376=\"\",\"\",MAX($A$1:A375)+1)","v":""}]
[{"$f":"IF(B377=\"\",\"\",MAX($A$1:A376)+1)","v":""}]
[{"$f":"IF(B378=\"\",\"\",MAX($A$1:A377)+1)","v":""}]
[{"$f":"IF(B379=\"\",\"\",MAX($A$1:A378)+1)","v":""}]
[{"$f":"IF(B380=\"\",\"\",MAX($A$1:A379)+1)","v":""}]
[{"$f":"IF(B381=\"\",\"\",MAX($A$1:A380)+1)","v":""}]
[{"$f":"IF(B382=\"\",\"\",MAX($A$1:A381)+1)","v":""}]
[{"$f":"IF(B383=\"\",\"\",MAX($A$1:A382)+1)","v":""}]
[{"$f":"IF(B384=\"\",\"\",MAX($A$1:A383)+1)","v":""}]
[{"$f":"IF(B385=\"\",\"\",MAX($A$1:A384)+1)","v":""}]
[{"$f":"IF(B386=\"\",\"\",MAX($A$1:A385)+1)","v":""}]
[{"$f":"IF(B387=\"\",\"\",MAX($A$1:A386)+1)","v":""}]
[{"$f":"IF(B388=\"\",\"\",MAX($A$1:A387)+1)","v":""}]
[{"$f":"IF(B389=\"\",\"\",MAX($A$1:A388)+1)","v":""}]
[{"$f":"IF(B390=\"\",\"\",MAX($A$1:A389)+1)","v":""}]
[{"$f":"IF(B391=\"\",\"\",MAX($A$1:A390)+1)","v":""}]
[{"$f":"IF(B392=\"\",\"\",MAX($A$1:A391)+1)","v":""}]
[{"$f":"IF(B393=\"\",\"\",MAX($A$1:A392)+1)","v":""}]
[{"$f":"IF(B394=\"\",\"\",MAX($A$1:A393)+1)","v":""}]
[{"$f":"IF(B395=\"\",\"\",MAX($A$1:A394)+1)","v":""}]
[{"$f":"IF(B396=\"\",\"\",MAX($A$1:A395)+1)","v":""}]
[{"$f":"IF(B397=\"\",\"\",MAX($A$1:A396)+1)","v":""}]
[{"$f":"IF(B398=\"\",\"\",MAX($A$1:A397)+1)","v":""}]
[{"$f":"IF(B399=\"\",\"\",MAX($A$1:A398)+1)","v":""}]
[{"$f":"IF(B400=\"\",\"\",MAX($A$1:A399)+1)","v":""}]
[{"$f":"IF(B401=\"\",\"\",MAX($A$1:A400)+1)","v":""}]
[{"$f":"IF(B402=\"\",\"\",MAX($A$1:A401)+1)","v":""}]
[{"$f":"IF(B403=\"\",\"\",MAX($A$1:A402)+1)","v":""}]
[{"$f":"IF(B404=\"\",\"\",MAX($A$1:A403)+1)","v":""}]
[{"$f":"IF(B405=\"\",\"\",MAX($A$1:A404)+1)","v":""}]
[{"$f":"IF(B406=\"\",\"\",MAX($A$1:A405)+1)","v":""}]
[{"$f":"IF(B407=\"\",\"\",MAX($A$1:A406)+1)","v":""}]
[{"$f":"IF(B408=\"\",\"\",MAX($A$1:A407)+1)","v":""}]
[{"$f":"IF(B409=\"\",\"\",MAX($A$1:A408)+1)","v":""}]
[{"$f":"IF(B410=\"\",\"\",MAX($A$1:A409)+1)","v":""}]
[{"$f":"IF(B411=\"\",\"\",MAX($A$1:A410)+1)","v":""}]
[{"$f":"IF(B412=\"\",\"\",MAX($A$1:A411)+1)","v":""}]
[{"$f":"IF(B413=\"\",\"\",MAX($A$1:A412)+1)","v":""}]
[{"$f":"IF(B414=\"\",\"\",MAX($A$1:A413)+1)","v":""}]
[{"$f":"IF(B415=\"\",\"\",MAX($A$1:A414)+1)","v":""}]
[{"$f":"IF(B416=\"\",\"\",MAX($A$1:A415)+1)","v":""}]
[{"$f":"IF(B417=\"\",\"\",MAX($A$1:A416)+1)","v":""}]
[{"$f":"IF(B418=\"\",\"\",MAX($A$1:A417)+1)","v":""}]
[{"$f":"IF(B419=\"\",\"\",MAX($A$1:A418)+1)","v":""}]
[{"$f":"IF(B420=\"\",\"\",MAX($A$1:A419)+1)","v":""}]
[{"$f":"IF(B421=\"\",\"\",MAX($A$1:A420)+1)","v":""}]
[{"$f":"IF(B422=\"\",\"\",MAX($A$1:A421)+1)","v":""}]
[{"$f":"IF(B423=\"\",\"\",MAX($A$1:A422)+1)","v":""}]
[{"$f":"IF(B424=\"\",\"\",MAX($A$1:A423)+1)","v":""}]
[{"$f":"IF(B425=\"\",\"\",MAX($A$1:A424)+1)","v":""}]
[{"$f":"IF(B426=\"\",\"\",MAX($A$1:A425)+1)","v":""}]
[{"$f":"IF(B427=\"\",\"\",MAX($A$1:A426)+1)","v":""}]
[{"$f":"IF(B428=\"\",\"\",MAX($A$1:A427)+1)","v":""}]
[{"$f":"IF(B429=\"\",\"\",MAX($A$1:A428)+1)","v":""}]
[{"$f":"IF(B430=\"\",\"\",MAX($A$1:A429)+1)","v":""}]
[{"$f":"IF(B431=\"\",\"\",MAX($A$1:A430)+1)","v":""}]
[{"$f":"IF(B432=\"\",\"\",MAX($A$1:A431)+1)","v":""}]
[{"$f":"IF(B433=\"\",\"\",MAX($A$1:A432)+1)","v":""}]
[{"$f":"IF(B434=\"\",\"\",MAX($A$1:A433)+1)","v":""}]
[{"$f":"IF(B435=\"\",\"\",MAX($A$1:A434)+1)","v":""}]
[{"$f":"IF(B436=\"\",\"\",MAX($A$1:A435)+1)","v":""}]
[{"$f":"IF(B437=\"\",\"\",MAX($A$1:A436)+1)","v":""}]
[{"$f":"IF(B438=\"\",\"\",MAX($A$1:A437)+1)","v":""}]
[{"$f":"IF(B439=\"\",\"\",MAX($A$1:A438)+1)","v":""}]
[{"$f":"IF(B440=\"\",\"\",MAX($A$1:A439)+1)","v":""}]
[{"$f":"IF(B441=\"\",\"\",MAX($A$1:A440)+1)","v":""}]
[{"$f":"IF(B442=\"\",\"\",MAX($A$1:A441)+1)","v":""}]
[{"$f":"IF(B443=\"\",\"\",MAX($A$1:A442)+1)","v":""}]
[{"$f":"IF(B444=\"\",\"\",MAX($A$1:A443)+1)","v":""}]
[{"$f":"IF(B445=\"\",\"\",MAX($A$1:A444)+1)","v":""}]
[{"$f":"IF(B446=\"\",\"\",MAX($A$1:A445)+1)","v":""}]
[{"$f":"IF(B447=\"\",\"\",MAX($A$1:A446)+1)","v":""}]
[{"$f":"IF(B448=\"\",\"\",MAX($A$1:A447)+1)","v":""}]
[{"$f":"IF(B449=\"\",\"\",MAX($A$1:A448)+1)","v":""}]
[{"$f":"IF(B450=\"\",\"\",MAX($A$1:A449)+1)","v":""}]
[{"$f":"IF(B451=\"\",\"\",MAX($A$1:A450)+1)","v":""}]
[{"$f":"IF(B452=\"\",\"\",MAX($A$1:A451)+1)","v":""}]
[{"$f":"IF(B453=\"\",\"\",MAX($A$1:A452)+1)","v":""}]
[{"$f":"IF(B454=\"\",\"\",MAX($A$1:A453)+1)","v":""}]
[{"$f":"IF(B455=\"\",\"\",MAX($A$1:A454)+1)","v":""}]
[{"$f":"IF(B456=\"\",\"\",MAX($A$1:A455)+1)","v":""}]
[{"$f":"IF(B457=\"\",\"\",MAX($A$1:A456)+1)","v":""}]
[{"$f":"IF(B458=\"\",\"\",MAX($A$1:A457)+1)","v":""}]
[{"$f":"IF(B459=\"\",\"\",MAX($A$1:A458)+1)","v":""}]
[{"$f":"IF(B460=\"\",\"\",MAX($A$1:A459)+1)","v":""}]
[{"$f":"IF(B461=\"\",\"\",MAX($A$1:A460)+1)","v":""}]
[{"$f":"IF(B462=\"\",\"\",MAX($A$1:A461)+1)","v":""}]
[{"$f":"IF(B463=\"\",\"\",MAX($A$1:A462)+1)","v":""}]
[{"$f":"IF(B464=\"\",\"\",MAX($A$1:A463)+1)","v":""}]
[{"$f":"IF(B465=\"\",\"\",MAX($A$1:A464)+1)","v":""}]
[{"$f":"IF(B466=\"\",\"\",MAX($A$1:A465)+1)","v":""}]
[{"$f":"IF(B467=\"\",\"\",MAX($A$1:A466)+1)","v":""}]
[{"$f":"IF(B468=\"\",\"\",MAX($A$1:A467)+1)","v":""}]
[{"$f":"IF(B469=\"\",\"\",MAX($A$1:A468)+1)","v":""}]
[{"$f":"IF(B470=\"\",\"\",MAX($A$1:A469)+1)","v":""}]
[{"$f":"IF(B471=\"\",\"\",MAX($A$1:A470)+1)","v":""}]
[{"$f":"IF(B472=\"\",\"\",MAX($A$1:A471)+1)","v":""}]
[{"$f":"IF(B473=\"\",\"\",MAX($A$1:A472)+1)","v":""}]
[{"$f":"IF(B474=\"\",\"\",MAX($A$1:A473)+1)","v":""}]
[{"$f":"IF(B475=\"\",\"\",MAX($A$1:A474)+1)","v":""}]
[{"$f":"IF(B476=\"\",\"\",MAX($A$1:A475)+1)","v":""}]
[{"$f":"IF(B477=\"\",\"\",MAX($A$1:A476)+1)","v":""}]
[{"$f":"IF(B478=\"\",\"\",MAX($A$1:A477)+1)","v":""}]
[{"$f":"IF(B479=\"\",\"\",MAX($A$1:A478)+1)","v":""}]
[{"$f":"IF(B480=\"\",\"\",MAX($A$1:A479)+1)","v":""}]
[{"$f":"IF(B481=\"\",\"\",MAX($A$1:A480)+1)","v":""}]
[{"$f":"IF(B482=\"\",\"\",MAX($A$1:A481)+1)","v":""}]
[{"$f":"IF(B483=\"\",\"\",MAX($A$1:A482)+1)","v":""}]
[{"$f":"IF(B484=\"\",\"\",MAX($A$1:A483)+1)","v":""}]
[{"$f":"IF(B485=\"\",\"\",MAX($A$1:A484)+1)","v":""}]
[{"$f":"IF(B486=\"\",\"\",MAX($A$1:A485)+1)","v":""}]
[{"$f":"IF(B487=\"\",\"\",MAX($A$1:A486)+1)","v":""}]
[{"$f":"IF(B488=\"\",\"\",MAX($A$1:A487)+1)","v":""}]
[{"$f":"IF(B489=\"\",\"\",MAX($A$1:A488)+1)","v":""}]
[{"$f":"IF(B490=\"\",\"\",MAX($A$1:A489)+1)","v":""}]
[{"$f":"IF(B491=\"\",\"\",MAX($A$1:A490)+1)","v":""}]
[{"$f":"IF(B492=\"\",\"\",MAX($A$1:A491)+1)","v":""}]
[{"$f":"IF(B493=\"\",\"\",MAX($A$1:A492)+1)","v":""}]
[{"$f":"IF(B494=\"\",\"\",MAX($A$1:A493)+1)","v":""}]
[{"$f":"IF(B495=\"\",\"\",MAX($A$1:A494)+1)","v":""}]
[{"$f":"IF(B496=\"\",\"\",MAX($A$1:A495)+1)","v":""}]
[{"$f":"IF(B497=\"\",\"\",MAX($A$1:A496)+1)","v":""}]
[{"$f":"IF(B498=\"\",\"\",MAX($A$1:A497)+1)","v":""}]
[{"$f":"IF(B499=\"\",\"\",MAX($A$1:A498)+1)","v":""}]
[{"$f":"IF(B500=\"\",\"\",MAX($A$1:A499)+1)","v":""}]
[{"$f":"IF(B501=\"\",\"\",MAX($A$1:A500)+1)","v":""}]
[{"$f":"IF(B502=\"\",\"\",MAX($A$1:A501)+1)","v":""}]
[{"$f":"IF(B503=\"\",\"\",MAX($A$1:A502)+1)","v":""}]
[{"$f":"IF(B504=\"\",\"\",MAX($A$1:A503)+1)","v":""}]
[{"$f":"IF(B505=\"\",\"\",MAX($A$1:A504)+1)","v":""}]
[{"$f":"IF(B506=\"\",\"\",MAX($A$1:A505)+1)","v":""}]
[{"$f":"IF(B507=\"\",\"\",MAX($A$1:A506)+1)","v":""}]
[{"$f":"IF(B508=\"\",\"\",MAX($A$1:A507)+1)","v":""}]
[{"$f":"IF(B509=\"\",\"\",MAX($A$1:A508)+1)","v":""}]
[{"$f":"IF(B510=\"\",\"\",MAX($A$1:A509)+1)","v":""}]
[{"$f":"IF(B511=\"\",\"\",MAX($A$1:A510)+1)","v":""}]
[{"$f":"IF(B512=\"\",\"\",MAX($A$1:A511)+1)","v":""}]
[{"$f":"IF(B513=\"\",\"\",MAX($A$1:A512)+1)","v":""}]
[{"$f":"IF(B514=\"\",\"\",MAX($A$1:A513)+1)","v":""}]
[{"$f":"IF(B515=\"\",\"\",MAX($A$1:A514)+1)","v":""}]
[{"$f":"IF(B516=\"\",\"\",MAX($A$1:A515)+1)","v":""}]
[{"$f":"IF(B517=\"\",\"\",MAX($A$1:A516)+1)","v":""}]
[{"$f":"IF(B518=\"\",\"\",MAX($A$1:A517)+1)","v":""}]
[{"$f":"IF(B519=\"\",\"\",MAX($A$1:A518)+1)","v":""}]
[{"$f":"IF(B520=\"\",\"\",MAX($A$1:A519)+1)","v":""}]
[{"$f":"IF(B521=\"\",\"\",MAX($A$1:A520)+1)","v":""}]
[{"$f":"IF(B522=\"\",\"\",MAX($A$1:A521)+1)","v":""}]
[{"$f":"IF(B523=\"\",\"\",MAX($A$1:A522)+1)","v":""}]
[{"$f":"IF(B524=\"\",\"\",MAX($A$1:A523)+1)","v":""}]
[{"$f":"IF(B525=\"\",\"\",MAX($A$1:A524)+1)","v":""}]
[{"$f":"IF(B526=\"\",\"\",MAX($A$1:A525)+1)","v":""}]
[{"$f":"IF(B527=\"\",\"\",MAX($A$1:A526)+1)","v":""}]
[{"$f":"IF(B528=\"\",\"\",MAX($A$1:A527)+1)","v":""}]
[{"$f":"IF(B529=\"\",\"\",MAX($A$1:A528)+1)","v":""}]
[{"$f":"IF(B530=\"\",\"\",MAX($A$1:A529)+1)","v":""}]
[{"$f":"IF(B531=\"\",\"\",MAX($A$1:A530)+1)","v":""}]
[{"$f":"IF(B532=\"\",\"\",MAX($A$1:A531)+1)","v":""}]
[{"$f":"IF(B533=\"\",\"\",MAX($A$1:A532)+1)","v":""}]
[{"$f":"IF(B534=\"\",\"\",MAX($A$1:A533)+1)","v":""}]
[{"$f":"IF(B535=\"\",\"\",MAX($A$1:A534)+1)","v":""}]
[{"$f":"IF(B536=\"\",\"\",MAX($A$1:A535)+1)","v":""}]
[{"$f":"IF(B537=\"\",\"\",MAX($A$1:A536)+1)","v":""}]
[{"$f":"IF(B538=\"\",\"\",MAX($A$1:A537)+1)","v":""}]
[{"$f":"IF(B539=\"\",\"\",MAX($A$1:A538)+1)","v":""}]
[{"$f":"IF(B540=\"\",\"\",MAX($A$1:A539)+1)","v":""}]
[{"$f":"IF(B541=\"\",\"\",MAX($A$1:A540)+1)","v":""}]
[{"$f":"IF(B542=\"\",\"\",MAX($A$1:A541)+1)","v":""}]
[{"$f":"IF(B543=\"\",\"\",MAX($A$1:A542)+1)","v":""}]
[{"$f":"IF(B544=\"\",\"\",MAX($A$1:A543)+1)","v":""}]
[{"$f":"IF(B545=\"\",\"\",MAX($A$1:A544)+1)","v":""}]
[{"$f":"IF(B546=\"\",\"\",MAX($A$1:A545)+1)","v":""}]
[{"$f":"IF(B547=\"\",\"\",MAX($A$1:A546)+1)","v":""}]
[{"$f":"IF(B548=\"\",\"\",MAX($A$1:A547)+1)","v":""}]
[{"$f":"IF(B549=\"\",\"\",MAX($A$1:A548)+1)","v":""}]
[{"$f":"IF(B550=\"\",\"\",MAX($A$1:A549)+1)","v":""}]
[{"$f":"IF(B551=\"\",\"\",MAX($A$1:A550)+1)","v":""}]
[{"$f":"IF(B552=\"\",\"\",MAX($A$1:A551)+1)","v":""}]
[{"$f":"IF(B553=\"\",\"\",MAX($A$1:A552)+1)","v":""}]
[{"$f":"IF(B554=\"\",\"\",MAX($A$1:A553)+1)","v":""}]
[{"$f":"IF(B555=\"\",\"\",MAX($A$1:A554)+1)","v":""}]
[{"$f":"IF(B556=\"\",\"\",MAX($A$1:A555)+1)","v":""}]
[{"$f":"IF(B557=\"\",\"\",MAX($A$1:A556)+1)","v":""}]
[{"$f":"IF(B558=\"\",\"\",MAX($A$1:A557)+1)","v":""}]
[{"$f":"IF(B559=\"\",\"\",MAX($A$1:A558)+1)","v":""}]
[{"$f":"IF(B560=\"\",\"\",MAX($A$1:A559)+1)","v":""}]
[{"$f":"IF(B561=\"\",\"\",MAX($A$1:A560)+1)","v":""}]
[{"$f":"IF(B562=\"\",\"\",MAX($A$1:A561)+1)","v":""}]
[{"$f":"IF(B563=\"\",\"\",MAX($A$1:A562)+1)","v":""}]
[{"$f":"IF(B564=\"\",\"\",MAX($A$1:A563)+1)","v":""}]
[{"$f":"IF(B565=\"\",\"\",MAX($A$1:A564)+1)","v":""}]
[{"$f":"IF(B566=\"\",\"\",MAX($A$1:A565)+1)","v":""}]
[{"$f":"IF(B567=\"\",\"\",MAX($A$1:A566)+1)","v":""}]
[{"$f":"IF(B568=\"\",\"\",MAX($A$1:A567)+1)","v":""}]
[{"$f":"IF(B569=\"\",\"\",MAX($A$1:A568)+1)","v":""}]
[{"$f":"IF(B570=\"\",\"\",MAX($A$1:A569)+1)","v":""}]
[{"$f":"IF(B571=\"\",\"\",MAX($A$1:A570)+1)","v":""}]
[{"$f":"IF(B572=\"\",\"\",MAX($A$1:A571)+1)","v":""}]
[{"$f":"IF(B573=\"\",\"\",MAX($A$1:A572)+1)","v":""}]
[{"$f":"IF(B574=\"\",\"\",MAX($A$1:A573)+1)","v":""}]
[{"$f":"IF(B575=\"\",\"\",MAX($A$1:A574)+1)","v":""}]
[{"$f":"IF(B576=\"\",\"\",MAX($A$1:A575)+1)","v":""}]
[{"$f":"IF(B577=\"\",\"\",MAX($A$1:A576)+1)","v":""}]
[{"$f":"IF(B578=\"\",\"\",MAX($A$1:A577)+1)","v":""}]
[{"$f":"IF(B579=\"\",\"\",MAX($A$1:A578)+1)","v":""}]
[{"$f":"IF(B580=\"\",\"\",MAX($A$1:A579)+1)","v":""}]
[{"$f":"IF(B581=\"\",\"\",MAX($A$1:A580)+1)","v":""}]
[{"$f":"IF(B582=\"\",\"\",MAX($A$1:A581)+1)","v":""}]
[{"$f":"IF(B583=\"\",\"\",MAX($A$1:A582)+1)","v":""}]
[{"$f":"IF(B584=\"\",\"\",MAX($A$1:A583)+1)","v":""}]
[{"$f":"IF(B585=\"\",\"\",MAX($A$1:A584)+1)","v":""}]
[{"$f":"IF(B586=\"\",\"\",MAX($A$1:A585)+1)","v":""}]
[{"$f":"IF(B587=\"\",\"\",MAX($A$1:A586)+1)","v":""}]
[{"$f":"IF(B588=\"\",\"\",MAX($A$1:A587)+1)","v":""}]
[{"$f":"IF(B589=\"\",\"\",MAX($A$1:A588)+1)","v":""}]
[{"$f":"IF(B590=\"\",\"\",MAX($A$1:A589)+1)","v":""}]
[{"$f":"IF(B591=\"\",\"\",MAX($A$1:A590)+1)","v":""}]
[{"$f":"IF(B592=\"\",\"\",MAX($A$1:A591)+1)","v":""}]
[{"$f":"IF(B593=\"\",\"\",MAX($A$1:A592)+1)","v":""}]
[{"$f":"IF(B594=\"\",\"\",MAX($A$1:A593)+1)","v":""}]
[{"$f":"IF(B595=\"\",\"\",MAX($A$1:A594)+1)","v":""}]
[{"$f":"IF(B596=\"\",\"\",MAX($A$1:A595)+1)","v":""}]
[{"$f":"IF(B597=\"\",\"\",MAX($A$1:A596)+1)","v":""}]
[{"$f":"IF(B598=\"\",\"\",MAX($A$1:A597)+1)","v":""}]
[{"$f":"IF(B599=\"\",\"\",MAX($A$1:A598)+1)","v":""}]
[{"$f":"IF(B600=\"\",\"\",MAX($A$1:A599)+1)","v":""}]
[{"$f":"IF(B601=\"\",\"\",MAX($A$1:A600)+1)","v":""}]
[{"$f":"IF(B602=\"\",\"\",MAX($A$1:A601)+1)","v":""}]
[{"$f":"IF(B603=\"\",\"\",MAX($A$1:A602)+1)","v":""}]
[{"$f":"IF(B604=\"\",\"\",MAX($A$1:A603)+1)","v":""}]
[{"$f":"IF(B605=\"\",\"\",MAX($A$1:A604)+1)","v":""}]
[{"$f":"IF(B606=\"\",\"\",MAX($A$1:A605)+1)","v":""}]
[{"$f":"IF(B607=\"\",\"\",MAX($A$1:A606)+1)","v":""}]
[{"$f":"IF(B608=\"\",\"\",MAX($A$1:A607)+1)","v":""}]
[{"$f":"IF(B609=\"\",\"\",MAX($A$1:A608)+1)","v":""}]
[{"$f":"IF(B610=\"\",\"\",MAX($A$1:A609)+1)","v":""}]
[{"$f":"IF(B611=\"\",\"\",MAX($A$1:A610)+1)","v":""}]
[{"$f":"IF(B612=\"\",\"\",MAX($A$1:A611)+1)","v":""}]
[{"$f":"IF(B613=\"\",\"\",MAX($A$1:A612)+1)","v":""}]
[{"$f":"IF(B614=\"\",\"\",MAX($A$1:A613)+1)","v":""}]
[{"$f":"IF(B615=\"\",\"\",MAX($A$1:A614)+1)","v":""}]
[{"$f":"IF(B616=\"\",\"\",MAX($A$1:A615)+1)","v":""}]
[{"$f":"IF(B617=\"\",\"\",MAX($A$1:A616)+1)","v":""}]
[{"$f":"IF(B618=\"\",\"\",MAX($A$1:A617)+1)","v":""}]
[{"$f":"IF(B619=\"\",\"\",MAX($A$1:A618)+1)","v":""}]
[{"$f":"IF(B620=\"\",\"\",MAX($A$1:A619)+1)","v":""}]
[{"$f":"IF(B621=\"\",\"\",MAX($A$1:A620)+1)","v":""}]
[{"$f":"IF(B622=\"\",\"\",MAX($A$1:A621)+1)","v":""}]
[{"$f":"IF(B623=\"\",\"\",MAX($A$1:A622)+1)","v":""}]
[{"$f":"IF(B624=\"\",\"\",MAX($A$1:A623)+1)","v":""}]
[{"$f":"IF(B625=\"\",\"\",MAX($A$1:A624)+1)","v":""}]
[{"$f":"IF(B626=\"\",\"\",MAX($A$1:A625)+1)","v":""}]
[{"$f":"IF(B627=\"\",\"\",MAX($A$1:A626)+1)","v":""}]
[{"$f":"IF(B628=\"\",\"\",MAX($A$1:A627)+1)","v":""}]
[{"$f":"IF(B629=\"\",\"\",MAX($A$1:A628)+1)","v":""}]
[{"$f":"IF(B630=\"\",\"\",MAX($A$1:A629)+1)","v":""}]
[{"$f":"IF(B631=\"\",\"\",MAX($A$1:A630)+1)","v":""}]
[{"$f":"IF(B632=\"\",\"\",MAX($A$1:A631)+1)","v":""}]
[{"$f":"IF(B633=\"\",\"\",MAX($A$1:A632)+1)","v":""}]
[{"$f":"IF(B634=\"\",\"\",MAX($A$1:A633)+1)","v":""}]
[{"$f":"IF(B635=\"\",\"\",MAX($A$1:A634)+1)","v":""}]
[{"$f":"IF(B636=\"\",\"\",MAX($A$1:A635)+1)","v":""}]
[{"$f":"IF(B637=\"\",\"\",MAX($A$1:A636)+1)","v":""}]
[{"$f":"IF(B638=\"\",\"\",MAX($A$1:A637)+1)","v":""}]
[{"$f":"IF(B639=\"\",\"\",MAX($A$1:A638)+1)","v":""}]
[{"$f":"IF(B640=\"\",\"\",MAX($A$1:A639)+1)","v":""}]
[{"$f":"IF(B641=\"\",\"\",MAX($A$1:A640)+1)","v":""}]
[{"$f":"IF(B642=\"\",\"\",MAX($A$1:A641)+1)","v":""}]
[{"$f":"IF(B643=\"\",\"\",MAX($A$1:A642)+1)","v":""}]
[{"$f":"IF(B644=\"\",\"\",MAX($A$1:A643)+1)","v":""}]
[{"$f":"IF(B645=\"\",\"\",MAX($A$1:A644)+1)","v":""}]
[{"$f":"IF(B646=\"\",\"\",MAX($A$1:A645)+1)","v":""}]
[{"$f":"IF(B647=\"\",\"\",MAX($A$1:A646)+1)","v":""}]
[{"$f":"IF(B648=\"\",\"\",MAX($A$1:A647)+1)","v":""}]
[{"$f":"IF(B649=\"\",\"\",MAX($A$1:A648)+1)","v":""}]
[{"$f":"IF(B650=\"\",\"\",MAX($A$1:A649)+1)","v":""}]
[{"$f":"IF(B651=\"\",\"\",MAX($A$1:A650)+1)","v":""}]
[{"$f":"IF(B652=\"\",\"\",MAX($A$1:A651)+1)","v":""}]
[{"$f":"IF(B653=\"\",\"\",MAX($A$1:A652)+1)","v":""}]
[{"$f":"IF(B654=\"\",\"\",MAX($A$1:A653)+1)","v":""}]
[{"$f":"IF(B655=\"\",\"\",MAX($A$1:A654)+1)","v":""}]
[{"$f":"IF(B656=\"\",\"\",MAX($A$1:A655)+1)","v":""}]
[{"$f":"IF(B657=\"\",\"\",MAX($A$1:A656)+1)","v":""}]
[{"$f":"IF(B658=\"\",\"\",MAX($A$1:A657)+1)","v":""}]
[{"$f":"IF(B659=\"\",\"\",MAX($A$1:A658)+1)","v":""}]
[{"$f":"IF(B660=\"\",\"\",MAX($A$1:A659)+1)","v":""}]
[{"$f":"IF(B661=\"\",\"\",MAX($A$1:A660)+1)","v":""}]
[{"$f":"IF(B662=\"\",\"\",MAX($A$1:A661)+1)","v":""}]
[{"$f":"IF(B663=\"\",\"\",MAX($A$1:A662)+1)","v":""}]
[{"$f":"IF(B664=\"\",\"\",MAX($A$1:A663)+1)","v":""}]
[{"$f":"IF(B665=\"\",\"\",MAX($A$1:A664)+1)","v":""}]
[{"$f":"IF(B666=\"\",\"\",MAX($A$1:A665)+1)","v":""}]
[{"$f":"IF(B667=\"\",\"\",MAX($A$1:A666)+1)","v":""}]
[{"$f":"IF(B668=\"\",\"\",MAX($A$1:A667)+1)","v":""}]
[{"$f":"IF(B669=\"\",\"\",MAX($A$1:A668)+1)","v":""}]
[{"$f":"IF(B670=\"\",\"\",MAX($A$1:A669)+1)","v":""}]
[{"$f":"IF(B671=\"\",\"\",MAX($A$1:A670)+1)","v":""}]
[{"$f":"IF(B672=\"\",\"\",MAX($A$1:A671)+1)","v":""}]
[{"$f":"IF(B673=\"\",\"\",MAX($A$1:A672)+1)","v":""}]
[{"$f":"IF(B674=\"\",\"\",MAX($A$1:A673)+1)","v":""}]
[{"$f":"IF(B675=\"\",\"\",MAX($A$1:A674)+1)","v":""}]
[{"$f":"IF(B676=\"\",\"\",MAX($A$1:A675)+1)","v":""}]
[{"$f":"IF(B677=\"\",\"\",MAX($A$1:A676)+1)","v":""}]
[{"$f":"IF(B678=\"\",\"\",MAX($A$1:A677)+1)","v":""}]
[{"$f":"IF(B679=\"\",\"\",MAX($A$1:A678)+1)","v":""}]
[{"$f":"IF(B680=\"\",\"\",MAX($A$1:A679)+1)","v":""}]
[{"$f":"IF(B681=\"\",\"\",MAX($A$1:A680)+1)","v":""}]
[{"$f":"IF(B682=\"\",\"\",MAX($A$1:A681)+1)","v":""}]
[{"$f":"IF(B683=\"\",\"\",MAX($A$1:A682)+1)","v":""}]
[{"$f":"IF(B684=\"\",\"\",MAX($A$1:A683)+1)","v":""}]
[{"$f":"IF(B685=\"\",\"\",MAX($A$1:A684)+1)","v":""}]
[{"$f":"IF(B686=\"\",\"\",MAX($A$1:A685)+1)","v":""}]
[{"$f":"IF(B687=\"\",\"\",MAX($A$1:A686)+1)","v":""}]
[{"$f":"IF(B688=\"\",\"\",MAX($A$1:A687)+1)","v":""}]
[{"$f":"IF(B689=\"\",\"\",MAX($A$1:A688)+1)","v":""}]
[{"$f":"IF(B690=\"\",\"\",MAX($A$1:A689)+1)","v":""}]
[{"$f":"IF(B691=\"\",\"\",MAX($A$1:A690)+1)","v":""}]
[{"$f":"IF(B692=\"\",\"\",MAX($A$1:A691)+1)","v":""}]
[{"$f":"IF(B693=\"\",\"\",MAX($A$1:A692)+1)","v":""}]
[{"$f":"IF(B694=\"\",\"\",MAX($A$1:A693)+1)","v":""}]
[{"$f":"IF(B695=\"\",\"\",MAX($A$1:A694)+1)","v":""}]
[{"$f":"IF(B696=\"\",\"\",MAX($A$1:A695)+1)","v":""}]
[{"$f":"IF(B697=\"\",\"\",MAX($A$1:A696)+1)","v":""}]
[{"$f":"IF(B698=\"\",\"\",MAX($A$1:A697)+1)","v":""}]
[{"$f":"IF(B699=\"\",\"\",MAX($A$1:A698)+1)","v":""}]
[{"$f":"IF(B700=\"\",\"\",MAX($A$1:A699)+1)","v":""}]
[{"$f":"IF(B701=\"\",\"\",MAX($A$1:A700)+1)","v":""}]
[{"$f":"IF(B702=\"\",\"\",MAX($A$1:A701)+1)","v":""}]
[{"$f":"IF(B703=\"\",\"\",MAX($A$1:A702)+1)","v":""}]
[{"$f":"IF(B704=\"\",\"\",MAX($A$1:A703)+1)","v":""}]
[{"$f":"IF(B705=\"\",\"\",MAX($A$1:A704)+1)","v":""}]
[{"$f":"IF(B706=\"\",\"\",MAX($A$1:A705)+1)","v":""}]
[{"$f":"IF(B707=\"\",\"\",MAX($A$1:A706)+1)","v":""}]
[{"$f":"IF(B708=\"\",\"\",MAX($A$1:A707)+1)","v":""}]
[{"$f":"IF(B709=\"\",\"\",MAX($A$1:A708)+1)","v":""}]
[{"$f":"IF(B710=\"\",\"\",MAX($A$1:A709)+1)","v":""}]
[{"$f":"IF(B711=\"\",\"\",MAX($A$1:A710)+1)","v":""}]
[{"$f":"IF(B712=\"\",\"\",MAX($A$1:A711)+1)","v":""}]
[{"$f":"IF(B713=\"\",\"\",MAX($A$1:A712)+1)","v":""}]
[{"$f":"IF(B714=\"\",\"\",MAX($A$1:A713)+1)","v":""}]
[{"$f":"IF(B715=\"\",\"\",MAX($A$1:A714)+1)","v":""}]
[{"$f":"IF(B716=\"\",\"\",MAX($A$1:A715)+1)","v":""}]
[{"$f":"IF(B717=\"\",\"\",MAX($A$1:A716)+1)","v":""}]
[{"$f":"IF(B718=\"\",\"\",MAX($A$1:A717)+1)","v":""}]
[{"$f":"IF(B719=\"\",\"\",MAX($A$1:A718)+1)","v":""}]
[{"$f":"IF(B720=\"\",\"\",MAX($A$1:A719)+1)","v":""}]
[{"$f":"IF(B721=\"\",\"\",MAX($A$1:A720)+1)","v":""}]
[{"$f":"IF(B722=\"\",\"\",MAX($A$1:A721)+1)","v":""}]
[{"$f":"IF(B723=\"\",\"\",MAX($A$1:A722)+1)","v":""}]
[{"$f":"IF(B724=\"\",\"\",MAX($A$1:A723)+1)","v":""}]
[{"$f":"IF(B725=\"\",\"\",MAX($A$1:A724)+1)","v":""}]
[{"$f":"IF(B726=\"\",\"\",MAX($A$1:A725)+1)","v":""}]
[{"$f":"IF(B727=\"\",\"\",MAX($A$1:A726)+1)","v":""}]
[{"$f":"IF(B728=\"\",\"\",MAX($A$1:A727)+1)","v":""}]
[{"$f":"IF(B729=\"\",\"\",MAX($A$1:A728)+1)","v":""}]
[{"$f":"IF(B730=\"\",\"\",MAX($A$1:A729)+1)","v":""}]
[{"$f":"IF(B731=\"\",\"\",MAX($A$1:A730)+1)","v":""}]
[{"$f":"IF(B732=\"\",\"\",MAX($A$1:A731)+1)","v":""}]
[{"$f":"IF(B733=\"\",\"\",MAX($A$1:A732)+1)","v":""}]
[{"$f":"IF(B734=\"\",\"\",MAX($A$1:A733)+1)","v":""}]
[{"$f":"IF(B735=\"\",\"\",MAX($A$1:A734)+1)","v":""}]
[{"$f":"IF(B736=\"\",\"\",MAX($A$1:A735)+1)","v":""}]
[{"$f":"IF(B737=\"\",\"\",MAX($A$1:A736)+1)","v":""}]
[{"$f":"IF(B738=\"\",\"\",MAX($A$1:A737)+1)","v":""}]
[{"$f":"IF(B739=\"\",\"\",MAX($A$1:A738)+1)","v":""}]
[{"$f":"IF(B740=\"\",\"\",MAX($A$1:A739)+1)","v":""}]
[{"$f":"IF(B741=\"\",\"\",MAX($A$1:A740)+1)","v":""}]
[{"$f":"IF(B742=\"\",\"\",MAX($A$1:A741)+1)","v":""}]
[{"$f":"IF(B743=\"\",\"\",MAX($A$1:A742)+1)","v":""}]
[{"$f":"IF(B744=\"\",\"\",MAX($A$1:A743)+1)","v":""}]
[{"$f":"IF(B745=\"\",\"\",MAX($A$1:A744)+1)","v":""}]
[{"$f":"IF(B746=\"\",\"\",MAX($A$1:A745)+1)","v":""}]
[{"$f":"IF(B747=\"\",\"\",MAX($A$1:A746)+1)","v":""}]
[{"$f":"IF(B748=\"\",\"\",MAX($A$1:A747)+1)","v":""}]
[{"$f":"IF(B749=\"\",\"\",MAX($A$1:A748)+1)","v":""}]
[{"$f":"IF(B750=\"\",\"\",MAX($A$1:A749)+1)","v":""}]
[{"$f":"IF(B751=\"\",\"\",MAX($A$1:A750)+1)","v":""}]
[{"$f":"IF(B752=\"\",\"\",MAX($A$1:A751)+1)","v":""}]
[{"$f":"IF(B753=\"\",\"\",MAX($A$1:A752)+1)","v":""}]
[{"$f":"IF(B754=\"\",\"\",MAX($A$1:A753)+1)","v":""}]
[{"$f":"IF(B755=\"\",\"\",MAX($A$1:A754)+1)","v":""}]
[{"$f":"IF(B756=\"\",\"\",MAX($A$1:A755)+1)","v":""}]
[{"$f":"IF(B757=\"\",\"\",MAX($A$1:A756)+1)","v":""}]
[{"$f":"IF(B758=\"\",\"\",MAX($A$1:A757)+1)","v":""}]
[{"$f":"IF(B759=\"\",\"\",MAX($A$1:A758)+1)","v":""}]
[{"$f":"IF(B760=\"\",\"\",MAX($A$1:A759)+1)","v":""}]
[{"$f":"IF(B761=\"\",\"\",MAX($A$1:A760)+1)","v":""}]
[{"$f":"IF(B762=\"\",\"\",MAX($A$1:A761)+1)","v":""}]
[{"$f":"IF(B763=\"\",\"\",MAX($A$1:A762)+1)","v":""}]
[{"$f":"IF(B764=\"\",\"\",MAX($A$1:A763)+1)","v":""}]
[{"$f":"IF(B765=\"\",\"\",MAX($A$1:A764)+1)","v":""}]
[{"$f":"IF(B766=\"\",\"\",MAX($A$1:A765)+1)","v":""}]
[{"$f":"IF(B767=\"\",\"\",MAX($A$1:A766)+1)","v":""}]
[{"$f":"IF(B768=\"\",\"\",MAX($A$1:A767)+1)","v":""}]
[{"$f":"IF(B769=\"\",\"\",MAX($A$1:A768)+1)","v":""}]
[{"$f":"IF(B770=\"\",\"\",MAX($A$1:A769)+1)","v":""}]
[{"$f":"IF(B771=\"\",\"\",MAX($A$1:A770)+1)","v":""}]
[{"$f":"IF(B772=\"\",\"\",MAX($A$1:A771)+1)","v":""}]
[{"$f":"IF(B773=\"\",\"\",MAX($A$1:A772)+1)","v":""}]
[{"$f":"IF(B774=\"\",\"\",MAX($A$1:A773)+1)","v":""}]
[{"$f":"IF(B775=\"\",\"\",MAX($A$1:A774)+1)","v":""}]
[{"$f":"IF(B776=\"\",\"\",MAX($A$1:A775)+1)","v":""}]
[{"$f":"IF(B777=\"\",\"\",MAX($A$1:A776)+1)","v":""}]
[{"$f":"IF(B778=\"\",\"\",MAX($A$1:A777)+1)","v":""}]
[{"$f":"IF(B779=\"\",\"\",MAX($A$1:A778)+1)","v":""}]
[{"$f":"IF(B780=\"\",\"\",MAX($A$1:A779)+1)","v":""}]
[{"$f":"IF(B781=\"\",\"\",MAX($A$1:A780)+1)","v":""}]
[{"$f":"IF(B782=\"\",\"\",MAX($A$1:A781)+1)","v":""}]
[{"$f":"IF(B783=\"\",\"\",MAX($A$1:A782)+1)","v":""}]
[{"$f":"IF(B784=\"\",\"\",MAX($A$1:A783)+1)","v":""}]
[{"$f":"IF(B785=\"\",\"\",MAX($A$1:A784)+1)","v":""}]
[{"$f":"IF(B786=\"\",\"\",MAX($A$1:A785)+1)","v":""}]
[{"$f":"IF(B787=\"\",\"\",MAX($A$1:A786)+1)","v":""}]
[{"$f":"IF(B788=\"\",\"\",MAX($A$1:A787)+1)","v":""}]
[{"$f":"IF(B789=\"\",\"\",MAX($A$1:A788)+1)","v":""}]
[{"$f":"IF(B790=\"\",\"\",MAX($A$1:A789)+1)","v":""}]
[{"$f":"IF(B791=\"\",\"\",MAX($A$1:A790)+1)","v":""}]
[{"$f":"IF(B792=\"\",\"\",MAX($A$1:A791)+1)","v":""}]
[{"$f":"IF(B793=\"\",\"\",MAX($A$1:A792)+1)","v":""}]
[{"$f":"IF(B794=\"\",\"\",MAX($A$1:A793)+1)","v":""}]
[{"$f":"IF(B795=\"\",\"\",MAX($A$1:A794)+1)","v":""}]
[{"$f":"IF(B796=\"\",\"\",MAX($A$1:A795)+1)","v":""}]
[{"$f":"IF(B797=\"\",\"\",MAX($A$1:A796)+1)","v":""}]
[{"$f":"IF(B798=\"\",\"\",MAX($A$1:A797)+1)","v":""}]
[{"$f":"IF(B799=\"\",\"\",MAX($A$1:A798)+1)","v":""}]
[{"$f":"IF(B800=\"\",\"\",MAX($A$1:A799)+1)","v":""}]
[{"$f":"IF(B801=\"\",\"\",MAX($A$1:A800)+1)","v":""}]
[{"$f":"IF(B802=\"\",\"\",MAX($A$1:A801)+1)","v":""}]
[{"$f":"IF(B803=\"\",\"\",MAX($A$1:A802)+1)","v":""}]
[{"$f":"IF(B804=\"\",\"\",MAX($A$1:A803)+1)","v":""}]
[{"$f":"IF(B805=\"\",\"\",MAX($A$1:A804)+1)","v":""}]
[{"$f":"IF(B806=\"\",\"\",MAX($A$1:A805)+1)","v":""}]
[{"$f":"IF(B807=\"\",\"\",MAX($A$1:A806)+1)","v":""}]
[{"$f":"IF(B808=\"\",\"\",MAX($A$1:A807)+1)","v":""}]
[{"$f":"IF(B809=\"\",\"\",MAX($A$1:A808)+1)","v":""}]
[{"$f":"IF(B810=\"\",\"\",MAX($A$1:A809)+1)","v":""}]
[{"$f":"IF(B811=\"\",\"\",MAX($A$1:A810)+1)","v":""}]
[{"$f":"IF(B812=\"\",\"\",MAX($A$1:A811)+1)","v":""}]
[{"$f":"IF(B813=\"\",\"\",MAX($A$1:A812)+1)","v":""}]
[{"$f":"IF(B814=\"\",\"\",MAX($A$1:A813)+1)","v":""}]
[{"$f":"IF(B815=\"\",\"\",MAX($A$1:A814)+1)","v":""}]
[{"$f":"IF(B816=\"\",\"\",MAX($A$1:A815)+1)","v":""}]
[{"$f":"IF(B817=\"\",\"\",MAX($A$1:A816)+1)","v":""}]
[{"$f":"IF(B818=\"\",\"\",MAX($A$1:A817)+1)","v":""}]
[{"$f":"IF(B819=\"\",\"\",MAX($A$1:A818)+1)","v":""}]
[{"$f":"IF(B820=\"\",\"\",MAX($A$1:A819)+1)","v":""}]
[{"$f":"IF(B821=\"\",\"\",MAX($A$1:A820)+1)","v":""}]
[{"$f":"IF(B822=\"\",\"\",MAX($A$1:A821)+1)","v":""}]
[{"$f":"IF(B823=\"\",\"\",MAX($A$1:A822)+1)","v":""}]
[{"$f":"IF(B824=\"\",\"\",MAX($A$1:A823)+1)","v":""}]
[{"$f":"IF(B825=\"\",\"\",MAX($A$1:A824)+1)","v":""}]
[{"$f":"IF(B826=\"\",\"\",MAX($A$1:A825)+1)","v":""}]
[{"$f":"IF(B827=\"\",\"\",MAX($A$1:A826)+1)","v":""}]
[{"$f":"IF(B828=\"\",\"\",MAX($A$1:A827)+1)","v":""}]
[{"$f":"IF(B829=\"\",\"\",MAX($A$1:A828)+1)","v":""}]
[{"$f":"IF(B830=\"\",\"\",MAX($A$1:A829)+1)","v":""}]
[{"$f":"IF(B831=\"\",\"\",MAX($A$1:A830)+1)","v":""}]
[{"$f":"IF(B832=\"\",\"\",MAX($A$1:A831)+1)","v":""}]
[{"$f":"IF(B833=\"\",\"\",MAX($A$1:A832)+1)","v":""}]
[{"$f":"IF(B834=\"\",\"\",MAX($A$1:A833)+1)","v":""}]
[{"$f":"IF(B835=\"\",\"\",MAX($A$1:A834)+1)","v":""}]
[{"$f":"IF(B836=\"\",\"\",MAX($A$1:A835)+1)","v":""}]
[{"$f":"IF(B837=\"\",\"\",MAX($A$1:A836)+1)","v":""}]
[{"$f":"IF(B838=\"\",\"\",MAX($A$1:A837)+1)","v":""}]
[{"$f":"IF(B839=\"\",\"\",MAX($A$1:A838)+1)","v":""}]
[{"$f":"IF(B840=\"\",\"\",MAX($A$1:A839)+1)","v":""}]
[{"$f":"IF(B841=\"\",\"\",MAX($A$1:A840)+1)","v":""}]
[{"$f":"IF(B842=\"\",\"\",MAX($A$1:A841)+1)","v":""}]
[{"$f":"IF(B843=\"\",\"\",MAX($A$1:A842)+1)","v":""}]
[{"$f":"IF(B844=\"\",\"\",MAX($A$1:A843)+1)","v":""}]
[{"$f":"IF(B845=\"\",\"\",MAX($A$1:A844)+1)","v":""}]
[{"$f":"IF(B846=\"\",\"\",MAX($A$1:A845)+1)","v":""}]
[{"$f":"IF(B847=\"\",\"\",MAX($A$1:A846)+1)","v":""}]
[{"$f":"IF(B848=\"\",\"\",MAX($A$1:A847)+1)","v":""}]
[{"$f":"IF(B849=\"\",\"\",MAX($A$1:A848)+1)","v":""}]
[{"$f":"IF(B850=\"\",\"\",MAX($A$1:A849)+1)","v":""}]
[{"$f":"IF(B851=\"\",\"\",MAX($A$1:A850)+1)","v":""}]
[{"$f":"IF(B852=\"\",\"\",MAX($A$1:A851)+1)","v":""}]
[{"$f":"IF(B853=\"\",\"\",MAX($A$1:A852)+1)","v":""}]
[{"$f":"IF(B854=\"\",\"\",MAX($A$1:A853)+1)","v":""}]
[{"$f":"IF(B855=\"\",\"\",MAX($A$1:A854)+1)","v":""}]
[{"$f":"IF(B856=\"\",\"\",MAX($A$1:A855)+1)","v":""}]
[{"$f":"IF(B857=\"\",\"\",MAX($A$1:A856)+1)","v":""}]
[{"$f":"IF(B858=\"\",\"\",MAX($A$1:A857)+1)","v":""}]
[{"$f":"IF(B859=\"\",\"\",MAX($A$1:A858)+1)","v":""}]
[{"$f":"IF(B860=\"\",\"\",MAX($A$1:A859)+1)","v":""}]
[{"$f":"IF(B861=\"\",\"\",MAX($A$1:A860)+1)","v":""}]
[{"$f":"IF(B862=\"\",\"\",MAX($A$1:A861)+1)","v":""}]
[{"$f":"IF(B863=\"\",\"\",MAX($A$1:A862)+1)","v":""}]
[{"$f":"IF(B864=\"\",\"\",MAX($A$1:A863)+1)","v":""}]
[{"$f":"IF(B865=\"\",\"\",MAX($A$1:A864)+1)","v":""}]
[{"$f":"IF(B866=\"\",\"\",MAX($A$1:A865)+1)","v":""}]
[{"$f":"IF(B867=\"\",\"\",MAX($A$1:A866)+1)","v":""}]
[{"$f":"IF(B868=\"\",\"\",MAX($A$1:A867)+1)","v":""}]
[{"$f":"IF(B869=\"\",\"\",MAX($A$1:A868)+1)","v":""}]
[{"$f":"IF(B870=\"\",\"\",MAX($A$1:A869)+1)","v":""}]
[{"$f":"IF(B871=\"\",\"\",MAX($A$1:A870)+1)","v":""}]
[{"$f":"IF(B872=\"\",\"\",MAX($A$1:A871)+1)","v":""}]
[{"$f":"IF(B873=\"\",\"\",MAX($A$1:A872)+1)","v":""}]
[{"$f":"IF(B874=\"\",\"\",MAX($A$1:A873)+1)","v":""}]
[{"$f":"IF(B875=\"\",\"\",MAX($A$1:A874)+1)","v":""}]
[{"$f":"IF(B876=\"\",\"\",MAX($A$1:A875)+1)","v":""}]
[{"$f":"IF(B877=\"\",\"\",MAX($A$1:A876)+1)","v":""}]
[{"$f":"IF(B878=\"\",\"\",MAX($A$1:A877)+1)","v":""}]
[{"$f":"IF(B879=\"\",\"\",MAX($A$1:A878)+1)","v":""}]
[{"$f":"IF(B880=\"\",\"\",MAX($A$1:A879)+1)","v":""}]
[{"$f":"IF(B881=\"\",\"\",MAX($A$1:A880)+1)","v":""}]
[{"$f":"IF(B882=\"\",\"\",MAX($A$1:A881)+1)","v":""}]
[{"$f":"IF(B883=\"\",\"\",MAX($A$1:A882)+1)","v":""}]
[{"$f":"IF(B884=\"\",\"\",MAX($A$1:A883)+1)","v":""}]
[{"$f":"IF(B885=\"\",\"\",MAX($A$1:A884)+1)","v":""}]
[{"$f":"IF(B886=\"\",\"\",MAX($A$1:A885)+1)","v":""}]
[{"$f":"IF(B887=\"\",\"\",MAX($A$1:A886)+1)","v":""}]
[{"$f":"IF(B888=\"\",\"\",MAX($A$1:A887)+1)","v":""}]
[{"$f":"IF(B889=\"\",\"\",MAX($A$1:A888)+1)","v":""}]
[{"$f":"IF(B890=\"\",\"\",MAX($A$1:A889)+1)","v":""}]
[{"$f":"IF(B891=\"\",\"\",MAX($A$1:A890)+1)","v":""}]
[{"$f":"IF(B892=\"\",\"\",MAX($A$1:A891)+1)","v":""}]
[{"$f":"IF(B893=\"\",\"\",MAX($A$1:A892)+1)","v":""}]
[{"$f":"IF(B894=\"\",\"\",MAX($A$1:A893)+1)","v":""}]
[{"$f":"IF(B895=\"\",\"\",MAX($A$1:A894)+1)","v":""}]
[{"$f":"IF(B896=\"\",\"\",MAX($A$1:A895)+1)","v":""}]
[{"$f":"IF(B897=\"\",\"\",MAX($A$1:A896)+1)","v":""}]
[{"$f":"IF(B898=\"\",\"\",MAX($A$1:A897)+1)","v":""}]
[{"$f":"IF(B899=\"\",\"\",MAX($A$1:A898)+1)","v":""}]
[{"$f":"IF(B900=\"\",\"\",MAX($A$1:A899)+1)","v":""}]
[{"$f":"IF(B901=\"\",\"\",MAX($A$1:A900)+1)","v":""}]
[{"$f":"IF(B902=\"\",\"\",MAX($A$1:A901)+1)","v":""}]
[{"$f":"IF(B903=\"\",\"\",MAX($A$1:A902)+1)","v":""}]
[{"$f":"IF(B904=\"\",\"\",MAX($A$1:A903)+1)","v":""}]
[{"$f":"IF(B905=\"\",\"\",MAX($A$1:A904)+1)","v":""}]
[{"$f":"IF(B906=\"\",\"\",MAX($A$1:A905)+1)","v":""}]
[{"$f":"IF(B907=\"\",\"\",MAX($A$1:A906)+1)","v":""}]
[{"$f":"IF(B908=\"\",\"\",MAX($A$1:A907)+1)","v":""}]
[{"$f":"IF(B909=\"\",\"\",MAX($A$1:A908)+1)","v":""}]
[{"$f":"IF(B910=\"\",\"\",MAX($A$1:A909)+1)","v":""}]
[{"$f":"IF(B911=\"\",\"\",MAX($A$1:A910)+1)","v":""}]
[{"$f":"IF(B912=\"\",\"\",MAX($A$1:A911)+1)","v":""}]
[{"$f":"IF(B913=\"\",\"\",MAX($A$1:A912)+1)","v":""}]
[{"$f":"IF(B914=\"\",\"\",MAX($A$1:A913)+1)","v":""}]
[{"$f":"IF(B915=\"\",\"\",MAX($A$1:A914)+1)","v":""}]
[{"$f":"IF(B916=\"\",\"\",MAX($A$1:A915)+1)","v":""}]
[{"$f":"IF(B917=\"\",\"\",MAX($A$1:A916)+1)","v":""}]
[{"$f":"IF(B918=\"\",\"\",MAX($A$1:A917)+1)","v":""}]
[{"$f":"IF(B919=\"\",\"\",MAX($A$1:A918)+1)","v":""}]
[{"$f":"IF(B920=\"\",\"\",MAX($A$1:A919)+1)","v":""}]
[{"$f":"IF(B921=\"\",\"\",MAX($A$1:A920)+1)","v":""}]
[{"$f":"IF(B922=\"\",\"\",MAX($A$1:A921)+1)","v":""}]
[{"$f":"IF(B923=\"\",\"\",MAX($A$1:A922)+1)","v":""}]
[{"$f":"IF(B924=\"\",\"\",MAX($A$1:A923)+1)","v":""}]
[{"$f":"IF(B925=\"\",\"\",MAX($A$1:A924)+1)","v":""}]
[{"$f":"IF(B926=\"\",\"\",MAX($A$1:A925)+1)","v":""}]
[{"$f":"IF(B927=\"\",\"\",MAX($A$1:A926)+1)","v":""}]
[{"$f":"IF(B928=\"\",\"\",MAX($A$1:A927)+1)","v":""}]
[{"$f":"IF(B929=\"\",\"\",MAX($A$1:A928)+1)","v":""}]
[{"$f":"IF(B930=\"\",\"\",MAX($A$1:A929)+1)","v":""}]
[{"$f":"IF(B931=\"\",\"\",MAX($A$1:A930)+1)","v":""}]
[{"$f":"IF(B932=\"\",\"\",MAX($A$1:A931)+1)","v":""}]
[{"$f":"IF(B933=\"\",\"\",MAX($A$1:A932)+1)","v":""}]
[{"$f":"IF(B934=\"\",\"\",MAX($A$1:A933)+1)","v":""}]
[{"$f":"IF(B935=\"\",\"\",MAX($A$1:A934)+1)","v":""}]
[{"$f":"IF(B936=\"\",\"\",MAX($A$1:A935)+1)","v":""}]
[{"$f":"IF(B937=\"\",\"\",MAX($A$1:A936)+1)","v":""}]
[{"$f":"IF(B938=\"\",\"\",MAX($A$1:A937)+1)","v":""}]
[{"$f":"IF(B939=\"\",\"\",MAX($A$1:A938)+1)","v":""}]
[{"$f":"IF(B940=\"\",\"\",MAX($A$1:A939)+1)","v":""}]
[{"$f":"IF(B941=\"\",\"\",MAX($A$1:A940)+1)","v":""}]
[{"$f":"IF(B942=\"\",\"\",MAX($A$1:A941)+1)","v":""}]
[{"$f":"IF(B943=\"\",\"\",MAX($A$1:A942)+1)","v":""}]
[{"$f":"IF(B944=\"\",\"\",MAX($A$1:A943)+1)","v":""}]
[{"$f":"IF(B945=\"\",\"\",MAX($A$1:A944)+1)","v":""}]
[{"$f":"IF(B946=\"\",\"\",MAX($A$1:A945)+1)","v":""}]
[{"$f":"IF(B947=\"\",\"\",MAX($A$1:A946)+1)","v":""}]
[{"$f":"IF(B948=\"\",\"\",MAX($A$1:A947)+1)","v":""}]
[{"$f":"IF(B949=\"\",\"\",MAX($A$1:A948)+1)","v":""}]
[{"$f":"IF(B950=\"\",\"\",MAX($A$1:A949)+1)","v":""}]
[{"$f":"IF(B951=\"\",\"\",MAX($A$1:A950)+1)","v":""}]
[{"$f":"IF(B952=\"\",\"\",MAX($A$1:A951)+1)","v":""}]
[{"$f":"IF(B953=\"\",\"\",MAX($A$1:A952)+1)","v":""}]
[{"$f":"IF(B954=\"\",\"\",MAX($A$1:A953)+1)","v":""}]
[{"$f":"IF(B955=\"\",\"\",MAX($A$1:A954)+1)","v":""}]
[{"$f":"IF(B956=\"\",\"\",MAX($A$1:A955)+1)","v":""}]
[{"$f":"IF(B957=\"\",\"\",MAX($A$1:A956)+1)","v":""}]
[{"$f":"IF(B958=\"\",\"\",MAX($A$1:A957)+1)","v":""}]
[{"$f":"IF(B959=\"\",\"\",MAX($A$1:A958)+1)","v":""}]
[{"$f":"IF(B960=\"\",\"\",MAX($A$1:A959)+1)","v":""}]
[{"$f":"IF(B961=\"\",\"\",MAX($A$1:A960)+1)","v":""}]
[{"$f":"IF(B962=\"\",\"\",MAX($A$1:A961)+1)","v":""}]
[{"$f":"IF(B963=\"\",\"\",MAX($A$1:A962)+1)","v":""}]
[{"$f":"IF(B964=\"\",\"\",MAX($A$1:A963)+1)","v":""}]
[{"$f":"IF(B965=\"\",\"\",MAX($A$1:A964)+1)","v":""}]
[{"$f":"IF(B966=\"\",\"\",MAX($A$1:A965)+1)","v":""}]
[{"$f":"IF(B967=\"\",\"\",MAX($A$1:A966)+1)","v":""}]
[{"$f":"IF(B968=\"\",\"\",MAX($A$1:A967)+1)","v":""}]
[{"$f":"IF(B969=\"\",\"\",MAX($A$1:A968)+1)","v":""}]
[{"$f":"IF(B970=\"\",\"\",MAX($A$1:A969)+1)","v":""}]
[{"$f":"IF(B971=\"\",\"\",MAX($A$1:A970)+1)","v":""}]
[{"$f":"IF(B972=\"\",\"\",MAX($A$1:A971)+1)","v":""}]
[{"$f":"IF(B973=\"\",\"\",MAX($A$1:A972)+1)","v":""}]
[{"$f":"IF(B974=\"\",\"\",MAX($A$1:A973)+1)","v":""}]
[{"$f":"IF(B975=\"\",\"\",MAX($A$1:A974)+1)","v":""}]
[{"$f":"IF(B976=\"\",\"\",MAX($A$1:A975)+1)","v":""}]
[{"$f":"IF(B977=\"\",\"\",MAX($A$1:A976)+1)","v":""}]
[{"$f":"IF(B978=\"\",\"\",MAX($A$1:A977)+1)","v":""}]
[{"$f":"IF(B979=\"\",\"\",MAX($A$1:A978)+1)","v":""}]
[{"$f":"IF(B980=\"\",\"\",MAX($A$1:A979)+1)","v":""}]
[{"$f":"IF(B981=\"\",\"\",MAX($A$1:A980)+1)","v":""}]
[{"$f":"IF(B982=\"\",\"\",MAX($A$1:A981)+1)","v":""}]
[{"$f":"IF(B983=\"\",\"\",MAX($A$1:A982)+1)","v":""}]
[{"$f":"IF(B984=\"\",\"\",MAX($A$1:A983)+1)","v":""}]
[{"$f":"IF(B985=\"\",\"\",MAX($A$1:A984)+1)","v":""}]
[{"$f":"IF(B986=\"\",\"\",MAX($A$1:A985)+1)","v":""}]
[{"$f":"IF(B987=\"\",\"\",MAX($A$1:A986)+1)","v":""}]
[{"$f":"IF(B988=\"\",\"\",MAX($A$1:A987)+1)","v":""}]
[{"$f":"IF(B989=\"\",\"\",MAX($A$1:A988)+1)","v":""}]
[{"$f":"IF(B990=\"\",\"\",MAX($A$1:A989)+1)","v":""}]
[{"$f":"IF(B991=\"\",\"\",MAX($A$1:A990)+1)","v":""}]
[{"$f":"IF(B992=\"\",\"\",MAX($A$1:A991)+1)","v":""}]
[{"$f":"IF(B993=\"\",\"\",MAX($A$1:A992)+1)","v":""}]
[{"$f":"IF(B994=\"\",\"\",MAX($A$1:A993)+1)","v":""}]
[{"$f":"IF(B995=\"\",\"\",MAX($A$1:A994)+1)","v":""}]
[{"$f":"IF(B996=\"\",\"\",MAX($A$1:A995)+1)","v":""}]
[{"$f":"IF(B997=\"\",\"\",MAX($A$1:A996)+1)","v":""}]
[{"$f":"IF(B998=\"\",\"\",MAX($A$1:A997)+1)","v":""}]
[{"$f":"IF(B999=\"\",\"\",MAX($A$1:A998)+1)","v":""}]
[{"$f":"IF(B1000=\"\",\"\",MAX($A$1:A999)+1)","v":""}]

{"sheet":"Objekte","index":5,"n_rows":1000,"n_cols":2,"rows_kept":1000,"cut":false,"hidden":false,"merged":[]}
[null,{"$f":"MID(CELL(\"Dateiname\",$A$1),FIND(\"]\", CELL(\"Dateiname\",$A$1))+1,31)","v":"Objekte"}]
[]
[{"$f":"IF(B3=\"\",\"\",1)","v":1},"Objekt 1"]
[{"$f":"IF(B4=\"\",\"\",MAX($A$1:A3)+1)","v":2},"Objekt 2"]
[{"$f":"IF(B5=\"\",\"\",MAX($A$1:A4)+1)","v":3},"Objekt 3"]
[{"$f":"IF(B6=\"\",\"\",MAX($A$1:A5)+1)","v":""}]
[{"$f":"IF(B7=\"\",\"\",MAX($A$1:A6)+1)","v":""}]
[{"$f":"IF(B8=\"\",\"\",MAX($A$1:A7)+1)","v":""}]
[{"$f":"IF(B9=\"\",\"\",MAX($A$1:A8)+1)","v":""}]
[{"$f":"IF(B10=\"\",\"\",MAX($A$1:A9)+1)","v":""}]
[{"$f":"IF(B11=\"\",\"\",MAX($A$1:A10)+1)","v":""}]
[{"$f":"IF(B12=\"\",\"\",MAX($A$1:A11)+1)","v":""}]
[{"$f":"IF(B13=\"\",\"\",MAX($A$1:A12)+1)","v":""}]
[{"$f":"IF(B14=\"\",\"\",MAX($A$1:A13)+1)","v":""}]
[{"$f":"IF(B15=\"\",\"\",MAX($A$1:A14)+1)","v":""}]
[{"$f":"IF(B16=\"\",\"\",MAX($A$1:A15)+1)","v":""}]
[{"$f":"IF(B17=\"\",\"\",MAX($A$1:A16)+1)","v":""}]
[{"$f":"IF(B18=\"\",\"\",MAX($A$1:A17)+1)","v":""}]
[{"$f":"IF(B19=\"\",\"\",MAX($A$1:A18)+1)","v":""}]
[{"$f":"IF(B20=\"\",\"\",MAX($A$1:A19)+1)","v":""}]
[{"$f":"IF(B21=\"\",\"\",MAX($A$1:A20)+1)","v":""}]
[{"$f":"IF(B22=\"\",\"\",MAX($A$1:A21)+1)","v":""}]
[{"$f":"IF(B23=\"\",\"\",MAX($A$1:A22)+1)","v":""}]
[{"$f":"IF(B24=\"\",\"\",MAX($A$1:A23)+1)","v":""}]
[{"$f":"IF(B25=\"\",\"\",MAX($A$1:A24)+1)","v":""}]
[{"$f":"IF(B26=\"\",\"\",MAX($A$1:A25)+1)","v":""}]
[{"$f":"IF(B27=\"\",\"\",MAX($A$1:A26)+1)","v":""}]
[{"$f":"IF(B28=\"\",\"\",MAX($A$1:A27)+1)","v":""}]
[{"$f":"IF(B29=\"\",\"\",MAX($A$1:A28)+1)","v":""}]
[{"$f":"IF(B30=\"\",\"\",MAX($A$1:A29)+1)","v":""}]
[{"$f":"IF(B31=\"\",\"\",MAX($A$1:A30)+1)","v":""}]
[{"$f":"IF(B32=\"\",\"\",MAX($A$1:A31)+1)","v":""}]
[{"$f":"IF(B33=\"\",\"\",MAX($A$1:A32)+1)","v":""}]
[{"$f":"IF(B34=\"\",\"\",MAX($A$1:A33)+1)","v":""}]
[{"$f":"IF(B35=\"\",\"\",MAX($A$1:A34)+1)","v":""}]
[{"$f":"IF(B36=\"\",\"\",MAX($A$1:A35)+1)","v":""}]
[{"$f":"IF(B37=\"\",\"\",MAX($A$1:A36)+1)","v":""}]
[{"$f":"IF(B38=\"\",\"\",MAX($A$1:A37)+1)","v":""}]
[{"$f":"IF(B39=\"\",\"\",MAX($A$1:A38)+1)","v":""}]
[{"$f":"IF(B40=\"\",\"\",MAX($A$1:A39)+1)","v":""}]
[{"$f":"IF(B41=\"\",\"\",MAX($A$1:A40)+1)","v":""}]
[{"$f":"IF(B42=\"\",\"\",MAX($A$1:A41)+1)","v":""}]
[{"$f":"IF(B43=\"\",\"\",MAX($A$1:A42)+1)","v":""}]
[{"$f":"IF(B44=\"\",\"\",MAX($A$1:A43)+1)","v":""}]
[{"$f":"IF(B45=\"\",\"\",MAX($A$1:A44)+1)","v":""}]
[{"$f":"IF(B46=\"\",\"\",MAX($A$1:A45)+1)","v":""}]
[{"$f":"IF(B47=\"\",\"\",MAX($A$1:A46)+1)","v":""}]
[{"$f":"IF(B48=\"\",\"\",MAX($A$1:A47)+1)","v":""}]
[{"$f":"IF(B49=\"\",\"\",MAX($A$1:A48)+1)","v":""}]
[{"$f":"IF(B50=\"\",\"\",MAX($A$1:A49)+1)","v":""}]
[{"$f":"IF(B51=\"\",\"\",MAX($A$1:A50)+1)","v":""}]
[{"$f":"IF(B52=\"\",\"\",MAX($A$1:A51)+1)","v":""}]
[{"$f":"IF(B53=\"\",\"\",MAX($A$1:A52)+1)","v":""}]
[{"$f":"IF(B54=\"\",\"\",MAX($A$1:A53)+1)","v":""}]
[{"$f":"IF(B55=\"\",\"\",MAX($A$1:A54)+1)","v":""}]
[{"$f":"IF(B56=\"\",\"\",MAX($A$1:A55)+1)","v":""}]
[{"$f":"IF(B57=\"\",\"\",MAX($A$1:A56)+1)","v":""}]
[{"$f":"IF(B58=\"\",\"\",MAX($A$1:A57)+1)","v":""}]
[{"$f":"IF(B59=\"\",\"\",MAX($A$1:A58)+1)","v":""}]
[{"$f":"IF(B60=\"\",\"\",MAX($A$1:A59)+1)","v":""}]
[{"$f":"IF(B61=\"\",\"\",MAX($A$1:A60)+1)","v":""}]
[{"$f":"IF(B62=\"\",\"\",MAX($A$1:A61)+1)","v":""}]
[{"$f":"IF(B63=\"\",\"\",MAX($A$1:A62)+1)","v":""}]
[{"$f":"IF(B64=\"\",\"\",MAX($A$1:A63)+1)","v":""}]
[{"$f":"IF(B65=\"\",\"\",MAX($A$1:A64)+1)","v":""}]
[{"$f":"IF(B66=\"\",\"\",MAX($A$1:A65)+1)","v":""}]
[{"$f":"IF(B67=\"\",\"\",MAX($A$1:A66)+1)","v":""}]
[{"$f":"IF(B68=\"\",\"\",MAX($A$1:A67)+1)","v":""}]
[{"$f":"IF(B69=\"\",\"\",MAX($A$1:A68)+1)","v":""}]
[{"$f":"IF(B70=\"\",\"\",MAX($A$1:A69)+1)","v":""}]
[{"$f":"IF(B71=\"\",\"\",MAX($A$1:A70)+1)","v":""}]
[{"$f":"IF(B72=\"\",\"\",MAX($A$1:A71)+1)","v":""}]
[{"$f":"IF(B73=\"\",\"\",MAX($A$1:A72)+1)","v":""}]
[{"$f":"IF(B74=\"\",\"\",MAX($A$1:A73)+1)","v":""}]
[{"$f":"IF(B75=\"\",\"\",MAX($A$1:A74)+1)","v":""}]
[{"$f":"IF(B76=\"\",\"\",MAX($A$1:A75)+1)","v":""}]
[{"$f":"IF(B77=\"\",\"\",MAX($A$1:A76)+1)","v":""}]
[{"$f":"IF(B78=\"\",\"\",MAX($A$1:A77)+1)","v":""}]
[{"$f":"IF(B79=\"\",\"\",MAX($A$1:A78)+1)","v":""}]
[{"$f":"IF(B80=\"\",\"\",MAX($A$1:A79)+1)","v":""}]
[{"$f":"IF(B81=\"\",\"\",MAX($A$1:A80)+1)","v":""}]
[{"$f":"IF(B82=\"\",\"\",MAX($A$1:A81)+1)","v":""}]
[{"$f":"IF(B83=\"\",\"\",MAX($A$1:A82)+1)","v":""}]
[{"$f":"IF(B84=\"\",\"\",MAX($A$1:A83)+1)","v":""}]
[{"$f":"IF(B85=\"\",\"\",MAX($A$1:A84)+1)","v":""}]
[{"$f":"IF(B86=\"\",\"\",MAX($A$1:A85)+1)","v":""}]
[{"$f":"IF(B87=\"\",\"\",MAX($A$1:A86)+1)","v":""}]
[{"$f":"IF(B88=\"\",\"\",MAX($A$1:A87)+1)","v":""}]
[{"$f":"IF(B89=\"\",\"\",MAX($A$1:A88)+1)","v":""}]
[{"$f":"IF(B90=\"\",\"\",MAX($A$1:A89)+1)","v":""}]
[{"$f":"IF(B91=\"\",\"\",MAX($A$1:A90)+1)","v":""}]
[{"$f":"IF(B92=\"\",\"\",MAX($A$1:A91)+1)","v":""}]
[{"$f":"IF(B93=\"\",\"\",MAX($A$1:A92)+1)","v":""}]
[{"$f":"IF(B94=\"\",\"\",MAX($A$1:A93)+1)","v":""}]
[{"$f":"IF(B95=\"\",\"\",MAX($A$1:A94)+1)","v":""}]
[{"$f":"IF(B96=\"\",\"\",MAX($A$1:A95)+1)","v":""}]
[{"$f":"IF(B97=\"\",\"\",MAX($A$1:A96)+1)","v":""}]
[{"$f":"IF(B98=\"\",\"\",MAX($A$1:A97)+1)","v":""}]
[{"$f":"IF(B99=\"\",\"\",MAX($A$1:A98)+1)","v":""}]
[{"$f":"IF(B100=\"\",\"\",MAX($A$1:A99)+1)","v":""}]
[{"$f":"IF(B101=\"\",\"\",MAX($A$1:A100)+1)","v":""}]
[{"$f":"IF(B102=\"\",\"\",MAX($A$1:A101)+1)","v":""}]
[{"$f":"IF(B103=\"\",\"\",MAX($A$1:A102)+1)","v":""}]
[{"$f":"IF(B104=\"\",\"\",MAX($A$1:A103)+1)","v":""}]
[{"$f":"IF(B105=\"\",\"\",MAX($A$1:A104)+1)","v":""}]
[{"$f":"IF(B106=\"\",\"\",MAX($A$1:A105)+1)","v":""}]
[{"$f":"IF(B107=\"\",\"\",MAX($A$1:A106)+1)","v":""}]
[{"$f":"IF(B108=\"\",\"\",MAX($A$1:A107)+1)","v":""}]
[{"$f":"IF(B109=\"\",\"\",MAX($A$1:A108)+1)","v":""}]
[{"$f":"IF(B110=\"\",\"\",MAX($A$1:A109)+1)","v":""}]
[{"$f":"IF(B111=\"\",\"\",MAX($A$1:A110)+1)","v":""}]
[{"$f":"IF(B112=\"\",\"\",MAX($A$1:A111)+1)","v":""}]
[{"$f":"IF(B113=\"\",\"\",MAX($A$1:A112)+1)","v":""}]
[{"$f":"IF(B114=\"\",\"\",MAX($A$1:A113)+1)","v":""}]
[{"$f":"IF(B115=\"\",\"\",MAX($A$1:A114)+1)","v":""}]
[{"$f":"IF(B116=\"\",\"\",MAX($A$1:A115)+1)","v":""}]
[{"$f":"IF(B117=\"\",\"\",MAX($A$1:A116)+1)","v":""}]
[{"$f":"IF(B118=\"\",\"\",MAX($A$1:A117)+1)","v":""}]
[{"$f":"IF(B119=\"\",\"\",MAX($A$1:A118)+1)","v":""}]
[{"$f":"IF(B120=\"\",\"\",MAX($A$1:A119)+1)","v":""}]
[{"$f":"IF(B121=\"\",\"\",MAX($A$1:A120)+1)","v":""}]
[{"$f":"IF(B122=\"\",\"\",MAX($A$1:A121)+1)","v":""}]
[{"$f":"IF(B123=\"\",\"\",MAX($A$1:A122)+1)","v":""}]
[{"$f":"IF(B124=\"\",\"\",MAX($A$1:A123)+1)","v":""}]
[{"$f":"IF(B125=\"\",\"\",MAX($A$1:A124)+1)","v":""}]
[{"$f":"IF(B126=\"\",\"\",MAX($A$1:A125)+1)","v":""}]
[{"$f":"IF(B127=\"\",\"\",MAX($A$1:A126)+1)","v":""}]
[{"$f":"IF(B128=\"\",\"\",MAX($A$1:A127)+1)","v":""}]
[{"$f":"IF(B129=\"\",\"\",MAX($A$1:A128)+1)","v":""}]
[{"$f":"IF(B130=\"\",\"\",MAX($A$1:A129)+1)","v":""}]
[{"$f":"IF(B131=\"\",\"\",MAX($A$1:A130)+1)","v":""}]
[{"$f":"IF(B132=\"\",\"\",MAX($A$1:A131)+1)","v":""}]
[{"$f":"IF(B133=\"\",\"\",MAX($A$1:A132)+1)","v":""}]
[{"$f":"IF(B134=\"\",\"\",MAX($A$1:A133)+1)","v":""}]
[{"$f":"IF(B135=\"\",\"\",MAX($A$1:A134)+1)","v":""}]
[{"$f":"IF(B136=\"\",\"\",MAX($A$1:A135)+1)","v":""}]
[{"$f":"IF(B137=\"\",\"\",MAX($A$1:A136)+1)","v":""}]
[{"$f":"IF(B138=\"\",\"\",MAX($A$1:A137)+1)","v":""}]
[{"$f":"IF(B139=\"\",\"\",MAX($A$1:A138)+1)","v":""}]
[{"$f":"IF(B140=\"\",\"\",MAX($A$1:A139)+1)","v":""}]
[{"$f":"IF(B141=\"\",\"\",MAX($A$1:A140)+1)","v":""}]
[{"$f":"IF(B142=\"\",\"\",MAX($A$1:A141)+1)","v":""}]
[{"$f":"IF(B143=\"\",\"\",MAX($A$1:A142)+1)","v":""}]
[{"$f":"IF(B144=\"\",\"\",MAX($A$1:A143)+1)","v":""}]
[{"$f":"IF(B145=\"\",\"\",MAX($A$1:A144)+1)","v":""}]
[{"$f":"IF(B146=\"\",\"\",MAX($A$1:A145)+1)","v":""}]
[{"$f":"IF(B147=\"\",\"\",MAX($A$1:A146)+1)","v":""}]
[{"$f":"IF(B148=\"\",\"\",MAX($A$1:A147)+1)","v":""}]
[{"$f":"IF(B149=\"\",\"\",MAX($A$1:A148)+1)","v":""}]
[{"$f":"IF(B150=\"\",\"\",MAX($A$1:A149)+1)","v":""}]
[{"$f":"IF(B151=\"\",\"\",MAX($A$1:A150)+1)","v":""}]
[{"$f":"IF(B152=\"\",\"\",MAX($A$1:A151)+1)","v":""}]
[{"$f":"IF(B153=\"\",\"\",MAX($A$1:A152)+1)","v":""}]
[{"$f":"IF(B154=\"\",\"\",MAX($A$1:A153)+1)","v":""}]
[{"$f":"IF(B155=\"\",\"\",MAX($A$1:A154)+1)","v":""}]
[{"$f":"IF(B156=\"\",\"\",MAX($A$1:A155)+1)","v":""}]
[{"$f":"IF(B157=\"\",\"\",MAX($A$1:A156)+1)","v":""}]
[{"$f":"IF(B158=\"\",\"\",MAX($A$1:A157)+1)","v":""}]
[{"$f":"IF(B159=\"\",\"\",MAX($A$1:A158)+1)","v":""}]
[{"$f":"IF(B160=\"\",\"\",MAX($A$1:A159)+1)","v":""}]
[{"$f":"IF(B161=\"\",\"\",MAX($A$1:A160)+1)","v":""}]
[{"$f":"IF(B162=\"\",\"\",MAX($A$1:A161)+1)","v":""}]
[{"$f":"IF(B163=\"\",\"\",MAX($A$1:A162)+1)","v":""}]
[{"$f":"IF(B164=\"\",\"\",MAX($A$1:A163)+1)","v":""}]
[{"$f":"IF(B165=\"\",\"\",MAX($A$1:A164)+1)","v":""}]
[{"$f":"IF(B166=\"\",\"\",MAX($A$1:A165)+1)","v":""}]
[{"$f":"IF(B167=\"\",\"\",MAX($A$1:A166)+1)","v":""}]
[{"$f":"IF(B168=\"\",\"\",MAX($A$1:A167)+1)","v":""}]
[{"$f":"IF(B169=\"\",\"\",MAX($A$1:A168)+1)","v":""}]
[{"$f":"IF(B170=\"\",\"\",MAX($A$1:A169)+1)","v":""}]
[{"$f":"IF(B171=\"\",\"\",MAX($A$1:A170)+1)","v":""}]
[{"$f":"IF(B172=\"\",\"\",MAX($A$1:A171)+1)","v":""}]
[{"$f":"IF(B173=\"\",\"\",MAX($A$1:A172)+1)","v":""}]
[{"$f":"IF(B174=\"\",\"\",MAX($A$1:A173)+1)","v":""}]
[{"$f":"IF(B175=\"\",\"\",MAX($A$1:A174)+1)","v":""}]
[{"$f":"IF(B176=\"\",\"\",MAX($A$1:A175)+1)","v":""}]
[{"$f":"IF(B177=\"\",\"\",MAX($A$1:A176)+1)","v":""}]
[{"$f":"IF(B178=\"\",\"\",MAX($A$1:A177)+1)","v":""}]
[{"$f":"IF(B179=\"\",\"\",MAX($A$1:A178)+1)","v":""}]
[{"$f":"IF(B180=\"\",\"\",MAX($A$1:A179)+1)","v":""}]
[{"$f":"IF(B181=\"\",\"\",MAX($A$1:A180)+1)","v":""}]
[{"$f":"IF(B182=\"\",\"\",MAX($A$1:A181)+1)","v":""}]
[{"$f":"IF(B183=\"\",\"\",MAX($A$1:A182)+1)","v":""}]
[{"$f":"IF(B184=\"\",\"\",MAX($A$1:A183)+1)","v":""}]
[{"$f":"IF(B185=\"\",\"\",MAX($A$1:A184)+1)","v":""}]
[{"$f":"IF(B186=\"\",\"\",MAX($A$1:A185)+1)","v":""}]
[{"$f":"IF(B187=\"\",\"\",MAX($A$1:A186)+1)","v":""}]
[{"$f":"IF(B188=\"\",\"\",MAX($A$1:A187)+1)","v":""}]
[{"$f":"IF(B189=\"\",\"\",MAX($A$1:A188)+1)","v":""}]
[{"$f":"IF(B190=\"\",\"\",MAX($A$1:A189)+1)","v":""}]
[{"$f":"IF(B191=\"\",\"\",MAX($A$1:A190)+1)","v":""}]
[{"$f":"IF(B192=\"\",\"\",MAX($A$1:A191)+1)","v":""}]
[{"$f":"IF(B193=\"\",\"\",MAX($A$1:A192)+1)","v":""}]
[{"$f":"IF(B194=\"\",\"\",MAX($A$1:A193)+1)","v":""}]
[{"$f":"IF(B195=\"\",\"\",MAX($A$1:A194)+1)","v":""}]
[{"$f":"IF(B196=\"\",\"\",MAX($A$1:A195)+1)","v":""}]
[{"$f":"IF(B197=\"\",\"\",MAX($A$1:A196)+1)","v":""}]
[{"$f":"IF(B198=\"\",\"\",MAX($A$1:A197)+1)","v":""}]
[{"$f":"IF(B199=\"\",\"\",MAX($A$1:A198)+1)","v":""}]
[{"$f":"IF(B200=\"\",\"\",MAX($A$1:A199)+1)","v":""}]
[{"$f":"IF(B201=\"\",\"\",MAX($A$1:A200)+1)","v":""}]
[{"$f":"IF(B202=\"\",\"\",MAX($A$1:A201)+1)","v":""}]
[{"$f":"IF(B203=\"\",\"\",MAX($A$1:A202)+1)","v":""}]
[{"$f":"IF(B204=\"\",\"\",MAX($A$1:A203)+1)","v":""}]
[{"$f":"IF(B205=\"\",\"\",MAX($A$1:A204)+1)","v":""}]
[{"$f":"IF(B206=\"\",\"\",MAX($A$1:A205)+1)","v":""}]
[{"$f":"IF(B207=\"\",\"\",MAX($A$1:A206)+1)","v":""}]
[{"$f":"IF(B208=\"\",\"\",MAX($A$1:A207)+1)","v":""}]
[{"$f":"IF(B209=\"\",\"\",MAX($A$1:A208)+1)","v":""}]
[{"$f":"IF(B210=\"\",\"\",MAX($A$1:A209)+1)","v":""}]
[{"$f":"IF(B211=\"\",\"\",MAX($A$1:A210)+1)","v":""}]
[{"$f":"IF(B212=\"\",\"\",MAX($A$1:A211)+1)","v":""}]
[{"$f":"IF(B213=\"\",\"\",MAX($A$1:A212)+1)","v":""}]
[{"$f":"IF(B214=\"\",\"\",MAX($A$1:A213)+1)","v":""}]
[{"$f":"IF(B215=\"\",\"\",MAX($A$1:A214)+1)","v":""}]
[{"$f":"IF(B216=\"\",\"\",MAX($A$1:A215)+1)","v":""}]
[{"$f":"IF(B217=\"\",\"\",MAX($A$1:A216)+1)","v":""}]
[{"$f":"IF(B218=\"\",\"\",MAX($A$1:A217)+1)","v":""}]
[{"$f":"IF(B219=\"\",\"\",MAX($A$1:A218)+1)","v":""}]
[{"$f":"IF(B220=\"\",\"\",MAX($A$1:A219)+1)","v":""}]
[{"$f":"IF(B221=\"\",\"\",MAX($A$1:A220)+1)","v":""}]
[{"$f":"IF(B222=\"\",\"\",MAX($A$1:A221)+1)","v":""}]
[{"$f":"IF(B223=\"\",\"\",MAX($A$1:A222)+1)","v":""}]
[{"$f":"IF(B224=\"\",\"\",MAX($A$1:A223)+1)","v":""}]
[{"$f":"IF(B225=\"\",\"\",MAX($A$1:A224)+1)","v":""}]
[{"$f":"IF(B226=\"\",\"\",MAX($A$1:A225)+1)","v":""}]
[{"$f":"IF(B227=\"\",\"\",MAX($A$1:A226)+1)","v":""}]
[{"$f":"IF(B228=\"\",\"\",MAX($A$1:A227)+1)","v":""}]
[{"$f":"IF(B229=\"\",\"\",MAX($A$1:A228)+1)","v":""}]
[{"$f":"IF(B230=\"\",\"\",MAX($A$1:A229)+1)","v":""}]
[{"$f":"IF(B231=\"\",\"\",MAX($A$1:A230)+1)","v":""}]
[{"$f":"IF(B232=\"\",\"\",MAX($A$1:A231)+1)","v":""}]
[{"$f":"IF(B233=\"\",\"\",MAX($A$1:A232)+1)","v":""}]
[{"$f":"IF(B234=\"\",\"\",MAX($A$1:A233)+1)","v":""}]
[{"$f":"IF(B235=\"\",\"\",MAX($A$1:A234)+1)","v":""}]
[{"$f":"IF(B236=\"\",\"\",MAX($A$1:A235)+1)","v":""}]
[{"$f":"IF(B237=\"\",\"\",MAX($A$1:A236)+1)","v":""}]
[{"$f":"IF(B238=\"\",\"\",MAX($A$1:A237)+1)","v":""}]
[{"$f":"IF(B239=\"\",\"\",MAX($A$1:A238)+1)","v":""}]
[{"$f":"IF(B240=\"\",\"\",MAX($A$1:A239)+1)","v":""}]
[{"$f":"IF(B241=\"\",\"\",MAX($A$1:A240)+1)","v":""}]
[{"$f":"IF(B242=\"\",\"\",MAX($A$1:A241)+1)","v":""}]
[{"$f":"IF(B243=\"\",\"\",MAX($A$1:A242)+1)","v":""}]
[{"$f":"IF(B244=\"\",\"\",MAX($A$1:A243)+1)","v":""}]
[{"$f":"IF(B245=\"\",\"\",MAX($A$1:A244)+1)","v":""}]
[{"$f":"IF(B246=\"\",\"\",MAX($A$1:A245)+1)","v":""}]
[{"$f":"IF(B247=\"\",\"\",MAX($A$1:A246)+1)","v":""}]
[{"$f":"IF(B248=\"\",\"\",MAX($A$1:A247)+1)","v":""}]
[{"$f":"IF(B249=\"\",\"\",MAX($A$1:A248)+1)","v":""}]
[{"$f":"IF(B250=\"\",\"\",MAX($A$1:A249)+1)","v":""}]
[{"$f":"IF(B251=\"\",\"\",MAX($A$1:A250)+1)","v":""}]
[{"$f":"IF(B252=\"\",\"\",MAX($A$1:A251)+1)","v":""}]
[{"$f":"IF(B253=\"\",\"\",MAX($A$1:A252)+1)","v":""}]
[{"$f":"IF(B254=\"\",\"\",MAX($A$1:A253)+1)","v":""}]
[{"$f":"IF(B255=\"\",\"\",MAX($A$1:A254)+1)","v":""}]
[{"$f":"IF(B256=\"\",\"\",MAX($A$1:A255)+1)","v":""}]
[{"$f":"IF(B257=\"\",\"\",MAX($A$1:A256)+1)","v":""}]
[{"$f":"IF(B258=\"\",\"\",MAX($A$1:A257)+1)","v":""}]
[{"$f":"IF(B259=\"\",\"\",MAX($A$1:A258)+1)","v":""}]
[{"$f":"IF(B260=\"\",\"\",MAX($A$1:A259)+1)","v":""}]
[{"$f":"IF(B261=\"\",\"\",MAX($A$1:A260)+1)","v":""}]
[{"$f":"IF(B262=\"\",\"\",MAX($A$1:A261)+1)","v":""}]
[{"$f":"IF(B263=\"\",\"\",MAX($A$1:A262)+1)","v":""}]
[{"$f":"IF(B264=\"\",\"\",MAX($A$1:A263)+1)","v":""}]
[{"$f":"IF(B265=\"\",\"\",MAX($A$1:A264)+1)","v":""}]
[{"$f":"IF(B266=\"\",\"\",MAX($A$1:A265)+1)","v":""}]
[{"$f":"IF(B267=\"\",\"\",MAX($A$1:A266)+1)","v":""}]
[{"$f":"IF(B268=\"\",\"\",MAX($A$1:A267)+1)","v":""}]
[{"$f":"IF(B269=\"\",\"\",MAX($A$1:A268)+1)","v":""}]
[{"$f":"IF(B270=\"\",\"\",MAX($A$1:A269)+1)","v":""}]
[{"$f":"IF(B271=\"\",\"\",MAX($A$1:A270)+1)","v":""}]
[{"$f":"IF(B272=\"\",\"\",MAX($A$1:A271)+1)","v":""}]
[{"$f":"IF(B273=\"\",\"\",MAX($A$1:A272)+1)","v":""}]
[{"$f":"IF(B274=\"\",\"\",MAX($A$1:A273)+1)","v":""}]
[{"$f":"IF(B275=\"\",\"\",MAX($A$1:A274)+1)","v":""}]
[{"$f":"IF(B276=\"\",\"\",MAX($A$1:A275)+1)","v":""}]
[{"$f":"IF(B277=\"\",\"\",MAX($A$1:A276)+1)","v":""}]
[{"$f":"IF(B278=\"\",\"\",MAX($A$1:A277)+1)","v":""}]
[{"$f":"IF(B279=\"\",\"\",MAX($A$1:A278)+1)","v":""}]
[{"$f":"IF(B280=\"\",\"\",MAX($A$1:A279)+1)","v":""}]
[{"$f":"IF(B281=\"\",\"\",MAX($A$1:A280)+1)","v":""}]
[{"$f":"IF(B282=\"\",\"\",MAX($A$1:A281)+1)","v":""}]
[{"$f":"IF(B283=\"\",\"\",MAX($A$1:A282)+1)","v":""}]
[{"$f":"IF(B284=\"\",\"\",MAX($A$1:A283)+1)","v":""}]
[{"$f":"IF(B285=\"\",\"\",MAX($A$1:A284)+1)","v":""}]
[{"$f":"IF(B286=\"\",\"\",MAX($A$1:A285)+1)","v":""}]
[{"$f":"IF(B287=\"\",\"\",MAX($A$1:A286)+1)","v":""}]
[{"$f":"IF(B288=\"\",\"\",MAX($A$1:A287)+1)","v":""}]
[{"$f":"IF(B289=\"\",\"\",MAX($A$1:A288)+1)","v":""}]
[{"$f":"IF(B290=\"\",\"\",MAX($A$1:A289)+1)","v":""}]
[{"$f":"IF(B291=\"\",\"\",MAX($A$1:A290)+1)","v":""}]
[{"$f":"IF(B292=\"\",\"\",MAX($A$1:A291)+1)","v":""}]
[{"$f":"IF(B293=\"\",\"\",MAX($A$1:A292)+1)","v":""}]
[{"$f":"IF(B294=\"\",\"\",MAX($A$1:A293)+1)","v":""}]
[{"$f":"IF(B295=\"\",\"\",MAX($A$1:A294)+1)","v":""}]
[{"$f":"IF(B296=\"\",\"\",MAX($A$1:A295)+1)","v":""}]
[{"$f":"IF(B297=\"\",\"\",MAX($A$1:A296)+1)","v":""}]
[{"$f":"IF(B298=\"\",\"\",MAX($A$1:A297)+1)","v":""}]
[{"$f":"IF(B299=\"\",\"\",MAX($A$1:A298)+1)","v":""}]
[{"$f":"IF(B300=\"\",\"\",MAX($A$1:A299)+1)","v":""}]
[{"$f":"IF(B301=\"\",\"\",MAX($A$1:A300)+1)","v":""}]
[{"$f":"IF(B302=\"\",\"\",MAX($A$1:A301)+1)","v":""}]
[{"$f":"IF(B303=\"\",\"\",MAX($A$1:A302)+1)","v":""}]
[{"$f":"IF(B304=\"\",\"\",MAX($A$1:A303)+1)","v":""}]
[{"$f":"IF(B305=\"\",\"\",MAX($A$1:A304)+1)","v":""}]
[{"$f":"IF(B306=\"\",\"\",MAX($A$1:A305)+1)","v":""}]
[{"$f":"IF(B307=\"\",\"\",MAX($A$1:A306)+1)","v":""}]
[{"$f":"IF(B308=\"\",\"\",MAX($A$1:A307)+1)","v":""}]
[{"$f":"IF(B309=\"\",\"\",MAX($A$1:A308)+1)","v":""}]
[{"$f":"IF(B310=\"\",\"\",MAX($A$1:A309)+1)","v":""}]
[{"$f":"IF(B311=\"\",\"\",MAX($A$1:A310)+1)","v":""}]
[{"$f":"IF(B312=\"\",\"\",MAX($A$1:A311)+1)","v":""}]
[{"$f":"IF(B313=\"\",\"\",MAX($A$1:A312)+1)","v":""}]
[{"$f":"IF(B314=\"\",\"\",MAX($A$1:A313)+1)","v":""}]
[{"$f":"IF(B315=\"\",\"\",MAX($A$1:A314)+1)","v":""}]
[{"$f":"IF(B316=\"\",\"\",MAX($A$1:A315)+1)","v":""}]
[{"$f":"IF(B317=\"\",\"\",MAX($A$1:A316)+1)","v":""}]
[{"$f":"IF(B318=\"\",\"\",MAX($A$1:A317)+1)","v":""}]
[{"$f":"IF(B319=\"\",\"\",MAX($A$1:A318)+1)","v":""}]
[{"$f":"IF(B320=\"\",\"\",MAX($A$1:A319)+1)","v":""}]
[{"$f":"IF(B321=\"\",\"\",MAX($A$1:A320)+1)","v":""}]
[{"$f":"IF(B322=\"\",\"\",MAX($A$1:A321)+1)","v":""}]
[{"$f":"IF(B323=\"\",\"\",MAX($A$1:A322)+1)","v":""}]
[{"$f":"IF(B324=\"\",\"\",MAX($A$1:A323)+1)","v":""}]
[{"$f":"IF(B325=\"\",\"\",MAX($A$1:A324)+1)","v":""}]
[{"$f":"IF(B326=\"\",\"\",MAX($A$1:A325)+1)","v":""}]
[{"$f":"IF(B327=\"\",\"\",MAX($A$1:A326)+1)","v":""}]
[{"$f":"IF(B328=\"\",\"\",MAX($A$1:A327)+1)","v":""}]
[{"$f":"IF(B329=\"\",\"\",MAX($A$1:A328)+1)","v":""}]
[{"$f":"IF(B330=\"\",\"\",MAX($A$1:A329)+1)","v":""}]
[{"$f":"IF(B331=\"\",\"\",MAX($A$1:A330)+1)","v":""}]
[{"$f":"IF(B332=\"\",\"\",MAX($A$1:A331)+1)","v":""}]
[{"$f":"IF(B333=\"\",\"\",MAX($A$1:A332)+1)","v":""}]
[{"$f":"IF(B334=\"\",\"\",MAX($A$1:A333)+1)","v":""}]
[{"$f":"IF(B335=\"\",\"\",MAX($A$1:A334)+1)","v":""}]
[{"$f":"IF(B336=\"\",\"\",MAX($A$1:A335)+1)","v":""}]
[{"$f":"IF(B337=\"\",\"\",MAX($A$1:A336)+1)","v":""}]
[{"$f":"IF(B338=\"\",\"\",MAX($A$1:A337)+1)","v":""}]
[{"$f":"IF(B339=\"\",\"\",MAX($A$1:A338)+1)","v":""}]
[{"$f":"IF(B340=\"\",\"\",MAX($A$1:A339)+1)","v":""}]
[{"$f":"IF(B341=\"\",\"\",MAX($A$1:A340)+1)","v":""}]
[{"$f":"IF(B342=\"\",\"\",MAX($A$1:A341)+1)","v":""}]
[{"$f":"IF(B343=\"\",\"\",MAX($A$1:A342)+1)","v":""}]
[{"$f":"IF(B344=\"\",\"\",MAX($A$1:A343)+1)","v":""}]
[{"$f":"IF(B345=\"\",\"\",MAX($A$1:A344)+1)","v":""}]
[{"$f":"IF(B346=\"\",\"\",MAX($A$1:A345)+1)","v":""}]
[{"$f":"IF(B347=\"\",\"\",MAX($A$1:A346)+1)","v":""}]
[{"$f":"IF(B348=\"\",\"\",MAX($A$1:A347)+1)","v":""}]
[{"$f":"IF(B349=\"\",\"\",MAX($A$1:A348)+1)","v":""}]
[{"$f":"IF(B350=\"\",\"\",MAX($A$1:A349)+1)","v":""}]
[{"$f":"IF(B351=\"\",\"\",MAX($A$1:A350)+1)","v":""}]
[{"$f":"IF(B352=\"\",\"\",MAX($A$1:A351)+1)","v":""}]
[{"$f":"IF(B353=\"\",\"\",MAX($A$1:A352)+1)","v":""}]
[{"$f":"IF(B354=\"\",\"\",MAX($A$1:A353)+1)","v":""}]
[{"$f":"IF(B355=\"\",\"\",MAX($A$1:A354)+1)","v":""}]
[{"$f":"IF(B356=\"\",\"\",MAX($A$1:A355)+1)","v":""}]
[{"$f":"IF(B357=\"\",\"\",MAX($A$1:A356)+1)","v":""}]
[{"$f":"IF(B358=\"\",\"\",MAX($A$1:A357)+1)","v":""}]
[{"$f":"IF(B359=\"\",\"\",MAX($A$1:A358)+1)","v":""}]
[{"$f":"IF(B360=\"\",\"\",MAX($A$1:A359)+1)","v":""}]
[{"$f":"IF(B361=\"\",\"\",MAX($A$1:A360)+1)","v":""}]
[{"$f":"IF(B362=\"\",\"\",MAX($A$1:A361)+1)","v":""}]
[{"$f":"IF(B363=\"\",\"\",MAX($A$1:A362)+1)","v":""}]
[{"$f":"IF(B364=\"\",\"\",MAX($A$1:A363)+1)","v":""}]
[{"$f":"IF(B365=\"\",\"\",MAX($A$1:A364)+1)","v":""}]
[{"$f":"IF(B366=\"\",\"\",MAX($A$1:A365)+1)","v":""}]
[{"$f":"IF(B367=\"\",\"\",MAX($A$1:A366)+1)","v":""}]
[{"$f":"IF(B368=\"\",\"\",MAX($A$1:A367)+1)","v":""}]
[{"$f":"IF(B369=\"\",\"\",MAX($A$1:A368)+1)","v":""}]
[{"$f":"IF(B370=\"\",\"\",MAX($A$1:A369)+1)","v":""}]
[{"$f":"IF(B371=\"\",\"\",MAX($A$1:A370)+1)","v":""}]
[{"$f":"IF(B372=\"\",\"\",MAX($A$1:A371)+1)","v":""}]
[{"$f":"IF(B373=\"\",\"\",MAX($A$1:A372)+1)","v":""}]
[{"$f":"IF(B374=\"\",\"\",MAX($A$1:A373)+1)","v":""}]
[{"$f":"IF(B375=\"\",\"\",MAX($A$1:A374)+1)","v":""}]
[{"$f":"IF(B376=\"\",\"\",MAX($A$1:A375)+1)","v":""}]
[{"$f":"IF(B377=\"\",\"\",MAX($A$1:A376)+1)","v":""}]
[{"$f":"IF(B378=\"\",\"\",MAX($A$1:A377)+1)","v":""}]
[{"$f":"IF(B379=\"\",\"\",MAX($A$1:A378)+1)","v":""}]
[{"$f":"IF(B380=\"\",\"\",MAX($A$1:A379)+1)","v":""}]
[{"$f":"IF(B381=\"\",\"\",MAX($A$1:A380)+1)","v":""}]
[{"$f":"IF(B382=\"\",\"\",MAX($A$1:A381)+1)","v":""}]
[{"$f":"IF(B383=\"\",\"\",MAX($A$1:A382)+1)","v":""}]
[{"$f":"IF(B384=\"\",\"\",MAX($A$1:A383)+1)","v":""}]
[{"$f":"IF(B385=\"\",\"\",MAX($A$1:A384)+1)","v":""}]
[{"$f":"IF(B386=\"\",\"\",MAX($A$1:A385)+1)","v":""}]
[{"$f":"IF(B387=\"\",\"\",MAX($A$1:A386)+1)","v":""}]
[{"$f":"IF(B388=\"\",\"\",MAX($A$1:A387)+1)","v":""}]
[{"$f":"IF(B389=\"\",\"\",MAX($A$1:A388)+1)","v":""}]
[{"$f":"IF(B390=\"\",\"\",MAX($A$1:A389)+1)","v":""}]
[{"$f":"IF(B391=\"\",\"\",MAX($A$1:A390)+1)","v":""}]
[{"$f":"IF(B392=\"\",\"\",MAX($A$1:A391)+1)","v":""}]
[{"$f":"IF(B393=\"\",\"\",MAX($A$1:A392)+1)","v":""}]
[{"$f":"IF(B394=\"\",\"\",MAX($A$1:A393)+1)","v":""}]
[{"$f":"IF(B395=\"\",\"\",MAX($A$1:A394)+1)","v":""}]
[{"$f":"IF(B396=\"\",\"\",MAX($A$1:A395)+1)","v":""}]
[{"$f":"IF(B397=\"\",\"\",MAX($A$1:A396)+1)","v":""}]
[{"$f":"IF(B398=\"\",\"\",MAX($A$1:A397)+1)","v":""}]
[{"$f":"IF(B399=\"\",\"\",MAX($A$1:A398)+1)","v":""}]
[{"$f":"IF(B400=\"\",\"\",MAX($A$1:A399)+1)","v":""}]
[{"$f":"IF(B401=\"\",\"\",MAX($A$1:A400)+1)","v":""}]
[{"$f":"IF(B402=\"\",\"\",MAX($A$1:A401)+1)","v":""}]
[{"$f":"IF(B403=\"\",\"\",MAX($A$1:A402)+1)","v":""}]
[{"$f":"IF(B404=\"\",\"\",MAX($A$1:A403)+1)","v":""}]
[{"$f":"IF(B405=\"\",\"\",MAX($A$1:A404)+1)","v":""}]
[{"$f":"IF(B406=\"\",\"\",MAX($A$1:A405)+1)","v":""}]
[{"$f":"IF(B407=\"\",\"\",MAX($A$1:A406)+1)","v":""}]
[{"$f":"IF(B408=\"\",\"\",MAX($A$1:A407)+1)","v":""}]
[{"$f":"IF(B409=\"\",\"\",MAX($A$1:A408)+1)","v":""}]
[{"$f":"IF(B410=\"\",\"\",MAX($A$1:A409)+1)","v":""}]
[{"$f":"IF(B411=\"\",\"\",MAX($A$1:A410)+1)","v":""}]
[{"$f":"IF(B412=\"\",\"\",MAX($A$1:A411)+1)","v":""}]
[{"$f":"IF(B413=\"\",\"\",MAX($A$1:A412)+1)","v":""}]
[{"$f":"IF(B414=\"\",\"\",MAX($A$1:A413)+1)","v":""}]
[{"$f":"IF(B415=\"\",\"\",MAX($A$1:A414)+1)","v":""}]
[{"$f":"IF(B416=\"\",\"\",MAX($A$1:A415)+1)","v":""}]
[{"$f":"IF(B417=\"\",\"\",MAX($A$1:A416)+1)","v":""}]
[{"$f":"IF(B418=\"\",\"\",MAX($A$1:A417)+1)","v":""}]
[{"$f":"IF(B419=\"\",\"\",MAX($A$1:A418)+1)","v":""}]
[{"$f":"IF(B420=\"\",\"\",MAX($A$1:A419)+1)","v":""}]
[{"$f":"IF(B421=\"\",\"\",MAX($A$1:A420)+1)","v":""}]
[{"$f":"IF(B422=\"\",\"\",MAX($A$1:A421)+1)","v":""}]
[{"$f":"IF(B423=\"\",\"\",MAX($A$1:A422)+1)","v":""}]
[{"$f":"IF(B424=\"\",\"\",MAX($A$1:A423)+1)","v":""}]
[{"$f":"IF(B425=\"\",\"\",MAX($A$1:A424)+1)","v":""}]
[{"$f":"IF(B426=\"\",\"\",MAX($A$1:A425)+1)","v":""}]
[{"$f":"IF(B427=\"\",\"\",MAX($A$1:A426)+1)","v":""}]
[{"$f":"IF(B428=\"\",\"\",MAX($A$1:A427)+1)","v":""}]
[{"$f":"IF(B429=\"\",\"\",MAX($A$1:A428)+1)","v":""}]
[{"$f":"IF(B430=\"\",\"\",MAX($A$1:A429)+1)","v":""}]
[{"$f":"IF(B431=\"\",\"\",MAX($A$1:A430)+1)","v":""}]
[{"$f":"IF(B432=\"\",\"\",MAX($A$1:A431)+1)","v":""}]
[{"$f":"IF(B433=\"\",\"\",MAX($A$1:A432)+1)","v":""}]
[{"$f":"IF(B434=\"\",\"\",MAX($A$1:A433)+1)","v":""}]
[{"$f":"IF(B435=\"\",\"\",MAX($A$1:A434)+1)","v":""}]
[{"$f":"IF(B436=\"\",\"\",MAX($A$1:A435)+1)","v":""}]
[{"$f":"IF(B437=\"\",\"\",MAX($A$1:A436)+1)","v":""}]
[{"$f":"IF(B438=\"\",\"\",MAX($A$1:A437)+1)","v":""}]
[{"$f":"IF(B439=\"\",\"\",MAX($A$1:A438)+1)","v":""}]
[{"$f":"IF(B440=\"\",\"\",MAX($A$1:A439)+1)","v":""}]
[{"$f":"IF(B441=\"\",\"\",MAX($A$1:A440)+1)","v":""}]
[{"$f":"IF(B442=\"\",\"\",MAX($A$1:A441)+1)","v":""}]
[{"$f":"IF(B443=\"\",\"\",MAX($A$1:A442)+1)","v":""}]
[{"$f":"IF(B444=\"\",\"\",MAX($A$1:A443)+1)","v":""}]
[{"$f":"IF(B445=\"\",\"\",MAX($A$1:A444)+1)","v":""}]
[{"$f":"IF(B446=\"\",\"\",MAX($A$1:A445)+1)","v":""}]
[{"$f":"IF(B447=\"\",\"\",MAX($A$1:A446)+1)","v":""}]
[{"$f":"IF(B448=\"\",\"\",MAX($A$1:A447)+1)","v":""}]
[{"$f":"IF(B449=\"\",\"\",MAX($A$1:A448)+1)","v":""}]
[{"$f":"IF(B450=\"\",\"\",MAX($A$1:A449)+1)","v":""}]
[{"$f":"IF(B451=\"\",\"\",MAX($A$1:A450)+1)","v":""}]
[{"$f":"IF(B452=\"\",\"\",MAX($A$1:A451)+1)","v":""}]
[{"$f":"IF(B453=\"\",\"\",MAX($A$1:A452)+1)","v":""}]
[{"$f":"IF(B454=\"\",\"\",MAX($A$1:A453)+1)","v":""}]
[{"$f":"IF(B455=\"\",\"\",MAX($A$1:A454)+1)","v":""}]
[{"$f":"IF(B456=\"\",\"\",MAX($A$1:A455)+1)","v":""}]
[{"$f":"IF(B457=\"\",\"\",MAX($A$1:A456)+1)","v":""}]
[{"$f":"IF(B458=\"\",\"\",MAX($A$1:A457)+1)","v":""}]
[{"$f":"IF(B459=\"\",\"\",MAX($A$1:A458)+1)","v":""}]
[{"$f":"IF(B460=\"\",\"\",MAX($A$1:A459)+1)","v":""}]
[{"$f":"IF(B461=\"\",\"\",MAX($A$1:A460)+1)","v":""}]
[{"$f":"IF(B462=\"\",\"\",MAX($A$1:A461)+1)","v":""}]
[{"$f":"IF(B463=\"\",\"\",MAX($A$1:A462)+1)","v":""}]
[{"$f":"IF(B464=\"\",\"\",MAX($A$1:A463)+1)","v":""}]
[{"$f":"IF(B465=\"\",\"\",MAX($A$1:A464)+1)","v":""}]
[{"$f":"IF(B466=\"\",\"\",MAX($A$1:A465)+1)","v":""}]
[{"$f":"IF(B467=\"\",\"\",MAX($A$1:A466)+1)","v":""}]
[{"$f":"IF(B468=\"\",\"\",MAX($A$1:A467)+1)","v":""}]
[{"$f":"IF(B469=\"\",\"\",MAX($A$1:A468)+1)","v":""}]
[{"$f":"IF(B470=\"\",\"\",MAX($A$1:A469)+1)","v":""}]
[{"$f":"IF(B471=\"\",\"\",MAX($A$1:A470)+1)","v":""}]
[{"$f":"IF(B472=\"\",\"\",MAX($A$1:A471)+1)","v":""}]
[{"$f":"IF(B473=\"\",\"\",MAX($A$1:A472)+1)","v":""}]
[{"$f":"IF(B474=\"\",\"\",MAX($A$1:A473)+1)","v":""}]
[{"$f":"IF(B475=\"\",\"\",MAX($A$1:A474)+1)","v":""}]
[{"$f":"IF(B476=\"\",\"\",MAX($A$1:A475)+1)","v":""}]
[{"$f":"IF(B477=\"\",\"\",MAX($A$1:A476)+1)","v":""}]
[{"$f":"IF(B478=\"\",\"\",MAX($A$1:A477)+1)","v":""}]
[{"$f":"IF(B479=\"\",\"\",MAX($A$1:A478)+1)","v":""}]
[{"$f":"IF(B480=\"\",\"\",MAX($A$1:A479)+1)","v":""}]
[{"$f":"IF(B481=\"\",\"\",MAX($A$1:A480)+1)","v":""}]
[{"$f":"IF(B482=\"\",\"\",MAX($A$1:A481)+1)","v":""}]
[{"$f":"IF(B483=\"\",\"\",MAX($A$1:A482)+1)","v":""}]
[{"$f":"IF(B484=\"\",\"\",MAX($A$1:A483)+1)","v":""}]
[{"$f":"IF(B485=\"\",\"\",MAX($A$1:A484)+1)","v":""}]
[{"$f":"IF(B486=\"\",\"\",MAX($A$1:A485)+1)","v":""}]
[{"$f":"IF(B487=\"\",\"\",MAX($A$1:A486)+1)","v":""}]
[{"$f":"IF(B488=\"\",\"\",MAX($A$1:A487)+1)","v":""}]
[{"$f":"IF(B489=\"\",\"\",MAX($A$1:A488)+1)","v":""}]
[{"$f":"IF(B490=\"\",\"\",MAX($A$1:A489)+1)","v":""}]
[{"$f":"IF(B491=\"\",\"\",MAX($A$1:A490)+1)","v":""}]
[{"$f":"IF(B492=\"\",\"\",MAX($A$1:A491)+1)","v":""}]
[{"$f":"IF(B493=\"\",\"\",MAX($A$1:A492)+1)","v":""}]
[{"$f":"IF(B494=\"\",\"\",MAX($A$1:A493)+1)","v":""}]
[{"$f":"IF(B495=\"\",\"\",MAX($A$1:A494)+1)","v":""}]
[{"$f":"IF(B496=\"\",\"\",MAX($A$1:A495)+1)","v":""}]
[{"$f":"IF(B497=\"\",\"\",MAX($A$1:A496)+1)","v":""}]
[{"$f":"IF(B498=\"\",\"\",MAX($A$1:A497)+1)","v":""}]
[{"$f":"IF(B499=\"\",\"\",MAX($A$1:A498)+1)","v":""}]
[{"$f":"IF(B500=\"\",\"\",MAX($A$1:A499)+1)","v":""}]
[{"$f":"IF(B501=\"\",\"\",MAX($A$1:A500)+1)","v":""}]
[{"$f":"IF(B502=\"\",\"\",MAX($A$1:A501)+1)","v":""}]
[{"$f":"IF(B503=\"\",\"\",MAX($A$1:A502)+1)","v":""}]
[{"$f":"IF(B504=\"\",\"\",MAX($A$1:A503)+1)","v":""}]
[{"$f":"IF(B505=\"\",\"\",MAX($A$1:A504)+1)","v":""}]
[{"$f":"IF(B506=\"\",\"\",MAX($A$1:A505)+1)","v":""}]
[{"$f":"IF(B507=\"\",\"\",MAX($A$1:A506)+1)","v":""}]
[{"$f":"IF(B508=\"\",\"\",MAX($A$1:A507)+1)","v":""}]
[{"$f":"IF(B509=\"\",\"\",MAX($A$1:A508)+1)","v":""}]
[{"$f":"IF(B510=\"\",\"\",MAX($A$1:A509)+1)","v":""}]
[{"$f":"IF(B511=\"\",\"\",MAX($A$1:A510)+1)","v":""}]
[{"$f":"IF(B512=\"\",\"\",MAX($A$1:A511)+1)","v":""}]
[{"$f":"IF(B513=\"\",\"\",MAX($A$1:A512)+1)","v":""}]
[{"$f":"IF(B514=\"\",\"\",MAX($A$1:A513)+1)","v":""}]
[{"$f":"IF(B515=\"\",\"\",MAX($A$1:A514)+1)","v":""}]
[{"$f":"IF(B516=\"\",\"\",MAX($A$1:A515)+1)","v":""}]
[{"$f":"IF(B517=\"\",\"\",MAX($A$1:A516)+1)","v":""}]
[{"$f":"IF(B518=\"\",\"\",MAX($A$1:A517)+1)","v":""}]
[{"$f":"IF(B519=\"\",\"\",MAX($A$1:A518)+1)","v":""}]
[{"$f":"IF(B520=\"\",\"\",MAX($A$1:A519)+1)","v":""}]
[{"$f":"IF(B521=\"\",\"\",MAX($A$1:A520)+1)","v":""}]
[{"$f":"IF(B522=\"\",\"\",MAX($A$1:A521)+1)","v":""}]
[{"$f":"IF(B523=\"\",\"\",MAX($A$1:A522)+1)","v":""}]
[{"$f":"IF(B524=\"\",\"\",MAX($A$1:A523)+1)","v":""}]
[{"$f":"IF(B525=\"\",\"\",MAX($A$1:A524)+1)","v":""}]
[{"$f":"IF(B526=\"\",\"\",MAX($A$1:A525)+1)","v":""}]
[{"$f":"IF(B527=\"\",\"\",MAX($A$1:A526)+1)","v":""}]
[{"$f":"IF(B528=\"\",\"\",MAX($A$1:A527)+1)","v":""}]
[{"$f":"IF(B529=\"\",\"\",MAX($A$1:A528)+1)","v":""}]
[{"$f":"IF(B530=\"\",\"\",MAX($A$1:A529)+1)","v":""}]
[{"$f":"IF(B531=\"\",\"\",MAX($A$1:A530)+1)","v":""}]
[{"$f":"IF(B532=\"\",\"\",MAX($A$1:A531)+1)","v":""}]
[{"$f":"IF(B533=\"\",\"\",MAX($A$1:A532)+1)","v":""}]
[{"$f":"IF(B534=\"\",\"\",MAX($A$1:A533)+1)","v":""}]
[{"$f":"IF(B535=\"\",\"\",MAX($A$1:A534)+1)","v":""}]
[{"$f":"IF(B536=\"\",\"\",MAX($A$1:A535)+1)","v":""}]
[{"$f":"IF(B537=\"\",\"\",MAX($A$1:A536)+1)","v":""}]
[{"$f":"IF(B538=\"\",\"\",MAX($A$1:A537)+1)","v":""}]
[{"$f":"IF(B539=\"\",\"\",MAX($A$1:A538)+1)","v":""}]
[{"$f":"IF(B540=\"\",\"\",MAX($A$1:A539)+1)","v":""}]
[{"$f":"IF(B541=\"\",\"\",MAX($A$1:A540)+1)","v":""}]
[{"$f":"IF(B542=\"\",\"\",MAX($A$1:A541)+1)","v":""}]
[{"$f":"IF(B543=\"\",\"\",MAX($A$1:A542)+1)","v":""}]
[{"$f":"IF(B544=\"\",\"\",MAX($A$1:A543)+1)","v":""}]
[{"$f":"IF(B545=\"\",\"\",MAX($A$1:A544)+1)","v":""}]
[{"$f":"IF(B546=\"\",\"\",MAX($A$1:A545)+1)","v":""}]
[{"$f":"IF(B547=\"\",\"\",MAX($A$1:A546)+1)","v":""}]
[{"$f":"IF(B548=\"\",\"\",MAX($A$1:A547)+1)","v":""}]
[{"$f":"IF(B549=\"\",\"\",MAX($A$1:A548)+1)","v":""}]
[{"$f":"IF(B550=\"\",\"\",MAX($A$1:A549)+1)","v":""}]
[{"$f":"IF(B551=\"\",\"\",MAX($A$1:A550)+1)","v":""}]
[{"$f":"IF(B552=\"\",\"\",MAX($A$1:A551)+1)","v":""}]
[{"$f":"IF(B553=\"\",\"\",MAX($A$1:A552)+1)","v":""}]
[{"$f":"IF(B554=\"\",\"\",MAX($A$1:A553)+1)","v":""}]
[{"$f":"IF(B555=\"\",\"\",MAX($A$1:A554)+1)","v":""}]
[{"$f":"IF(B556=\"\",\"\",MAX($A$1:A555)+1)","v":""}]
[{"$f":"IF(B557=\"\",\"\",MAX($A$1:A556)+1)","v":""}]
[{"$f":"IF(B558=\"\",\"\",MAX($A$1:A557)+1)","v":""}]
[{"$f":"IF(B559=\"\",\"\",MAX($A$1:A558)+1)","v":""}]
[{"$f":"IF(B560=\"\",\"\",MAX($A$1:A559)+1)","v":""}]
[{"$f":"IF(B561=\"\",\"\",MAX($A$1:A560)+1)","v":""}]
[{"$f":"IF(B562=\"\",\"\",MAX($A$1:A561)+1)","v":""}]
[{"$f":"IF(B563=\"\",\"\",MAX($A$1:A562)+1)","v":""}]
[{"$f":"IF(B564=\"\",\"\",MAX($A$1:A563)+1)","v":""}]
[{"$f":"IF(B565=\"\",\"\",MAX($A$1:A564)+1)","v":""}]
[{"$f":"IF(B566=\"\",\"\",MAX($A$1:A565)+1)","v":""}]
[{"$f":"IF(B567=\"\",\"\",MAX($A$1:A566)+1)","v":""}]
[{"$f":"IF(B568=\"\",\"\",MAX($A$1:A567)+1)","v":""}]
[{"$f":"IF(B569=\"\",\"\",MAX($A$1:A568)+1)","v":""}]
[{"$f":"IF(B570=\"\",\"\",MAX($A$1:A569)+1)","v":""}]
[{"$f":"IF(B571=\"\",\"\",MAX($A$1:A570)+1)","v":""}]
[{"$f":"IF(B572=\"\",\"\",MAX($A$1:A571)+1)","v":""}]
[{"$f":"IF(B573=\"\",\"\",MAX($A$1:A572)+1)","v":""}]
[{"$f":"IF(B574=\"\",\"\",MAX($A$1:A573)+1)","v":""}]
[{"$f":"IF(B575=\"\",\"\",MAX($A$1:A574)+1)","v":""}]
[{"$f":"IF(B576=\"\",\"\",MAX($A$1:A575)+1)","v":""}]
[{"$f":"IF(B577=\"\",\"\",MAX($A$1:A576)+1)","v":""}]
[{"$f":"IF(B578=\"\",\"\",MAX($A$1:A577)+1)","v":""}]
[{"$f":"IF(B579=\"\",\"\",MAX($A$1:A578)+1)","v":""}]
[{"$f":"IF(B580=\"\",\"\",MAX($A$1:A579)+1)","v":""}]
[{"$f":"IF(B581=\"\",\"\",MAX($A$1:A580)+1)","v":""}]
[{"$f":"IF(B582=\"\",\"\",MAX($A$1:A581)+1)","v":""}]
[{"$f":"IF(B583=\"\",\"\",MAX($A$1:A582)+1)","v":""}]
[{"$f":"IF(B584=\"\",\"\",MAX($A$1:A583)+1)","v":""}]
[{"$f":"IF(B585=\"\",\"\",MAX($A$1:A584)+1)","v":""}]
[{"$f":"IF(B586=\"\",\"\",MAX($A$1:A585)+1)","v":""}]
[{"$f":"IF(B587=\"\",\"\",MAX($A$1:A586)+1)","v":""}]
[{"$f":"IF(B588=\"\",\"\",MAX($A$1:A587)+1)","v":""}]
[{"$f":"IF(B589=\"\",\"\",MAX($A$1:A588)+1)","v":""}]
[{"$f":"IF(B590=\"\",\"\",MAX($A$1:A589)+1)","v":""}]
[{"$f":"IF(B591=\"\",\"\",MAX($A$1:A590)+1)","v":""}]
[{"$f":"IF(B592=\"\",\"\",MAX($A$1:A591)+1)","v":""}]
[{"$f":"IF(B593=\"\",\"\",MAX($A$1:A592)+1)","v":""}]
[{"$f":"IF(B594=\"\",\"\",MAX($A$1:A593)+1)","v":""}]
[{"$f":"IF(B595=\"\",\"\",MAX($A$1:A594)+1)","v":""}]
[{"$f":"IF(B596=\"\",\"\",MAX($A$1:A595)+1)","v":""}]
[{"$f":"IF(B597=\"\",\"\",MAX($A$1:A596)+1)","v":""}]
[{"$f":"IF(B598=\"\",\"\",MAX($A$1:A597)+1)","v":""}]
[{"$f":"IF(B599=\"\",\"\",MAX($A$1:A598)+1)","v":""}]
[{"$f":"IF(B600=\"\",\"\",MAX($A$1:A599)+1)","v":""}]
[{"$f":"IF(B601=\"\",\"\",MAX($A$1:A600)+1)","v":""}]
[{"$f":"IF(B602=\"\",\"\",MAX($A$1:A601)+1)","v":""}]
[{"$f":"IF(B603=\"\",\"\",MAX($A$1:A602)+1)","v":""}]
[{"$f":"IF(B604=\"\",\"\",MAX($A$1:A603)+1)","v":""}]
[{"$f":"IF(B605=\"\",\"\",MAX($A$1:A604)+1)","v":""}]
[{"$f":"IF(B606=\"\",\"\",MAX($A$1:A605)+1)","v":""}]
[{"$f":"IF(B607=\"\",\"\",MAX($A$1:A606)+1)","v":""}]
[{"$f":"IF(B608=\"\",\"\",MAX($A$1:A607)+1)","v":""}]
[{"$f":"IF(B609=\"\",\"\",MAX($A$1:A608)+1)","v":""}]
[{"$f":"IF(B610=\"\",\"\",MAX($A$1:A609)+1)","v":""}]
[{"$f":"IF(B611=\"\",\"\",MAX($A$1:A610)+1)","v":""}]
[{"$f":"IF(B612=\"\",\"\",MAX($A$1:A611)+1)","v":""}]
[{"$f":"IF(B613=\"\",\"\",MAX($A$1:A612)+1)","v":""}]
[{"$f":"IF(B614=\"\",\"\",MAX($A$1:A613)+1)","v":""}]
[{"$f":"IF(B615=\"\",\"\",MAX($A$1:A614)+1)","v":""}]
[{"$f":"IF(B616=\"\",\"\",MAX($A$1:A615)+1)","v":""}]
[{"$f":"IF(B617=\"\",\"\",MAX($A$1:A616)+1)","v":""}]
[{"$f":"IF(B618=\"\",\"\",MAX($A$1:A617)+1)","v":""}]
[{"$f":"IF(B619=\"\",\"\",MAX($A$1:A618)+1)","v":""}]
[{"$f":"IF(B620=\"\",\"\",MAX($A$1:A619)+1)","v":""}]
[{"$f":"IF(B621=\"\",\"\",MAX($A$1:A620)+1)","v":""}]
[{"$f":"IF(B622=\"\",\"\",MAX($A$1:A621)+1)","v":""}]
[{"$f":"IF(B623=\"\",\"\",MAX($A$1:A622)+1)","v":""}]
[{"$f":"IF(B624=\"\",\"\",MAX($A$1:A623)+1)","v":""}]
[{"$f":"IF(B625=\"\",\"\",MAX($A$1:A624)+1)","v":""}]
[{"$f":"IF(B626=\"\",\"\",MAX($A$1:A625)+1)","v":""}]
[{"$f":"IF(B627=\"\",\"\",MAX($A$1:A626)+1)","v":""}]
[{"$f":"IF(B628=\"\",\"\",MAX($A$1:A627)+1)","v":""}]
[{"$f":"IF(B629=\"\",\"\",MAX($A$1:A628)+1)","v":""}]
[{"$f":"IF(B630=\"\",\"\",MAX($A$1:A629)+1)","v":""}]
[{"$f":"IF(B631=\"\",\"\",MAX($A$1:A630)+1)","v":""}]
[{"$f":"IF(B632=\"\",\"\",MAX($A$1:A631)+1)","v":""}]
[{"$f":"IF(B633=\"\",\"\",MAX($A$1:A632)+1)","v":""}]
[{"$f":"IF(B634=\"\",\"\",MAX($A$1:A633)+1)","v":""}]
[{"$f":"IF(B635=\"\",\"\",MAX($A$1:A634)+1)","v":""}]
[{"$f":"IF(B636=\"\",\"\",MAX($A$1:A635)+1)","v":""}]
[{"$f":"IF(B637=\"\",\"\",MAX($A$1:A636)+1)","v":""}]
[{"$f":"IF(B638=\"\",\"\",MAX($A$1:A637)+1)","v":""}]
[{"$f":"IF(B639=\"\",\"\",MAX($A$1:A638)+1)","v":""}]
[{"$f":"IF(B640=\"\",\"\",MAX($A$1:A639)+1)","v":""}]
[{"$f":"IF(B641=\"\",\"\",MAX($A$1:A640)+1)","v":""}]
[{"$f":"IF(B642=\"\",\"\",MAX($A$1:A641)+1)","v":""}]
[{"$f":"IF(B643=\"\",\"\",MAX($A$1:A642)+1)","v":""}]
[{"$f":"IF(B644=\"\",\"\",MAX($A$1:A643)+1)","v":""}]
[{"$f":"IF(B645=\"\",\"\",MAX($A$1:A644)+1)","v":""}]
[{"$f":"IF(B646=\"\",\"\",MAX($A$1:A645)+1)","v":""}]
[{"$f":"IF(B647=\"\",\"\",MAX($A$1:A646)+1)","v":""}]
[{"$f":"IF(B648=\"\",\"\",MAX($A$1:A647)+1)","v":""}]
[{"$f":"IF(B649=\"\",\"\",MAX($A$1:A648)+1)","v":""}]
[{"$f":"IF(B650=\"\",\"\",MAX($A$1:A649)+1)","v":""}]
[{"$f":"IF(B651=\"\",\"\",MAX($A$1:A650)+1)","v":""}]
[{"$f":"IF(B652=\"\",\"\",MAX($A$1:A651)+1)","v":""}]
[{"$f":"IF(B653=\"\",\"\",MAX($A$1:A652)+1)","v":""}]
[{"$f":"IF(B654=\"\",\"\",MAX($A$1:A653)+1)","v":""}]
[{"$f":"IF(B655=\"\",\"\",MAX($A$1:A654)+1)","v":""}]
[{"$f":"IF(B656=\"\",\"\",MAX($A$1:A655)+1)","v":""}]
[{"$f":"IF(B657=\"\",\"\",MAX($A$1:A656)+1)","v":""}]
[{"$f":"IF(B658=\"\",\"\",MAX($A$1:A657)+1)","v":""}]
[{"$f":"IF(B659=\"\",\"\",MAX($A$1:A658)+1)","v":""}]
[{"$f":"IF(B660=\"\",\"\",MAX($A$1:A659)+1)","v":""}]
[{"$f":"IF(B661=\"\",\"\",MAX($A$1:A660)+1)","v":""}]
[{"$f":"IF(B662=\"\",\"\",MAX($A$1:A661)+1)","v":""}]
[{"$f":"IF(B663=\"\",\"\",MAX($A$1:A662)+1)","v":""}]
[{"$f":"IF(B664=\"\",\"\",MAX($A$1:A663)+1)","v":""}]
[{"$f":"IF(B665=\"\",\"\",MAX($A$1:A664)+1)","v":""}]
[{"$f":"IF(B666=\"\",\"\",MAX($A$1:A665)+1)","v":""}]
[{"$f":"IF(B667=\"\",\"\",MAX($A$1:A666)+1)","v":""}]
[{"$f":"IF(B668=\"\",\"\",MAX($A$1:A667)+1)","v":""}]
[{"$f":"IF(B669=\"\",\"\",MAX($A$1:A668)+1)","v":""}]
[{"$f":"IF(B670=\"\",\"\",MAX($A$1:A669)+1)","v":""}]
[{"$f":"IF(B671=\"\",\"\",MAX($A$1:A670)+1)","v":""}]
[{"$f":"IF(B672=\"\",\"\",MAX($A$1:A671)+1)","v":""}]
[{"$f":"IF(B673=\"\",\"\",MAX($A$1:A672)+1)","v":""}]
[{"$f":"IF(B674=\"\",\"\",MAX($A$1:A673)+1)","v":""}]
[{"$f":"IF(B675=\"\",\"\",MAX($A$1:A674)+1)","v":""}]
[{"$f":"IF(B676=\"\",\"\",MAX($A$1:A675)+1)","v":""}]
[{"$f":"IF(B677=\"\",\"\",MAX($A$1:A676)+1)","v":""}]
[{"$f":"IF(B678=\"\",\"\",MAX($A$1:A677)+1)","v":""}]
[{"$f":"IF(B679=\"\",\"\",MAX($A$1:A678)+1)","v":""}]
[{"$f":"IF(B680=\"\",\"\",MAX($A$1:A679)+1)","v":""}]
[{"$f":"IF(B681=\"\",\"\",MAX($A$1:A680)+1)","v":""}]
[{"$f":"IF(B682=\"\",\"\",MAX($A$1:A681)+1)","v":""}]
[{"$f":"IF(B683=\"\",\"\",MAX($A$1:A682)+1)","v":""}]
[{"$f":"IF(B684=\"\",\"\",MAX($A$1:A683)+1)","v":""}]
[{"$f":"IF(B685=\"\",\"\",MAX($A$1:A684)+1)","v":""}]
[{"$f":"IF(B686=\"\",\"\",MAX($A$1:A685)+1)","v":""}]
[{"$f":"IF(B687=\"\",\"\",MAX($A$1:A686)+1)","v":""}]
[{"$f":"IF(B688=\"\",\"\",MAX($A$1:A687)+1)","v":""}]
[{"$f":"IF(B689=\"\",\"\",MAX($A$1:A688)+1)","v":""}]
[{"$f":"IF(B690=\"\",\"\",MAX($A$1:A689)+1)","v":""}]
[{"$f":"IF(B691=\"\",\"\",MAX($A$1:A690)+1)","v":""}]
[{"$f":"IF(B692=\"\",\"\",MAX($A$1:A691)+1)","v":""}]
[{"$f":"IF(B693=\"\",\"\",MAX($A$1:A692)+1)","v":""}]
[{"$f":"IF(B694=\"\",\"\",MAX($A$1:A693)+1)","v":""}]
[{"$f":"IF(B695=\"\",\"\",MAX($A$1:A694)+1)","v":""}]
[{"$f":"IF(B696=\"\",\"\",MAX($A$1:A695)+1)","v":""}]
[{"$f":"IF(B697=\"\",\"\",MAX($A$1:A696)+1)","v":""}]
[{"$f":"IF(B698=\"\",\"\",MAX($A$1:A697)+1)","v":""}]
[{"$f":"IF(B699=\"\",\"\",MAX($A$1:A698)+1)","v":""}]
[{"$f":"IF(B700=\"\",\"\",MAX($A$1:A699)+1)","v":""}]
[{"$f":"IF(B701=\"\",\"\",MAX($A$1:A700)+1)","v":""}]
[{"$f":"IF(B702=\"\",\"\",MAX($A$1:A701)+1)","v":""}]
[{"$f":"IF(B703=\"\",\"\",MAX($A$1:A702)+1)","v":""}]
[{"$f":"IF(B704=\"\",\"\",MAX($A$1:A703)+1)","v":""}]
[{"$f":"IF(B705=\"\",\"\",MAX($A$1:A704)+1)","v":""}]
[{"$f":"IF(B706=\"\",\"\",MAX($A$1:A705)+1)","v":""}]
[{"$f":"IF(B707=\"\",\"\",MAX($A$1:A706)+1)","v":""}]
[{"$f":"IF(B708=\"\",\"\",MAX($A$1:A707)+1)","v":""}]
[{"$f":"IF(B709=\"\",\"\",MAX($A$1:A708)+1)","v":""}]
[{"$f":"IF(B710=\"\",\"\",MAX($A$1:A709)+1)","v":""}]
[{"$f":"IF(B711=\"\",\"\",MAX($A$1:A710)+1)","v":""}]
[{"$f":"IF(B712=\"\",\"\",MAX($A$1:A711)+1)","v":""}]
[{"$f":"IF(B713=\"\",\"\",MAX($A$1:A712)+1)","v":""}]
[{"$f":"IF(B714=\"\",\"\",MAX($A$1:A713)+1)","v":""}]
[{"$f":"IF(B715=\"\",\"\",MAX($A$1:A714)+1)","v":""}]
[{"$f":"IF(B716=\"\",\"\",MAX($A$1:A715)+1)","v":""}]
[{"$f":"IF(B717=\"\",\"\",MAX($A$1:A716)+1)","v":""}]
[{"$f":"IF(B718=\"\",\"\",MAX($A$1:A717)+1)","v":""}]
[{"$f":"IF(B719=\"\",\"\",MAX($A$1:A718)+1)","v":""}]
[{"$f":"IF(B720=\"\",\"\",MAX($A$1:A719)+1)","v":""}]
[{"$f":"IF(B721=\"\",\"\",MAX($A$1:A720)+1)","v":""}]
[{"$f":"IF(B722=\"\",\"\",MAX($A$1:A721)+1)","v":""}]
[{"$f":"IF(B723=\"\",\"\",MAX($A$1:A722)+1)","v":""}]
[{"$f":"IF(B724=\"\",\"\",MAX($A$1:A723)+1)","v":""}]
[{"$f":"IF(B725=\"\",\"\",MAX($A$1:A724)+1)","v":""}]
[{"$f":"IF(B726=\"\",\"\",MAX($A$1:A725)+1)","v":""}]
[{"$f":"IF(B727=\"\",\"\",MAX($A$1:A726)+1)","v":""}]
[{"$f":"IF(B728=\"\",\"\",MAX($A$1:A727)+1)","v":""}]
[{"$f":"IF(B729=\"\",\"\",MAX($A$1:A728)+1)","v":""}]
[{"$f":"IF(B730=\"\",\"\",MAX($A$1:A729)+1)","v":""}]
[{"$f":"IF(B731=\"\",\"\",MAX($A$1:A730)+1)","v":""}]
[{"$f":"IF(B732=\"\",\"\",MAX($A$1:A731)+1)","v":""}]
[{"$f":"IF(B733=\"\",\"\",MAX($A$1:A732)+1)","v":""}]
[{"$f":"IF(B734=\"\",\"\",MAX($A$1:A733)+1)","v":""}]
[{"$f":"IF(B735=\"\",\"\",MAX($A$1:A734)+1)","v":""}]
[{"$f":"IF(B736=\"\",\"\",MAX($A$1:A735)+1)","v":""}]
[{"$f":"IF(B737=\"\",\"\",MAX($A$1:A736)+1)","v":""}]
[{"$f":"IF(B738=\"\",\"\",MAX($A$1:A737)+1)","v":""}]
[{"$f":"IF(B739=\"\",\"\",MAX($A$1:A738)+1)","v":""}]
[{"$f":"IF(B740=\"\",\"\",MAX($A$1:A739)+1)","v":""}]
[{"$f":"IF(B741=\"\",\"\",MAX($A$1:A740)+1)","v":""}]
[{"$f":"IF(B742=\"\",\"\",MAX($A$1:A741)+1)","v":""}]
[{"$f":"IF(B743=\"\",\"\",MAX($A$1:A742)+1)","v":""}]
[{"$f":"IF(B744=\"\",\"\",MAX($A$1:A743)+1)","v":""}]
[{"$f":"IF(B745=\"\",\"\",MAX($A$1:A744)+1)","v":""}]
[{"$f":"IF(B746=\"\",\"\",MAX($A$1:A745)+1)","v":""}]
[{"$f":"IF(B747=\"\",\"\",MAX($A$1:A746)+1)","v":""}]
[{"$f":"IF(B748=\"\",\"\",MAX($A$1:A747)+1)","v":""}]
[{"$f":"IF(B749=\"\",\"\",MAX($A$1:A748)+1)","v":""}]
[{"$f":"IF(B750=\"\",\"\",MAX($A$1:A749)+1)","v":""}]
[{"$f":"IF(B751=\"\",\"\",MAX($A$1:A750)+1)","v":""}]
[{"$f":"IF(B752=\"\",\"\",MAX($A$1:A751)+1)","v":""}]
[{"$f":"IF(B753=\"\",\"\",MAX($A$1:A752)+1)","v":""}]
[{"$f":"IF(B754=\"\",\"\",MAX($A$1:A753)+1)","v":""}]
[{"$f":"IF(B755=\"\",\"\",MAX($A$1:A754)+1)","v":""}]
[{"$f":"IF(B756=\"\",\"\",MAX($A$1:A755)+1)","v":""}]
[{"$f":"IF(B757=\"\",\"\",MAX($A$1:A756)+1)","v":""}]
[{"$f":"IF(B758=\"\",\"\",MAX($A$1:A757)+1)","v":""}]
[{"$f":"IF(B759=\"\",\"\",MAX($A$1:A758)+1)","v":""}]
[{"$f":"IF(B760=\"\",\"\",MAX($A$1:A759)+1)","v":""}]
[{"$f":"IF(B761=\"\",\"\",MAX($A$1:A760)+1)","v":""}]
[{"$f":"IF(B762=\"\",\"\",MAX($A$1:A761)+1)","v":""}]
[{"$f":"IF(B763=\"\",\"\",MAX($A$1:A762)+1)","v":""}]
[{"$f":"IF(B764=\"\",\"\",MAX($A$1:A763)+1)","v":""}]
[{"$f":"IF(B765=\"\",\"\",MAX($A$1:A764)+1)","v":""}]
[{"$f":"IF(B766=\"\",\"\",MAX($A$1:A765)+1)","v":""}]
[{"$f":"IF(B767=\"\",\"\",MAX($A$1:A766)+1)","v":""}]
[{"$f":"IF(B768=\"\",\"\",MAX($A$1:A767)+1)","v":""}]
[{"$f":"IF(B769=\"\",\"\",MAX($A$1:A768)+1)","v":""}]
[{"$f":"IF(B770=\"\",\"\",MAX($A$1:A769)+1)","v":""}]
[{"$f":"IF(B771=\"\",\"\",MAX($A$1:A770)+1)","v":""}]
[{"$f":"IF(B772=\"\",\"\",MAX($A$1:A771)+1)","v":""}]
[{"$f":"IF(B773=\"\",\"\",MAX($A$1:A772)+1)","v":""}]
[{"$f":"IF(B774=\"\",\"\",MAX($A$1:A773)+1)","v":""}]
[{"$f":"IF(B775=\"\",\"\",MAX($A$1:A774)+1)","v":""}]
[{"$f":"IF(B776=\"\",\"\",MAX($A$1:A775)+1)","v":""}]
[{"$f":"IF(B777=\"\",\"\",MAX($A$1:A776)+1)","v":""}]
[{"$f":"IF(B778=\"\",\"\",MAX($A$1:A777)+1)","v":""}]
[{"$f":"IF(B779=\"\",\"\",MAX($A$1:A778)+1)","v":""}]
[{"$f":"IF(B780=\"\",\"\",MAX($A$1:A779)+1)","v":""}]
[{"$f":"IF(B781=\"\",\"\",MAX($A$1:A780)+1)","v":""}]
[{"$f":"IF(B782=\"\",\"\",MAX($A$1:A781)+1)","v":""}]
[{"$f":"IF(B783=\"\",\"\",MAX($A$1:A782)+1)","v":""}]
[{"$f":"IF(B784=\"\",\"\",MAX($A$1:A783)+1)","v":""}]
[{"$f":"IF(B785=\"\",\"\",MAX($A$1:A784)+1)","v":""}]
[{"$f":"IF(B786=\"\",\"\",MAX($A$1:A785)+1)","v":""}]
[{"$f":"IF(B787=\"\",\"\",MAX($A$1:A786)+1)","v":""}]
[{"$f":"IF(B788=\"\",\"\",MAX($A$1:A787)+1)","v":""}]
[{"$f":"IF(B789=\"\",\"\",MAX($A$1:A788)+1)","v":""}]
[{"$f":"IF(B790=\"\",\"\",MAX($A$1:A789)+1)","v":""}]
[{"$f":"IF(B791=\"\",\"\",MAX($A$1:A790)+1)","v":""}]
[{"$f":"IF(B792=\"\",\"\",MAX($A$1:A791)+1)","v":""}]
[{"$f":"IF(B793=\"\",\"\",MAX($A$1:A792)+1)","v":""}]
[{"$f":"IF(B794=\"\",\"\",MAX($A$1:A793)+1)","v":""}]
[{"$f":"IF(B795=\"\",\"\",MAX($A$1:A794)+1)","v":""}]
[{"$f":"IF(B796=\"\",\"\",MAX($A$1:A795)+1)","v":""}]
[{"$f":"IF(B797=\"\",\"\",MAX($A$1:A796)+1)","v":""}]
[{"$f":"IF(B798=\"\",\"\",MAX($A$1:A797)+1)","v":""}]
[{"$f":"IF(B799=\"\",\"\",MAX($A$1:A798)+1)","v":""}]
[{"$f":"IF(B800=\"\",\"\",MAX($A$1:A799)+1)","v":""}]
[{"$f":"IF(B801=\"\",\"\",MAX($A$1:A800)+1)","v":""}]
[{"$f":"IF(B802=\"\",\"\",MAX($A$1:A801)+1)","v":""}]
[{"$f":"IF(B803=\"\",\"\",MAX($A$1:A802)+1)","v":""}]
[{"$f":"IF(B804=\"\",\"\",MAX($A$1:A803)+1)","v":""}]
[{"$f":"IF(B805=\"\",\"\",MAX($A$1:A804)+1)","v":""}]
[{"$f":"IF(B806=\"\",\"\",MAX($A$1:A805)+1)","v":""}]
[{"$f":"IF(B807=\"\",\"\",MAX($A$1:A806)+1)","v":""}]
[{"$f":"IF(B808=\"\",\"\",MAX($A$1:A807)+1)","v":""}]
[{"$f":"IF(B809=\"\",\"\",MAX($A$1:A808)+1)","v":""}]
[{"$f":"IF(B810=\"\",\"\",MAX($A$1:A809)+1)","v":""}]
[{"$f":"IF(B811=\"\",\"\",MAX($A$1:A810)+1)","v":""}]
[{"$f":"IF(B812=\"\",\"\",MAX($A$1:A811)+1)","v":""}]
[{"$f":"IF(B813=\"\",\"\",MAX($A$1:A812)+1)","v":""}]
[{"$f":"IF(B814=\"\",\"\",MAX($A$1:A813)+1)","v":""}]
[{"$f":"IF(B815=\"\",\"\",MAX($A$1:A814)+1)","v":""}]
[{"$f":"IF(B816=\"\",\"\",MAX($A$1:A815)+1)","v":""}]
[{"$f":"IF(B817=\"\",\"\",MAX($A$1:A816)+1)","v":""}]
[{"$f":"IF(B818=\"\",\"\",MAX($A$1:A817)+1)","v":""}]
[{"$f":"IF(B819=\"\",\"\",MAX($A$1:A818)+1)","v":""}]
[{"$f":"IF(B820=\"\",\"\",MAX($A$1:A819)+1)","v":""}]
[{"$f":"IF(B821=\"\",\"\",MAX($A$1:A820)+1)","v":""}]
[{"$f":"IF(B822=\"\",\"\",MAX($A$1:A821)+1)","v":""}]
[{"$f":"IF(B823=\"\",\"\",MAX($A$1:A822)+1)","v":""}]
[{"$f":"IF(B824=\"\",\"\",MAX($A$1:A823)+1)","v":""}]
[{"$f":"IF(B825=\"\",\"\",MAX($A$1:A824)+1)","v":""}]
[{"$f":"IF(B826=\"\",\"\",MAX($A$1:A825)+1)","v":""}]
[{"$f":"IF(B827=\"\",\"\",MAX($A$1:A826)+1)","v":""}]
[{"$f":"IF(B828=\"\",\"\",MAX($A$1:A827)+1)","v":""}]
[{"$f":"IF(B829=\"\",\"\",MAX($A$1:A828)+1)","v":""}]
[{"$f":"IF(B830=\"\",\"\",MAX($A$1:A829)+1)","v":""}]
[{"$f":"IF(B831=\"\",\"\",MAX($A$1:A830)+1)","v":""}]
[{"$f":"IF(B832=\"\",\"\",MAX($A$1:A831)+1)","v":""}]
[{"$f":"IF(B833=\"\",\"\",MAX($A$1:A832)+1)","v":""}]
[{"$f":"IF(B834=\"\",\"\",MAX($A$1:A833)+1)","v":""}]
[{"$f":"IF(B835=\"\",\"\",MAX($A$1:A834)+1)","v":""}]
[{"$f":"IF(B836=\"\",\"\",MAX($A$1:A835)+1)","v":""}]
[{"$f":"IF(B837=\"\",\"\",MAX($A$1:A836)+1)","v":""}]
[{"$f":"IF(B838=\"\",\"\",MAX($A$1:A837)+1)","v":""}]
[{"$f":"IF(B839=\"\",\"\",MAX($A$1:A838)+1)","v":""}]
[{"$f":"IF(B840=\"\",\"\",MAX($A$1:A839)+1)","v":""}]
[{"$f":"IF(B841=\"\",\"\",MAX($A$1:A840)+1)","v":""}]
[{"$f":"IF(B842=\"\",\"\",MAX($A$1:A841)+1)","v":""}]
[{"$f":"IF(B843=\"\",\"\",MAX($A$1:A842)+1)","v":""}]
[{"$f":"IF(B844=\"\",\"\",MAX($A$1:A843)+1)","v":""}]
[{"$f":"IF(B845=\"\",\"\",MAX($A$1:A844)+1)","v":""}]
[{"$f":"IF(B846=\"\",\"\",MAX($A$1:A845)+1)","v":""}]
[{"$f":"IF(B847=\"\",\"\",MAX($A$1:A846)+1)","v":""}]
[{"$f":"IF(B848=\"\",\"\",MAX($A$1:A847)+1)","v":""}]
[{"$f":"IF(B849=\"\",\"\",MAX($A$1:A848)+1)","v":""}]
[{"$f":"IF(B850=\"\",\"\",MAX($A$1:A849)+1)","v":""}]
[{"$f":"IF(B851=\"\",\"\",MAX($A$1:A850)+1)","v":""}]
[{"$f":"IF(B852=\"\",\"\",MAX($A$1:A851)+1)","v":""}]
[{"$f":"IF(B853=\"\",\"\",MAX($A$1:A852)+1)","v":""}]
[{"$f":"IF(B854=\"\",\"\",MAX($A$1:A853)+1)","v":""}]
[{"$f":"IF(B855=\"\",\"\",MAX($A$1:A854)+1)","v":""}]
[{"$f":"IF(B856=\"\",\"\",MAX($A$1:A855)+1)","v":""}]
[{"$f":"IF(B857=\"\",\"\",MAX($A$1:A856)+1)","v":""}]
[{"$f":"IF(B858=\"\",\"\",MAX($A$1:A857)+1)","v":""}]
[{"$f":"IF(B859=\"\",\"\",MAX($A$1:A858)+1)","v":""}]
[{"$f":"IF(B860=\"\",\"\",MAX($A$1:A859)+1)","v":""}]
[{"$f":"IF(B861=\"\",\"\",MAX($A$1:A860)+1)","v":""}]
[{"$f":"IF(B862=\"\",\"\",MAX($A$1:A861)+1)","v":""}]
[{"$f":"IF(B863=\"\",\"\",MAX($A$1:A862)+1)","v":""}]
[{"$f":"IF(B864=\"\",\"\",MAX($A$1:A863)+1)","v":""}]
[{"$f":"IF(B865=\"\",\"\",MAX($A$1:A864)+1)","v":""}]
[{"$f":"IF(B866=\"\",\"\",MAX($A$1:A865)+1)","v":""}]
[{"$f":"IF(B867=\"\",\"\",MAX($A$1:A866)+1)","v":""}]
[{"$f":"IF(B868=\"\",\"\",MAX($A$1:A867)+1)","v":""}]
[{"$f":"IF(B869=\"\",\"\",MAX($A$1:A868)+1)","v":""}]
[{"$f":"IF(B870=\"\",\"\",MAX($A$1:A869)+1)","v":""}]
[{"$f":"IF(B871=\"\",\"\",MAX($A$1:A870)+1)","v":""}]
[{"$f":"IF(B872=\"\",\"\",MAX($A$1:A871)+1)","v":""}]
[{"$f":"IF(B873=\"\",\"\",MAX($A$1:A872)+1)","v":""}]
[{"$f":"IF(B874=\"\",\"\",MAX($A$1:A873)+1)","v":""}]
[{"$f":"IF(B875=\"\",\"\",MAX($A$1:A874)+1)","v":""}]
[{"$f":"IF(B876=\"\",\"\",MAX($A$1:A875)+1)","v":""}]
[{"$f":"IF(B877=\"\",\"\",MAX($A$1:A876)+1)","v":""}]
[{"$f":"IF(B878=\"\",\"\",MAX($A$1:A877)+1)","v":""}]
[{"$f":"IF(B879=\"\",\"\",MAX($A$1:A878)+1)","v":""}]
[{"$f":"IF(B880=\"\",\"\",MAX($A$1:A879)+1)","v":""}]
[{"$f":"IF(B881=\"\",\"\",MAX($A$1:A880)+1)","v":""}]
[{"$f":"IF(B882=\"\",\"\",MAX($A$1:A881)+1)","v":""}]
[{"$f":"IF(B883=\"\",\"\",MAX($A$1:A882)+1)","v":""}]
[{"$f":"IF(B884=\"\",\"\",MAX($A$1:A883)+1)","v":""}]
[{"$f":"IF(B885=\"\",\"\",MAX($A$1:A884)+1)","v":""}]
[{"$f":"IF(B886=\"\",\"\",MAX($A$1:A885)+1)","v":""}]
[{"$f":"IF(B887=\"\",\"\",MAX($A$1:A886)+1)","v":""}]
[{"$f":"IF(B888=\"\",\"\",MAX($A$1:A887)+1)","v":""}]
[{"$f":"IF(B889=\"\",\"\",MAX($A$1:A888)+1)","v":""}]
[{"$f":"IF(B890=\"\",\"\",MAX($A$1:A889)+1)","v":""}]
[{"$f":"IF(B891=\"\",\"\",MAX($A$1:A890)+1)","v":""}]
[{"$f":"IF(B892=\"\",\"\",MAX($A$1:A891)+1)","v":""}]
[{"$f":"IF(B893=\"\",\"\",MAX($A$1:A892)+1)","v":""}]
[{"$f":"IF(B894=\"\",\"\",MAX($A$1:A893)+1)","v":""}]
[{"$f":"IF(B895=\"\",\"\",MAX($A$1:A894)+1)","v":""}]
[{"$f":"IF(B896=\"\",\"\",MAX($A$1:A895)+1)","v":""}]
[{"$f":"IF(B897=\"\",\"\",MAX($A$1:A896)+1)","v":""}]
[{"$f":"IF(B898=\"\",\"\",MAX($A$1:A897)+1)","v":""}]
[{"$f":"IF(B899=\"\",\"\",MAX($A$1:A898)+1)","v":""}]
[{"$f":"IF(B900=\"\",\"\",MAX($A$1:A899)+1)","v":""}]
[{"$f":"IF(B901=\"\",\"\",MAX($A$1:A900)+1)","v":""}]
[{"$f":"IF(B902=\"\",\"\",MAX($A$1:A901)+1)","v":""}]
[{"$f":"IF(B903=\"\",\"\",MAX($A$1:A902)+1)","v":""}]
[{"$f":"IF(B904=\"\",\"\",MAX($A$1:A903)+1)","v":""}]
[{"$f":"IF(B905=\"\",\"\",MAX($A$1:A904)+1)","v":""}]
[{"$f":"IF(B906=\"\",\"\",MAX($A$1:A905)+1)","v":""}]
[{"$f":"IF(B907=\"\",\"\",MAX($A$1:A906)+1)","v":""}]
[{"$f":"IF(B908=\"\",\"\",MAX($A$1:A907)+1)","v":""}]
[{"$f":"IF(B909=\"\",\"\",MAX($A$1:A908)+1)","v":""}]
[{"$f":"IF(B910=\"\",\"\",MAX($A$1:A909)+1)","v":""}]
[{"$f":"IF(B911=\"\",\"\",MAX($A$1:A910)+1)","v":""}]
[{"$f":"IF(B912=\"\",\"\",MAX($A$1:A911)+1)","v":""}]
[{"$f":"IF(B913=\"\",\"\",MAX($A$1:A912)+1)","v":""}]
[{"$f":"IF(B914=\"\",\"\",MAX($A$1:A913)+1)","v":""}]
[{"$f":"IF(B915=\"\",\"\",MAX($A$1:A914)+1)","v":""}]
[{"$f":"IF(B916=\"\",\"\",MAX($A$1:A915)+1)","v":""}]
[{"$f":"IF(B917=\"\",\"\",MAX($A$1:A916)+1)","v":""}]
[{"$f":"IF(B918=\"\",\"\",MAX($A$1:A917)+1)","v":""}]
[{"$f":"IF(B919=\"\",\"\",MAX($A$1:A918)+1)","v":""}]
[{"$f":"IF(B920=\"\",\"\",MAX($A$1:A919)+1)","v":""}]
[{"$f":"IF(B921=\"\",\"\",MAX($A$1:A920)+1)","v":""}]
[{"$f":"IF(B922=\"\",\"\",MAX($A$1:A921)+1)","v":""}]
[{"$f":"IF(B923=\"\",\"\",MAX($A$1:A922)+1)","v":""}]
[{"$f":"IF(B924=\"\",\"\",MAX($A$1:A923)+1)","v":""}]
[{"$f":"IF(B925=\"\",\"\",MAX($A$1:A924)+1)","v":""}]
[{"$f":"IF(B926=\"\",\"\",MAX($A$1:A925)+1)","v":""}]
[{"$f":"IF(B927=\"\",\"\",MAX($A$1:A926)+1)","v":""}]
[{"$f":"IF(B928=\"\",\"\",MAX($A$1:A927)+1)","v":""}]
[{"$f":"IF(B929=\"\",\"\",MAX($A$1:A928)+1)","v":""}]
[{"$f":"IF(B930=\"\",\"\",MAX($A$1:A929)+1)","v":""}]
[{"$f":"IF(B931=\"\",\"\",MAX($A$1:A930)+1)","v":""}]
[{"$f":"IF(B932=\"\",\"\",MAX($A$1:A931)+1)","v":""}]
[{"$f":"IF(B933=\"\",\"\",MAX($A$1:A932)+1)","v":""}]
[{"$f":"IF(B934=\"\",\"\",MAX($A$1:A933)+1)","v":""}]
[{"$f":"IF(B935=\"\",\"\",MAX($A$1:A934)+1)","v":""}]
[{"$f":"IF(B936=\"\",\"\",MAX($A$1:A935)+1)","v":""}]
[{"$f":"IF(B937=\"\",\"\",MAX($A$1:A936)+1)","v":""}]
[{"$f":"IF(B938=\"\",\"\",MAX($A$1:A937)+1)","v":""}]
[{"$f":"IF(B939=\"\",\"\",MAX($A$1:A938)+1)","v":""}]
[{"$f":"IF(B940=\"\",\"\",MAX($A$1:A939)+1)","v":""}]
[{"$f":"IF(B941=\"\",\"\",MAX($A$1:A940)+1)","v":""}]
[{"$f":"IF(B942=\"\",\"\",MAX($A$1:A941)+1)","v":""}]
[{"$f":"IF(B943=\"\",\"\",MAX($A$1:A942)+1)","v":""}]
[{"$f":"IF(B944=\"\",\"\",MAX($A$1:A943)+1)","v":""}]
[{"$f":"IF(B945=\"\",\"\",MAX($A$1:A944)+1)","v":""}]
[{"$f":"IF(B946=\"\",\"\",MAX($A$1:A945)+1)","v":""}]
[{"$f":"IF(B947=\"\",\"\",MAX($A$1:A946)+1)","v":""}]
[{"$f":"IF(B948=\"\",\"\",MAX($A$1:A947)+1)","v":""}]
[{"$f":"IF(B949=\"\",\"\",MAX($A$1:A948)+1)","v":""}]
[{"$f":"IF(B950=\"\",\"\",MAX($A$1:A949)+1)","v":""}]
[{"$f":"IF(B951=\"\",\"\",MAX($A$1:A950)+1)","v":""}]
[{"$f":"IF(B952=\"\",\"\",MAX($A$1:A951)+1)","v":""}]
[{"$f":"IF(B953=\"\",\"\",MAX($A$1:A952)+1)","v":""}]
[{"$f":"IF(B954=\"\",\"\",MAX($A$1:A953)+1)","v":""}]
[{"$f":"IF(B955=\"\",\"\",MAX($A$1:A954)+1)","v":""}]
[{"$f":"IF(B956=\"\",\"\",MAX($A$1:A955)+1)","v":""}]
[{"$f":"IF(B957=\"\",\"\",MAX($A$1:A956)+1)","v":""}]
[{"$f":"IF(B958=\"\",\"\",MAX($A$1:A957)+1)","v":""}]
[{"$f":"IF(B959=\"\",\"\",MAX($A$1:A958)+1)","v":""}]
[{"$f":"IF(B960=\"\",\"\",MAX($A$1:A959)+1)","v":""}]
[{"$f":"IF(B961=\"\",\"\",MAX($A$1:A960)+1)","v":""}]
[{"$f":"IF(B962=\"\",\"\",MAX($A$1:A961)+1)","v":""}]
[{"$f":"IF(B963=\"\",\"\",MAX($A$1:A962)+1)","v":""}]
[{"$f":"IF(B964=\"\",\"\",MAX($A$1:A963)+1)","v":""}]
[{"$f":"IF(B965=\"\",\"\",MAX($A$1:A964)+1)","v":""}]
[{"$f":"IF(B966=\"\",\"\",MAX($A$1:A965)+1)","v":""}]
[{"$f":"IF(B967=\"\",\"\",MAX($A$1:A966)+1)","v":""}]
[{"$f":"IF(B968=\"\",\"\",MAX($A$1:A967)+1)","v":""}]
[{"$f":"IF(B969=\"\",\"\",MAX($A$1:A968)+1)","v":""}]
[{"$f":"IF(B970=\"\",\"\",MAX($A$1:A969)+1)","v":""}]
[{"$f":"IF(B971=\"\",\"\",MAX($A$1:A970)+1)","v":""}]
[{"$f":"IF(B972=\"\",\"\",MAX($A$1:A971)+1)","v":""}]
[{"$f":"IF(B973=\"\",\"\",MAX($A$1:A972)+1)","v":""}]
[{"$f":"IF(B974=\"\",\"\",MAX($A$1:A973)+1)","v":""}]
[{"$f":"IF(B975=\"\",\"\",MAX($A$1:A974)+1)","v":""}]
[{"$f":"IF(B976=\"\",\"\",MAX($A$1:A975)+1)","v":""}]
[{"$f":"IF(B977=\"\",\"\",MAX($A$1:A976)+1)","v":""}]
[{"$f":"IF(B978=\"\",\"\",MAX($A$1:A977)+1)","v":""}]
[{"$f":"IF(B979=\"\",\"\",MAX($A$1:A978)+1)","v":""}]
[{"$f":"IF(B980=\"\",\"\",MAX($A$1:A979)+1)","v":""}]
[{"$f":"IF(B981=\"\",\"\",MAX($A$1:A980)+1)","v":""}]
[{"$f":"IF(B982=\"\",\"\",MAX($A$1:A981)+1)","v":""}]
[{"$f":"IF(B983=\"\",\"\",MAX($A$1:A982)+1)","v":""}]
[{"$f":"IF(B984=\"\",\"\",MAX($A$1:A983)+1)","v":""}]
[{"$f":"IF(B985=\"\",\"\",MAX($A$1:A984)+1)","v":""}]
[{"$f":"IF(B986=\"\",\"\",MAX($A$1:A985)+1)","v":""}]
[{"$f":"IF(B987=\"\",\"\",MAX($A$1:A986)+1)","v":""}]
[{"$f":"IF(B988=\"\",\"\",MAX($A$1:A987)+1)","v":""}]
[{"$f":"IF(B989=\"\",\"\",MAX($A$1:A988)+1)","v":""}]
[{"$f":"IF(B990=\"\",\"\",MAX($A$1:A989)+1)","v":""}]
[{"$f":"IF(B991=\"\",\"\",MAX($A$1:A990)+1)","v":""}]
[{"$f":"IF(B992=\"\",\"\",MAX($A$1:A991)+1)","v":""}]
[{"$f":"IF(B993=\"\",\"\",MAX($A$1:A992)+1)","v":""}]
[{"$f":"IF(B994=\"\",\"\",MAX($A$1:A993)+1)","v":""}]
[{"$f":"IF(B995=\"\",\"\",MAX($A$1:A994)+1)","v":""}]
[{"$f":"IF(B996=\"\",\"\",MAX($A$1:A995)+1)","v":""}]
[{"$f":"IF(B997=\"\",\"\",MAX($A$1:A996)+1)","v":""}]
[{"$f":"IF(B998=\"\",\"\",MAX($A$1:A997)+1)","v":""}]
[{"$f":"IF(B999=\"\",\"\",MAX($A$1:A998)+1)","v":""}]
[{"$f":"IF(B1000=\"\",\"\",MAX($A$1:A999)+1)","v":""}]

{"sheet":"Vertragsarten","index":6,"n_rows":1000,"n_cols":2,"rows_kept":1000,"cut":false,"hidden":false,"merged":[]}
[null,{"$f":"MID(CELL(\"Dateiname\",$A$1),FIND(\"]\", CELL(\"Dateiname\",$A$1))+1,31)","v":"Vertragsarten"}]
[]
[{"$f":"IF(B3=\"\",\"\",1)","v":1},"Architektenvertrag / Ingenieurvertrag"]
[{"$f":"IF(B4=\"\",\"\",MAX($A$1:A3)+1)","v":2},"Beratervertrag"]
[{"$f":"IF(B5=\"\",\"\",MAX($A$1:A4)+1)","v":3},"Dienstleistungsvertrag"]
[{"$f":"IF(B6=\"\",\"\",MAX($A$1:A5)+1)","v":4},"Liefervertrag"]
[{"$f":"IF(B7=\"\",\"\",MAX($A$1:A6)+1)","v":5},"Rahmenvertrag"]
[{"$f":"IF(B8=\"\",\"\",MAX($A$1:A7)+1)","v":6},"Sonstiger Vertrag"]
[{"$f":"IF(B9=\"\",\"\",MAX($A$1:A8)+1)","v":""}]
[{"$f":"IF(B10=\"\",\"\",MAX($A$1:A9)+1)","v":""}]
[{"$f":"IF(B11=\"\",\"\",MAX($A$1:A10)+1)","v":""}]
[{"$f":"IF(B12=\"\",\"\",MAX($A$1:A11)+1)","v":""}]
[{"$f":"IF(B13=\"\",\"\",MAX($A$1:A12)+1)","v":""}]
[{"$f":"IF(B14=\"\",\"\",MAX($A$1:A13)+1)","v":""}]
[{"$f":"IF(B15=\"\",\"\",MAX($A$1:A14)+1)","v":""}]
[{"$f":"IF(B16=\"\",\"\",MAX($A$1:A15)+1)","v":""}]
[{"$f":"IF(B17=\"\",\"\",MAX($A$1:A16)+1)","v":""}]
[{"$f":"IF(B18=\"\",\"\",MAX($A$1:A17)+1)","v":""}]
[{"$f":"IF(B19=\"\",\"\",MAX($A$1:A18)+1)","v":""}]
[{"$f":"IF(B20=\"\",\"\",MAX($A$1:A19)+1)","v":""}]
[{"$f":"IF(B21=\"\",\"\",MAX($A$1:A20)+1)","v":""}]
[{"$f":"IF(B22=\"\",\"\",MAX($A$1:A21)+1)","v":""}]
[{"$f":"IF(B23=\"\",\"\",MAX($A$1:A22)+1)","v":""}]
[{"$f":"IF(B24=\"\",\"\",MAX($A$1:A23)+1)","v":""}]
[{"$f":"IF(B25=\"\",\"\",MAX($A$1:A24)+1)","v":""}]
[{"$f":"IF(B26=\"\",\"\",MAX($A$1:A25)+1)","v":""}]
[{"$f":"IF(B27=\"\",\"\",MAX($A$1:A26)+1)","v":""}]
[{"$f":"IF(B28=\"\",\"\",MAX($A$1:A27)+1)","v":""}]
[{"$f":"IF(B29=\"\",\"\",MAX($A$1:A28)+1)","v":""}]
[{"$f":"IF(B30=\"\",\"\",MAX($A$1:A29)+1)","v":""}]
[{"$f":"IF(B31=\"\",\"\",MAX($A$1:A30)+1)","v":""}]
[{"$f":"IF(B32=\"\",\"\",MAX($A$1:A31)+1)","v":""}]
[{"$f":"IF(B33=\"\",\"\",MAX($A$1:A32)+1)","v":""}]
[{"$f":"IF(B34=\"\",\"\",MAX($A$1:A33)+1)","v":""}]
[{"$f":"IF(B35=\"\",\"\",MAX($A$1:A34)+1)","v":""}]
[{"$f":"IF(B36=\"\",\"\",MAX($A$1:A35)+1)","v":""}]
[{"$f":"IF(B37=\"\",\"\",MAX($A$1:A36)+1)","v":""}]
[{"$f":"IF(B38=\"\",\"\",MAX($A$1:A37)+1)","v":""}]
[{"$f":"IF(B39=\"\",\"\",MAX($A$1:A38)+1)","v":""}]
[{"$f":"IF(B40=\"\",\"\",MAX($A$1:A39)+1)","v":""}]
[{"$f":"IF(B41=\"\",\"\",MAX($A$1:A40)+1)","v":""}]
[{"$f":"IF(B42=\"\",\"\",MAX($A$1:A41)+1)","v":""}]
[{"$f":"IF(B43=\"\",\"\",MAX($A$1:A42)+1)","v":""}]
[{"$f":"IF(B44=\"\",\"\",MAX($A$1:A43)+1)","v":""}]
[{"$f":"IF(B45=\"\",\"\",MAX($A$1:A44)+1)","v":""}]
[{"$f":"IF(B46=\"\",\"\",MAX($A$1:A45)+1)","v":""}]
[{"$f":"IF(B47=\"\",\"\",MAX($A$1:A46)+1)","v":""}]
[{"$f":"IF(B48=\"\",\"\",MAX($A$1:A47)+1)","v":""}]
[{"$f":"IF(B49=\"\",\"\",MAX($A$1:A48)+1)","v":""}]
[{"$f":"IF(B50=\"\",\"\",MAX($A$1:A49)+1)","v":""}]
[{"$f":"IF(B51=\"\",\"\",MAX($A$1:A50)+1)","v":""}]
[{"$f":"IF(B52=\"\",\"\",MAX($A$1:A51)+1)","v":""}]
[{"$f":"IF(B53=\"\",\"\",MAX($A$1:A52)+1)","v":""}]
[{"$f":"IF(B54=\"\",\"\",MAX($A$1:A53)+1)","v":""}]
[{"$f":"IF(B55=\"\",\"\",MAX($A$1:A54)+1)","v":""}]
[{"$f":"IF(B56=\"\",\"\",MAX($A$1:A55)+1)","v":""}]
[{"$f":"IF(B57=\"\",\"\",MAX($A$1:A56)+1)","v":""}]
[{"$f":"IF(B58=\"\",\"\",MAX($A$1:A57)+1)","v":""}]
[{"$f":"IF(B59=\"\",\"\",MAX($A$1:A58)+1)","v":""}]
[{"$f":"IF(B60=\"\",\"\",MAX($A$1:A59)+1)","v":""}]
[{"$f":"IF(B61=\"\",\"\",MAX($A$1:A60)+1)","v":""}]
[{"$f":"IF(B62=\"\",\"\",MAX($A$1:A61)+1)","v":""}]
[{"$f":"IF(B63=\"\",\"\",MAX($A$1:A62)+1)","v":""}]
[{"$f":"IF(B64=\"\",\"\",MAX($A$1:A63)+1)","v":""}]
[{"$f":"IF(B65=\"\",\"\",MAX($A$1:A64)+1)","v":""}]
[{"$f":"IF(B66=\"\",\"\",MAX($A$1:A65)+1)","v":""}]
[{"$f":"IF(B67=\"\",\"\",MAX($A$1:A66)+1)","v":""}]
[{"$f":"IF(B68=\"\",\"\",MAX($A$1:A67)+1)","v":""}]
[{"$f":"IF(B69=\"\",\"\",MAX($A$1:A68)+1)","v":""}]
[{"$f":"IF(B70=\"\",\"\",MAX($A$1:A69)+1)","v":""}]
[{"$f":"IF(B71=\"\",\"\",MAX($A$1:A70)+1)","v":""}]
[{"$f":"IF(B72=\"\",\"\",MAX($A$1:A71)+1)","v":""}]
[{"$f":"IF(B73=\"\",\"\",MAX($A$1:A72)+1)","v":""}]
[{"$f":"IF(B74=\"\",\"\",MAX($A$1:A73)+1)","v":""}]
[{"$f":"IF(B75=\"\",\"\",MAX($A$1:A74)+1)","v":""}]
[{"$f":"IF(B76=\"\",\"\",MAX($A$1:A75)+1)","v":""}]
[{"$f":"IF(B77=\"\",\"\",MAX($A$1:A76)+1)","v":""}]
[{"$f":"IF(B78=\"\",\"\",MAX($A$1:A77)+1)","v":""}]
[{"$f":"IF(B79=\"\",\"\",MAX($A$1:A78)+1)","v":""}]
[{"$f":"IF(B80=\"\",\"\",MAX($A$1:A79)+1)","v":""}]
[{"$f":"IF(B81=\"\",\"\",MAX($A$1:A80)+1)","v":""}]
[{"$f":"IF(B82=\"\",\"\",MAX($A$1:A81)+1)","v":""}]
[{"$f":"IF(B83=\"\",\"\",MAX($A$1:A82)+1)","v":""}]
[{"$f":"IF(B84=\"\",\"\",MAX($A$1:A83)+1)","v":""}]
[{"$f":"IF(B85=\"\",\"\",MAX($A$1:A84)+1)","v":""}]
[{"$f":"IF(B86=\"\",\"\",MAX($A$1:A85)+1)","v":""}]
[{"$f":"IF(B87=\"\",\"\",MAX($A$1:A86)+1)","v":""}]
[{"$f":"IF(B88=\"\",\"\",MAX($A$1:A87)+1)","v":""}]
[{"$f":"IF(B89=\"\",\"\",MAX($A$1:A88)+1)","v":""}]
[{"$f":"IF(B90=\"\",\"\",MAX($A$1:A89)+1)","v":""}]
[{"$f":"IF(B91=\"\",\"\",MAX($A$1:A90)+1)","v":""}]
[{"$f":"IF(B92=\"\",\"\",MAX($A$1:A91)+1)","v":""}]
[{"$f":"IF(B93=\"\",\"\",MAX($A$1:A92)+1)","v":""}]
[{"$f":"IF(B94=\"\",\"\",MAX($A$1:A93)+1)","v":""}]
[{"$f":"IF(B95=\"\",\"\",MAX($A$1:A94)+1)","v":""}]
[{"$f":"IF(B96=\"\",\"\",MAX($A$1:A95)+1)","v":""}]
[{"$f":"IF(B97=\"\",\"\",MAX($A$1:A96)+1)","v":""}]
[{"$f":"IF(B98=\"\",\"\",MAX($A$1:A97)+1)","v":""}]
[{"$f":"IF(B99=\"\",\"\",MAX($A$1:A98)+1)","v":""}]
[{"$f":"IF(B100=\"\",\"\",MAX($A$1:A99)+1)","v":""}]
[{"$f":"IF(B101=\"\",\"\",MAX($A$1:A100)+1)","v":""}]
[{"$f":"IF(B102=\"\",\"\",MAX($A$1:A101)+1)","v":""}]
[{"$f":"IF(B103=\"\",\"\",MAX($A$1:A102)+1)","v":""}]
[{"$f":"IF(B104=\"\",\"\",MAX($A$1:A103)+1)","v":""}]
[{"$f":"IF(B105=\"\",\"\",MAX($A$1:A104)+1)","v":""}]
[{"$f":"IF(B106=\"\",\"\",MAX($A$1:A105)+1)","v":""}]
[{"$f":"IF(B107=\"\",\"\",MAX($A$1:A106)+1)","v":""}]
[{"$f":"IF(B108=\"\",\"\",MAX($A$1:A107)+1)","v":""}]
[{"$f":"IF(B109=\"\",\"\",MAX($A$1:A108)+1)","v":""}]
[{"$f":"IF(B110=\"\",\"\",MAX($A$1:A109)+1)","v":""}]
[{"$f":"IF(B111=\"\",\"\",MAX($A$1:A110)+1)","v":""}]
[{"$f":"IF(B112=\"\",\"\",MAX($A$1:A111)+1)","v":""}]
[{"$f":"IF(B113=\"\",\"\",MAX($A$1:A112)+1)","v":""}]
[{"$f":"IF(B114=\"\",\"\",MAX($A$1:A113)+1)","v":""}]
[{"$f":"IF(B115=\"\",\"\",MAX($A$1:A114)+1)","v":""}]
[{"$f":"IF(B116=\"\",\"\",MAX($A$1:A115)+1)","v":""}]
[{"$f":"IF(B117=\"\",\"\",MAX($A$1:A116)+1)","v":""}]
[{"$f":"IF(B118=\"\",\"\",MAX($A$1:A117)+1)","v":""}]
[{"$f":"IF(B119=\"\",\"\",MAX($A$1:A118)+1)","v":""}]
[{"$f":"IF(B120=\"\",\"\",MAX($A$1:A119)+1)","v":""}]
[{"$f":"IF(B121=\"\",\"\",MAX($A$1:A120)+1)","v":""}]
[{"$f":"IF(B122=\"\",\"\",MAX($A$1:A121)+1)","v":""}]
[{"$f":"IF(B123=\"\",\"\",MAX($A$1:A122)+1)","v":""}]
[{"$f":"IF(B124=\"\",\"\",MAX($A$1:A123)+1)","v":""}]
[{"$f":"IF(B125=\"\",\"\",MAX($A$1:A124)+1)","v":""}]
[{"$f":"IF(B126=\"\",\"\",MAX($A$1:A125)+1)","v":""}]
[{"$f":"IF(B127=\"\",\"\",MAX($A$1:A126)+1)","v":""}]
[{"$f":"IF(B128=\"\",\"\",MAX($A$1:A127)+1)","v":""}]
[{"$f":"IF(B129=\"\",\"\",MAX($A$1:A128)+1)","v":""}]
[{"$f":"IF(B130=\"\",\"\",MAX($A$1:A129)+1)","v":""}]
[{"$f":"IF(B131=\"\",\"\",MAX($A$1:A130)+1)","v":""}]
[{"$f":"IF(B132=\"\",\"\",MAX($A$1:A131)+1)","v":""}]
[{"$f":"IF(B133=\"\",\"\",MAX($A$1:A132)+1)","v":""}]
[{"$f":"IF(B134=\"\",\"\",MAX($A$1:A133)+1)","v":""}]
[{"$f":"IF(B135=\"\",\"\",MAX($A$1:A134)+1)","v":""}]
[{"$f":"IF(B136=\"\",\"\",MAX($A$1:A135)+1)","v":""}]
[{"$f":"IF(B137=\"\",\"\",MAX($A$1:A136)+1)","v":""}]
[{"$f":"IF(B138=\"\",\"\",MAX($A$1:A137)+1)","v":""}]
[{"$f":"IF(B139=\"\",\"\",MAX($A$1:A138)+1)","v":""}]
[{"$f":"IF(B140=\"\",\"\",MAX($A$1:A139)+1)","v":""}]
[{"$f":"IF(B141=\"\",\"\",MAX($A$1:A140)+1)","v":""}]
[{"$f":"IF(B142=\"\",\"\",MAX($A$1:A141)+1)","v":""}]
[{"$f":"IF(B143=\"\",\"\",MAX($A$1:A142)+1)","v":""}]
[{"$f":"IF(B144=\"\",\"\",MAX($A$1:A143)+1)","v":""}]
[{"$f":"IF(B145=\"\",\"\",MAX($A$1:A144)+1)","v":""}]
[{"$f":"IF(B146=\"\",\"\",MAX($A$1:A145)+1)","v":""}]
[{"$f":"IF(B147=\"\",\"\",MAX($A$1:A146)+1)","v":""}]
[{"$f":"IF(B148=\"\",\"\",MAX($A$1:A147)+1)","v":""}]
[{"$f":"IF(B149=\"\",\"\",MAX($A$1:A148)+1)","v":""}]
[{"$f":"IF(B150=\"\",\"\",MAX($A$1:A149)+1)","v":""}]
[{"$f":"IF(B151=\"\",\"\",MAX($A$1:A150)+1)","v":""}]
[{"$f":"IF(B152=\"\",\"\",MAX($A$1:A151)+1)","v":""}]
[{"$f":"IF(B153=\"\",\"\",MAX($A$1:A152)+1)","v":""}]
[{"$f":"IF(B154=\"\",\"\",MAX($A$1:A153)+1)","v":""}]
[{"$f":"IF(B155=\"\",\"\",MAX($A$1:A154)+1)","v":""}]
[{"$f":"IF(B156=\"\",\"\",MAX($A$1:A155)+1)","v":""}]
[{"$f":"IF(B157=\"\",\"\",MAX($A$1:A156)+1)","v":""}]
[{"$f":"IF(B158=\"\",\"\",MAX($A$1:A157)+1)","v":""}]
[{"$f":"IF(B159=\"\",\"\",MAX($A$1:A158)+1)","v":""}]
[{"$f":"IF(B160=\"\",\"\",MAX($A$1:A159)+1)","v":""}]
[{"$f":"IF(B161=\"\",\"\",MAX($A$1:A160)+1)","v":""}]
[{"$f":"IF(B162=\"\",\"\",MAX($A$1:A161)+1)","v":""}]
[{"$f":"IF(B163=\"\",\"\",MAX($A$1:A162)+1)","v":""}]
[{"$f":"IF(B164=\"\",\"\",MAX($A$1:A163)+1)","v":""}]
[{"$f":"IF(B165=\"\",\"\",MAX($A$1:A164)+1)","v":""}]
[{"$f":"IF(B166=\"\",\"\",MAX($A$1:A165)+1)","v":""}]
[{"$f":"IF(B167=\"\",\"\",MAX($A$1:A166)+1)","v":""}]
[{"$f":"IF(B168=\"\",\"\",MAX($A$1:A167)+1)","v":""}]
[{"$f":"IF(B169=\"\",\"\",MAX($A$1:A168)+1)","v":""}]
[{"$f":"IF(B170=\"\",\"\",MAX($A$1:A169)+1)","v":""}]
[{"$f":"IF(B171=\"\",\"\",MAX($A$1:A170)+1)","v":""}]
[{"$f":"IF(B172=\"\",\"\",MAX($A$1:A171)+1)","v":""}]
[{"$f":"IF(B173=\"\",\"\",MAX($A$1:A172)+1)","v":""}]
[{"$f":"IF(B174=\"\",\"\",MAX($A$1:A173)+1)","v":""}]
[{"$f":"IF(B175=\"\",\"\",MAX($A$1:A174)+1)","v":""}]
[{"$f":"IF(B176=\"\",\"\",MAX($A$1:A175)+1)","v":""}]
[{"$f":"IF(B177=\"\",\"\",MAX($A$1:A176)+1)","v":""}]
[{"$f":"IF(B178=\"\",\"\",MAX($A$1:A177)+1)","v":""}]
[{"$f":"IF(B179=\"\",\"\",MAX($A$1:A178)+1)","v":""}]
[{"$f":"IF(B180=\"\",\"\",MAX($A$1:A179)+1)","v":""}]
[{"$f":"IF(B181=\"\",\"\",MAX($A$1:A180)+1)","v":""}]
[{"$f":"IF(B182=\"\",\"\",MAX($A$1:A181)+1)","v":""}]
[{"$f":"IF(B183=\"\",\"\",MAX($A$1:A182)+1)","v":""}]
[{"$f":"IF(B184=\"\",\"\",MAX($A$1:A183)+1)","v":""}]
[{"$f":"IF(B185=\"\",\"\",MAX($A$1:A184)+1)","v":""}]
[{"$f":"IF(B186=\"\",\"\",MAX($A$1:A185)+1)","v":""}]
[{"$f":"IF(B187=\"\",\"\",MAX($A$1:A186)+1)","v":""}]
[{"$f":"IF(B188=\"\",\"\",MAX($A$1:A187)+1)","v":""}]
[{"$f":"IF(B189=\"\",\"\",MAX($A$1:A188)+1)","v":""}]
[{"$f":"IF(B190=\"\",\"\",MAX($A$1:A189)+1)","v":""}]
[{"$f":"IF(B191=\"\",\"\",MAX($A$1:A190)+1)","v":""}]
[{"$f":"IF(B192=\"\",\"\",MAX($A$1:A191)+1)","v":""}]
[{"$f":"IF(B193=\"\",\"\",MAX($A$1:A192)+1)","v":""}]
[{"$f":"IF(B194=\"\",\"\",MAX($A$1:A193)+1)","v":""}]
[{"$f":"IF(B195=\"\",\"\",MAX($A$1:A194)+1)","v":""}]
[{"$f":"IF(B196=\"\",\"\",MAX($A$1:A195)+1)","v":""}]
[{"$f":"IF(B197=\"\",\"\",MAX($A$1:A196)+1)","v":""}]
[{"$f":"IF(B198=\"\",\"\",MAX($A$1:A197)+1)","v":""}]
[{"$f":"IF(B199=\"\",\"\",MAX($A$1:A198)+1)","v":""}]
[{"$f":"IF(B200=\"\",\"\",MAX($A$1:A199)+1)","v":""}]
[{"$f":"IF(B201=\"\",\"\",MAX($A$1:A200)+1)","v":""}]
[{"$f":"IF(B202=\"\",\"\",MAX($A$1:A201)+1)","v":""}]
[{"$f":"IF(B203=\"\",\"\",MAX($A$1:A202)+1)","v":""}]
[{"$f":"IF(B204=\"\",\"\",MAX($A$1:A203)+1)","v":""}]
[{"$f":"IF(B205=\"\",\"\",MAX($A$1:A204)+1)","v":""}]
[{"$f":"IF(B206=\"\",\"\",MAX($A$1:A205)+1)","v":""}]
[{"$f":"IF(B207=\"\",\"\",MAX($A$1:A206)+1)","v":""}]
[{"$f":"IF(B208=\"\",\"\",MAX($A$1:A207)+1)","v":""}]
[{"$f":"IF(B209=\"\",\"\",MAX($A$1:A208)+1)","v":""}]
[{"$f":"IF(B210=\"\",\"\",MAX($A$1:A209)+1)","v":""}]
[{"$f":"IF(B211=\"\",\"\",MAX($A$1:A210)+1)","v":""}]
[{"$f":"IF(B212=\"\",\"\",MAX($A$1:A211)+1)","v":""}]
[{"$f":"IF(B213=\"\",\"\",MAX($A$1:A212)+1)","v":""}]
[{"$f":"IF(B214=\"\",\"\",MAX($A$1:A213)+1)","v":""}]
[{"$f":"IF(B215=\"\",\"\",MAX($A$1:A214)+1)","v":""}]
[{"$f":"IF(B216=\"\",\"\",MAX($A$1:A215)+1)","v":""}]
[{"$f":"IF(B217=\"\",\"\",MAX($A$1:A216)+1)","v":""}]
[{"$f":"IF(B218=\"\",\"\",MAX($A$1:A217)+1)","v":""}]
[{"$f":"IF(B219=\"\",\"\",MAX($A$1:A218)+1)","v":""}]
[{"$f":"IF(B220=\"\",\"\",MAX($A$1:A219)+1)","v":""}]
[{"$f":"IF(B221=\"\",\"\",MAX($A$1:A220)+1)","v":""}]
[{"$f":"IF(B222=\"\",\"\",MAX($A$1:A221)+1)","v":""}]
[{"$f":"IF(B223=\"\",\"\",MAX($A$1:A222)+1)","v":""}]
[{"$f":"IF(B224=\"\",\"\",MAX($A$1:A223)+1)","v":""}]
[{"$f":"IF(B225=\"\",\"\",MAX($A$1:A224)+1)","v":""}]
[{"$f":"IF(B226=\"\",\"\",MAX($A$1:A225)+1)","v":""}]
[{"$f":"IF(B227=\"\",\"\",MAX($A$1:A226)+1)","v":""}]
[{"$f":"IF(B228=\"\",\"\",MAX($A$1:A227)+1)","v":""}]
[{"$f":"IF(B229=\"\",\"\",MAX($A$1:A228)+1)","v":""}]
[{"$f":"IF(B230=\"\",\"\",MAX($A$1:A229)+1)","v":""}]
[{"$f":"IF(B231=\"\",\"\",MAX($A$1:A230)+1)","v":""}]
[{"$f":"IF(B232=\"\",\"\",MAX($A$1:A231)+1)","v":""}]
[{"$f":"IF(B233=\"\",\"\",MAX($A$1:A232)+1)","v":""}]
[{"$f":"IF(B234=\"\",\"\",MAX($A$1:A233)+1)","v":""}]
[{"$f":"IF(B235=\"\",\"\",MAX($A$1:A234)+1)","v":""}]
[{"$f":"IF(B236=\"\",\"\",MAX($A$1:A235)+1)","v":""}]
[{"$f":"IF(B237=\"\",\"\",MAX($A$1:A236)+1)","v":""}]
[{"$f":"IF(B238=\"\",\"\",MAX($A$1:A237)+1)","v":""}]
[{"$f":"IF(B239=\"\",\"\",MAX($A$1:A238)+1)","v":""}]
[{"$f":"IF(B240=\"\",\"\",MAX($A$1:A239)+1)","v":""}]
[{"$f":"IF(B241=\"\",\"\",MAX($A$1:A240)+1)","v":""}]
[{"$f":"IF(B242=\"\",\"\",MAX($A$1:A241)+1)","v":""}]
[{"$f":"IF(B243=\"\",\"\",MAX($A$1:A242)+1)","v":""}]
[{"$f":"IF(B244=\"\",\"\",MAX($A$1:A243)+1)","v":""}]
[{"$f":"IF(B245=\"\",\"\",MAX($A$1:A244)+1)","v":""}]
[{"$f":"IF(B246=\"\",\"\",MAX($A$1:A245)+1)","v":""}]
[{"$f":"IF(B247=\"\",\"\",MAX($A$1:A246)+1)","v":""}]
[{"$f":"IF(B248=\"\",\"\",MAX($A$1:A247)+1)","v":""}]
[{"$f":"IF(B249=\"\",\"\",MAX($A$1:A248)+1)","v":""}]
[{"$f":"IF(B250=\"\",\"\",MAX($A$1:A249)+1)","v":""}]
[{"$f":"IF(B251=\"\",\"\",MAX($A$1:A250)+1)","v":""}]
[{"$f":"IF(B252=\"\",\"\",MAX($A$1:A251)+1)","v":""}]
[{"$f":"IF(B253=\"\",\"\",MAX($A$1:A252)+1)","v":""}]
[{"$f":"IF(B254=\"\",\"\",MAX($A$1:A253)+1)","v":""}]
[{"$f":"IF(B255=\"\",\"\",MAX($A$1:A254)+1)","v":""}]
[{"$f":"IF(B256=\"\",\"\",MAX($A$1:A255)+1)","v":""}]
[{"$f":"IF(B257=\"\",\"\",MAX($A$1:A256)+1)","v":""}]
[{"$f":"IF(B258=\"\",\"\",MAX($A$1:A257)+1)","v":""}]
[{"$f":"IF(B259=\"\",\"\",MAX($A$1:A258)+1)","v":""}]
[{"$f":"IF(B260=\"\",\"\",MAX($A$1:A259)+1)","v":""}]
[{"$f":"IF(B261=\"\",\"\",MAX($A$1:A260)+1)","v":""}]
[{"$f":"IF(B262=\"\",\"\",MAX($A$1:A261)+1)","v":""}]
[{"$f":"IF(B263=\"\",\"\",MAX($A$1:A262)+1)","v":""}]
[{"$f":"IF(B264=\"\",\"\",MAX($A$1:A263)+1)","v":""}]
[{"$f":"IF(B265=\"\",\"\",MAX($A$1:A264)+1)","v":""}]
[{"$f":"IF(B266=\"\",\"\",MAX($A$1:A265)+1)","v":""}]
[{"$f":"IF(B267=\"\",\"\",MAX($A$1:A266)+1)","v":""}]
[{"$f":"IF(B268=\"\",\"\",MAX($A$1:A267)+1)","v":""}]
[{"$f":"IF(B269=\"\",\"\",MAX($A$1:A268)+1)","v":""}]
[{"$f":"IF(B270=\"\",\"\",MAX($A$1:A269)+1)","v":""}]
[{"$f":"IF(B271=\"\",\"\",MAX($A$1:A270)+1)","v":""}]
[{"$f":"IF(B272=\"\",\"\",MAX($A$1:A271)+1)","v":""}]
[{"$f":"IF(B273=\"\",\"\",MAX($A$1:A272)+1)","v":""}]
[{"$f":"IF(B274=\"\",\"\",MAX($A$1:A273)+1)","v":""}]
[{"$f":"IF(B275=\"\",\"\",MAX($A$1:A274)+1)","v":""}]
[{"$f":"IF(B276=\"\",\"\",MAX($A$1:A275)+1)","v":""}]
[{"$f":"IF(B277=\"\",\"\",MAX($A$1:A276)+1)","v":""}]
[{"$f":"IF(B278=\"\",\"\",MAX($A$1:A277)+1)","v":""}]
[{"$f":"IF(B279=\"\",\"\",MAX($A$1:A278)+1)","v":""}]
[{"$f":"IF(B280=\"\",\"\",MAX($A$1:A279)+1)","v":""}]
[{"$f":"IF(B281=\"\",\"\",MAX($A$1:A280)+1)","v":""}]
[{"$f":"IF(B282=\"\",\"\",MAX($A$1:A281)+1)","v":""}]
[{"$f":"IF(B283=\"\",\"\",MAX($A$1:A282)+1)","v":""}]
[{"$f":"IF(B284=\"\",\"\",MAX($A$1:A283)+1)","v":""}]
[{"$f":"IF(B285=\"\",\"\",MAX($A$1:A284)+1)","v":""}]
[{"$f":"IF(B286=\"\",\"\",MAX($A$1:A285)+1)","v":""}]
[{"$f":"IF(B287=\"\",\"\",MAX($A$1:A286)+1)","v":""}]
[{"$f":"IF(B288=\"\",\"\",MAX($A$1:A287)+1)","v":""}]
[{"$f":"IF(B289=\"\",\"\",MAX($A$1:A288)+1)","v":""}]
[{"$f":"IF(B290=\"\",\"\",MAX($A$1:A289)+1)","v":""}]
[{"$f":"IF(B291=\"\",\"\",MAX($A$1:A290)+1)","v":""}]
[{"$f":"IF(B292=\"\",\"\",MAX($A$1:A291)+1)","v":""}]
[{"$f":"IF(B293=\"\",\"\",MAX($A$1:A292)+1)","v":""}]
[{"$f":"IF(B294=\"\",\"\",MAX($A$1:A293)+1)","v":""}]
[{"$f":"IF(B295=\"\",\"\",MAX($A$1:A294)+1)","v":""}]
[{"$f":"IF(B296=\"\",\"\",MAX($A$1:A295)+1)","v":""}]
[{"$f":"IF(B297=\"\",\"\",MAX($A$1:A296)+1)","v":""}]
[{"$f":"IF(B298=\"\",\"\",MAX($A$1:A297)+1)","v":""}]
[{"$f":"IF(B299=\"\",\"\",MAX($A$1:A298)+1)","v":""}]
[{"$f":"IF(B300=\"\",\"\",MAX($A$1:A299)+1)","v":""}]
[{"$f":"IF(B301=\"\",\"\",MAX($A$1:A300)+1)","v":""}]
[{"$f":"IF(B302=\"\",\"\",MAX($A$1:A301)+1)","v":""}]
[{"$f":"IF(B303=\"\",\"\",MAX($A$1:A302)+1)","v":""}]
[{"$f":"IF(B304=\"\",\"\",MAX($A$1:A303)+1)","v":""}]
[{"$f":"IF(B305=\"\",\"\",MAX($A$1:A304)+1)","v":""}]
[{"$f":"IF(B306=\"\",\"\",MAX($A$1:A305)+1)","v":""}]
[{"$f":"IF(B307=\"\",\"\",MAX($A$1:A306)+1)","v":""}]
[{"$f":"IF(B308=\"\",\"\",MAX($A$1:A307)+1)","v":""}]
[{"$f":"IF(B309=\"\",\"\",MAX($A$1:A308)+1)","v":""}]
[{"$f":"IF(B310=\"\",\"\",MAX($A$1:A309)+1)","v":""}]
[{"$f":"IF(B311=\"\",\"\",MAX($A$1:A310)+1)","v":""}]
[{"$f":"IF(B312=\"\",\"\",MAX($A$1:A311)+1)","v":""}]
[{"$f":"IF(B313=\"\",\"\",MAX($A$1:A312)+1)","v":""}]
[{"$f":"IF(B314=\"\",\"\",MAX($A$1:A313)+1)","v":""}]
[{"$f":"IF(B315=\"\",\"\",MAX($A$1:A314)+1)","v":""}]
[{"$f":"IF(B316=\"\",\"\",MAX($A$1:A315)+1)","v":""}]
[{"$f":"IF(B317=\"\",\"\",MAX($A$1:A316)+1)","v":""}]
[{"$f":"IF(B318=\"\",\"\",MAX($A$1:A317)+1)","v":""}]
[{"$f":"IF(B319=\"\",\"\",MAX($A$1:A318)+1)","v":""}]
[{"$f":"IF(B320=\"\",\"\",MAX($A$1:A319)+1)","v":""}]
[{"$f":"IF(B321=\"\",\"\",MAX($A$1:A320)+1)","v":""}]
[{"$f":"IF(B322=\"\",\"\",MAX($A$1:A321)+1)","v":""}]
[{"$f":"IF(B323=\"\",\"\",MAX($A$1:A322)+1)","v":""}]
[{"$f":"IF(B324=\"\",\"\",MAX($A$1:A323)+1)","v":""}]
[{"$f":"IF(B325=\"\",\"\",MAX($A$1:A324)+1)","v":""}]
[{"$f":"IF(B326=\"\",\"\",MAX($A$1:A325)+1)","v":""}]
[{"$f":"IF(B327=\"\",\"\",MAX($A$1:A326)+1)","v":""}]
[{"$f":"IF(B328=\"\",\"\",MAX($A$1:A327)+1)","v":""}]
[{"$f":"IF(B329=\"\",\"\",MAX($A$1:A328)+1)","v":""}]
[{"$f":"IF(B330=\"\",\"\",MAX($A$1:A329)+1)","v":""}]
[{"$f":"IF(B331=\"\",\"\",MAX($A$1:A330)+1)","v":""}]
[{"$f":"IF(B332=\"\",\"\",MAX($A$1:A331)+1)","v":""}]
[{"$f":"IF(B333=\"\",\"\",MAX($A$1:A332)+1)","v":""}]
[{"$f":"IF(B334=\"\",\"\",MAX($A$1:A333)+1)","v":""}]
[{"$f":"IF(B335=\"\",\"\",MAX($A$1:A334)+1)","v":""}]
[{"$f":"IF(B336=\"\",\"\",MAX($A$1:A335)+1)","v":""}]
[{"$f":"IF(B337=\"\",\"\",MAX($A$1:A336)+1)","v":""}]
[{"$f":"IF(B338=\"\",\"\",MAX($A$1:A337)+1)","v":""}]
[{"$f":"IF(B339=\"\",\"\",MAX($A$1:A338)+1)","v":""}]
[{"$f":"IF(B340=\"\",\"\",MAX($A$1:A339)+1)","v":""}]
[{"$f":"IF(B341=\"\",\"\",MAX($A$1:A340)+1)","v":""}]
[{"$f":"IF(B342=\"\",\"\",MAX($A$1:A341)+1)","v":""}]
[{"$f":"IF(B343=\"\",\"\",MAX($A$1:A342)+1)","v":""}]
[{"$f":"IF(B344=\"\",\"\",MAX($A$1:A343)+1)","v":""}]
[{"$f":"IF(B345=\"\",\"\",MAX($A$1:A344)+1)","v":""}]
[{"$f":"IF(B346=\"\",\"\",MAX($A$1:A345)+1)","v":""}]
[{"$f":"IF(B347=\"\",\"\",MAX($A$1:A346)+1)","v":""}]
[{"$f":"IF(B348=\"\",\"\",MAX($A$1:A347)+1)","v":""}]
[{"$f":"IF(B349=\"\",\"\",MAX($A$1:A348)+1)","v":""}]
[{"$f":"IF(B350=\"\",\"\",MAX($A$1:A349)+1)","v":""}]
[{"$f":"IF(B351=\"\",\"\",MAX($A$1:A350)+1)","v":""}]
[{"$f":"IF(B352=\"\",\"\",MAX($A$1:A351)+1)","v":""}]
[{"$f":"IF(B353=\"\",\"\",MAX($A$1:A352)+1)","v":""}]
[{"$f":"IF(B354=\"\",\"\",MAX($A$1:A353)+1)","v":""}]
[{"$f":"IF(B355=\"\",\"\",MAX($A$1:A354)+1)","v":""}]
[{"$f":"IF(B356=\"\",\"\",MAX($A$1:A355)+1)","v":""}]
[{"$f":"IF(B357=\"\",\"\",MAX($A$1:A356)+1)","v":""}]
[{"$f":"IF(B358=\"\",\"\",MAX($A$1:A357)+1)","v":""}]
[{"$f":"IF(B359=\"\",\"\",MAX($A$1:A358)+1)","v":""}]
[{"$f":"IF(B360=\"\",\"\",MAX($A$1:A359)+1)","v":""}]
[{"$f":"IF(B361=\"\",\"\",MAX($A$1:A360)+1)","v":""}]
[{"$f":"IF(B362=\"\",\"\",MAX($A$1:A361)+1)","v":""}]
[{"$f":"IF(B363=\"\",\"\",MAX($A$1:A362)+1)","v":""}]
[{"$f":"IF(B364=\"\",\"\",MAX($A$1:A363)+1)","v":""}]
[{"$f":"IF(B365=\"\",\"\",MAX($A$1:A364)+1)","v":""}]
[{"$f":"IF(B366=\"\",\"\",MAX($A$1:A365)+1)","v":""}]
[{"$f":"IF(B367=\"\",\"\",MAX($A$1:A366)+1)","v":""}]
[{"$f":"IF(B368=\"\",\"\",MAX($A$1:A367)+1)","v":""}]
[{"$f":"IF(B369=\"\",\"\",MAX($A$1:A368)+1)","v":""}]
[{"$f":"IF(B370=\"\",\"\",MAX($A$1:A369)+1)","v":""}]
[{"$f":"IF(B371=\"\",\"\",MAX($A$1:A370)+1)","v":""}]
[{"$f":"IF(B372=\"\",\"\",MAX($A$1:A371)+1)","v":""}]
[{"$f":"IF(B373=\"\",\"\",MAX($A$1:A372)+1)","v":""}]
[{"$f":"IF(B374=\"\",\"\",MAX($A$1:A373)+1)","v":""}]
[{"$f":"IF(B375=\"\",\"\",MAX($A$1:A374)+1)","v":""}]
[{"$f":"IF(B376=\"\",\"\",MAX($A$1:A375)+1)","v":""}]
[{"$f":"IF(B377=\"\",\"\",MAX($A$1:A376)+1)","v":""}]
[{"$f":"IF(B378=\"\",\"\",MAX($A$1:A377)+1)","v":""}]
[{"$f":"IF(B379=\"\",\"\",MAX($A$1:A378)+1)","v":""}]
[{"$f":"IF(B380=\"\",\"\",MAX($A$1:A379)+1)","v":""}]
[{"$f":"IF(B381=\"\",\"\",MAX($A$1:A380)+1)","v":""}]
[{"$f":"IF(B382=\"\",\"\",MAX($A$1:A381)+1)","v":""}]
[{"$f":"IF(B383=\"\",\"\",MAX($A$1:A382)+1)","v":""}]
[{"$f":"IF(B384=\"\",\"\",MAX($A$1:A383)+1)","v":""}]
[{"$f":"IF(B385=\"\",\"\",MAX($A$1:A384)+1)","v":""}]
[{"$f":"IF(B386=\"\",\"\",MAX($A$1:A385)+1)","v":""}]
[{"$f":"IF(B387=\"\",\"\",MAX($A$1:A386)+1)","v":""}]
[{"$f":"IF(B388=\"\",\"\",MAX($A$1:A387)+1)","v":""}]
[{"$f":"IF(B389=\"\",\"\",MAX($A$1:A388)+1)","v":""}]
[{"$f":"IF(B390=\"\",\"\",MAX($A$1:A389)+1)","v":""}]
[{"$f":"IF(B391=\"\",\"\",MAX($A$1:A390)+1)","v":""}]
[{"$f":"IF(B392=\"\",\"\",MAX($A$1:A391)+1)","v":""}]
[{"$f":"IF(B393=\"\",\"\",MAX($A$1:A392)+1)","v":""}]
[{"$f":"IF(B394=\"\",\"\",MAX($A$1:A393)+1)","v":""}]
[{"$f":"IF(B395=\"\",\"\",MAX($A$1:A394)+1)","v":""}]
[{"$f":"IF(B396=\"\",\"\",MAX($A$1:A395)+1)","v":""}]
[{"$f":"IF(B397=\"\",\"\",MAX($A$1:A396)+1)","v":""}]
[{"$f":"IF(B398=\"\",\"\",MAX($A$1:A397)+1)","v":""}]
[{"$f":"IF(B399=\"\",\"\",MAX($A$1:A398)+1)","v":""}]
[{"$f":"IF(B400=\"\",\"\",MAX($A$1:A399)+1)","v":""}]
[{"$f":"IF(B401=\"\",\"\",MAX($A$1:A400)+1)","v":""}]
[{"$f":"IF(B402=\"\",\"\",MAX($A$1:A401)+1)","v":""}]
[{"$f":"IF(B403=\"\",\"\",MAX($A$1:A402)+1)","v":""}]
[{"$f":"IF(B404=\"\",\"\",MAX($A$1:A403)+1)","v":""}]
[{"$f":"IF(B405=\"\",\"\",MAX($A$1:A404)+1)","v":""}]
[{"$f":"IF(B406=\"\",\"\",MAX($A$1:A405)+1)","v":""}]
[{"$f":"IF(B407=\"\",\"\",MAX($A$1:A406)+1)","v":""}]
[{"$f":"IF(B408=\"\",\"\",MAX($A$1:A407)+1)","v":""}]
[{"$f":"IF(B409=\"\",\"\",MAX($A$1:A408)+1)","v":""}]
[{"$f":"IF(B410=\"\",\"\",MAX($A$1:A409)+1)","v":""}]
[{"$f":"IF(B411=\"\",\"\",MAX($A$1:A410)+1)","v":""}]
[{"$f":"IF(B412=\"\",\"\",MAX($A$1:A411)+1)","v":""}]
[{"$f":"IF(B413=\"\",\"\",MAX($A$1:A412)+1)","v":""}]
[{"$f":"IF(B414=\"\",\"\",MAX($A$1:A413)+1)","v":""}]
[{"$f":"IF(B415=\"\",\"\",MAX($A$1:A414)+1)","v":""}]
[{"$f":"IF(B416=\"\",\"\",MAX($A$1:A415)+1)","v":""}]
[{"$f":"IF(B417=\"\",\"\",MAX($A$1:A416)+1)","v":""}]
[{"$f":"IF(B418=\"\",\"\",MAX($A$1:A417)+1)","v":""}]
[{"$f":"IF(B419=\"\",\"\",MAX($A$1:A418)+1)","v":""}]
[{"$f":"IF(B420=\"\",\"\",MAX($A$1:A419)+1)","v":""}]
[{"$f":"IF(B421=\"\",\"\",MAX($A$1:A420)+1)","v":""}]
[{"$f":"IF(B422=\"\",\"\",MAX($A$1:A421)+1)","v":""}]
[{"$f":"IF(B423=\"\",\"\",MAX($A$1:A422)+1)","v":""}]
[{"$f":"IF(B424=\"\",\"\",MAX($A$1:A423)+1)","v":""}]
[{"$f":"IF(B425=\"\",\"\",MAX($A$1:A424)+1)","v":""}]
[{"$f":"IF(B426=\"\",\"\",MAX($A$1:A425)+1)","v":""}]
[{"$f":"IF(B427=\"\",\"\",MAX($A$1:A426)+1)","v":""}]
[{"$f":"IF(B428=\"\",\"\",MAX($A$1:A427)+1)","v":""}]
[{"$f":"IF(B429=\"\",\"\",MAX($A$1:A428)+1)","v":""}]
[{"$f":"IF(B430=\"\",\"\",MAX($A$1:A429)+1)","v":""}]
[{"$f":"IF(B431=\"\",\"\",MAX($A$1:A430)+1)","v":""}]
[{"$f":"IF(B432=\"\",\"\",MAX($A$1:A431)+1)","v":""}]
[{"$f":"IF(B433=\"\",\"\",MAX($A$1:A432)+1)","v":""}]
[{"$f":"IF(B434=\"\",\"\",MAX($A$1:A433)+1)","v":""}]
[{"$f":"IF(B435=\"\",\"\",MAX($A$1:A434)+1)","v":""}]
[{"$f":"IF(B436=\"\",\"\",MAX($A$1:A435)+1)","v":""}]
[{"$f":"IF(B437=\"\",\"\",MAX($A$1:A436)+1)","v":""}]
[{"$f":"IF(B438=\"\",\"\",MAX($A$1:A437)+1)","v":""}]
[{"$f":"IF(B439=\"\",\"\",MAX($A$1:A438)+1)","v":""}]
[{"$f":"IF(B440=\"\",\"\",MAX($A$1:A439)+1)","v":""}]
[{"$f":"IF(B441=\"\",\"\",MAX($A$1:A440)+1)","v":""}]
[{"$f":"IF(B442=\"\",\"\",MAX($A$1:A441)+1)","v":""}]
[{"$f":"IF(B443=\"\",\"\",MAX($A$1:A442)+1)","v":""}]
[{"$f":"IF(B444=\"\",\"\",MAX($A$1:A443)+1)","v":""}]
[{"$f":"IF(B445=\"\",\"\",MAX($A$1:A444)+1)","v":""}]
[{"$f":"IF(B446=\"\",\"\",MAX($A$1:A445)+1)","v":""}]
[{"$f":"IF(B447=\"\",\"\",MAX($A$1:A446)+1)","v":""}]
[{"$f":"IF(B448=\"\",\"\",MAX($A$1:A447)+1)","v":""}]
[{"$f":"IF(B449=\"\",\"\",MAX($A$1:A448)+1)","v":""}]
[{"$f":"IF(B450=\"\",\"\",MAX($A$1:A449)+1)","v":""}]
[{"$f":"IF(B451=\"\",\"\",MAX($A$1:A450)+1)","v":""}]
[{"$f":"IF(B452=\"\",\"\",MAX($A$1:A451)+1)","v":""}]
[{"$f":"IF(B453=\"\",\"\",MAX($A$1:A452)+1)","v":""}]
[{"$f":"IF(B454=\"\",\"\",MAX($A$1:A453)+1)","v":""}]
[{"$f":"IF(B455=\"\",\"\",MAX($A$1:A454)+1)","v":""}]
[{"$f":"IF(B456=\"\",\"\",MAX($A$1:A455)+1)","v":""}]
[{"$f":"IF(B457=\"\",\"\",MAX($A$1:A456)+1)","v":""}]
[{"$f":"IF(B458=\"\",\"\",MAX($A$1:A457)+1)","v":""}]
[{"$f":"IF(B459=\"\",\"\",MAX($A$1:A458)+1)","v":""}]
[{"$f":"IF(B460=\"\",\"\",MAX($A$1:A459)+1)","v":""}]
[{"$f":"IF(B461=\"\",\"\",MAX($A$1:A460)+1)","v":""}]
[{"$f":"IF(B462=\"\",\"\",MAX($A$1:A461)+1)","v":""}]
[{"$f":"IF(B463=\"\",\"\",MAX($A$1:A462)+1)","v":""}]
[{"$f":"IF(B464=\"\",\"\",MAX($A$1:A463)+1)","v":""}]
[{"$f":"IF(B465=\"\",\"\",MAX($A$1:A464)+1)","v":""}]
[{"$f":"IF(B466=\"\",\"\",MAX($A$1:A465)+1)","v":""}]
[{"$f":"IF(B467=\"\",\"\",MAX($A$1:A466)+1)","v":""}]
[{"$f":"IF(B468=\"\",\"\",MAX($A$1:A467)+1)","v":""}]
[{"$f":"IF(B469=\"\",\"\",MAX($A$1:A468)+1)","v":""}]
[{"$f":"IF(B470=\"\",\"\",MAX($A$1:A469)+1)","v":""}]
[{"$f":"IF(B471=\"\",\"\",MAX($A$1:A470)+1)","v":""}]
[{"$f":"IF(B472=\"\",\"\",MAX($A$1:A471)+1)","v":""}]
[{"$f":"IF(B473=\"\",\"\",MAX($A$1:A472)+1)","v":""}]
[{"$f":"IF(B474=\"\",\"\",MAX($A$1:A473)+1)","v":""}]
[{"$f":"IF(B475=\"\",\"\",MAX($A$1:A474)+1)","v":""}]
[{"$f":"IF(B476=\"\",\"\",MAX($A$1:A475)+1)","v":""}]
[{"$f":"IF(B477=\"\",\"\",MAX($A$1:A476)+1)","v":""}]
[{"$f":"IF(B478=\"\",\"\",MAX($A$1:A477)+1)","v":""}]
[{"$f":"IF(B479=\"\",\"\",MAX($A$1:A478)+1)","v":""}]
[{"$f":"IF(B480=\"\",\"\",MAX($A$1:A479)+1)","v":""}]
[{"$f":"IF(B481=\"\",\"\",MAX($A$1:A480)+1)","v":""}]
[{"$f":"IF(B482=\"\",\"\",MAX($A$1:A481)+1)","v":""}]
[{"$f":"IF(B483=\"\",\"\",MAX($A$1:A482)+1)","v":""}]
[{"$f":"IF(B484=\"\",\"\",MAX($A$1:A483)+1)","v":""}]
[{"$f":"IF(B485=\"\",\"\",MAX($A$1:A484)+1)","v":""}]
[{"$f":"IF(B486=\"\",\"\",MAX($A$1:A485)+1)","v":""}]
[{"$f":"IF(B487=\"\",\"\",MAX($A$1:A486)+1)","v":""}]
[{"$f":"IF(B488=\"\",\"\",MAX($A$1:A487)+1)","v":""}]
[{"$f":"IF(B489=\"\",\"\",MAX($A$1:A488)+1)","v":""}]
[{"$f":"IF(B490=\"\",\"\",MAX($A$1:A489)+1)","v":""}]
[{"$f":"IF(B491=\"\",\"\",MAX($A$1:A490)+1)","v":""}]
[{"$f":"IF(B492=\"\",\"\",MAX($A$1:A491)+1)","v":""}]
[{"$f":"IF(B493=\"\",\"\",MAX($A$1:A492)+1)","v":""}]
[{"$f":"IF(B494=\"\",\"\",MAX($A$1:A493)+1)","v":""}]
[{"$f":"IF(B495=\"\",\"\",MAX($A$1:A494)+1)","v":""}]
[{"$f":"IF(B496=\"\",\"\",MAX($A$1:A495)+1)","v":""}]
[{"$f":"IF(B497=\"\",\"\",MAX($A$1:A496)+1)","v":""}]
[{"$f":"IF(B498=\"\",\"\",MAX($A$1:A497)+1)","v":""}]
[{"$f":"IF(B499=\"\",\"\",MAX($A$1:A498)+1)","v":""}]
[{"$f":"IF(B500=\"\",\"\",MAX($A$1:A499)+1)","v":""}]
[{"$f":"IF(B501=\"\",\"\",MAX($A$1:A500)+1)","v":""}]
[{"$f":"IF(B502=\"\",\"\",MAX($A$1:A501)+1)","v":""}]
[{"$f":"IF(B503=\"\",\"\",MAX($A$1:A502)+1)","v":""}]
[{"$f":"IF(B504=\"\",\"\",MAX($A$1:A503)+1)","v":""}]
[{"$f":"IF(B505=\"\",\"\",MAX($A$1:A504)+1)","v":""}]
[{"$f":"IF(B506=\"\",\"\",MAX($A$1:A505)+1)","v":""}]
[{"$f":"IF(B507=\"\",\"\",MAX($A$1:A506)+1)","v":""}]
[{"$f":"IF(B508=\"\",\"\",MAX($A$1:A507)+1)","v":""}]
[{"$f":"IF(B509=\"\",\"\",MAX($A$1:A508)+1)","v":""}]
[{"$f":"IF(B510=\"\",\"\",MAX($A$1:A509)+1)","v":""}]
[{"$f":"IF(B511=\"\",\"\",MAX($A$1:A510)+1)","v":""}]
[{"$f":"IF(B512=\"\",\"\",MAX($A$1:A511)+1)","v":""}]
[{"$f":"IF(B513=\"\",\"\",MAX($A$1:A512)+1)","v":""}]
[{"$f":"IF(B514=\"\",\"\",MAX($A$1:A513)+1)","v":""}]
[{"$f":"IF(B515=\"\",\"\",MAX($A$1:A514)+1)","v":""}]
[{"$f":"IF(B516=\"\",\"\",MAX($A$1:A515)+1)","v":""}]
[{"$f":"IF(B517=\"\",\"\",MAX($A$1:A516)+1)","v":""}]
[{"$f":"IF(B518=\"\",\"\",MAX($A$1:A517)+1)","v":""}]
[{"$f":"IF(B519=\"\",\"\",MAX($A$1:A518)+1)","v":""}]
[{"$f":"IF(B520=\"\",\"\",MAX($A$1:A519)+1)","v":""}]
[{"$f":"IF(B521=\"\",\"\",MAX($A$1:A520)+1)","v":""}]
[{"$f":"IF(B522=\"\",\"\",MAX($A$1:A521)+1)","v":""}]
[{"$f":"IF(B523=\"\",\"\",MAX($A$1:A522)+1)","v":""}]
[{"$f":"IF(B524=\"\",\"\",MAX($A$1:A523)+1)","v":""}]
[{"$f":"IF(B525=\"\",\"\",MAX($A$1:A524)+1)","v":""}]
[{"$f":"IF(B526=\"\",\"\",MAX($A$1:A525)+1)","v":""}]
[{"$f":"IF(B527=\"\",\"\",MAX($A$1:A526)+1)","v":""}]
[{"$f":"IF(B528=\"\",\"\",MAX($A$1:A527)+1)","v":""}]
[{"$f":"IF(B529=\"\",\"\",MAX($A$1:A528)+1)","v":""}]
[{"$f":"IF(B530=\"\",\"\",MAX($A$1:A529)+1)","v":""}]
[{"$f":"IF(B531=\"\",\"\",MAX($A$1:A530)+1)","v":""}]
[{"$f":"IF(B532=\"\",\"\",MAX($A$1:A531)+1)","v":""}]
[{"$f":"IF(B533=\"\",\"\",MAX($A$1:A532)+1)","v":""}]
[{"$f":"IF(B534=\"\",\"\",MAX($A$1:A533)+1)","v":""}]
[{"$f":"IF(B535=\"\",\"\",MAX($A$1:A534)+1)","v":""}]
[{"$f":"IF(B536=\"\",\"\",MAX($A$1:A535)+1)","v":""}]
[{"$f":"IF(B537=\"\",\"\",MAX($A$1:A536)+1)","v":""}]
[{"$f":"IF(B538=\"\",\"\",MAX($A$1:A537)+1)","v":""}]
[{"$f":"IF(B539=\"\",\"\",MAX($A$1:A538)+1)","v":""}]
[{"$f":"IF(B540=\"\",\"\",MAX($A$1:A539)+1)","v":""}]
[{"$f":"IF(B541=\"\",\"\",MAX($A$1:A540)+1)","v":""}]
[{"$f":"IF(B542=\"\",\"\",MAX($A$1:A541)+1)","v":""}]
[{"$f":"IF(B543=\"\",\"\",MAX($A$1:A542)+1)","v":""}]
[{"$f":"IF(B544=\"\",\"\",MAX($A$1:A543)+1)","v":""}]
[{"$f":"IF(B545=\"\",\"\",MAX($A$1:A544)+1)","v":""}]
[{"$f":"IF(B546=\"\",\"\",MAX($A$1:A545)+1)","v":""}]
[{"$f":"IF(B547=\"\",\"\",MAX($A$1:A546)+1)","v":""}]
[{"$f":"IF(B548=\"\",\"\",MAX($A$1:A547)+1)","v":""}]
[{"$f":"IF(B549=\"\",\"\",MAX($A$1:A548)+1)","v":""}]
[{"$f":"IF(B550=\"\",\"\",MAX($A$1:A549)+1)","v":""}]
[{"$f":"IF(B551=\"\",\"\",MAX($A$1:A550)+1)","v":""}]
[{"$f":"IF(B552=\"\",\"\",MAX($A$1:A551)+1)","v":""}]
[{"$f":"IF(B553=\"\",\"\",MAX($A$1:A552)+1)","v":""}]
[{"$f":"IF(B554=\"\",\"\",MAX($A$1:A553)+1)","v":""}]
[{"$f":"IF(B555=\"\",\"\",MAX($A$1:A554)+1)","v":""}]
[{"$f":"IF(B556=\"\",\"\",MAX($A$1:A555)+1)","v":""}]
[{"$f":"IF(B557=\"\",\"\",MAX($A$1:A556)+1)","v":""}]
[{"$f":"IF(B558=\"\",\"\",MAX($A$1:A557)+1)","v":""}]
[{"$f":"IF(B559=\"\",\"\",MAX($A$1:A558)+1)","v":""}]
[{"$f":"IF(B560=\"\",\"\",MAX($A$1:A559)+1)","v":""}]
[{"$f":"IF(B561=\"\",\"\",MAX($A$1:A560)+1)","v":""}]
[{"$f":"IF(B562=\"\",\"\",MAX($A$1:A561)+1)","v":""}]
[{"$f":"IF(B563=\"\",\"\",MAX($A$1:A562)+1)","v":""}]
[{"$f":"IF(B564=\"\",\"\",MAX($A$1:A563)+1)","v":""}]
[{"$f":"IF(B565=\"\",\"\",MAX($A$1:A564)+1)","v":""}]
[{"$f":"IF(B566=\"\",\"\",MAX($A$1:A565)+1)","v":""}]
[{"$f":"IF(B567=\"\",\"\",MAX($A$1:A566)+1)","v":""}]
[{"$f":"IF(B568=\"\",\"\",MAX($A$1:A567)+1)","v":""}]
[{"$f":"IF(B569=\"\",\"\",MAX($A$1:A568)+1)","v":""}]
[{"$f":"IF(B570=\"\",\"\",MAX($A$1:A569)+1)","v":""}]
[{"$f":"IF(B571=\"\",\"\",MAX($A$1:A570)+1)","v":""}]
[{"$f":"IF(B572=\"\",\"\",MAX($A$1:A571)+1)","v":""}]
[{"$f":"IF(B573=\"\",\"\",MAX($A$1:A572)+1)","v":""}]
[{"$f":"IF(B574=\"\",\"\",MAX($A$1:A573)+1)","v":""}]
[{"$f":"IF(B575=\"\",\"\",MAX($A$1:A574)+1)","v":""}]
[{"$f":"IF(B576=\"\",\"\",MAX($A$1:A575)+1)","v":""}]
[{"$f":"IF(B577=\"\",\"\",MAX($A$1:A576)+1)","v":""}]
[{"$f":"IF(B578=\"\",\"\",MAX($A$1:A577)+1)","v":""}]
[{"$f":"IF(B579=\"\",\"\",MAX($A$1:A578)+1)","v":""}]
[{"$f":"IF(B580=\"\",\"\",MAX($A$1:A579)+1)","v":""}]
[{"$f":"IF(B581=\"\",\"\",MAX($A$1:A580)+1)","v":""}]
[{"$f":"IF(B582=\"\",\"\",MAX($A$1:A581)+1)","v":""}]
[{"$f":"IF(B583=\"\",\"\",MAX($A$1:A582)+1)","v":""}]
[{"$f":"IF(B584=\"\",\"\",MAX($A$1:A583)+1)","v":""}]
[{"$f":"IF(B585=\"\",\"\",MAX($A$1:A584)+1)","v":""}]
[{"$f":"IF(B586=\"\",\"\",MAX($A$1:A585)+1)","v":""}]
[{"$f":"IF(B587=\"\",\"\",MAX($A$1:A586)+1)","v":""}]
[{"$f":"IF(B588=\"\",\"\",MAX($A$1:A587)+1)","v":""}]
[{"$f":"IF(B589=\"\",\"\",MAX($A$1:A588)+1)","v":""}]
[{"$f":"IF(B590=\"\",\"\",MAX($A$1:A589)+1)","v":""}]
[{"$f":"IF(B591=\"\",\"\",MAX($A$1:A590)+1)","v":""}]
[{"$f":"IF(B592=\"\",\"\",MAX($A$1:A591)+1)","v":""}]
[{"$f":"IF(B593=\"\",\"\",MAX($A$1:A592)+1)","v":""}]
[{"$f":"IF(B594=\"\",\"\",MAX($A$1:A593)+1)","v":""}]
[{"$f":"IF(B595=\"\",\"\",MAX($A$1:A594)+1)","v":""}]
[{"$f":"IF(B596=\"\",\"\",MAX($A$1:A595)+1)","v":""}]
[{"$f":"IF(B597=\"\",\"\",MAX($A$1:A596)+1)","v":""}]
[{"$f":"IF(B598=\"\",\"\",MAX($A$1:A597)+1)","v":""}]
[{"$f":"IF(B599=\"\",\"\",MAX($A$1:A598)+1)","v":""}]
[{"$f":"IF(B600=\"\",\"\",MAX($A$1:A599)+1)","v":""}]
[{"$f":"IF(B601=\"\",\"\",MAX($A$1:A600)+1)","v":""}]
[{"$f":"IF(B602=\"\",\"\",MAX($A$1:A601)+1)","v":""}]
[{"$f":"IF(B603=\"\",\"\",MAX($A$1:A602)+1)","v":""}]
[{"$f":"IF(B604=\"\",\"\",MAX($A$1:A603)+1)","v":""}]
[{"$f":"IF(B605=\"\",\"\",MAX($A$1:A604)+1)","v":""}]
[{"$f":"IF(B606=\"\",\"\",MAX($A$1:A605)+1)","v":""}]
[{"$f":"IF(B607=\"\",\"\",MAX($A$1:A606)+1)","v":""}]
[{"$f":"IF(B608=\"\",\"\",MAX($A$1:A607)+1)","v":""}]
[{"$f":"IF(B609=\"\",\"\",MAX($A$1:A608)+1)","v":""}]
[{"$f":"IF(B610=\"\",\"\",MAX($A$1:A609)+1)","v":""}]
[{"$f":"IF(B611=\"\",\"\",MAX($A$1:A610)+1)","v":""}]
[{"$f":"IF(B612=\"\",\"\",MAX($A$1:A611)+1)","v":""}]
[{"$f":"IF(B613=\"\",\"\",MAX($A$1:A612)+1)","v":""}]
[{"$f":"IF(B614=\"\",\"\",MAX($A$1:A613)+1)","v":""}]
[{"$f":"IF(B615=\"\",\"\",MAX($A$1:A614)+1)","v":""}]
[{"$f":"IF(B616=\"\",\"\",MAX($A$1:A615)+1)","v":""}]
[{"$f":"IF(B617=\"\",\"\",MAX($A$1:A616)+1)","v":""}]
[{"$f":"IF(B618=\"\",\"\",MAX($A$1:A617)+1)","v":""}]
[{"$f":"IF(B619=\"\",\"\",MAX($A$1:A618)+1)","v":""}]
[{"$f":"IF(B620=\"\",\"\",MAX($A$1:A619)+1)","v":""}]
[{"$f":"IF(B621=\"\",\"\",MAX($A$1:A620)+1)","v":""}]
[{"$f":"IF(B622=\"\",\"\",MAX($A$1:A621)+1)","v":""}]
[{"$f":"IF(B623=\"\",\"\",MAX($A$1:A622)+1)","v":""}]
[{"$f":"IF(B624=\"\",\"\",MAX($A$1:A623)+1)","v":""}]
[{"$f":"IF(B625=\"\",\"\",MAX($A$1:A624)+1)","v":""}]
[{"$f":"IF(B626=\"\",\"\",MAX($A$1:A625)+1)","v":""}]
[{"$f":"IF(B627=\"\",\"\",MAX($A$1:A626)+1)","v":""}]
[{"$f":"IF(B628=\"\",\"\",MAX($A$1:A627)+1)","v":""}]
[{"$f":"IF(B629=\"\",\"\",MAX($A$1:A628)+1)","v":""}]
[{"$f":"IF(B630=\"\",\"\",MAX($A$1:A629)+1)","v":""}]
[{"$f":"IF(B631=\"\",\"\",MAX($A$1:A630)+1)","v":""}]
[{"$f":"IF(B632=\"\",\"\",MAX($A$1:A631)+1)","v":""}]
[{"$f":"IF(B633=\"\",\"\",MAX($A$1:A632)+1)","v":""}]
[{"$f":"IF(B634=\"\",\"\",MAX($A$1:A633)+1)","v":""}]
[{"$f":"IF(B635=\"\",\"\",MAX($A$1:A634)+1)","v":""}]
[{"$f":"IF(B636=\"\",\"\",MAX($A$1:A635)+1)","v":""}]
[{"$f":"IF(B637=\"\",\"\",MAX($A$1:A636)+1)","v":""}]
[{"$f":"IF(B638=\"\",\"\",MAX($A$1:A637)+1)","v":""}]
[{"$f":"IF(B639=\"\",\"\",MAX($A$1:A638)+1)","v":""}]
[{"$f":"IF(B640=\"\",\"\",MAX($A$1:A639)+1)","v":""}]
[{"$f":"IF(B641=\"\",\"\",MAX($A$1:A640)+1)","v":""}]
[{"$f":"IF(B642=\"\",\"\",MAX($A$1:A641)+1)","v":""}]
[{"$f":"IF(B643=\"\",\"\",MAX($A$1:A642)+1)","v":""}]
[{"$f":"IF(B644=\"\",\"\",MAX($A$1:A643)+1)","v":""}]
[{"$f":"IF(B645=\"\",\"\",MAX($A$1:A644)+1)","v":""}]
[{"$f":"IF(B646=\"\",\"\",MAX($A$1:A645)+1)","v":""}]
[{"$f":"IF(B647=\"\",\"\",MAX($A$1:A646)+1)","v":""}]
[{"$f":"IF(B648=\"\",\"\",MAX($A$1:A647)+1)","v":""}]
[{"$f":"IF(B649=\"\",\"\",MAX($A$1:A648)+1)","v":""}]
[{"$f":"IF(B650=\"\",\"\",MAX($A$1:A649)+1)","v":""}]
[{"$f":"IF(B651=\"\",\"\",MAX($A$1:A650)+1)","v":""}]
[{"$f":"IF(B652=\"\",\"\",MAX($A$1:A651)+1)","v":""}]
[{"$f":"IF(B653=\"\",\"\",MAX($A$1:A652)+1)","v":""}]
[{"$f":"IF(B654=\"\",\"\",MAX($A$1:A653)+1)","v":""}]
[{"$f":"IF(B655=\"\",\"\",MAX($A$1:A654)+1)","v":""}]
[{"$f":"IF(B656=\"\",\"\",MAX($A$1:A655)+1)","v":""}]
[{"$f":"IF(B657=\"\",\"\",MAX($A$1:A656)+1)","v":""}]
[{"$f":"IF(B658=\"\",\"\",MAX($A$1:A657)+1)","v":""}]
[{"$f":"IF(B659=\"\",\"\",MAX($A$1:A658)+1)","v":""}]
[{"$f":"IF(B660=\"\",\"\",MAX($A$1:A659)+1)","v":""}]
[{"$f":"IF(B661=\"\",\"\",MAX($A$1:A660)+1)","v":""}]
[{"$f":"IF(B662=\"\",\"\",MAX($A$1:A661)+1)","v":""}]
[{"$f":"IF(B663=\"\",\"\",MAX($A$1:A662)+1)","v":""}]
[{"$f":"IF(B664=\"\",\"\",MAX($A$1:A663)+1)","v":""}]
[{"$f":"IF(B665=\"\",\"\",MAX($A$1:A664)+1)","v":""}]
[{"$f":"IF(B666=\"\",\"\",MAX($A$1:A665)+1)","v":""}]
[{"$f":"IF(B667=\"\",\"\",MAX($A$1:A666)+1)","v":""}]
[{"$f":"IF(B668=\"\",\"\",MAX($A$1:A667)+1)","v":""}]
[{"$f":"IF(B669=\"\",\"\",MAX($A$1:A668)+1)","v":""}]
[{"$f":"IF(B670=\"\",\"\",MAX($A$1:A669)+1)","v":""}]
[{"$f":"IF(B671=\"\",\"\",MAX($A$1:A670)+1)","v":""}]
[{"$f":"IF(B672=\"\",\"\",MAX($A$1:A671)+1)","v":""}]
[{"$f":"IF(B673=\"\",\"\",MAX($A$1:A672)+1)","v":""}]
[{"$f":"IF(B674=\"\",\"\",MAX($A$1:A673)+1)","v":""}]
[{"$f":"IF(B675=\"\",\"\",MAX($A$1:A674)+1)","v":""}]
[{"$f":"IF(B676=\"\",\"\",MAX($A$1:A675)+1)","v":""}]
[{"$f":"IF(B677=\"\",\"\",MAX($A$1:A676)+1)","v":""}]
[{"$f":"IF(B678=\"\",\"\",MAX($A$1:A677)+1)","v":""}]
[{"$f":"IF(B679=\"\",\"\",MAX($A$1:A678)+1)","v":""}]
[{"$f":"IF(B680=\"\",\"\",MAX($A$1:A679)+1)","v":""}]
[{"$f":"IF(B681=\"\",\"\",MAX($A$1:A680)+1)","v":""}]
[{"$f":"IF(B682=\"\",\"\",MAX($A$1:A681)+1)","v":""}]
[{"$f":"IF(B683=\"\",\"\",MAX($A$1:A682)+1)","v":""}]
[{"$f":"IF(B684=\"\",\"\",MAX($A$1:A683)+1)","v":""}]
[{"$f":"IF(B685=\"\",\"\",MAX($A$1:A684)+1)","v":""}]
[{"$f":"IF(B686=\"\",\"\",MAX($A$1:A685)+1)","v":""}]
[{"$f":"IF(B687=\"\",\"\",MAX($A$1:A686)+1)","v":""}]
[{"$f":"IF(B688=\"\",\"\",MAX($A$1:A687)+1)","v":""}]
[{"$f":"IF(B689=\"\",\"\",MAX($A$1:A688)+1)","v":""}]
[{"$f":"IF(B690=\"\",\"\",MAX($A$1:A689)+1)","v":""}]
[{"$f":"IF(B691=\"\",\"\",MAX($A$1:A690)+1)","v":""}]
[{"$f":"IF(B692=\"\",\"\",MAX($A$1:A691)+1)","v":""}]
[{"$f":"IF(B693=\"\",\"\",MAX($A$1:A692)+1)","v":""}]
[{"$f":"IF(B694=\"\",\"\",MAX($A$1:A693)+1)","v":""}]
[{"$f":"IF(B695=\"\",\"\",MAX($A$1:A694)+1)","v":""}]
[{"$f":"IF(B696=\"\",\"\",MAX($A$1:A695)+1)","v":""}]
[{"$f":"IF(B697=\"\",\"\",MAX($A$1:A696)+1)","v":""}]
[{"$f":"IF(B698=\"\",\"\",MAX($A$1:A697)+1)","v":""}]
[{"$f":"IF(B699=\"\",\"\",MAX($A$1:A698)+1)","v":""}]
[{"$f":"IF(B700=\"\",\"\",MAX($A$1:A699)+1)","v":""}]
[{"$f":"IF(B701=\"\",\"\",MAX($A$1:A700)+1)","v":""}]
[{"$f":"IF(B702=\"\",\"\",MAX($A$1:A701)+1)","v":""}]
[{"$f":"IF(B703=\"\",\"\",MAX($A$1:A702)+1)","v":""}]
[{"$f":"IF(B704=\"\",\"\",MAX($A$1:A703)+1)","v":""}]
[{"$f":"IF(B705=\"\",\"\",MAX($A$1:A704)+1)","v":""}]
[{"$f":"IF(B706=\"\",\"\",MAX($A$1:A705)+1)","v":""}]
[{"$f":"IF(B707=\"\",\"\",MAX($A$1:A706)+1)","v":""}]
[{"$f":"IF(B708=\"\",\"\",MAX($A$1:A707)+1)","v":""}]
[{"$f":"IF(B709=\"\",\"\",MAX($A$1:A708)+1)","v":""}]
[{"$f":"IF(B710=\"\",\"\",MAX($A$1:A709)+1)","v":""}]
[{"$f":"IF(B711=\"\",\"\",MAX($A$1:A710)+1)","v":""}]
[{"$f":"IF(B712=\"\",\"\",MAX($A$1:A711)+1)","v":""}]
[{"$f":"IF(B713=\"\",\"\",MAX($A$1:A712)+1)","v":""}]
[{"$f":"IF(B714=\"\",\"\",MAX($A$1:A713)+1)","v":""}]
[{"$f":"IF(B715=\"\",\"\",MAX($A$1:A714)+1)","v":""}]
[{"$f":"IF(B716=\"\",\"\",MAX($A$1:A715)+1)","v":""}]
[{"$f":"IF(B717=\"\",\"\",MAX($A$1:A716)+1)","v":""}]
[{"$f":"IF(B718=\"\",\"\",MAX($A$1:A717)+1)","v":""}]
[{"$f":"IF(B719=\"\",\"\",MAX($A$1:A718)+1)","v":""}]
[{"$f":"IF(B720=\"\",\"\",MAX($A$1:A719)+1)","v":""}]
[{"$f":"IF(B721=\"\",\"\",MAX($A$1:A720)+1)","v":""}]
[{"$f":"IF(B722=\"\",\"\",MAX($A$1:A721)+1)","v":""}]
[{"$f":"IF(B723=\"\",\"\",MAX($A$1:A722)+1)","v":""}]
[{"$f":"IF(B724=\"\",\"\",MAX($A$1:A723)+1)","v":""}]
[{"$f":"IF(B725=\"\",\"\",MAX($A$1:A724)+1)","v":""}]
[{"$f":"IF(B726=\"\",\"\",MAX($A$1:A725)+1)","v":""}]
[{"$f":"IF(B727=\"\",\"\",MAX($A$1:A726)+1)","v":""}]
[{"$f":"IF(B728=\"\",\"\",MAX($A$1:A727)+1)","v":""}]
[{"$f":"IF(B729=\"\",\"\",MAX($A$1:A728)+1)","v":""}]
[{"$f":"IF(B730=\"\",\"\",MAX($A$1:A729)+1)","v":""}]
[{"$f":"IF(B731=\"\",\"\",MAX($A$1:A730)+1)","v":""}]
[{"$f":"IF(B732=\"\",\"\",MAX($A$1:A731)+1)","v":""}]
[{"$f":"IF(B733=\"\",\"\",MAX($A$1:A732)+1)","v":""}]
[{"$f":"IF(B734=\"\",\"\",MAX($A$1:A733)+1)","v":""}]
[{"$f":"IF(B735=\"\",\"\",MAX($A$1:A734)+1)","v":""}]
[{"$f":"IF(B736=\"\",\"\",MAX($A$1:A735)+1)","v":""}]
[{"$f":"IF(B737=\"\",\"\",MAX($A$1:A736)+1)","v":""}]
[{"$f":"IF(B738=\"\",\"\",MAX($A$1:A737)+1)","v":""}]
[{"$f":"IF(B739=\"\",\"\",MAX($A$1:A738)+1)","v":""}]
[{"$f":"IF(B740=\"\",\"\",MAX($A$1:A739)+1)","v":""}]
[{"$f":"IF(B741=\"\",\"\",MAX($A$1:A740)+1)","v":""}]
[{"$f":"IF(B742=\"\",\"\",MAX($A$1:A741)+1)","v":""}]
[{"$f":"IF(B743=\"\",\"\",MAX($A$1:A742)+1)","v":""}]
[{"$f":"IF(B744=\"\",\"\",MAX($A$1:A743)+1)","v":""}]
[{"$f":"IF(B745=\"\",\"\",MAX($A$1:A744)+1)","v":""}]
[{"$f":"IF(B746=\"\",\"\",MAX($A$1:A745)+1)","v":""}]
[{"$f":"IF(B747=\"\",\"\",MAX($A$1:A746)+1)","v":""}]
[{"$f":"IF(B748=\"\",\"\",MAX($A$1:A747)+1)","v":""}]
[{"$f":"IF(B749=\"\",\"\",MAX($A$1:A748)+1)","v":""}]
[{"$f":"IF(B750=\"\",\"\",MAX($A$1:A749)+1)","v":""}]
[{"$f":"IF(B751=\"\",\"\",MAX($A$1:A750)+1)","v":""}]
[{"$f":"IF(B752=\"\",\"\",MAX($A$1:A751)+1)","v":""}]
[{"$f":"IF(B753=\"\",\"\",MAX($A$1:A752)+1)","v":""}]
[{"$f":"IF(B754=\"\",\"\",MAX($A$1:A753)+1)","v":""}]
[{"$f":"IF(B755=\"\",\"\",MAX($A$1:A754)+1)","v":""}]
[{"$f":"IF(B756=\"\",\"\",MAX($A$1:A755)+1)","v":""}]
[{"$f":"IF(B757=\"\",\"\",MAX($A$1:A756)+1)","v":""}]
[{"$f":"IF(B758=\"\",\"\",MAX($A$1:A757)+1)","v":""}]
[{"$f":"IF(B759=\"\",\"\",MAX($A$1:A758)+1)","v":""}]
[{"$f":"IF(B760=\"\",\"\",MAX($A$1:A759)+1)","v":""}]
[{"$f":"IF(B761=\"\",\"\",MAX($A$1:A760)+1)","v":""}]
[{"$f":"IF(B762=\"\",\"\",MAX($A$1:A761)+1)","v":""}]
[{"$f":"IF(B763=\"\",\"\",MAX($A$1:A762)+1)","v":""}]
[{"$f":"IF(B764=\"\",\"\",MAX($A$1:A763)+1)","v":""}]
[{"$f":"IF(B765=\"\",\"\",MAX($A$1:A764)+1)","v":""}]
[{"$f":"IF(B766=\"\",\"\",MAX($A$1:A765)+1)","v":""}]
[{"$f":"IF(B767=\"\",\"\",MAX($A$1:A766)+1)","v":""}]
[{"$f":"IF(B768=\"\",\"\",MAX($A$1:A767)+1)","v":""}]
[{"$f":"IF(B769=\"\",\"\",MAX($A$1:A768)+1)","v":""}]
[{"$f":"IF(B770=\"\",\"\",MAX($A$1:A769)+1)","v":""}]
[{"$f":"IF(B771=\"\",\"\",MAX($A$1:A770)+1)","v":""}]
[{"$f":"IF(B772=\"\",\"\",MAX($A$1:A771)+1)","v":""}]
[{"$f":"IF(B773=\"\",\"\",MAX($A$1:A772)+1)","v":""}]
[{"$f":"IF(B774=\"\",\"\",MAX($A$1:A773)+1)","v":""}]
[{"$f":"IF(B775=\"\",\"\",MAX($A$1:A774)+1)","v":""}]
[{"$f":"IF(B776=\"\",\"\",MAX($A$1:A775)+1)","v":""}]
[{"$f":"IF(B777=\"\",\"\",MAX($A$1:A776)+1)","v":""}]
[{"$f":"IF(B778=\"\",\"\",MAX($A$1:A777)+1)","v":""}]
[{"$f":"IF(B779=\"\",\"\",MAX($A$1:A778)+1)","v":""}]
[{"$f":"IF(B780=\"\",\"\",MAX($A$1:A779)+1)","v":""}]
[{"$f":"IF(B781=\"\",\"\",MAX($A$1:A780)+1)","v":""}]
[{"$f":"IF(B782=\"\",\"\",MAX($A$1:A781)+1)","v":""}]
[{"$f":"IF(B783=\"\",\"\",MAX($A$1:A782)+1)","v":""}]
[{"$f":"IF(B784=\"\",\"\",MAX($A$1:A783)+1)","v":""}]
[{"$f":"IF(B785=\"\",\"\",MAX($A$1:A784)+1)","v":""}]
[{"$f":"IF(B786=\"\",\"\",MAX($A$1:A785)+1)","v":""}]
[{"$f":"IF(B787=\"\",\"\",MAX($A$1:A786)+1)","v":""}]
[{"$f":"IF(B788=\"\",\"\",MAX($A$1:A787)+1)","v":""}]
[{"$f":"IF(B789=\"\",\"\",MAX($A$1:A788)+1)","v":""}]
[{"$f":"IF(B790=\"\",\"\",MAX($A$1:A789)+1)","v":""}]
[{"$f":"IF(B791=\"\",\"\",MAX($A$1:A790)+1)","v":""}]
[{"$f":"IF(B792=\"\",\"\",MAX($A$1:A791)+1)","v":""}]
[{"$f":"IF(B793=\"\",\"\",MAX($A$1:A792)+1)","v":""}]
[{"$f":"IF(B794=\"\",\"\",MAX($A$1:A793)+1)","v":""}]
[{"$f":"IF(B795=\"\",\"\",MAX($A$1:A794)+1)","v":""}]
[{"$f":"IF(B796=\"\",\"\",MAX($A$1:A795)+1)","v":""}]
[{"$f":"IF(B797=\"\",\"\",MAX($A$1:A796)+1)","v":""}]
[{"$f":"IF(B798=\"\",\"\",MAX($A$1:A797)+1)","v":""}]
[{"$f":"IF(B799=\"\",\"\",MAX($A$1:A798)+1)","v":""}]
[{"$f":"IF(B800=\"\",\"\",MAX($A$1:A799)+1)","v":""}]
[{"$f":"IF(B801=\"\",\"\",MAX($A$1:A800)+1)","v":""}]
[{"$f":"IF(B802=\"\",\"\",MAX($A$1:A801)+1)","v":""}]
[{"$f":"IF(B803=\"\",\"\",MAX($A$1:A802)+1)","v":""}]
[{"$f":"IF(B804=\"\",\"\",MAX($A$1:A803)+1)","v":""}]
[{"$f":"IF(B805=\"\",\"\",MAX($A$1:A804)+1)","v":""}]
[{"$f":"IF(B806=\"\",\"\",MAX($A$1:A805)+1)","v":""}]
[{"$f":"IF(B807=\"\",\"\",MAX($A$1:A806)+1)","v":""}]
[{"$f":"IF(B808=\"\",\"\",MAX($A$1:A807)+1)","v":""}]
[{"$f":"IF(B809=\"\",\"\",MAX($A$1:A808)+1)","v":""}]
[{"$f":"IF(B810=\"\",\"\",MAX($A$1:A809)+1)","v":""}]
[{"$f":"IF(B811=\"\",\"\",MAX($A$1:A810)+1)","v":""}]
[{"$f":"IF(B812=\"\",\"\",MAX($A$1:A811)+1)","v":""}]
[{"$f":"IF(B813=\"\",\"\",MAX($A$1:A812)+1)","v":""}]
[{"$f":"IF(B814=\"\",\"\",MAX($A$1:A813)+1)","v":""}]
[{"$f":"IF(B815=\"\",\"\",MAX($A$1:A814)+1)","v":""}]
[{"$f":"IF(B816=\"\",\"\",MAX($A$1:A815)+1)","v":""}]
[{"$f":"IF(B817=\"\",\"\",MAX($A$1:A816)+1)","v":""}]
[{"$f":"IF(B818=\"\",\"\",MAX($A$1:A817)+1)","v":""}]
[{"$f":"IF(B819=\"\",\"\",MAX($A$1:A818)+1)","v":""}]
[{"$f":"IF(B820=\"\",\"\",MAX($A$1:A819)+1)","v":""}]
[{"$f":"IF(B821=\"\",\"\",MAX($A$1:A820)+1)","v":""}]
[{"$f":"IF(B822=\"\",\"\",MAX($A$1:A821)+1)","v":""}]
[{"$f":"IF(B823=\"\",\"\",MAX($A$1:A822)+1)","v":""}]
[{"$f":"IF(B824=\"\",\"\",MAX($A$1:A823)+1)","v":""}]
[{"$f":"IF(B825=\"\",\"\",MAX($A$1:A824)+1)","v":""}]
[{"$f":"IF(B826=\"\",\"\",MAX($A$1:A825)+1)","v":""}]
[{"$f":"IF(B827=\"\",\"\",MAX($A$1:A826)+1)","v":""}]
[{"$f":"IF(B828=\"\",\"\",MAX($A$1:A827)+1)","v":""}]
[{"$f":"IF(B829=\"\",\"\",MAX($A$1:A828)+1)","v":""}]
[{"$f":"IF(B830=\"\",\"\",MAX($A$1:A829)+1)","v":""}]
[{"$f":"IF(B831=\"\",\"\",MAX($A$1:A830)+1)","v":""}]
[{"$f":"IF(B832=\"\",\"\",MAX($A$1:A831)+1)","v":""}]
[{"$f":"IF(B833=\"\",\"\",MAX($A$1:A832)+1)","v":""}]
[{"$f":"IF(B834=\"\",\"\",MAX($A$1:A833)+1)","v":""}]
[{"$f":"IF(B835=\"\",\"\",MAX($A$1:A834)+1)","v":""}]
[{"$f":"IF(B836=\"\",\"\",MAX($A$1:A835)+1)","v":""}]
[{"$f":"IF(B837=\"\",\"\",MAX($A$1:A836)+1)","v":""}]
[{"$f":"IF(B838=\"\",\"\",MAX($A$1:A837)+1)","v":""}]
[{"$f":"IF(B839=\"\",\"\",MAX($A$1:A838)+1)","v":""}]
[{"$f":"IF(B840=\"\",\"\",MAX($A$1:A839)+1)","v":""}]
[{"$f":"IF(B841=\"\",\"\",MAX($A$1:A840)+1)","v":""}]
[{"$f":"IF(B842=\"\",\"\",MAX($A$1:A841)+1)","v":""}]
[{"$f":"IF(B843=\"\",\"\",MAX($A$1:A842)+1)","v":""}]
[{"$f":"IF(B844=\"\",\"\",MAX($A$1:A843)+1)","v":""}]
[{"$f":"IF(B845=\"\",\"\",MAX($A$1:A844)+1)","v":""}]
[{"$f":"IF(B846=\"\",\"\",MAX($A$1:A845)+1)","v":""}]
[{"$f":"IF(B847=\"\",\"\",MAX($A$1:A846)+1)","v":""}]
[{"$f":"IF(B848=\"\",\"\",MAX($A$1:A847)+1)","v":""}]
[{"$f":"IF(B849=\"\",\"\",MAX($A$1:A848)+1)","v":""}]
[{"$f":"IF(B850=\"\",\"\",MAX($A$1:A849)+1)","v":""}]
[{"$f":"IF(B851=\"\",\"\",MAX($A$1:A850)+1)","v":""}]
[{"$f":"IF(B852=\"\",\"\",MAX($A$1:A851)+1)","v":""}]
[{"$f":"IF(B853=\"\",\"\",MAX($A$1:A852)+1)","v":""}]
[{"$f":"IF(B854=\"\",\"\",MAX($A$1:A853)+1)","v":""}]
[{"$f":"IF(B855=\"\",\"\",MAX($A$1:A854)+1)","v":""}]
[{"$f":"IF(B856=\"\",\"\",MAX($A$1:A855)+1)","v":""}]
[{"$f":"IF(B857=\"\",\"\",MAX($A$1:A856)+1)","v":""}]
[{"$f":"IF(B858=\"\",\"\",MAX($A$1:A857)+1)","v":""}]
[{"$f":"IF(B859=\"\",\"\",MAX($A$1:A858)+1)","v":""}]
[{"$f":"IF(B860=\"\",\"\",MAX($A$1:A859)+1)","v":""}]
[{"$f":"IF(B861=\"\",\"\",MAX($A$1:A860)+1)","v":""}]
[{"$f":"IF(B862=\"\",\"\",MAX($A$1:A861)+1)","v":""}]
[{"$f":"IF(B863=\"\",\"\",MAX($A$1:A862)+1)","v":""}]
[{"$f":"IF(B864=\"\",\"\",MAX($A$1:A863)+1)","v":""}]
[{"$f":"IF(B865=\"\",\"\",MAX($A$1:A864)+1)","v":""}]
[{"$f":"IF(B866=\"\",\"\",MAX($A$1:A865)+1)","v":""}]
[{"$f":"IF(B867=\"\",\"\",MAX($A$1:A866)+1)","v":""}]
[{"$f":"IF(B868=\"\",\"\",MAX($A$1:A867)+1)","v":""}]
[{"$f":"IF(B869=\"\",\"\",MAX($A$1:A868)+1)","v":""}]
[{"$f":"IF(B870=\"\",\"\",MAX($A$1:A869)+1)","v":""}]
[{"$f":"IF(B871=\"\",\"\",MAX($A$1:A870)+1)","v":""}]
[{"$f":"IF(B872=\"\",\"\",MAX($A$1:A871)+1)","v":""}]
[{"$f":"IF(B873=\"\",\"\",MAX($A$1:A872)+1)","v":""}]
[{"$f":"IF(B874=\"\",\"\",MAX($A$1:A873)+1)","v":""}]
[{"$f":"IF(B875=\"\",\"\",MAX($A$1:A874)+1)","v":""}]
[{"$f":"IF(B876=\"\",\"\",MAX($A$1:A875)+1)","v":""}]
[{"$f":"IF(B877=\"\",\"\",MAX($A$1:A876)+1)","v":""}]
[{"$f":"IF(B878=\"\",\"\",MAX($A$1:A877)+1)","v":""}]
[{"$f":"IF(B879=\"\",\"\",MAX($A$1:A878)+1)","v":""}]
[{"$f":"IF(B880=\"\",\"\",MAX($A$1:A879)+1)","v":""}]
[{"$f":"IF(B881=\"\",\"\",MAX($A$1:A880)+1)","v":""}]
[{"$f":"IF(B882=\"\",\"\",MAX($A$1:A881)+1)","v":""}]
[{"$f":"IF(B883=\"\",\"\",MAX($A$1:A882)+1)","v":""}]
[{"$f":"IF(B884=\"\",\"\",MAX($A$1:A883)+1)","v":""}]
[{"$f":"IF(B885=\"\",\"\",MAX($A$1:A884)+1)","v":""}]
[{"$f":"IF(B886=\"\",\"\",MAX($A$1:A885)+1)","v":""}]
[{"$f":"IF(B887=\"\",\"\",MAX($A$1:A886)+1)","v":""}]
[{"$f":"IF(B888=\"\",\"\",MAX($A$1:A887)+1)","v":""}]
[{"$f":"IF(B889=\"\",\"\",MAX($A$1:A888)+1)","v":""}]
[{"$f":"IF(B890=\"\",\"\",MAX($A$1:A889)+1)","v":""}]
[{"$f":"IF(B891=\"\",\"\",MAX($A$1:A890)+1)","v":""}]
[{"$f":"IF(B892=\"\",\"\",MAX($A$1:A891)+1)","v":""}]
[{"$f":"IF(B893=\"\",\"\",MAX($A$1:A892)+1)","v":""}]
[{"$f":"IF(B894=\"\",\"\",MAX($A$1:A893)+1)","v":""}]
[{"$f":"IF(B895=\"\",\"\",MAX($A$1:A894)+1)","v":""}]
[{"$f":"IF(B896=\"\",\"\",MAX($A$1:A895)+1)","v":""}]
[{"$f":"IF(B897=\"\",\"\",MAX($A$1:A896)+1)","v":""}]
[{"$f":"IF(B898=\"\",\"\",MAX($A$1:A897)+1)","v":""}]
[{"$f":"IF(B899=\"\",\"\",MAX($A$1:A898)+1)","v":""}]
[{"$f":"IF(B900=\"\",\"\",MAX($A$1:A899)+1)","v":""}]
[{"$f":"IF(B901=\"\",\"\",MAX($A$1:A900)+1)","v":""}]
[{"$f":"IF(B902=\"\",\"\",MAX($A$1:A901)+1)","v":""}]
[{"$f":"IF(B903=\"\",\"\",MAX($A$1:A902)+1)","v":""}]
[{"$f":"IF(B904=\"\",\"\",MAX($A$1:A903)+1)","v":""}]
[{"$f":"IF(B905=\"\",\"\",MAX($A$1:A904)+1)","v":""}]
[{"$f":"IF(B906=\"\",\"\",MAX($A$1:A905)+1)","v":""}]
[{"$f":"IF(B907=\"\",\"\",MAX($A$1:A906)+1)","v":""}]
[{"$f":"IF(B908=\"\",\"\",MAX($A$1:A907)+1)","v":""}]
[{"$f":"IF(B909=\"\",\"\",MAX($A$1:A908)+1)","v":""}]
[{"$f":"IF(B910=\"\",\"\",MAX($A$1:A909)+1)","v":""}]
[{"$f":"IF(B911=\"\",\"\",MAX($A$1:A910)+1)","v":""}]
[{"$f":"IF(B912=\"\",\"\",MAX($A$1:A911)+1)","v":""}]
[{"$f":"IF(B913=\"\",\"\",MAX($A$1:A912)+1)","v":""}]
[{"$f":"IF(B914=\"\",\"\",MAX($A$1:A913)+1)","v":""}]
[{"$f":"IF(B915=\"\",\"\",MAX($A$1:A914)+1)","v":""}]
[{"$f":"IF(B916=\"\",\"\",MAX($A$1:A915)+1)","v":""}]
[{"$f":"IF(B917=\"\",\"\",MAX($A$1:A916)+1)","v":""}]
[{"$f":"IF(B918=\"\",\"\",MAX($A$1:A917)+1)","v":""}]
[{"$f":"IF(B919=\"\",\"\",MAX($A$1:A918)+1)","v":""}]
[{"$f":"IF(B920=\"\",\"\",MAX($A$1:A919)+1)","v":""}]
[{"$f":"IF(B921=\"\",\"\",MAX($A$1:A920)+1)","v":""}]
[{"$f":"IF(B922=\"\",\"\",MAX($A$1:A921)+1)","v":""}]
[{"$f":"IF(B923=\"\",\"\",MAX($A$1:A922)+1)","v":""}]
[{"$f":"IF(B924=\"\",\"\",MAX($A$1:A923)+1)","v":""}]
[{"$f":"IF(B925=\"\",\"\",MAX($A$1:A924)+1)","v":""}]
[{"$f":"IF(B926=\"\",\"\",MAX($A$1:A925)+1)","v":""}]
[{"$f":"IF(B927=\"\",\"\",MAX($A$1:A926)+1)","v":""}]
[{"$f":"IF(B928=\"\",\"\",MAX($A$1:A927)+1)","v":""}]
[{"$f":"IF(B929=\"\",\"\",MAX($A$1:A928)+1)","v":""}]
[{"$f":"IF(B930=\"\",\"\",MAX($A$1:A929)+1)","v":""}]
[{"$f":"IF(B931=\"\",\"\",MAX($A$1:A930)+1)","v":""}]
[{"$f":"IF(B932=\"\",\"\",MAX($A$1:A931)+1)","v":""}]
[{"$f":"IF(B933=\"\",\"\",MAX($A$1:A932)+1)","v":""}]
[{"$f":"IF(B934=\"\",\"\",MAX($A$1:A933)+1)","v":""}]
[{"$f":"IF(B935=\"\",\"\",MAX($A$1:A934)+1)","v":""}]
[{"$f":"IF(B936=\"\",\"\",MAX($A$1:A935)+1)","v":""}]
[{"$f":"IF(B937=\"\",\"\",MAX($A$1:A936)+1)","v":""}]
[{"$f":"IF(B938=\"\",\"\",MAX($A$1:A937)+1)","v":""}]
[{"$f":"IF(B939=\"\",\"\",MAX($A$1:A938)+1)","v":""}]
[{"$f":"IF(B940=\"\",\"\",MAX($A$1:A939)+1)","v":""}]
[{"$f":"IF(B941=\"\",\"\",MAX($A$1:A940)+1)","v":""}]
[{"$f":"IF(B942=\"\",\"\",MAX($A$1:A941)+1)","v":""}]
[{"$f":"IF(B943=\"\",\"\",MAX($A$1:A942)+1)","v":""}]
[{"$f":"IF(B944=\"\",\"\",MAX($A$1:A943)+1)","v":""}]
[{"$f":"IF(B945=\"\",\"\",MAX($A$1:A944)+1)","v":""}]
[{"$f":"IF(B946=\"\",\"\",MAX($A$1:A945)+1)","v":""}]
[{"$f":"IF(B947=\"\",\"\",MAX($A$1:A946)+1)","v":""}]
[{"$f":"IF(B948=\"\",\"\",MAX($A$1:A947)+1)","v":""}]
[{"$f":"IF(B949=\"\",\"\",MAX($A$1:A948)+1)","v":""}]
[{"$f":"IF(B950=\"\",\"\",MAX($A$1:A949)+1)","v":""}]
[{"$f":"IF(B951=\"\",\"\",MAX($A$1:A950)+1)","v":""}]
[{"$f":"IF(B952=\"\",\"\",MAX($A$1:A951)+1)","v":""}]
[{"$f":"IF(B953=\"\",\"\",MAX($A$1:A952)+1)","v":""}]
[{"$f":"IF(B954=\"\",\"\",MAX($A$1:A953)+1)","v":""}]
[{"$f":"IF(B955=\"\",\"\",MAX($A$1:A954)+1)","v":""}]
[{"$f":"IF(B956=\"\",\"\",MAX($A$1:A955)+1)","v":""}]
[{"$f":"IF(B957=\"\",\"\",MAX($A$1:A956)+1)","v":""}]
[{"$f":"IF(B958=\"\",\"\",MAX($A$1:A957)+1)","v":""}]
[{"$f":"IF(B959=\"\",\"\",MAX($A$1:A958)+1)","v":""}]
[{"$f":"IF(B960=\"\",\"\",MAX($A$1:A959)+1)","v":""}]
[{"$f":"IF(B961=\"\",\"\",MAX($A$1:A960)+1)","v":""}]
[{"$f":"IF(B962=\"\",\"\",MAX($A$1:A961)+1)","v":""}]
[{"$f":"IF(B963=\"\",\"\",MAX($A$1:A962)+1)","v":""}]
[{"$f":"IF(B964=\"\",\"\",MAX($A$1:A963)+1)","v":""}]
[{"$f":"IF(B965=\"\",\"\",MAX($A$1:A964)+1)","v":""}]
[{"$f":"IF(B966=\"\",\"\",MAX($A$1:A965)+1)","v":""}]
[{"$f":"IF(B967=\"\",\"\",MAX($A$1:A966)+1)","v":""}]
[{"$f":"IF(B968=\"\",\"\",MAX($A$1:A967)+1)","v":""}]
[{"$f":"IF(B969=\"\",\"\",MAX($A$1:A968)+1)","v":""}]
[{"$f":"IF(B970=\"\",\"\",MAX($A$1:A969)+1)","v":""}]
[{"$f":"IF(B971=\"\",\"\",MAX($A$1:A970)+1)","v":""}]
[{"$f":"IF(B972=\"\",\"\",MAX($A$1:A971)+1)","v":""}]
[{"$f":"IF(B973=\"\",\"\",MAX($A$1:A972)+1)","v":""}]
[{"$f":"IF(B974=\"\",\"\",MAX($A$1:A973)+1)","v":""}]
[{"$f":"IF(B975=\"\",\"\",MAX($A$1:A974)+1)","v":""}]
[{"$f":"IF(B976=\"\",\"\",MAX($A$1:A975)+1)","v":""}]
[{"$f":"IF(B977=\"\",\"\",MAX($A$1:A976)+1)","v":""}]
[{"$f":"IF(B978=\"\",\"\",MAX($A$1:A977)+1)","v":""}]
[{"$f":"IF(B979=\"\",\"\",MAX($A$1:A978)+1)","v":""}]
[{"$f":"IF(B980=\"\",\"\",MAX($A$1:A979)+1)","v":""}]
[{"$f":"IF(B981=\"\",\"\",MAX($A$1:A980)+1)","v":""}]
[{"$f":"IF(B982=\"\",\"\",MAX($A$1:A981)+1)","v":""}]
[{"$f":"IF(B983=\"\",\"\",MAX($A$1:A982)+1)","v":""}]
[{"$f":"IF(B984=\"\",\"\",MAX($A$1:A983)+1)","v":""}]
[{"$f":"IF(B985=\"\",\"\",MAX($A$1:A984)+1)","v":""}]
[{"$f":"IF(B986=\"\",\"\",MAX($A$1:A985)+1)","v":""}]
[{"$f":"IF(B987=\"\",\"\",MAX($A$1:A986)+1)","v":""}]
[{"$f":"IF(B988=\"\",\"\",MAX($A$1:A987)+1)","v":""}]
[{"$f":"IF(B989=\"\",\"\",MAX($A$1:A988)+1)","v":""}]
[{"$f":"IF(B990=\"\",\"\",MAX($A$1:A989)+1)","v":""}]
[{"$f":"IF(B991=\"\",\"\",MAX($A$1:A990)+1)","v":""}]
[{"$f":"IF(B992=\"\",\"\",MAX($A$1:A991)+1)","v":""}]
[{"$f":"IF(B993=\"\",\"\",MAX($A$1:A992)+1)","v":""}]
[{"$f":"IF(B994=\"\",\"\",MAX($A$1:A993)+1)","v":""}]
[{"$f":"IF(B995=\"\",\"\",MAX($A$1:A994)+1)","v":""}]
[{"$f":"IF(B996=\"\",\"\",MAX($A$1:A995)+1)","v":""}]
[{"$f":"IF(B997=\"\",\"\",MAX($A$1:A996)+1)","v":""}]
[{"$f":"IF(B998=\"\",\"\",MAX($A$1:A997)+1)","v":""}]
[{"$f":"IF(B999=\"\",\"\",MAX($A$1:A998)+1)","v":""}]
[{"$f":"IF(B1000=\"\",\"\",MAX($A$1:A999)+1)","v":""}]

{"sheet":"Vertragsgegenstand","index":7,"n_rows":1000,"n_cols":14,"rows_kept":1000,"cut":false,"hidden":false,"merged":[]}
[null,{"$f":"MID(CELL(\"Dateiname\",$A$1),FIND(\"]\", CELL(\"Dateiname\",$A$1))+1,31)","v":"Vertragsgegenstand"},null,"Architektenvertrag / Ingenieurvertrag",null,"Beratervertrag",null,"Dienstleistungsvertrag",null,"Liefervertrag",null,"Rahmenvertrag",null,"Sonstiger Vertrag"]
[]
[{"$f":"IF(EINGABEMASKE!$C$18=$D$1,C3,\n\nIF(EINGABEMASKE!$C$18=$F$1,E3,\n\nIF(EINGABEMASKE!$C$18=$H$1,G3,\n\nIF(EINGABEMASKE!$C$18=$J$1,I3,\n\nIF(EINGABEMASKE!$C$18=$L$1,K3,\n\nIF(EINGABEMASKE!$C$18=$N$1,M3,\"\"))))))","v":""},{"$f":"IF(IF(EINGABEMASKE!$C$18=$D$1,D3,\n\nIF(EINGABEMASKE!$C$18=$F$1,F3,\n\nIF(EINGABEMASKE!$C$18=$H$1,H3,\n\nIF(EINGABEMASKE!$C$18=$J$1,J3,\n\nIF(EINGABEMASKE!$C$18=$L$1,L3,\n\nIF(EINGABEMASKE!$C$18=$N$1,N3,\"\"))))))=\"\",\"\",IF(EINGABEMASKE!$C$18=$D$1,D3,\n\nIF(EINGABEMASKE!$C$18=$F$1,F3,\n\nIF(EINGABEMASKE!$C$18=$H$1,H3,\n\nIF(EINGABEMASKE!$C$18=$J$1,J3,\n\nIF(EINGABEMASKE!$C$18=$L$1,L3,\n\nIF(EINGABEMASKE!$C$18=$N$1,N3,\"\")))))))","v":""},{"$f":"IF(D3=\"\",\"\",1)","v":1},"§ 18 HOAI 2019 - Flächennutzungsplan",{"$f":"IF(F3=\"\",\"\",1)","v":1},"juristische Beratung",{"$f":"IF(H3=\"\",\"\",1)","v":1},"Grünpflege",{"$f":"IF(J3=\"\",\"\",1)","v":1},"Gas",{"$f":"IF(L3=\"\",\"\",1)","v":1},"Havariedienste",{"$f":"IF(N3=\"\",\"\",1)","v":1},"ggf. Miete"]
[{"$f":"IF(EINGABEMASKE!$C$18=$D$1,C4,\n\nIF(EINGABEMASKE!$C$18=$F$1,E4,\n\nIF(EINGABEMASKE!$C$18=$H$1,G4,\n\nIF(EINGABEMASKE!$C$18=$J$1,I4,\n\nIF(EINGABEMASKE!$C$18=$L$1,K4,\n\nIF(EINGABEMASKE!$C$18=$N$1,M4,\"\"))))))","v":""},{"$f":"IF(IF(EINGABEMASKE!$C$18=$D$1,D4,\n\nIF(EINGABEMASKE!$C$18=$F$1,F4,\n\nIF(EINGABEMASKE!$C$18=$H$1,H4,\n\nIF(EINGABEMASKE!$C$18=$J$1,J4,\n\nIF(EINGABEMASKE!$C$18=$L$1,L4,\n\nIF(EINGABEMASKE!$C$18=$N$1,N4,\"\"))))))=\"\",\"\",IF(EINGABEMASKE!$C$18=$D$1,D4,\n\nIF(EINGABEMASKE!$C$18=$F$1,F4,\n\nIF(EINGABEMASKE!$C$18=$H$1,H4,\n\nIF(EINGABEMASKE!$C$18=$J$1,J4,\n\nIF(EINGABEMASKE!$C$18=$L$1,L4,\n\nIF(EINGABEMASKE!$C$18=$N$1,N4,\"\")))))))","v":""},{"$f":"IF(D4=\"\",\"\",MAX(C$1:C3)+1)","v":2},"§ 19 HOAI 2019 - Bebauungsplan",{"$f":"IF(F4=\"\",\"\",MAX(E$1:E3)+1)","v":2},"Wirtschaftsprüfer",{"$f":"IF(H4=\"\",\"\",MAX(G$1:G3)+1)","v":2},"Reinigung",{"$f":"IF(J4=\"\",\"\",MAX(I$1:I3)+1)","v":2},"Papier",{"$f":"IF(L4=\"\",\"\",MAX(K$1:K3)+1)","v":""},null,{"$f":"IF(N4=\"\",\"\",MAX(M$1:M3)+1)","v":2},"ggf. Leasing"]
[{"$f":"IF(EINGABEMASKE!$C$18=$D$1,C5,\n\nIF(EINGABEMASKE!$C$18=$F$1,E5,\n\nIF(EINGABEMASKE!$C$18=$H$1,G5,\n\nIF(EINGABEMASKE!$C$18=$J$1,I5,\n\nIF(EINGABEMASKE!$C$18=$L$1,K5,\n\nIF(EINGABEMASKE!$C$18=$N$1,M5,\"\"))))))","v":""},{"$f":"IF(IF(EINGABEMASKE!$C$18=$D$1,D5,\n\nIF(EINGABEMASKE!$C$18=$F$1,F5,\n\nIF(EINGABEMASKE!$C$18=$H$1,H5,\n\nIF(EINGABEMASKE!$C$18=$J$1,J5,\n\nIF(EINGABEMASKE!$C$18=$L$1,L5,\n\nIF(EINGABEMASKE!$C$18=$N$1,N5,\"\"))))))=\"\",\"\",IF(EINGABEMASKE!$C$18=$D$1,D5,\n\nIF(EINGABEMASKE!$C$18=$F$1,F5,\n\nIF(EINGABEMASKE!$C$18=$H$1,H5,\n\nIF(EINGABEMASKE!$C$18=$J$1,J5,\n\nIF(EINGABEMASKE!$C$18=$L$1,L5,\n\nIF(EINGABEMASKE!$C$18=$N$1,N5,\"\")))))))","v":""},{"$f":"IF(D5=\"\",\"\",MAX(C$1:C4)+1)","v":3},"§ 23 HOAI 2019 - Landschaftsplan",{"$f":"IF(F5=\"\",\"\",MAX(E$1:E4)+1)","v":""},null,{"$f":"IF(H5=\"\",\"\",MAX(G$1:G4)+1)","v":3},"Straßenbetriebsdienst",{"$f":"IF(J5=\"\",\"\",MAX(I$1:I4)+1)","v":3},"Reinigungsmittel",{"$f":"IF(L5=\"\",\"\",MAX(K$1:K4)+1)","v":""},null,{"$f":"IF(N5=\"\",\"\",MAX(M$1:M4)+1)","v":3},"ggf. Pacht"]
[{"$f":"IF(EINGABEMASKE!$C$18=$D$1,C6,\n\nIF(EINGABEMASKE!$C$18=$F$1,E6,\n\nIF(EINGABEMASKE!$C$18=$H$1,G6,\n\nIF(EINGABEMASKE!$C$18=$J$1,I6,\n\nIF(EINGABEMASKE!$C$18=$L$1,K6,\n\nIF(EINGABEMASKE!$C$18=$N$1,M6,\"\"))))))","v":""},{"$f":"IF(IF(EINGABEMASKE!$C$18=$D$1,D6,\n\nIF(EINGABEMASKE!$C$18=$F$1,F6,\n\nIF(EINGABEMASKE!$C$18=$H$1,H6,\n\nIF(EINGABEMASKE!$C$18=$J$1,J6,\n\nIF(EINGABEMASKE!$C$18=$L$1,L6,\n\nIF(EINGABEMASKE!$C$18=$N$1,N6,\"\"))))))=\"\",\"\",IF(EINGABEMASKE!$C$18=$D$1,D6,\n\nIF(EINGABEMASKE!$C$18=$F$1,F6,\n\nIF(EINGABEMASKE!$C$18=$H$1,H6,\n\nIF(EINGABEMASKE!$C$18=$J$1,J6,\n\nIF(EINGABEMASKE!$C$18=$L$1,L6,\n\nIF(EINGABEMASKE!$C$18=$N$1,N6,\"\")))))))","v":""},{"$f":"IF(D6=\"\",\"\",MAX(C$1:C5)+1)","v":4},"§ 24 HOAI 2019 - Grünordnungsplan",{"$f":"IF(F6=\"\",\"\",MAX(E$1:E5)+1)","v":""},null,{"$f":"IF(H6=\"\",\"\",MAX(G$1:G5)+1)","v":4},"Wartung",{"$f":"IF(J6=\"\",\"\",MAX(I$1:I5)+1)","v":4},"Strom",{"$f":"IF(L6=\"\",\"\",MAX(K$1:K5)+1)","v":""},null,{"$f":"IF(N6=\"\",\"\",MAX(M$1:M5)+1)","v":""}]
[{"$f":"IF(EINGABEMASKE!$C$18=$D$1,C7,\n\nIF(EINGABEMASKE!$C$18=$F$1,E7,\n\nIF(EINGABEMASKE!$C$18=$H$1,G7,\n\nIF(EINGABEMASKE!$C$18=$J$1,I7,\n\nIF(EINGABEMASKE!$C$18=$L$1,K7,\n\nIF(EINGABEMASKE!$C$18=$N$1,M7,\"\"))))))","v":""},{"$f":"IF(IF(EINGABEMASKE!$C$18=$D$1,D7,\n\nIF(EINGABEMASKE!$C$18=$F$1,F7,\n\nIF(EINGABEMASKE!$C$18=$H$1,H7,\n\nIF(EINGABEMASKE!$C$18=$J$1,J7,\n\nIF(EINGABEMASKE!$C$18=$L$1,L7,\n\nIF(EINGABEMASKE!$C$18=$N$1,N7,\"\"))))))=\"\",\"\",IF(EINGABEMASKE!$C$18=$D$1,D7,\n\nIF(EINGABEMASKE!$C$18=$F$1,F7,\n\nIF(EINGABEMASKE!$C$18=$H$1,H7,\n\nIF(EINGABEMASKE!$C$18=$J$1,J7,\n\nIF(EINGABEMASKE!$C$18=$L$1,L7,\n\nIF(EINGABEMASKE!$C$18=$N$1,N7,\"\")))))))","v":""},{"$f":"IF(D7=\"\",\"\",MAX(C$1:C6)+1)","v":5},"§ 25 HOAI 2019 - Landschaftsrahmenplan",{"$f":"IF(F7=\"\",\"\",MAX(E$1:E6)+1)","v":""},null,{"$f":"IF(H7=\"\",\"\",MAX(G$1:G6)+1)","v":5},"Winterdienst",{"$f":"IF(J7=\"\",\"\",MAX(I$1:I6)+1)","v":5},"Wärme",{"$f":"IF(L7=\"\",\"\",MAX(K$1:K6)+1)","v":""},null,{"$f":"IF(N7=\"\",\"\",MAX(M$1:M6)+1)","v":""}]
[{"$f":"IF(EINGABEMASKE!$C$18=$D$1,C8,\n\nIF(EINGABEMASKE!$C$18=$F$1,E8,\n\nIF(EINGABEMASKE!$C$18=$H$1,G8,\n\nIF(EINGABEMASKE!$C$18=$J$1,I8,\n\nIF(EINGABEMASKE!$C$18=$L$1,K8,\n\nIF(EINGABEMASKE!$C$18=$N$1,M8,\"\"))))))","v":""},{"$f":"IF(IF(EINGABEMASKE!$C$18=$D$1,D8,\n\nIF(EINGABEMASKE!$C$18=$F$1,F8,\n\nIF(EINGABEMASKE!$C$18=$H$1,H8,\n\nIF(EINGABEMASKE!$C$18=$J$1,J8,\n\nIF(EINGABEMASKE!$C$18=$L$1,L8,\n\nIF(EINGABEMASKE!$C$18=$N$1,N8,\"\"))))))=\"\",\"\",IF(EINGABEMASKE!$C$18=$D$1,D8,\n\nIF(EINGABEMASKE!$C$18=$F$1,F8,\n\nIF(EINGABEMASKE!$C$18=$H$1,H8,\n\nIF(EINGABEMASKE!$C$18=$J$1,J8,\n\nIF(EINGABEMASKE!$C$18=$L$1,L8,\n\nIF(EINGABEMASKE!$C$18=$N$1,N8,\"\")))))))","v":""},{"$f":"IF(D8=\"\",\"\",MAX(C$1:C7)+1)","v":6},"§ 26 HOAI 2019 - Landschaftspflegerischer Begleitplan",{"$f":"IF(F8=\"\",\"\",MAX(E$1:E7)+1)","v":""},null,{"$f":"IF(H8=\"\",\"\",MAX(G$1:G7)+1)","v":""},null,{"$f":"IF(J8=\"\",\"\",MAX(I$1:I7)+1)","v":""},null,{"$f":"IF(L8=\"\",\"\",MAX(K$1:K7)+1)","v":""},null,{"$f":"IF(N8=\"\",\"\",MAX(M$1:M7)+1)","v":""}]
[{"$f":"IF(EINGABEMASKE!$C$18=$D$1,C9,\n\nIF(EINGABEMASKE!$C$18=$F$1,E9,\n\nIF(EINGABEMASKE!$C$18=$H$1,G9,\n\nIF(EINGABEMASKE!$C$18=$J$1,I9,\n\nIF(EINGABEMASKE!$C$18=$L$1,K9,\n\nIF(EINGABEMASKE!$C$18=$N$1,M9,\"\"))))))","v":""},{"$f":"IF(IF(EINGABEMASKE!$C$18=$D$1,D9,\n\nIF(EINGABEMASKE!$C$18=$F$1,F9,\n\nIF(EINGABEMASKE!$C$18=$H$1,H9,\n\nIF(EINGABEMASKE!$C$18=$J$1,J9,\n\nIF(EINGABEMASKE!$C$18=$L$1,L9,\n\nIF(EINGABEMASKE!$C$18=$N$1,N9,\"\"))))))=\"\",\"\",IF(EINGABEMASKE!$C$18=$D$1,D9,\n\nIF(EINGABEMASKE!$C$18=$F$1,F9,\n\nIF(EINGABEMASKE!$C$18=$H$1,H9,\n\nIF(EINGABEMASKE!$C$18=$J$1,J9,\n\nIF(EINGABEMASKE!$C$18=$L$1,L9,\n\nIF(EINGABEMASKE!$C$18=$N$1,N9,\"\")))))))","v":""},{"$f":"IF(D9=\"\",\"\",MAX(C$1:C8)+1)","v":7},"§ 27 HOAI 2019 - Pflege- und Entwicklungsplan",{"$f":"IF(F9=\"\",\"\",MAX(E$1:E8)+1)","v":""},null,{"$f":"IF(H9=\"\",\"\",MAX(G$1:G8)+1)","v":""},null,{"$f":"IF(J9=\"\",\"\",MAX(I$1:I8)+1)","v":""},null,{"$f":"IF(L9=\"\",\"\",MAX(K$1:K8)+1)","v":""},null,{"$f":"IF(N9=\"\",\"\",MAX(M$1:M8)+1)","v":""}]
[{"$f":"IF(EINGABEMASKE!$C$18=$D$1,C10,\n\nIF(EINGABEMASKE!$C$18=$F$1,E10,\n\nIF(EINGABEMASKE!$C$18=$H$1,G10,\n\nIF(EINGABEMASKE!$C$18=$J$1,I10,\n\nIF(EINGABEMASKE!$C$18=$L$1,K10,\n\nIF(EINGABEMASKE!$C$18=$N$1,M10,\"\"))))))","v":""},{"$f":"IF(IF(EINGABEMASKE!$C$18=$D$1,D10,\n\nIF(EINGABEMASKE!$C$18=$F$1,F10,\n\nIF(EINGABEMASKE!$C$18=$H$1,H10,\n\nIF(EINGABEMASKE!$C$18=$J$1,J10,\n\nIF(EINGABEMASKE!$C$18=$L$1,L10,\n\nIF(EINGABEMASKE!$C$18=$N$1,N10,\"\"))))))=\"\",\"\",IF(EINGABEMASKE!$C$18=$D$1,D10,\n\nIF(EINGABEMASKE!$C$18=$F$1,F10,\n\nIF(EINGABEMASKE!$C$18=$H$1,H10,\n\nIF(EINGABEMASKE!$C$18=$J$1,J10,\n\nIF(EINGABEMASKE!$C$18=$L$1,L10,\n\nIF(EINGABEMASKE!$C$18=$N$1,N10,\"\")))))))","v":""},{"$f":"IF(D10=\"\",\"\",MAX(C$1:C9)+1)","v":8},"§ 34 HOAI 2019 - Gebäude und Innenräume",{"$f":"IF(F10=\"\",\"\",MAX(E$1:E9)+1)","v":""},null,{"$f":"IF(H10=\"\",\"\",MAX(G$1:G9)+1)","v":""},null,{"$f":"IF(J10=\"\",\"\",MAX(I$1:I9)+1)","v":""},null,{"$f":"IF(L10=\"\",\"\",MAX(K$1:K9)+1)","v":""},null,{"$f":"IF(N10=\"\",\"\",MAX(M$1:M9)+1)","v":""}]
[{"$f":"IF(EINGABEMASKE!$C$18=$D$1,C11,\n\nIF(EINGABEMASKE!$C$18=$F$1,E11,\n\nIF(EINGABEMASKE!$C$18=$H$1,G11,\n\nIF(EINGABEMASKE!$C$18=$J$1,I11,\n\nIF(EINGABEMASKE!$C$18=$L$1,K11,\n\nIF(EINGABEMASKE!$C$18=$N$1,M11,\"\"))))))","v":""},{"$f":"IF(IF(EINGABEMASKE!$C$18=$D$1,D11,\n\nIF(EINGABEMASKE!$C$18=$F$1,F11,\n\nIF(EINGABEMASKE!$C$18=$H$1,H11,\n\nIF(EINGABEMASKE!$C$18=$J$1,J11,\n\nIF(EINGABEMASKE!$C$18=$L$1,L11,\n\nIF(EINGABEMASKE!$C$18=$N$1,N11,\"\"))))))=\"\",\"\",IF(EINGABEMASKE!$C$18=$D$1,D11,\n\nIF(EINGABEMASKE!$C$18=$F$1,F11,\n\nIF(EINGABEMASKE!$C$18=$H$1,H11,\n\nIF(EINGABEMASKE!$C$18=$J$1,J11,\n\nIF(EINGABEMASKE!$C$18=$L$1,L11,\n\nIF(EINGABEMASKE!$C$18=$N$1,N11,\"\")))))))","v":""},{"$f":"IF(D11=\"\",\"\",MAX(C$1:C10)+1)","v":9},"§ 39 HOAI 2019 - Freianlagen",{"$f":"IF(F11=\"\",\"\",MAX(E$1:E10)+1)","v":""},null,{"$f":"IF(H11=\"\",\"\",MAX(G$1:G10)+1)","v":""},null,{"$f":"IF(J11=\"\",\"\",MAX(I$1:I10)+1)","v":""},null,{"$f":"IF(L11=\"\",\"\",MAX(K$1:K10)+1)","v":""},null,{"$f":"IF(N11=\"\",\"\",MAX(M$1:M10)+1)","v":""}]
[{"$f":"IF(EINGABEMASKE!$C$18=$D$1,C12,\n\nIF(EINGABEMASKE!$C$18=$F$1,E12,\n\nIF(EINGABEMASKE!$C$18=$H$1,G12,\n\nIF(EINGABEMASKE!$C$18=$J$1,I12,\n\nIF(EINGABEMASKE!$C$18=$L$1,K12,\n\nIF(EINGABEMASKE!$C$18=$N$1,M12,\"\"))))))","v":""},{"$f":"IF(IF(EINGABEMASKE!$C$18=$D$1,D12,\n\nIF(EINGABEMASKE!$C$18=$F$1,F12,\n\nIF(EINGABEMASKE!$C$18=$H$1,H12,\n\nIF(EINGABEMASKE!$C$18=$J$1,J12,\n\nIF(EINGABEMASKE!$C$18=$L$1,L12,\n\nIF(EINGABEMASKE!$C$18=$N$1,N12,\"\"))))))=\"\",\"\",IF(EINGABEMASKE!$C$18=$D$1,D12,\n\nIF(EINGABEMASKE!$C$18=$F$1,F12,\n\nIF(EINGABEMASKE!$C$18=$H$1,H12,\n\nIF(EINGABEMASKE!$C$18=$J$1,J12,\n\nIF(EINGABEMASKE!$C$18=$L$1,L12,\n\nIF(EINGABEMASKE!$C$18=$N$1,N12,\"\")))))))","v":""},{"$f":"IF(D12=\"\",\"\",MAX(C$1:C11)+1)","v":10},"§ 43 HOAI 2019 - Ingenieurbauwerke",{"$f":"IF(F12=\"\",\"\",MAX(E$1:E11)+1)","v":""},null,{"$f":"IF(H12=\"\",\"\",MAX(G$1:G11)+1)","v":""},null,{"$f":"IF(J12=\"\",\"\",MAX(I$1:I11)+1)","v":""},null,{"$f":"IF(L12=\"\",\"\",MAX(K$1:K11)+1)","v":""},null,{"$f":"IF(N12=\"\",\"\",MAX(M$1:M11)+1)","v":""}]
[{"$f":"IF(EINGABEMASKE!$C$18=$D$1,C13,\n\nIF(EINGABEMASKE!$C$18=$F$1,E13,\n\nIF(EINGABEMASKE!$C$18=$H$1,G13,\n\nIF(EINGABEMASKE!$C$18=$J$1,I13,\n\nIF(EINGABEMASKE!$C$18=$L$1,K13,\n\nIF(EINGABEMASKE!$C$18=$N$1,M13,\"\"))))))","v":""},{"$f":"IF(IF(EINGABEMASKE!$C$18=$D$1,D13,\n\nIF(EINGABEMASKE!$C$18=$F$1,F13,\n\nIF(EINGABEMASKE!$C$18=$H$1,H13,\n\nIF(EINGABEMASKE!$C$18=$J$1,J13,\n\nIF(EINGABEMASKE!$C$18=$L$1,L13,\n\nIF(EINGABEMASKE!$C$18=$N$1,N13,\"\"))))))=\"\",\"\",IF(EINGABEMASKE!$C$18=$D$1,D13,\n\nIF(EINGABEMASKE!$C$18=$F$1,F13,\n\nIF(EINGABEMASKE!$C$18=$H$1,H13,\n\nIF(EINGABEMASKE!$C$18=$J$1,J13,\n\nIF(EINGABEMASKE!$C$18=$L$1,L13,\n\nIF(EINGABEMASKE!$C$18=$N$1,N13,\"\")))))))","v":""},{"$f":"IF(D13=\"\",\"\",MAX(C$1:C12)+1)","v":11},"§ 47 HOAI 2019 - Verkehrsanlagen",{"$f":"IF(F13=\"\",\"\",MAX(E$1:E12)+1)","v":""},null,{"$f":"IF(H13=\"\",\"\",MAX(G$1:G12)+1)","v":""},null,{"$f":"IF(J13=\"\",\"\",MAX(I$1:I12)+1)","v":""},null,{"$f":"IF(L13=\"\",\"\",MAX(K$1:K12)+1)","v":""},null,{"$f":"IF(N13=\"\",\"\",MAX(M$1:M12)+1)","v":""}]
[{"$f":"IF(EINGABEMASKE!$C$18=$D$1,C14,\n\nIF(EINGABEMASKE!$C$18=$F$1,E14,\n\nIF(EINGABEMASKE!$C$18=$H$1,G14,\n\nIF(EINGABEMASKE!$C$18=$J$1,I14,\n\nIF(EINGABEMASKE!$C$18=$L$1,K14,\n\nIF(EINGABEMASKE!$C$18=$N$1,M14,\"\"))))))","v":""},{"$f":"IF(IF(EINGABEMASKE!$C$18=$D$1,D14,\n\nIF(EINGABEMASKE!$C$18=$F$1,F14,\n\nIF(EINGABEMASKE!$C$18=$H$1,H14,\n\nIF(EINGABEMASKE!$C$18=$J$1,J14,\n\nIF(EINGABEMASKE!$C$18=$L$1,L14,\n\nIF(EINGABEMASKE!$C$18=$N$1,N14,\"\"))))))=\"\",\"\",IF(EINGABEMASKE!$C$18=$D$1,D14,\n\nIF(EINGABEMASKE!$C$18=$F$1,F14,\n\nIF(EINGABEMASKE!$C$18=$H$1,H14,\n\nIF(EINGABEMASKE!$C$18=$J$1,J14,\n\nIF(EINGABEMASKE!$C$18=$L$1,L14,\n\nIF(EINGABEMASKE!$C$18=$N$1,N14,\"\")))))))","v":""},{"$f":"IF(D14=\"\",\"\",MAX(C$1:C13)+1)","v":12},"§ 51 HOAI 2019 - Tragwerksplanung",{"$f":"IF(F14=\"\",\"\",MAX(E$1:E13)+1)","v":""},null,{"$f":"IF(H14=\"\",\"\",MAX(G$1:G13)+1)","v":""},null,{"$f":"IF(J14=\"\",\"\",MAX(I$1:I13)+1)","v":""},null,{"$f":"IF(L14=\"\",\"\",MAX(K$1:K13)+1)","v":""},null,{"$f":"IF(N14=\"\",\"\",MAX(M$1:M13)+1)","v":""}]
[{"$f":"IF(EINGABEMASKE!$C$18=$D$1,C15,\n\nIF(EINGABEMASKE!$C$18=$F$1,E15,\n\nIF(EINGABEMASKE!$C$18=$H$1,G15,\n\nIF(EINGABEMASKE!$C$18=$J$1,I15,\n\nIF(EINGABEMASKE!$C$18=$L$1,K15,\n\nIF(EINGABEMASKE!$C$18=$N$1,M15,\"\"))))))","v":""},{"$f":"IF(IF(EINGABEMASKE!$C$18=$D$1,D15,\n\nIF(EINGABEMASKE!$C$18=$F$1,F15,\n\nIF(EINGABEMASKE!$C$18=$H$1,H15,\n\nIF(EINGABEMASKE!$C$18=$J$1,J15,\n\nIF(EINGABEMASKE!$C$18=$L$1,L15,\n\nIF(EINGABEMASKE!$C$18=$N$1,N15,\"\"))))))=\"\",\"\",IF(EINGABEMASKE!$C$18=$D$1,D15,\n\nIF(EINGABEMASKE!$C$18=$F$1,F15,\n\nIF(EINGABEMASKE!$C$18=$H$1,H15,\n\nIF(EINGABEMASKE!$C$18=$J$1,J15,\n\nIF(EINGABEMASKE!$C$18=$L$1,L15,\n\nIF(EINGABEMASKE!$C$18=$N$1,N15,\"\")))))))","v":""},{"$f":"IF(D15=\"\",\"\",MAX(C$1:C14)+1)","v":13},"§ 55 HOAI 2019 - Technische Ausrüstung",{"$f":"IF(F15=\"\",\"\",MAX(E$1:E14)+1)","v":""},null,{"$f":"IF(H15=\"\",\"\",MAX(G$1:G14)+1)","v":""},null,{"$f":"IF(J15=\"\",\"\",MAX(I$1:I14)+1)","v":""},null,{"$f":"IF(L15=\"\",\"\",MAX(K$1:K14)+1)","v":""},null,{"$f":"IF(N15=\"\",\"\",MAX(M$1:M14)+1)","v":""}]
[{"$f":"IF(EINGABEMASKE!$C$18=$D$1,C16,\n\nIF(EINGABEMASKE!$C$18=$F$1,E16,\n\nIF(EINGABEMASKE!$C$18=$H$1,G16,\n\nIF(EINGABEMASKE!$C$18=$J$1,I16,\n\nIF(EINGABEMASKE!$C$18=$L$1,K16,\n\nIF(EINGABEMASKE!$C$18=$N$1,M16,\"\"))))))","v":""},{"$f":"IF(IF(EINGABEMASKE!$C$18=$D$1,D16,\n\nIF(EINGABEMASKE!$C$18=$F$1,F16,\n\nIF(EINGABEMASKE!$C$18=$H$1,H16,\n\nIF(EINGABEMASKE!$C$18=$J$1,J16,\n\nIF(EINGABEMASKE!$C$18=$L$1,L16,\n\nIF(EINGABEMASKE!$C$18=$N$1,N16,\"\"))))))=\"\",\"\",IF(EINGABEMASKE!$C$18=$D$1,D16,\n\nIF(EINGABEMASKE!$C$18=$F$1,F16,\n\nIF(EINGABEMASKE!$C$18=$H$1,H16,\n\nIF(EINGABEMASKE!$C$18=$J$1,J16,\n\nIF(EINGABEMASKE!$C$18=$L$1,L16,\n\nIF(EINGABEMASKE!$C$18=$N$1,N16,\"\")))))))","v":""},{"$f":"IF(D16=\"\",\"\",MAX(C$1:C15)+1)","v":14},"mehrere Leistungsbilder",{"$f":"IF(F16=\"\",\"\",MAX(E$1:E15)+1)","v":""},null,{"$f":"IF(H16=\"\",\"\",MAX(G$1:G15)+1)","v":""},null,{"$f":"IF(J16=\"\",\"\",MAX(I$1:I15)+1)","v":""},null,{"$f":"IF(L16=\"\",\"\",MAX(K$1:K15)+1)","v":""},null,{"$f":"IF(N16=\"\",\"\",MAX(M$1:M15)+1)","v":""}]
[{"$f":"IF(EINGABEMASKE!$C$18=$D$1,C17,\n\nIF(EINGABEMASKE!$C$18=$F$1,E17,\n\nIF(EINGABEMASKE!$C$18=$H$1,G17,\n\nIF(EINGABEMASKE!$C$18=$J$1,I17,\n\nIF(EINGABEMASKE!$C$18=$L$1,K17,\n\nIF(EINGABEMASKE!$C$18=$N$1,M17,\"\"))))))","v":""},{"$f":"IF(IF(EINGABEMASKE!$C$18=$D$1,D17,\n\nIF(EINGABEMASKE!$C$18=$F$1,F17,\n\nIF(EINGABEMASKE!$C$18=$H$1,H17,\n\nIF(EINGABEMASKE!$C$18=$J$1,J17,\n\nIF(EINGABEMASKE!$C$18=$L$1,L17,\n\nIF(EINGABEMASKE!$C$18=$N$1,N17,\"\"))))))=\"\",\"\",IF(EINGABEMASKE!$C$18=$D$1,D17,\n\nIF(EINGABEMASKE!$C$18=$F$1,F17,\n\nIF(EINGABEMASKE!$C$18=$H$1,H17,\n\nIF(EINGABEMASKE!$C$18=$J$1,J17,\n\nIF(EINGABEMASKE!$C$18=$L$1,L17,\n\nIF(EINGABEMASKE!$C$18=$N$1,N17,\"\")))))))","v":""},{"$f":"IF(D17=\"\",\"\",MAX(C$1:C16)+1)","v":15},"Beratungsleistung",{"$f":"IF(F17=\"\",\"\",MAX(E$1:E16)+1)","v":""},null,{"$f":"IF(H17=\"\",\"\",MAX(G$1:G16)+1)","v":""},null,{"$f":"IF(J17=\"\",\"\",MAX(I$1:I16)+1)","v":""},null,{"$f":"IF(L17=\"\",\"\",MAX(K$1:K16)+1)","v":""},null,{"$f":"IF(N17=\"\",\"\",MAX(M$1:M16)+1)","v":""}]
[{"$f":"IF(EINGABEMASKE!$C$18=$D$1,C18,\n\nIF(EINGABEMASKE!$C$18=$F$1,E18,\n\nIF(EINGABEMASKE!$C$18=$H$1,G18,\n\nIF(EINGABEMASKE!$C$18=$J$1,I18,\n\nIF(EINGABEMASKE!$C$18=$L$1,K18,\n\nIF(EINGABEMASKE!$C$18=$N$1,M18,\"\"))))))","v":""},{"$f":"IF(IF(EINGABEMASKE!$C$18=$D$1,D18,\n\nIF(EINGABEMASKE!$C$18=$F$1,F18,\n\nIF(EINGABEMASKE!$C$18=$H$1,H18,\n\nIF(EINGABEMASKE!$C$18=$J$1,J18,\n\nIF(EINGABEMASKE!$C$18=$L$1,L18,\n\nIF(EINGABEMASKE!$C$18=$N$1,N18,\"\"))))))=\"\",\"\",IF(EINGABEMASKE!$C$18=$D$1,D18,\n\nIF(EINGABEMASKE!$C$18=$F$1,F18,\n\nIF(EINGABEMASKE!$C$18=$H$1,H18,\n\nIF(EINGABEMASKE!$C$18=$J$1,J18,\n\nIF(EINGABEMASKE!$C$18=$L$1,L18,\n\nIF(EINGABEMASKE!$C$18=$N$1,N18,\"\")))))))","v":""},{"$f":"IF(D18=\"\",\"\",MAX(C$1:C17)+1)","v":16},"Sonstiges",{"$f":"IF(F18=\"\",\"\",MAX(E$1:E17)+1)","v":""},null,{"$f":"IF(H18=\"\",\"\",MAX(G$1:G17)+1)","v":""},null,{"$f":"IF(J18=\"\",\"\",MAX(I$1:I17)+1)","v":""},null,{"$f":"IF(L18=\"\",\"\",MAX(K$1:K17)+1)","v":""},null,{"$f":"IF(N18=\"\",\"\",MAX(M$1:M17)+1)","v":""}]
[{"$f":"IF(EINGABEMASKE!$C$18=$D$1,C19,\n\nIF(EINGABEMASKE!$C$18=$F$1,E19,\n\nIF(EINGABEMASKE!$C$18=$H$1,G19,\n\nIF(EINGABEMASKE!$C$18=$J$1,I19,\n\nIF(EINGABEMASKE!$C$18=$L$1,K19,\n\nIF(EINGABEMASKE!$C$18=$N$1,M19,\"\"))))))","v":""},{"$f":"IF(IF(EINGABEMASKE!$C$18=$D$1,D19,\n\nIF(EINGABEMASKE!$C$18=$F$1,F19,\n\nIF(EINGABEMASKE!$C$18=$H$1,H19,\n\nIF(EINGABEMASKE!$C$18=$J$1,J19,\n\nIF(EINGABEMASKE!$C$18=$L$1,L19,\n\nIF(EINGABEMASKE!$C$18=$N$1,N19,\"\"))))))=\"\",\"\",IF(EINGABEMASKE!$C$18=$D$1,D19,\n\nIF(EINGABEMASKE!$C$18=$F$1,F19,\n\nIF(EINGABEMASKE!$C$18=$H$1,H19,\n\nIF(EINGABEMASKE!$C$18=$J$1,J19,\n\nIF(EINGABEMASKE!$C$18=$L$1,L19,\n\nIF(EINGABEMASKE!$C$18=$N$1,N19,\"\")))))))","v":""},{"$f":"IF(D19=\"\",\"\",MAX(C$1:C18)+1)","v":""},null,{"$f":"IF(F19=\"\",\"\",MAX(E$1:E18)+1)","v":""},null,{"$f":"IF(H19=\"\",\"\",MAX(G$1:G18)+1)","v":""},null,{"$f":"IF(J19=\"\",\"\",MAX(I$1:I18)+1)","v":""},null,{"$f":"IF(L19=\"\",\"\",MAX(K$1:K18)+1)","v":""},null,{"$f":"IF(N19=\"\",\"\",MAX(M$1:M18)+1)","v":""}]
[{"$f":"IF(EINGABEMASKE!$C$18=$D$1,C20,\n\nIF(EINGABEMASKE!$C$18=$F$1,E20,\n\nIF(EINGABEMASKE!$C$18=$H$1,G20,\n\nIF(EINGABEMASKE!$C$18=$J$1,I20,\n\nIF(EINGABEMASKE!$C$18=$L$1,K20,\n\nIF(EINGABEMASKE!$C$18=$N$1,M20,\"\"))))))","v":""},{"$f":"IF(IF(EINGABEMASKE!$C$18=$D$1,D20,\n\nIF(EINGABEMASKE!$C$18=$F$1,F20,\n\nIF(EINGABEMASKE!$C$18=$H$1,H20,\n\nIF(EINGABEMASKE!$C$18=$J$1,J20,\n\nIF(EINGABEMASKE!$C$18=$L$1,L20,\n\nIF(EINGABEMASKE!$C$18=$N$1,N20,\"\"))))))=\"\",\"\",IF(EINGABEMASKE!$C$18=$D$1,D20,\n\nIF(EINGABEMASKE!$C$18=$F$1,F20,\n\nIF(EINGABEMASKE!$C$18=$H$1,H20,\n\nIF(EINGABEMASKE!$C$18=$J$1,J20,\n\nIF(EINGABEMASKE!$C$18=$L$1,L20,\n\nIF(EINGABEMASKE!$C$18=$N$1,N20,\"\")))))))","v":""},{"$f":"IF(D20=\"\",\"\",MAX(C$1:C19)+1)","v":""},null,{"$f":"IF(F20=\"\",\"\",MAX(E$1:E19)+1)","v":""},null,{"$f":"IF(H20=\"\",\"\",MAX(G$1:G19)+1)","v":""},null,{"$f":"IF(J20=\"\",\"\",MAX(I$1:I19)+1)","v":""},null,{"$f":"IF(L20=\"\",\"\",MAX(K$1:K19)+1)","v":""},null,{"$f":"IF(N20=\"\",\"\",MAX(M$1:M19)+1)","v":""}]
[{"$f":"IF(EINGABEMASKE!$C$18=$D$1,C21,\n\nIF(EINGABEMASKE!$C$18=$F$1,E21,\n\nIF(EINGABEMASKE!$C$18=$H$1,G21,\n\nIF(EINGABEMASKE!$C$18=$J$1,I21,\n\nIF(EINGABEMASKE!$C$18=$L$1,K21,\n\nIF(EINGABEMASKE!$C$18=$N$1,M21,\"\"))))))","v":""},{"$f":"IF(IF(EINGABEMASKE!$C$18=$D$1,D21,\n\nIF(EINGABEMASKE!$C$18=$F$1,F21,\n\nIF(EINGABEMASKE!$C$18=$H$1,H21,\n\nIF(EINGABEMASKE!$C$18=$J$1,J21,\n\nIF(EINGABEMASKE!$C$18=$L$1,L21,\n\nIF(EINGABEMASKE!$C$18=$N$1,N21,\"\"))))))=\"\",\"\",IF(EINGABEMASKE!$C$18=$D$1,D21,\n\nIF(EINGABEMASKE!$C$18=$F$1,F21,\n\nIF(EINGABEMASKE!$C$18=$H$1,H21,\n\nIF(EINGABEMASKE!$C$18=$J$1,J21,\n\nIF(EINGABEMASKE!$C$18=$L$1,L21,\n\nIF(EINGABEMASKE!$C$18=$N$1,N21,\"\")))))))","v":""},{"$f":"IF(D21=\"\",\"\",MAX(C$1:C20)+1)","v":""},null,{"$f":"IF(F21=\"\",\"\",MAX(E$1:E20)+1)","v":""},null,{"$f":"IF(H21=\"\",\"\",MAX(G$1:G20)+1)","v":""},null,{"$f":"IF(J21=\"\",\"\",MAX(I$1:I20)+1)","v":""},null,{"$f":"IF(L21=\"\",\"\",MAX(K$1:K20)+1)","v":""},null,{"$f":"IF(N21=\"\",\"\",MAX(M$1:M20)+1)","v":""}]
[{"$f":"IF(EINGABEMASKE!$C$18=$D$1,C22,\n\nIF(EINGABEMASKE!$C$18=$F$1,E22,\n\nIF(EINGABEMASKE!$C$18=$H$1,G22,\n\nIF(EINGABEMASKE!$C$18=$J$1,I22,\n\nIF(EINGABEMASKE!$C$18=$L$1,K22,\n\nIF(EINGABEMASKE!$C$18=$N$1,M22,\"\"))))))","v":""},{"$f":"IF(IF(EINGABEMASKE!$C$18=$D$1,D22,\n\nIF(EINGABEMASKE!$C$18=$F$1,F22,\n\nIF(EINGABEMASKE!$C$18=$H$1,H22,\n\nIF(EINGABEMASKE!$C$18=$J$1,J22,\n\nIF(EINGABEMASKE!$C$18=$L$1,L22,\n\nIF(EINGABEMASKE!$C$18=$N$1,N22,\"\"))))))=\"\",\"\",IF(EINGABEMASKE!$C$18=$D$1,D22,\n\nIF(EINGABEMASKE!$C$18=$F$1,F22,\n\nIF(EINGABEMASKE!$C$18=$H$1,H22,\n\nIF(EINGABEMASKE!$C$18=$J$1,J22,\n\nIF(EINGABEMASKE!$C$18=$L$1,L22,\n\nIF(EINGABEMASKE!$C$18=$N$1,N22,\"\")))))))","v":""},{"$f":"IF(D22=\"\",\"\",MAX(C$1:C21)+1)","v":""},null,{"$f":"IF(F22=\"\",\"\",MAX(E$1:E21)+1)","v":""},null,{"$f":"IF(H22=\"\",\"\",MAX(G$1:G21)+1)","v":""},null,{"$f":"IF(J22=\"\",\"\",MAX(I$1:I21)+1)","v":""},null,{"$f":"IF(L22=\"\",\"\",MAX(K$1:K21)+1)","v":""},null,{"$f":"IF(N22=\"\",\"\",MAX(M$1:M21)+1)","v":""}]
[{"$f":"IF(EINGABEMASKE!$C$18=$D$1,C23,\n\nIF(EINGABEMASKE!$C$18=$F$1,E23,\n\nIF(EINGABEMASKE!$C$18=$H$1,G23,\n\nIF(EINGABEMASKE!$C$18=$J$1,I23,\n\nIF(EINGABEMASKE!$C$18=$L$1,K23,\n\nIF(EINGABEMASKE!$C$18=$N$1,M23,\"\"))))))","v":""},{"$f":"IF(IF(EINGABEMASKE!$C$18=$D$1,D23,\n\nIF(EINGABEMASKE!$C$18=$F$1,F23,\n\nIF(EINGABEMASKE!$C$18=$H$1,H23,\n\nIF(EINGABEMASKE!$C$18=$J$1,J23,\n\nIF(EINGABEMASKE!$C$18=$L$1,L23,\n\nIF(EINGABEMASKE!$C$18=$N$1,N23,\"\"))))))=\"\",\"\",IF(EINGABEMASKE!$C$18=$D$1,D23,\n\nIF(EINGABEMASKE!$C$18=$F$1,F23,\n\nIF(EINGABEMASKE!$C$18=$H$1,H23,\n\nIF(EINGABEMASKE!$C$18=$J$1,J23,\n\nIF(EINGABEMASKE!$C$18=$L$1,L23,\n\nIF(EINGABEMASKE!$C$18=$N$1,N23,\"\")))))))","v":""},{"$f":"IF(D23=\"\",\"\",MAX(C$1:C22)+1)","v":""},null,{"$f":"IF(F23=\"\",\"\",MAX(E$1:E22)+1)","v":""},null,{"$f":"IF(H23=\"\",\"\",MAX(G$1:G22)+1)","v":""},null,{"$f":"IF(J23=\"\",\"\",MAX(I$1:I22)+1)","v":""},null,{"$f":"IF(L23=\"\",\"\",MAX(K$1:K22)+1)","v":""},null,{"$f":"IF(N23=\"\",\"\",MAX(M$1:M22)+1)","v":""}]
[{"$f":"IF(EINGABEMASKE!$C$18=$D$1,C24,\n\nIF(EINGABEMASKE!$C$18=$F$1,E24,\n\nIF(EINGABEMASKE!$C$18=$H$1,G24,\n\nIF(EINGABEMASKE!$C$18=$J$1,I24,\n\nIF(EINGABEMASKE!$C$18=$L$1,K24,\n\nIF(EINGABEMASKE!$C$18=$N$1,M24,\"\"))))))","v":""},{"$f":"IF(IF(EINGABEMASKE!$C$18=$D$1,D24,\n\nIF(EINGABEMASKE!$C$18=$F$1,F24,\n\nIF(EINGABEMASKE!$C$18=$H$1,H24,\n\nIF(EINGABEMASKE!$C$18=$J$1,J24,\n\nIF(EINGABEMASKE!$C$18=$L$1,L24,\n\nIF(EINGABEMASKE!$C$18=$N$1,N24,\"\"))))))=\"\",\"\",IF(EINGABEMASKE!$C$18=$D$1,D24,\n\nIF(EINGABEMASKE!$C$18=$F$1,F24,\n\nIF(EINGABEMASKE!$C$18=$H$1,H24,\n\nIF(EINGABEMASKE!$C$18=$J$1,J24,\n\nIF(EINGABEMASKE!$C$18=$L$1,L24,\n\nIF(EINGABEMASKE!$C$18=$N$1,N24,\"\")))))))","v":""},{"$f":"IF(D24=\"\",\"\",MAX(C$1:C23)+1)","v":""},null,{"$f":"IF(F24=\"\",\"\",MAX(E$1:E23)+1)","v":""},null,{"$f":"IF(H24=\"\",\"\",MAX(G$1:G23)+1)","v":""},null,{"$f":"IF(J24=\"\",\"\",MAX(I$1:I23)+1)","v":""},null,{"$f":"IF(L24=\"\",\"\",MAX(K$1:K23)+1)","v":""},null,{"$f":"IF(N24=\"\",\"\",MAX(M$1:M23)+1)","v":""}]
[{"$f":"IF(EINGABEMASKE!$C$18=$D$1,C25,\n\nIF(EINGABEMASKE!$C$18=$F$1,E25,\n\nIF(EINGABEMASKE!$C$18=$H$1,G25,\n\nIF(EINGABEMASKE!$C$18=$J$1,I25,\n\nIF(EINGABEMASKE!$C$18=$L$1,K25,\n\nIF(EINGABEMASKE!$C$18=$N$1,M25,\"\"))))))","v":""},{"$f":"IF(IF(EINGABEMASKE!$C$18=$D$1,D25,\n\nIF(EINGABEMASKE!$C$18=$F$1,F25,\n\nIF(EINGABEMASKE!$C$18=$H$1,H25,\n\nIF(EINGABEMASKE!$C$18=$J$1,J25,\n\nIF(EINGABEMASKE!$C$18=$L$1,L25,\n\nIF(EINGABEMASKE!$C$18=$N$1,N25,\"\"))))))=\"\",\"\",IF(EINGABEMASKE!$C$18=$D$1,D25,\n\nIF(EINGABEMASKE!$C$18=$F$1,F25,\n\nIF(EINGABEMASKE!$C$18=$H$1,H25,\n\nIF(EINGABEMASKE!$C$18=$J$1,J25,\n\nIF(EINGABEMASKE!$C$18=$L$1,L25,\n\nIF(EINGABEMASKE!$C$18=$N$1,N25,\"\")))))))","v":""},{"$f":"IF(D25=\"\",\"\",MAX(C$1:C24)+1)","v":""},null,{"$f":"IF(F25=\"\",\"\",MAX(E$1:E24)+1)","v":""},null,{"$f":"IF(H25=\"\",\"\",MAX(G$1:G24)+1)","v":""},null,{"$f":"IF(J25=\"\",\"\",MAX(I$1:I24)+1)","v":""},null,{"$f":"IF(L25=\"\",\"\",MAX(K$1:K24)+1)","v":""},null,{"$f":"IF(N25=\"\",\"\",MAX(M$1:M24)+1)","v":""}]
[{"$f":"IF(EINGABEMASKE!$C$18=$D$1,C26,\n\nIF(EINGABEMASKE!$C$18=$F$1,E26,\n\nIF(EINGABEMASKE!$C$18=$H$1,G26,\n\nIF(EINGABEMASKE!$C$18=$J$1,I26,\n\nIF(EINGABEMASKE!$C$18=$L$1,K26,\n\nIF(EINGABEMASKE!$C$18=$N$1,M26,\"\"))))))","v":""},{"$f":"IF(IF(EINGABEMASKE!$C$18=$D$1,D26,\n\nIF(EINGABEMASKE!$C$18=$F$1,F26,\n\nIF(EINGABEMASKE!$C$18=$H$1,H26,\n\nIF(EINGABEMASKE!$C$18=$J$1,J26,\n\nIF(EINGABEMASKE!$C$18=$L$1,L26,\n\nIF(EINGABEMASKE!$C$18=$N$1,N26,\"\"))))))=\"\",\"\",IF(EINGABEMASKE!$C$18=$D$1,D26,\n\nIF(EINGABEMASKE!$C$18=$F$1,F26,\n\nIF(EINGABEMASKE!$C$18=$H$1,H26,\n\nIF(EINGABEMASKE!$C$18=$J$1,J26,\n\nIF(EINGABEMASKE!$C$18=$L$1,L26,\n\nIF(EINGABEMASKE!$C$18=$N$1,N26,\"\")))))))","v":""},{"$f":"IF(D26=\"\",\"\",MAX(C$1:C25)+1)","v":""},null,{"$f":"IF(F26=\"\",\"\",MAX(E$1:E25)+1)","v":""},null,{"$f":"IF(H26=\"\",\"\",MAX(G$1:G25)+1)","v":""},null,{"$f":"IF(J26=\"\",\"\",MAX(I$1:I25)+1)","v":""},null,{"$f":"IF(L26=\"\",\"\",MAX(K$1:K25)+1)","v":""},null,{"$f":"IF(N26=\"\",\"\",MAX(M$1:M25)+1)","v":""}]
[{"$f":"IF(EINGABEMASKE!$C$18=$D$1,C27,\n\nIF(EINGABEMASKE!$C$18=$F$1,E27,\n\nIF(EINGABEMASKE!$C$18=$H$1,G27,\n\nIF(EINGABEMASKE!$C$18=$J$1,I27,\n\nIF(EINGABEMASKE!$C$18=$L$1,K27,\n\nIF(EINGABEMASKE!$C$18=$N$1,M27,\"\"))))))","v":""},{"$f":"IF(IF(EINGABEMASKE!$C$18=$D$1,D27,\n\nIF(EINGABEMASKE!$C$18=$F$1,F27,\n\nIF(EINGABEMASKE!$C$18=$H$1,H27,\n\nIF(EINGABEMASKE!$C$18=$J$1,J27,\n\nIF(EINGABEMASKE!$C$18=$L$1,L27,\n\nIF(EINGABEMASKE!$C$18=$N$1,N27,\"\"))))))=\"\",\"\",IF(EINGABEMASKE!$C$18=$D$1,D27,\n\nIF(EINGABEMASKE!$C$18=$F$1,F27,\n\nIF(EINGABEMASKE!$C$18=$H$1,H27,\n\nIF(EINGABEMASKE!$C$18=$J$1,J27,\n\nIF(EINGABEMASKE!$C$18=$L$1,L27,\n\nIF(EINGABEMASKE!$C$18=$N$1,N27,\"\")))))))","v":""},{"$f":"IF(D27=\"\",\"\",MAX(C$1:C26)+1)","v":""},null,{"$f":"IF(F27=\"\",\"\",MAX(E$1:E26)+1)","v":""},null,{"$f":"IF(H27=\"\",\"\",MAX(G$1:G26)+1)","v":""},null,{"$f":"IF(J27=\"\",\"\",MAX(I$1:I26)+1)","v":""},null,{"$f":"IF(L27=\"\",\"\",MAX(K$1:K26)+1)","v":""},null,{"$f":"IF(N27=\"\",\"\",MAX(M$1:M26)+1)","v":""}]
[{"$f":"IF(EINGABEMASKE!$C$18=$D$1,C28,\n\nIF(EINGABEMASKE!$C$18=$F$1,E28,\n\nIF(EINGABEMASKE!$C$18=$H$1,G28,\n\nIF(EINGABEMASKE!$C$18=$J$1,I28,\n\nIF(EINGABEMASKE!$C$18=$L$1,K28,\n\nIF(EINGABEMASKE!$C$18=$N$1,M28,\"\"))))))","v":""},{"$f":"IF(IF(EINGABEMASKE!$C$18=$D$1,D28,\n\nIF(EINGABEMASKE!$C$18=$F$1,F28,\n\nIF(EINGABEMASKE!$C$18=$H$1,H28,\n\nIF(EINGABEMASKE!$C$18=$J$1,J28,\n\nIF(EINGABEMASKE!$C$18=$L$1,L28,\n\nIF(EINGABEMASKE!$C$18=$N$1,N28,\"\"))))))=\"\",\"\",IF(EINGABEMASKE!$C$18=$D$1,D28,\n\nIF(EINGABEMASKE!$C$18=$F$1,F28,\n\nIF(EINGABEMASKE!$C$18=$H$1,H28,\n\nIF(EINGABEMASKE!$C$18=$J$1,J28,\n\nIF(EINGABEMASKE!$C$18=$L$1,L28,\n\nIF(EINGABEMASKE!$C$18=$N$1,N28,\"\")))))))","v":""},{"$f":"IF(D28=\"\",\"\",MAX(C$1:C27)+1)","v":""},null,{"$f":"IF(F28=\"\",\"\",MAX(E$1:E27)+1)","v":""},null,{"$f":"IF(H28=\"\",\"\",MAX(G$1:G27)+1)","v":""},null,{"$f":"IF(J28=\"\",\"\",MAX(I$1:I27)+1)","v":""},null,{"$f":"IF(L28=\"\",\"\",MAX(K$1:K27)+1)","v":""},null,{"$f":"IF(N28=\"\",\"\",MAX(M$1:M27)+1)","v":""}]
[{"$f":"IF(EINGABEMASKE!$C$18=$D$1,C29,\n\nIF(EINGABEMASKE!$C$18=$F$1,E29,\n\nIF(EINGABEMASKE!$C$18=$H$1,G29,\n\nIF(EINGABEMASKE!$C$18=$J$1,I29,\n\nIF(EINGABEMASKE!$C$18=$L$1,K29,\n\nIF(EINGABEMASKE!$C$18=$N$1,M29,\"\"))))))","v":""},{"$f":"IF(IF(EINGABEMASKE!$C$18=$D$1,D29,\n\nIF(EINGABEMASKE!$C$18=$F$1,F29,\n\nIF(EINGABEMASKE!$C$18=$H$1,H29,\n\nIF(EINGABEMASKE!$C$18=$J$1,J29,\n\nIF(EINGABEMASKE!$C$18=$L$1,L29,\n\nIF(EINGABEMASKE!$C$18=$N$1,N29,\"\"))))))=\"\",\"\",IF(EINGABEMASKE!$C$18=$D$1,D29,\n\nIF(EINGABEMASKE!$C$18=$F$1,F29,\n\nIF(EINGABEMASKE!$C$18=$H$1,H29,\n\nIF(EINGABEMASKE!$C$18=$J$1,J29,\n\nIF(EINGABEMASKE!$C$18=$L$1,L29,\n\nIF(EINGABEMASKE!$C$18=$N$1,N29,\"\")))))))","v":""},{"$f":"IF(D29=\"\",\"\",MAX(C$1:C28)+1)","v":""},null,{"$f":"IF(F29=\"\",\"\",MAX(E$1:E28)+1)","v":""},null,{"$f":"IF(H29=\"\",\"\",MAX(G$1:G28)+1)","v":""},null,{"$f":"IF(J29=\"\",\"\",MAX(I$1:I28)+1)","v":""},null,{"$f":"IF(L29=\"\",\"\",MAX(K$1:K28)+1)","v":""},null,{"$f":"IF(N29=\"\",\"\",MAX(M$1:M28)+1)","v":""}]
[{"$f":"IF(EINGABEMASKE!$C$18=$D$1,C30,\n\nIF(EINGABEMASKE!$C$18=$F$1,E30,\n\nIF(EINGABEMASKE!$C$18=$H$1,G30,\n\nIF(EINGABEMASKE!$C$18=$J$1,I30,\n\nIF(EINGABEMASKE!$C$18=$L$1,K30,\n\nIF(EINGABEMASKE!$C$18=$N$1,M30,\"\"))))))","v":""},{"$f":"IF(IF(EINGABEMASKE!$C$18=$D$1,D30,\n\nIF(EINGABEMASKE!$C$18=$F$1,F30,\n\nIF(EINGABEMASKE!$C$18=$H$1,H30,\n\nIF(EINGABEMASKE!$C$18=$J$1,J30,\n\nIF(EINGABEMASKE!$C$18=$L$1,L30,\n\nIF(EINGABEMASKE!$C$18=$N$1,N30,\"\"))))))=\"\",\"\",IF(EINGABEMASKE!$C$18=$D$1,D30,\n\nIF(EINGABEMASKE!$C$18=$F$1,F30,\n\nIF(EINGABEMASKE!$C$18=$H$1,H30,\n\nIF(EINGABEMASKE!$C$18=$J$1,J30,\n\nIF(EINGABEMASKE!$C$18=$L$1,L30,\n\nIF(EINGABEMASKE!$C$18=$N$1,N30,\"\")))))))","v":""},{"$f":"IF(D30=\"\",\"\",MAX(C$1:C29)+1)","v":""},null,{"$f":"IF(F30=\"\",\"\",MAX(E$1:E29)+1)","v":""},null,{"$f":"IF(H30=\"\",\"\",MAX(G$1:G29)+1)","v":""},null,{"$f":"IF(J30=\"\",\"\",MAX(I$1:I29)+1)","v":""},null,{"$f":"IF(L30=\"\",\"\",MAX(K$1:K29)+1)","v":""},null,{"$f":"IF(N30=\"\",\"\",MAX(M$1:M29)+1)","v":""}]
[{"$f":"IF(EINGABEMASKE!$C$18=$D$1,C31,\n\nIF(EINGABEMASKE!$C$18=$F$1,E31,\n\nIF(EINGABEMASKE!$C$18=$H$1,G31,\n\nIF(EINGABEMASKE!$C$18=$J$1,I31,\n\nIF(EINGABEMASKE!$C$18=$L$1,K31,\n\nIF(EINGABEMASKE!$C$18=$N$1,M31,\"\"))))))","v":""},{"$f":"IF(IF(EINGABEMASKE!$C$18=$D$1,D31,\n\nIF(EINGABEMASKE!$C$18=$F$1,F31,\n\nIF(EINGABEMASKE!$C$18=$H$1,H31,\n\nIF(EINGABEMASKE!$C$18=$J$1,J31,\n\nIF(EINGABEMASKE!$C$18=$L$1,L31,\n\nIF(EINGABEMASKE!$C$18=$N$1,N31,\"\"))))))=\"\",\"\",IF(EINGABEMASKE!$C$18=$D$1,D31,\n\nIF(EINGABEMASKE!$C$18=$F$1,F31,\n\nIF(EINGABEMASKE!$C$18=$H$1,H31,\n\nIF(EINGABEMASKE!$C$18=$J$1,J31,\n\nIF(EINGABEMASKE!$C$18=$L$1,L31,\n\nIF(EINGABEMASKE!$C$18=$N$1,N31,\"\")))))))","v":""},{"$f":"IF(D31=\"\",\"\",MAX(C$1:C30)+1)","v":""},null,{"$f":"IF(F31=\"\",\"\",MAX(E$1:E30)+1)","v":""},null,{"$f":"IF(H31=\"\",\"\",MAX(G$1:G30)+1)","v":""},null,{"$f":"IF(J31=\"\",\"\",MAX(I$1:I30)+1)","v":""},null,{"$f":"IF(L31=\"\",\"\",MAX(K$1:K30)+1)","v":""},null,{"$f":"IF(N31=\"\",\"\",MAX(M$1:M30)+1)","v":""}]
[{"$f":"IF(EINGABEMASKE!$C$18=$D$1,C32,\n\nIF(EINGABEMASKE!$C$18=$F$1,E32,\n\nIF(EINGABEMASKE!$C$18=$H$1,G32,\n\nIF(EINGABEMASKE!$C$18=$J$1,I32,\n\nIF(EINGABEMASKE!$C$18=$L$1,K32,\n\nIF(EINGABEMASKE!$C$18=$N$1,M32,\"\"))))))","v":""},{"$f":"IF(IF(EINGABEMASKE!$C$18=$D$1,D32,\n\nIF(EINGABEMASKE!$C$18=$F$1,F32,\n\nIF(EINGABEMASKE!$C$18=$H$1,H32,\n\nIF(EINGABEMASKE!$C$18=$J$1,J32,\n\nIF(EINGABEMASKE!$C$18=$L$1,L32,\n\nIF(EINGABEMASKE!$C$18=$N$1,N32,\"\"))))))=\"\",\"\",IF(EINGABEMASKE!$C$18=$D$1,D32,\n\nIF(EINGABEMASKE!$C$18=$F$1,F32,\n\nIF(EINGABEMASKE!$C$18=$H$1,H32,\n\nIF(EINGABEMASKE!$C$18=$J$1,J32,\n\nIF(EINGABEMASKE!$C$18=$L$1,L32,\n\nIF(EINGABEMASKE!$C$18=$N$1,N32,\"\")))))))","v":""},{"$f":"IF(D32=\"\",\"\",MAX(C$1:C31)+1)","v":""},null,{"$f":"IF(F32=\"\",\"\",MAX(E$1:E31)+1)","v":""},null,{"$f":"IF(H32=\"\",\"\",MAX(G$1:G31)+1)","v":""},null,{"$f":"IF(J32=\"\",\"\",MAX(I$1:I31)+1)","v":""},null,{"$f":"IF(L32=\"\",\"\",MAX(K$1:K31)+1)","v":""},null,{"$f":"IF(N32=\"\",\"\",MAX(M$1:M31)+1)","v":""}]
[{"$f":"IF(EINGABEMASKE!$C$18=$D$1,C33,\n\nIF(EINGABEMASKE!$C$18=$F$1,E33,\n\nIF(EINGABEMASKE!$C$18=$H$1,G33,\n\nIF(EINGABEMASKE!$C$18=$J$1,I33,\n\nIF(EINGABEMASKE!$C$18=$L$1,K33,\n\nIF(EINGABEMASKE!$C$18=$N$1,M33,\"\"))))))","v":""},{"$f":"IF(IF(EINGABEMASKE!$C$18=$D$1,D33,\n\nIF(EINGABEMASKE!$C$18=$F$1,F33,\n\nIF(EINGABEMASKE!$C$18=$H$1,H33,\n\nIF(EINGABEMASKE!$C$18=$J$1,J33,\n\nIF(EINGABEMASKE!$C$18=$L$1,L33,\n\nIF(EINGABEMASKE!$C$18=$N$1,N33,\"\"))))))=\"\",\"\",IF(EINGABEMASKE!$C$18=$D$1,D33,\n\nIF(EINGABEMASKE!$C$18=$F$1,F33,\n\nIF(EINGABEMASKE!$C$18=$H$1,H33,\n\nIF(EINGABEMASKE!$C$18=$J$1,J33,\n\nIF(EINGABEMASKE!$C$18=$L$1,L33,\n\nIF(EINGABEMASKE!$C$18=$N$1,N33,\"\")))))))","v":""},{"$f":"IF(D33=\"\",\"\",MAX(C$1:C32)+1)","v":""},null,{"$f":"IF(F33=\"\",\"\",MAX(E$1:E32)+1)","v":""},null,{"$f":"IF(H33=\"\",\"\",MAX(G$1:G32)+1)","v":""},null,{"$f":"IF(J33=\"\",\"\",MAX(I$1:I32)+1)","v":""},null,{"$f":"IF(L33=\"\",\"\",MAX(K$1:K32)+1)","v":""},null,{"$f":"IF(N33=\"\",\"\",MAX(M$1:M32)+1)","v":""}]
[{"$f":"IF(EINGABEMASKE!$C$18=$D$1,C34,\n\nIF(EINGABEMASKE!$C$18=$F$1,E34,\n\nIF(EINGABEMASKE!$C$18=$H$1,G34,\n\nIF(EINGABEMASKE!$C$18=$J$1,I34,\n\nIF(EINGABEMASKE!$C$18=$L$1,K34,\n\nIF(EINGABEMASKE!$C$18=$N$1,M34,\"\"))))))","v":""},{"$f":"IF(IF(EINGABEMASKE!$C$18=$D$1,D34,\n\nIF(EINGABEMASKE!$C$18=$F$1,F34,\n\nIF(EINGABEMASKE!$C$18=$H$1,H34,\n\nIF(EINGABEMASKE!$C$18=$J$1,J34,\n\nIF(EINGABEMASKE!$C$18=$L$1,L34,\n\nIF(EINGABEMASKE!$C$18=$N$1,N34,\"\"))))))=\"\",\"\",IF(EINGABEMASKE!$C$18=$D$1,D34,\n\nIF(EINGABEMASKE!$C$18=$F$1,F34,\n\nIF(EINGABEMASKE!$C$18=$H$1,H34,\n\nIF(EINGABEMASKE!$C$18=$J$1,J34,\n\nIF(EINGABEMASKE!$C$18=$L$1,L34,\n\nIF(EINGABEMASKE!$C$18=$N$1,N34,\"\")))))))","v":""},{"$f":"IF(D34=\"\",\"\",MAX(C$1:C33)+1)","v":""},null,{"$f":"IF(F34=\"\",\"\",MAX(E$1:E33)+1)","v":""},null,{"$f":"IF(H34=\"\",\"\",MAX(G$1:G33)+1)","v":""},null,{"$f":"IF(J34=\"\",\"\",MAX(I$1:I33)+1)","v":""},null,{"$f":"IF(L34=\"\",\"\",MAX(K$1:K33)+1)","v":""},null,{"$f":"IF(N34=\"\",\"\",MAX(M$1:M33)+1)","v":""}]
[{"$f":"IF(EINGABEMASKE!$C$18=$D$1,C35,\n\nIF(EINGABEMASKE!$C$18=$F$1,E35,\n\nIF(EINGABEMASKE!$C$18=$H$1,G35,\n\nIF(EINGABEMASKE!$C$18=$J$1,I35,\n\nIF(EINGABEMASKE!$C$18=$L$1,K35,\n\nIF(EINGABEMASKE!$C$18=$N$1,M35,\"\"))))))","v":""},{"$f":"IF(IF(EINGABEMASKE!$C$18=$D$1,D35,\n\nIF(EINGABEMASKE!$C$18=$F$1,F35,\n\nIF(EINGABEMASKE!$C$18=$H$1,H35,\n\nIF(EINGABEMASKE!$C$18=$J$1,J35,\n\nIF(EINGABEMASKE!$C$18=$L$1,L35,\n\nIF(EINGABEMASKE!$C$18=$N$1,N35,\"\"))))))=\"\",\"\",IF(EINGABEMASKE!$C$18=$D$1,D35,\n\nIF(EINGABEMASKE!$C$18=$F$1,F35,\n\nIF(EINGABEMASKE!$C$18=$H$1,H35,\n\nIF(EINGABEMASKE!$C$18=$J$1,J35,\n\nIF(EINGABEMASKE!$C$18=$L$1,L35,\n\nIF(EINGABEMASKE!$C$18=$N$1,N35,\"\")))))))","v":""},{"$f":"IF(D35=\"\",\"\",MAX(C$1:C34)+1)","v":""},null,{"$f":"IF(F35=\"\",\"\",MAX(E$1:E34)+1)","v":""},null,{"$f":"IF(H35=\"\",\"\",MAX(G$1:G34)+1)","v":""},null,{"$f":"IF(J35=\"\",\"\",MAX(I$1:I34)+1)","v":""},null,{"$f":"IF(L35=\"\",\"\",MAX(K$1:K34)+1)","v":""},null,{"$f":"IF(N35=\"\",\"\",MAX(M$1:M34)+1)","v":""}]
[{"$f":"IF(EINGABEMASKE!$C$18=$D$1,C36,\n\nIF(EINGABEMASKE!$C$18=$F$1,E36,\n\nIF(EINGABEMASKE!$C$18=$H$1,G36,\n\nIF(EINGABEMASKE!$C$18=$J$1,I36,\n\nIF(EINGABEMASKE!$C$18=$L$1,K36,\n\nIF(EINGABEMASKE!$C$18=$N$1,M36,\"\"))))))","v":""},{"$f":"IF(IF(EINGABEMASKE!$C$18=$D$1,D36,\n\nIF(EINGABEMASKE!$C$18=$F$1,F36,\n\nIF(EINGABEMASKE!$C$18=$H$1,H36,\n\nIF(EINGABEMASKE!$C$18=$J$1,J36,\n\nIF(EINGABEMASKE!$C$18=$L$1,L36,\n\nIF(EINGABEMASKE!$C$18=$N$1,N36,\"\"))))))=\"\",\"\",IF(EINGABEMASKE!$C$18=$D$1,D36,\n\nIF(EINGABEMASKE!$C$18=$F$1,F36,\n\nIF(EINGABEMASKE!$C$18=$H$1,H36,\n\nIF(EINGABEMASKE!$C$18=$J$1,J36,\n\nIF(EINGABEMASKE!$C$18=$L$1,L36,\n\nIF(EINGABEMASKE!$C$18=$N$1,N36,\"\")))))))","v":""},{"$f":"IF(D36=\"\",\"\",MAX(C$1:C35)+1)","v":""},null,{"$f":"IF(F36=\"\",\"\",MAX(E$1:E35)+1)","v":""},null,{"$f":"IF(H36=\"\",\"\",MAX(G$1:G35)+1)","v":""},null,{"$f":"IF(J36=\"\",\"\",MAX(I$1:I35)+1)","v":""},null,{"$f":"IF(L36=\"\",\"\",MAX(K$1:K35)+1)","v":""},null,{"$f":"IF(N36=\"\",\"\",MAX(M$1:M35)+1)","v":""}]
[{"$f":"IF(EINGABEMASKE!$C$18=$D$1,C37,\n\nIF(EINGABEMASKE!$C$18=$F$1,E37,\n\nIF(EINGABEMASKE!$C$18=$H$1,G37,\n\nIF(EINGABEMASKE!$C$18=$J$1,I37,\n\nIF(EINGABEMASKE!$C$18=$L$1,K37,\n\nIF(EINGABEMASKE!$C$18=$N$1,M37,\"\"))))))","v":""},{"$f":"IF(IF(EINGABEMASKE!$C$18=$D$1,D37,\n\nIF(EINGABEMASKE!$C$18=$F$1,F37,\n\nIF(EINGABEMASKE!$C$18=$H$1,H37,\n\nIF(EINGABEMASKE!$C$18=$J$1,J37,\n\nIF(EINGABEMASKE!$C$18=$L$1,L37,\n\nIF(EINGABEMASKE!$C$18=$N$1,N37,\"\"))))))=\"\",\"\",IF(EINGABEMASKE!$C$18=$D$1,D37,\n\nIF(EINGABEMASKE!$C$18=$F$1,F37,\n\nIF(EINGABEMASKE!$C$18=$H$1,H37,\n\nIF(EINGABEMASKE!$C$18=$J$1,J37,\n\nIF(EINGABEMASKE!$C$18=$L$1,L37,\n\nIF(EINGABEMASKE!$C$18=$N$1,N37,\"\")))))))","v":""},{"$f":"IF(D37=\"\",\"\",MAX(C$1:C36)+1)","v":""},null,{"$f":"IF(F37=\"\",\"\",MAX(E$1:E36)+1)","v":""},null,{"$f":"IF(H37=\"\",\"\",MAX(G$1:G36)+1)","v":""},null,{"$f":"IF(J37=\"\",\"\",MAX(I$1:I36)+1)","v":""},null,{"$f":"IF(L37=\"\",\"\",MAX(K$1:K36)+1)","v":""},null,{"$f":"IF(N37=\"\",\"\",MAX(M$1:M36)+1)","v":""}]
[{"$f":"IF(EINGABEMASKE!$C$18=$D$1,C38,\n\nIF(EINGABEMASKE!$C$18=$F$1,E38,\n\nIF(EINGABEMASKE!$C$18=$H$1,G38,\n\nIF(EINGABEMASKE!$C$18=$J$1,I38,\n\nIF(EINGABEMASKE!$C$18=$L$1,K38,\n\nIF(EINGABEMASKE!$C$18=$N$1,M38,\"\"))))))","v":""},{"$f":"IF(IF(EINGABEMASKE!$C$18=$D$1,D38,\n\nIF(EINGABEMASKE!$C$18=$F$1,F38,\n\nIF(EINGABEMASKE!$C$18=$H$1,H38,\n\nIF(EINGABEMASKE!$C$18=$J$1,J38,\n\nIF(EINGABEMASKE!$C$18=$L$1,L38,\n\nIF(EINGABEMASKE!$C$18=$N$1,N38,\"\"))))))=\"\",\"\",IF(EINGABEMASKE!$C$18=$D$1,D38,\n\nIF(EINGABEMASKE!$C$18=$F$1,F38,\n\nIF(EINGABEMASKE!$C$18=$H$1,H38,\n\nIF(EINGABEMASKE!$C$18=$J$1,J38,\n\nIF(EINGABEMASKE!$C$18=$L$1,L38,\n\nIF(EINGABEMASKE!$C$18=$N$1,N38,\"\")))))))","v":""},{"$f":"IF(D38=\"\",\"\",MAX(C$1:C37)+1)","v":""},null,{"$f":"IF(F38=\"\",\"\",MAX(E$1:E37)+1)","v":""},null,{"$f":"IF(H38=\"\",\"\",MAX(G$1:G37)+1)","v":""},null,{"$f":"IF(J38=\"\",\"\",MAX(I$1:I37)+1)","v":""},null,{"$f":"IF(L38=\"\",\"\",MAX(K$1:K37)+1)","v":""},null,{"$f":"IF(N38=\"\",\"\",MAX(M$1:M37)+1)","v":""}]
[{"$f":"IF(EINGABEMASKE!$C$18=$D$1,C39,\n\nIF(EINGABEMASKE!$C$18=$F$1,E39,\n\nIF(EINGABEMASKE!$C$18=$H$1,G39,\n\nIF(EINGABEMASKE!$C$18=$J$1,I39,\n\nIF(EINGABEMASKE!$C$18=$L$1,K39,\n\nIF(EINGABEMASKE!$C$18=$N$1,M39,\"\"))))))","v":""},{"$f":"IF(IF(EINGABEMASKE!$C$18=$D$1,D39,\n\nIF(EINGABEMASKE!$C$18=$F$1,F39,\n\nIF(EINGABEMASKE!$C$18=$H$1,H39,\n\nIF(EINGABEMASKE!$C$18=$J$1,J39,\n\nIF(EINGABEMASKE!$C$18=$L$1,L39,\n\nIF(EINGABEMASKE!$C$18=$N$1,N39,\"\"))))))=\"\",\"\",IF(EINGABEMASKE!$C$18=$D$1,D39,\n\nIF(EINGABEMASKE!$C$18=$F$1,F39,\n\nIF(EINGABEMASKE!$C$18=$H$1,H39,\n\nIF(EINGABEMASKE!$C$18=$J$1,J39,\n\nIF(EINGABEMASKE!$C$18=$L$1,L39,\n\nIF(EINGABEMASKE!$C$18=$N$1,N39,\"\")))))))","v":""},{"$f":"IF(D39=\"\",\"\",MAX(C$1:C38)+1)","v":""},null,{"$f":"IF(F39=\"\",\"\",MAX(E$1:E38)+1)","v":""},null,{"$f":"IF(H39=\"\",\"\",MAX(G$1:G38)+1)","v":""},null,{"$f":"IF(J39=\"\",\"\",MAX(I$1:I38)+1)","v":""},null,{"$f":"IF(L39=\"\",\"\",MAX(K$1:K38)+1)","v":""},null,{"$f":"IF(N39=\"\",\"\",MAX(M$1:M38)+1)","v":""}]
[{"$f":"IF(EINGABEMASKE!$C$18=$D$1,C40,\n\nIF(EINGABEMASKE!$C$18=$F$1,E40,\n\nIF(EINGABEMASKE!$C$18=$H$1,G40,\n\nIF(EINGABEMASKE!$C$18=$J$1,I40,\n\nIF(EINGABEMASKE!$C$18=$L$1,K40,\n\nIF(EINGABEMASKE!$C$18=$N$1,M40,\"\"))))))","v":""},{"$f":"IF(IF(EINGABEMASKE!$C$18=$D$1,D40,\n\nIF(EINGABEMASKE!$C$18=$F$1,F40,\n\nIF(EINGABEMASKE!$C$18=$H$1,H40,\n\nIF(EINGABEMASKE!$C$18=$J$1,J40,\n\nIF(EINGABEMASKE!$C$18=$L$1,L40,\n\nIF(EINGABEMASKE!$C$18=$N$1,N40,\"\"))))))=\"\",\"\",IF(EINGABEMASKE!$C$18=$D$1,D40,\n\nIF(EINGABEMASKE!$C$18=$F$1,F40,\n\nIF(EINGABEMASKE!$C$18=$H$1,H40,\n\nIF(EINGABEMASKE!$C$18=$J$1,J40,\n\nIF(EINGABEMASKE!$C$18=$L$1,L40,\n\nIF(EINGABEMASKE!$C$18=$N$1,N40,\"\")))))))","v":""},{"$f":"IF(D40=\"\",\"\",MAX(C$1:C39)+1)","v":""},null,{"$f":"IF(F40=\"\",\"\",MAX(E$1:E39)+1)","v":""},null,{"$f":"IF(H40=\"\",\"\",MAX(G$1:G39)+1)","v":""},null,{"$f":"IF(J40=\"\",\"\",MAX(I$1:I39)+1)","v":""},null,{"$f":"IF(L40=\"\",\"\",MAX(K$1:K39)+1)","v":""},null,{"$f":"IF(N40=\"\",\"\",MAX(M$1:M39)+1)","v":""}]
[{"$f":"IF(EINGABEMASKE!$C$18=$D$1,C41,\n\nIF(EINGABEMASKE!$C$18=$F$1,E41,\n\nIF(EINGABEMASKE!$C$18=$H$1,G41,\n\nIF(EINGABEMASKE!$C$18=$J$1,I41,\n\nIF(EINGABEMASKE!$C$18=$L$1,K41,\n\nIF(EINGABEMASKE!$C$18=$N$1,M41,\"\"))))))","v":""},{"$f":"IF(IF(EINGABEMASKE!$C$18=$D$1,D41,\n\nIF(EINGABEMASKE!$C$18=$F$1,F41,\n\nIF(EINGABEMASKE!$C$18=$H$1,H41,\n\nIF(EINGABEMASKE!$C$18=$J$1,J41,\n\nIF(EINGABEMASKE!$C$18=$L$1,L41,\n\nIF(EINGABEMASKE!$C$18=$N$1,N41,\"\"))))))=\"\",\"\",IF(EINGABEMASKE!$C$18=$D$1,D41,\n\nIF(EINGABEMASKE!$C$18=$F$1,F41,\n\nIF(EINGABEMASKE!$C$18=$H$1,H41,\n\nIF(EINGABEMASKE!$C$18=$J$1,J41,\n\nIF(EINGABEMASKE!$C$18=$L$1,L41,\n\nIF(EINGABEMASKE!$C$18=$N$1,N41,\"\")))))))","v":""},{"$f":"IF(D41=\"\",\"\",MAX(C$1:C40)+1)","v":""},null,{"$f":"IF(F41=\"\",\"\",MAX(E$1:E40)+1)","v":""},null,{"$f":"IF(H41=\"\",\"\",MAX(G$1:G40)+1)","v":""},null,{"$f":"IF(J41=\"\",\"\",MAX(I$1:I40)+1)","v":""},null,{"$f":"IF(L41=\"\",\"\",MAX(K$1:K40)+1)","v":""},null,{"$f":"IF(N41=\"\",\"\",MAX(M$1:M40)+1)","v":""}]
[{"$f":"IF(EINGABEMASKE!$C$18=$D$1,C42,\n\nIF(EINGABEMASKE!$C$18=$F$1,E42,\n\nIF(EINGABEMASKE!$C$18=$H$1,G42,\n\nIF(EINGABEMASKE!$C$18=$J$1,I42,\n\nIF(EINGABEMASKE!$C$18=$L$1,K42,\n\nIF(EINGABEMASKE!$C$18=$N$1,M42,\"\"))))))","v":""},{"$f":"IF(IF(EINGABEMASKE!$C$18=$D$1,D42,\n\nIF(EINGABEMASKE!$C$18=$F$1,F42,\n\nIF(EINGABEMASKE!$C$18=$H$1,H42,\n\nIF(EINGABEMASKE!$C$18=$J$1,J42,\n\nIF(EINGABEMASKE!$C$18=$L$1,L42,\n\nIF(EINGABEMASKE!$C$18=$N$1,N42,\"\"))))))=\"\",\"\",IF(EINGABEMASKE!$C$18=$D$1,D42,\n\nIF(EINGABEMASKE!$C$18=$F$1,F42,\n\nIF(EINGABEMASKE!$C$18=$H$1,H42,\n\nIF(EINGABEMASKE!$C$18=$J$1,J42,\n\nIF(EINGABEMASKE!$C$18=$L$1,L42,\n\nIF(EINGABEMASKE!$C$18=$N$1,N42,\"\")))))))","v":""},{"$f":"IF(D42=\"\",\"\",MAX(C$1:C41)+1)","v":""},null,{"$f":"IF(F42=\"\",\"\",MAX(E$1:E41)+1)","v":""},null,{"$f":"IF(H42=\"\",\"\",MAX(G$1:G41)+1)","v":""},null,{"$f":"IF(J42=\"\",\"\",MAX(I$1:I41)+1)","v":""},null,{"$f":"IF(L42=\"\",\"\",MAX(K$1:K41)+1)","v":""},null,{"$f":"IF(N42=\"\",\"\",MAX(M$1:M41)+1)","v":""}]
[{"$f":"IF(EINGABEMASKE!$C$18=$D$1,C43,\n\nIF(EINGABEMASKE!$C$18=$F$1,E43,\n\nIF(EINGABEMASKE!$C$18=$H$1,G43,\n\nIF(EINGABEMASKE!$C$18=$J$1,I43,\n\nIF(EINGABEMASKE!$C$18=$L$1,K43,\n\nIF(EINGABEMASKE!$C$18=$N$1,M43,\"\"))))))","v":""},{"$f":"IF(IF(EINGABEMASKE!$C$18=$D$1,D43,\n\nIF(EINGABEMASKE!$C$18=$F$1,F43,\n\nIF(EINGABEMASKE!$C$18=$H$1,H43,\n\nIF(EINGABEMASKE!$C$18=$J$1,J43,\n\nIF(EINGABEMASKE!$C$18=$L$1,L43,\n\nIF(EINGABEMASKE!$C$18=$N$1,N43,\"\"))))))=\"\",\"\",IF(EINGABEMASKE!$C$18=$D$1,D43,\n\nIF(EINGABEMASKE!$C$18=$F$1,F43,\n\nIF(EINGABEMASKE!$C$18=$H$1,H43,\n\nIF(EINGABEMASKE!$C$18=$J$1,J43,\n\nIF(EINGABEMASKE!$C$18=$L$1,L43,\n\nIF(EINGABEMASKE!$C$18=$N$1,N43,\"\")))))))","v":""},{"$f":"IF(D43=\"\",\"\",MAX(C$1:C42)+1)","v":""},null,{"$f":"IF(F43=\"\",\"\",MAX(E$1:E42)+1)","v":""},null,{"$f":"IF(H43=\"\",\"\",MAX(G$1:G42)+1)","v":""},null,{"$f":"IF(J43=\"\",\"\",MAX(I$1:I42)+1)","v":""},null,{"$f":"IF(L43=\"\",\"\",MAX(K$1:K42)+1)","v":""},null,{"$f":"IF(N43=\"\",\"\",MAX(M$1:M42)+1)","v":""}]
[{"$f":"IF(EINGABEMASKE!$C$18=$D$1,C44,\n\nIF(EINGABEMASKE!$C$18=$F$1,E44,\n\nIF(EINGABEMASKE!$C$18=$H$1,G44,\n\nIF(EINGABEMASKE!$C$18=$J$1,I44,\n\nIF(EINGABEMASKE!$C$18=$L$1,K44,\n\nIF(EINGABEMASKE!$C$18=$N$1,M44,\"\"))))))","v":""},{"$f":"IF(IF(EINGABEMASKE!$C$18=$D$1,D44,\n\nIF(EINGABEMASKE!$C$18=$F$1,F44,\n\nIF(EINGABEMASKE!$C$18=$H$1,H44,\n\nIF(EINGABEMASKE!$C$18=$J$1,J44,\n\nIF(EINGABEMASKE!$C$18=$L$1,L44,\n\nIF(EINGABEMASKE!$C$18=$N$1,N44,\"\"))))))=\"\",\"\",IF(EINGABEMASKE!$C$18=$D$1,D44,\n\nIF(EINGABEMASKE!$C$18=$F$1,F44,\n\nIF(EINGABEMASKE!$C$18=$H$1,H44,\n\nIF(EINGABEMASKE!$C$18=$J$1,J44,\n\nIF(EINGABEMASKE!$C$18=$L$1,L44,\n\nIF(EINGABEMASKE!$C$18=$N$1,N44,\"\")))))))","v":""},{"$f":"IF(D44=\"\",\"\",MAX(C$1:C43)+1)","v":""},null,{"$f":"IF(F44=\"\",\"\",MAX(E$1:E43)+1)","v":""},null,{"$f":"IF(H44=\"\",\"\",MAX(G$1:G43)+1)","v":""},null,{"$f":"IF(J44=\"\",\"\",MAX(I$1:I43)+1)","v":""},null,{"$f":"IF(L44=\"\",\"\",MAX(K$1:K43)+1)","v":""},null,{"$f":"IF(N44=\"\",\"\",MAX(M$1:M43)+1)","v":""}]
[{"$f":"IF(EINGABEMASKE!$C$18=$D$1,C45,\n\nIF(EINGABEMASKE!$C$18=$F$1,E45,\n\nIF(EINGABEMASKE!$C$18=$H$1,G45,\n\nIF(EINGABEMASKE!$C$18=$J$1,I45,\n\nIF(EINGABEMASKE!$C$18=$L$1,K45,\n\nIF(EINGABEMASKE!$C$18=$N$1,M45,\"\"))))))","v":""},{"$f":"IF(IF(EINGABEMASKE!$C$18=$D$1,D45,\n\nIF(EINGABEMASKE!$C$18=$F$1,F45,\n\nIF(EINGABEMASKE!$C$18=$H$1,H45,\n\nIF(EINGABEMASKE!$C$18=$J$1,J45,\n\nIF(EINGABEMASKE!$C$18=$L$1,L45,\n\nIF(EINGABEMASKE!$C$18=$N$1,N45,\"\"))))))=\"\",\"\",IF(EINGABEMASKE!$C$18=$D$1,D45,\n\nIF(EINGABEMASKE!$C$18=$F$1,F45,\n\nIF(EINGABEMASKE!$C$18=$H$1,H45,\n\nIF(EINGABEMASKE!$C$18=$J$1,J45,\n\nIF(EINGABEMASKE!$C$18=$L$1,L45,\n\nIF(EINGABEMASKE!$C$18=$N$1,N45,\"\")))))))","v":""},{"$f":"IF(D45=\"\",\"\",MAX(C$1:C44)+1)","v":""},null,{"$f":"IF(F45=\"\",\"\",MAX(E$1:E44)+1)","v":""},null,{"$f":"IF(H45=\"\",\"\",MAX(G$1:G44)+1)","v":""},null,{"$f":"IF(J45=\"\",\"\",MAX(I$1:I44)+1)","v":""},null,{"$f":"IF(L45=\"\",\"\",MAX(K$1:K44)+1)","v":""},null,{"$f":"IF(N45=\"\",\"\",MAX(M$1:M44)+1)","v":""}]
[{"$f":"IF(EINGABEMASKE!$C$18=$D$1,C46,\n\nIF(EINGABEMASKE!$C$18=$F$1,E46,\n\nIF(EINGABEMASKE!$C$18=$H$1,G46,\n\nIF(EINGABEMASKE!$C$18=$J$1,I46,\n\nIF(EINGABEMASKE!$C$18=$L$1,K46,\n\nIF(EINGABEMASKE!$C$18=$N$1,M46,\"\"))))))","v":""},{"$f":"IF(IF(EINGABEMASKE!$C$18=$D$1,D46,\n\nIF(EINGABEMASKE!$C$18=$F$1,F46,\n\nIF(EINGABEMASKE!$C$18=$H$1,H46,\n\nIF(EINGABEMASKE!$C$18=$J$1,J46,\n\nIF(EINGABEMASKE!$C$18=$L$1,L46,\n\nIF(EINGABEMASKE!$C$18=$N$1,N46,\"\"))))))=\"\",\"\",IF(EINGABEMASKE!$C$18=$D$1,D46,\n\nIF(EINGABEMASKE!$C$18=$F$1,F46,\n\nIF(EINGABEMASKE!$C$18=$H$1,H46,\n\nIF(EINGABEMASKE!$C$18=$J$1,J46,\n\nIF(EINGABEMASKE!$C$18=$L$1,L46,\n\nIF(EINGABEMASKE!$C$18=$N$1,N46,\"\")))))))","v":""},{"$f":"IF(D46=\"\",\"\",MAX(C$1:C45)+1)","v":""},null,{"$f":"IF(F46=\"\",\"\",MAX(E$1:E45)+1)","v":""},null,{"$f":"IF(H46=\"\",\"\",MAX(G$1:G45)+1)","v":""},null,{"$f":"IF(J46=\"\",\"\",MAX(I$1:I45)+1)","v":""},null,{"$f":"IF(L46=\"\",\"\",MAX(K$1:K45)+1)","v":""},null,{"$f":"IF(N46=\"\",\"\",MAX(M$1:M45)+1)","v":""}]
[{"$f":"IF(EINGABEMASKE!$C$18=$D$1,C47,\n\nIF(EINGABEMASKE!$C$18=$F$1,E47,\n\nIF(EINGABEMASKE!$C$18=$H$1,G47,\n\nIF(EINGABEMASKE!$C$18=$J$1,I47,\n\nIF(EINGABEMASKE!$C$18=$L$1,K47,\n\nIF(EINGABEMASKE!$C$18=$N$1,M47,\"\"))))))","v":""},{"$f":"IF(IF(EINGABEMASKE!$C$18=$D$1,D47,\n\nIF(EINGABEMASKE!$C$18=$F$1,F47,\n\nIF(EINGABEMASKE!$C$18=$H$1,H47,\n\nIF(EINGABEMASKE!$C$18=$J$1,J47,\n\nIF(EINGABEMASKE!$C$18=$L$1,L47,\n\nIF(EINGABEMASKE!$C$18=$N$1,N47,\"\"))))))=\"\",\"\",IF(EINGABEMASKE!$C$18=$D$1,D47,\n\nIF(EINGABEMASKE!$C$18=$F$1,F47,\n\nIF(EINGABEMASKE!$C$18=$H$1,H47,\n\nIF(EINGABEMASKE!$C$18=$J$1,J47,\n\nIF(EINGABEMASKE!$C$18=$L$1,L47,\n\nIF(EINGABEMASKE!$C$18=$N$1,N47,\"\")))))))","v":""},{"$f":"IF(D47=\"\",\"\",MAX(C$1:C46)+1)","v":""},null,{"$f":"IF(F47=\"\",\"\",MAX(E$1:E46)+1)","v":""},null,{"$f":"IF(H47=\"\",\"\",MAX(G$1:G46)+1)","v":""},null,{"$f":"IF(J47=\"\",\"\",MAX(I$1:I46)+1)","v":""},null,{"$f":"IF(L47=\"\",\"\",MAX(K$1:K46)+1)","v":""},null,{"$f":"IF(N47=\"\",\"\",MAX(M$1:M46)+1)","v":""}]
[{"$f":"IF(EINGABEMASKE!$C$18=$D$1,C48,\n\nIF(EINGABEMASKE!$C$18=$F$1,E48,\n\nIF(EINGABEMASKE!$C$18=$H$1,G48,\n\nIF(EINGABEMASKE!$C$18=$J$1,I48,\n\nIF(EINGABEMASKE!$C$18=$L$1,K48,\n\nIF(EINGABEMASKE!$C$18=$N$1,M48,\"\"))))))","v":""},{"$f":"IF(IF(EINGABEMASKE!$C$18=$D$1,D48,\n\nIF(EINGABEMASKE!$C$18=$F$1,F48,\n\nIF(EINGABEMASKE!$C$18=$H$1,H48,\n\nIF(EINGABEMASKE!$C$18=$J$1,J48,\n\nIF(EINGABEMASKE!$C$18=$L$1,L48,\n\nIF(EINGABEMASKE!$C$18=$N$1,N48,\"\"))))))=\"\",\"\",IF(EINGABEMASKE!$C$18=$D$1,D48,\n\nIF(EINGABEMASKE!$C$18=$F$1,F48,\n\nIF(EINGABEMASKE!$C$18=$H$1,H48,\n\nIF(EINGABEMASKE!$C$18=$J$1,J48,\n\nIF(EINGABEMASKE!$C$18=$L$1,L48,\n\nIF(EINGABEMASKE!$C$18=$N$1,N48,\"\")))))))","v":""},{"$f":"IF(D48=\"\",\"\",MAX(C$1:C47)+1)","v":""},null,{"$f":"IF(F48=\"\",\"\",MAX(E$1:E47)+1)","v":""},null,{"$f":"IF(H48=\"\",\"\",MAX(G$1:G47)+1)","v":""},null,{"$f":"IF(J48=\"\",\"\",MAX(I$1:I47)+1)","v":""},null,{"$f":"IF(L48=\"\",\"\",MAX(K$1:K47)+1)","v":""},null,{"$f":"IF(N48=\"\",\"\",MAX(M$1:M47)+1)","v":""}]
[{"$f":"IF(EINGABEMASKE!$C$18=$D$1,C49,\n\nIF(EINGABEMASKE!$C$18=$F$1,E49,\n\nIF(EINGABEMASKE!$C$18=$H$1,G49,\n\nIF(EINGABEMASKE!$C$18=$J$1,I49,\n\nIF(EINGABEMASKE!$C$18=$L$1,K49,\n\nIF(EINGABEMASKE!$C$18=$N$1,M49,\"\"))))))","v":""},{"$f":"IF(IF(EINGABEMASKE!$C$18=$D$1,D49,\n\nIF(EINGABEMASKE!$C$18=$F$1,F49,\n\nIF(EINGABEMASKE!$C$18=$H$1,H49,\n\nIF(EINGABEMASKE!$C$18=$J$1,J49,\n\nIF(EINGABEMASKE!$C$18=$L$1,L49,\n\nIF(EINGABEMASKE!$C$18=$N$1,N49,\"\"))))))=\"\",\"\",IF(EINGABEMASKE!$C$18=$D$1,D49,\n\nIF(EINGABEMASKE!$C$18=$F$1,F49,\n\nIF(EINGABEMASKE!$C$18=$H$1,H49,\n\nIF(EINGABEMASKE!$C$18=$J$1,J49,\n\nIF(EINGABEMASKE!$C$18=$L$1,L49,\n\nIF(EINGABEMASKE!$C$18=$N$1,N49,\"\")))))))","v":""},{"$f":"IF(D49=\"\",\"\",MAX(C$1:C48)+1)","v":""},null,{"$f":"IF(F49=\"\",\"\",MAX(E$1:E48)+1)","v":""},null,{"$f":"IF(H49=\"\",\"\",MAX(G$1:G48)+1)","v":""},null,{"$f":"IF(J49=\"\",\"\",MAX(I$1:I48)+1)","v":""},null,{"$f":"IF(L49=\"\",\"\",MAX(K$1:K48)+1)","v":""},null,{"$f":"IF(N49=\"\",\"\",MAX(M$1:M48)+1)","v":""}]
[{"$f":"IF(EINGABEMASKE!$C$18=$D$1,C50,\n\nIF(EINGABEMASKE!$C$18=$F$1,E50,\n\nIF(EINGABEMASKE!$C$18=$H$1,G50,\n\nIF(EINGABEMASKE!$C$18=$J$1,I50,\n\nIF(EINGABEMASKE!$C$18=$L$1,K50,\n\nIF(EINGABEMASKE!$C$18=$N$1,M50,\"\"))))))","v":""},{"$f":"IF(IF(EINGABEMASKE!$C$18=$D$1,D50,\n\nIF(EINGABEMASKE!$C$18=$F$1,F50,\n\nIF(EINGABEMASKE!$C$18=$H$1,H50,\n\nIF(EINGABEMASKE!$C$18=$J$1,J50,\n\nIF(EINGABEMASKE!$C$18=$L$1,L50,\n\nIF(EINGABEMASKE!$C$18=$N$1,N50,\"\"))))))=\"\",\"\",IF(EINGABEMASKE!$C$18=$D$1,D50,\n\nIF(EINGABEMASKE!$C$18=$F$1,F50,\n\nIF(EINGABEMASKE!$C$18=$H$1,H50,\n\nIF(EINGABEMASKE!$C$18=$J$1,J50,\n\nIF(EINGABEMASKE!$C$18=$L$1,L50,\n\nIF(EINGABEMASKE!$C$18=$N$1,N50,\"\")))))))","v":""},{"$f":"IF(D50=\"\",\"\",MAX(C$1:C49)+1)","v":""},null,{"$f":"IF(F50=\"\",\"\",MAX(E$1:E49)+1)","v":""},null,{"$f":"IF(H50=\"\",\"\",MAX(G$1:G49)+1)","v":""},null,{"$f":"IF(J50=\"\",\"\",MAX(I$1:I49)+1)","v":""},null,{"$f":"IF(L50=\"\",\"\",MAX(K$1:K49)+1)","v":""},null,{"$f":"IF(N50=\"\",\"\",MAX(M$1:M49)+1)","v":""}]
[{"$f":"IF(EINGABEMASKE!$C$18=$D$1,C51,\n\nIF(EINGABEMASKE!$C$18=$F$1,E51,\n\nIF(EINGABEMASKE!$C$18=$H$1,G51,\n\nIF(EINGABEMASKE!$C$18=$J$1,I51,\n\nIF(EINGABEMASKE!$C$18=$L$1,K51,\n\nIF(EINGABEMASKE!$C$18=$N$1,M51,\"\"))))))","v":""},{"$f":"IF(IF(EINGABEMASKE!$C$18=$D$1,D51,\n\nIF(EINGABEMASKE!$C$18=$F$1,F51,\n\nIF(EINGABEMASKE!$C$18=$H$1,H51,\n\nIF(EINGABEMASKE!$C$18=$J$1,J51,\n\nIF(EINGABEMASKE!$C$18=$L$1,L51,\n\nIF(EINGABEMASKE!$C$18=$N$1,N51,\"\"))))))=\"\",\"\",IF(EINGABEMASKE!$C$18=$D$1,D51,\n\nIF(EINGABEMASKE!$C$18=$F$1,F51,\n\nIF(EINGABEMASKE!$C$18=$H$1,H51,\n\nIF(EINGABEMASKE!$C$18=$J$1,J51,\n\nIF(EINGABEMASKE!$C$18=$L$1,L51,\n\nIF(EINGABEMASKE!$C$18=$N$1,N51,\"\")))))))","v":""},{"$f":"IF(D51=\"\",\"\",MAX(C$1:C50)+1)","v":""},null,{"$f":"IF(F51=\"\",\"\",MAX(E$1:E50)+1)","v":""},null,{"$f":"IF(H51=\"\",\"\",MAX(G$1:G50)+1)","v":""},null,{"$f":"IF(J51=\"\",\"\",MAX(I$1:I50)+1)","v":""},null,{"$f":"IF(L51=\"\",\"\",MAX(K$1:K50)+1)","v":""},null,{"$f":"IF(N51=\"\",\"\",MAX(M$1:M50)+1)","v":""}]
[{"$f":"IF(EINGABEMASKE!$C$18=$D$1,C52,\n\nIF(EINGABEMASKE!$C$18=$F$1,E52,\n\nIF(EINGABEMASKE!$C$18=$H$1,G52,\n\nIF(EINGABEMASKE!$C$18=$J$1,I52,\n\nIF(EINGABEMASKE!$C$18=$L$1,K52,\n\nIF(EINGABEMASKE!$C$18=$N$1,M52,\"\"))))))","v":""},{"$f":"IF(IF(EINGABEMASKE!$C$18=$D$1,D52,\n\nIF(EINGABEMASKE!$C$18=$F$1,F52,\n\nIF(EINGABEMASKE!$C$18=$H$1,H52,\n\nIF(EINGABEMASKE!$C$18=$J$1,J52,\n\nIF(EINGABEMASKE!$C$18=$L$1,L52,\n\nIF(EINGABEMASKE!$C$18=$N$1,N52,\"\"))))))=\"\",\"\",IF(EINGABEMASKE!$C$18=$D$1,D52,\n\nIF(EINGABEMASKE!$C$18=$F$1,F52,\n\nIF(EINGABEMASKE!$C$18=$H$1,H52,\n\nIF(EINGABEMASKE!$C$18=$J$1,J52,\n\nIF(EINGABEMASKE!$C$18=$L$1,L52,\n\nIF(EINGABEMASKE!$C$18=$N$1,N52,\"\")))))))","v":""},{"$f":"IF(D52=\"\",\"\",MAX(C$1:C51)+1)","v":""},null,{"$f":"IF(F52=\"\",\"\",MAX(E$1:E51)+1)","v":""},null,{"$f":"IF(H52=\"\",\"\",MAX(G$1:G51)+1)","v":""},null,{"$f":"IF(J52=\"\",\"\",MAX(I$1:I51)+1)","v":""},null,{"$f":"IF(L52=\"\",\"\",MAX(K$1:K51)+1)","v":""},null,{"$f":"IF(N52=\"\",\"\",MAX(M$1:M51)+1)","v":""}]
[null,null,{"$f":"IF(D53=\"\",\"\",MAX(C$1:C52)+1)","v":""},null,{"$f":"IF(F53=\"\",\"\",MAX(E$1:E52)+1)","v":""},null,{"$f":"IF(H53=\"\",\"\",MAX(G$1:G52)+1)","v":""},null,{"$f":"IF(J53=\"\",\"\",MAX(I$1:I52)+1)","v":""},null,{"$f":"IF(L53=\"\",\"\",MAX(K$1:K52)+1)","v":""},null,{"$f":"IF(N53=\"\",\"\",MAX(M$1:M52)+1)","v":""}]
[null,null,{"$f":"IF(D54=\"\",\"\",MAX(C$1:C53)+1)","v":""},null,{"$f":"IF(F54=\"\",\"\",MAX(E$1:E53)+1)","v":""},null,{"$f":"IF(H54=\"\",\"\",MAX(G$1:G53)+1)","v":""},null,{"$f":"IF(J54=\"\",\"\",MAX(I$1:I53)+1)","v":""},null,{"$f":"IF(L54=\"\",\"\",MAX(K$1:K53)+1)","v":""},null,{"$f":"IF(N54=\"\",\"\",MAX(M$1:M53)+1)","v":""}]
[null,null,{"$f":"IF(D55=\"\",\"\",MAX(C$1:C54)+1)","v":""},null,{"$f":"IF(F55=\"\",\"\",MAX(E$1:E54)+1)","v":""},null,{"$f":"IF(H55=\"\",\"\",MAX(G$1:G54)+1)","v":""},null,{"$f":"IF(J55=\"\",\"\",MAX(I$1:I54)+1)","v":""},null,{"$f":"IF(L55=\"\",\"\",MAX(K$1:K54)+1)","v":""},null,{"$f":"IF(N55=\"\",\"\",MAX(M$1:M54)+1)","v":""}]
[null,null,{"$f":"IF(D56=\"\",\"\",MAX(C$1:C55)+1)","v":""},null,{"$f":"IF(F56=\"\",\"\",MAX(E$1:E55)+1)","v":""},null,{"$f":"IF(H56=\"\",\"\",MAX(G$1:G55)+1)","v":""},null,{"$f":"IF(J56=\"\",\"\",MAX(I$1:I55)+1)","v":""},null,{"$f":"IF(L56=\"\",\"\",MAX(K$1:K55)+1)","v":""},null,{"$f":"IF(N56=\"\",\"\",MAX(M$1:M55)+1)","v":""}]
[null,null,{"$f":"IF(D57=\"\",\"\",MAX(C$1:C56)+1)","v":""},null,{"$f":"IF(F57=\"\",\"\",MAX(E$1:E56)+1)","v":""},null,{"$f":"IF(H57=\"\",\"\",MAX(G$1:G56)+1)","v":""},null,{"$f":"IF(J57=\"\",\"\",MAX(I$1:I56)+1)","v":""},null,{"$f":"IF(L57=\"\",\"\",MAX(K$1:K56)+1)","v":""},null,{"$f":"IF(N57=\"\",\"\",MAX(M$1:M56)+1)","v":""}]
[null,null,{"$f":"IF(D58=\"\",\"\",MAX(C$1:C57)+1)","v":""},null,{"$f":"IF(F58=\"\",\"\",MAX(E$1:E57)+1)","v":""},null,{"$f":"IF(H58=\"\",\"\",MAX(G$1:G57)+1)","v":""},null,{"$f":"IF(J58=\"\",\"\",MAX(I$1:I57)+1)","v":""},null,{"$f":"IF(L58=\"\",\"\",MAX(K$1:K57)+1)","v":""},null,{"$f":"IF(N58=\"\",\"\",MAX(M$1:M57)+1)","v":""}]
[null,null,{"$f":"IF(D59=\"\",\"\",MAX(C$1:C58)+1)","v":""},null,{"$f":"IF(F59=\"\",\"\",MAX(E$1:E58)+1)","v":""},null,{"$f":"IF(H59=\"\",\"\",MAX(G$1:G58)+1)","v":""},null,{"$f":"IF(J59=\"\",\"\",MAX(I$1:I58)+1)","v":""},null,{"$f":"IF(L59=\"\",\"\",MAX(K$1:K58)+1)","v":""},null,{"$f":"IF(N59=\"\",\"\",MAX(M$1:M58)+1)","v":""}]
[null,null,{"$f":"IF(D60=\"\",\"\",MAX(C$1:C59)+1)","v":""},null,{"$f":"IF(F60=\"\",\"\",MAX(E$1:E59)+1)","v":""},null,{"$f":"IF(H60=\"\",\"\",MAX(G$1:G59)+1)","v":""},null,{"$f":"IF(J60=\"\",\"\",MAX(I$1:I59)+1)","v":""},null,{"$f":"IF(L60=\"\",\"\",MAX(K$1:K59)+1)","v":""},null,{"$f":"IF(N60=\"\",\"\",MAX(M$1:M59)+1)","v":""}]
[null,null,{"$f":"IF(D61=\"\",\"\",MAX(C$1:C60)+1)","v":""},null,{"$f":"IF(F61=\"\",\"\",MAX(E$1:E60)+1)","v":""},null,{"$f":"IF(H61=\"\",\"\",MAX(G$1:G60)+1)","v":""},null,{"$f":"IF(J61=\"\",\"\",MAX(I$1:I60)+1)","v":""},null,{"$f":"IF(L61=\"\",\"\",MAX(K$1:K60)+1)","v":""},null,{"$f":"IF(N61=\"\",\"\",MAX(M$1:M60)+1)","v":""}]
[null,null,{"$f":"IF(D62=\"\",\"\",MAX(C$1:C61)+1)","v":""},null,{"$f":"IF(F62=\"\",\"\",MAX(E$1:E61)+1)","v":""},null,{"$f":"IF(H62=\"\",\"\",MAX(G$1:G61)+1)","v":""},null,{"$f":"IF(J62=\"\",\"\",MAX(I$1:I61)+1)","v":""},null,{"$f":"IF(L62=\"\",\"\",MAX(K$1:K61)+1)","v":""},null,{"$f":"IF(N62=\"\",\"\",MAX(M$1:M61)+1)","v":""}]
[null,null,{"$f":"IF(D63=\"\",\"\",MAX(C$1:C62)+1)","v":""},null,{"$f":"IF(F63=\"\",\"\",MAX(E$1:E62)+1)","v":""},null,{"$f":"IF(H63=\"\",\"\",MAX(G$1:G62)+1)","v":""},null,{"$f":"IF(J63=\"\",\"\",MAX(I$1:I62)+1)","v":""},null,{"$f":"IF(L63=\"\",\"\",MAX(K$1:K62)+1)","v":""},null,{"$f":"IF(N63=\"\",\"\",MAX(M$1:M62)+1)","v":""}]
[null,null,{"$f":"IF(D64=\"\",\"\",MAX(C$1:C63)+1)","v":""},null,{"$f":"IF(F64=\"\",\"\",MAX(E$1:E63)+1)","v":""},null,{"$f":"IF(H64=\"\",\"\",MAX(G$1:G63)+1)","v":""},null,{"$f":"IF(J64=\"\",\"\",MAX(I$1:I63)+1)","v":""},null,{"$f":"IF(L64=\"\",\"\",MAX(K$1:K63)+1)","v":""},null,{"$f":"IF(N64=\"\",\"\",MAX(M$1:M63)+1)","v":""}]
[null,null,{"$f":"IF(D65=\"\",\"\",MAX(C$1:C64)+1)","v":""},null,{"$f":"IF(F65=\"\",\"\",MAX(E$1:E64)+1)","v":""},null,{"$f":"IF(H65=\"\",\"\",MAX(G$1:G64)+1)","v":""},null,{"$f":"IF(J65=\"\",\"\",MAX(I$1:I64)+1)","v":""},null,{"$f":"IF(L65=\"\",\"\",MAX(K$1:K64)+1)","v":""},null,{"$f":"IF(N65=\"\",\"\",MAX(M$1:M64)+1)","v":""}]
[null,null,{"$f":"IF(D66=\"\",\"\",MAX(C$1:C65)+1)","v":""},null,{"$f":"IF(F66=\"\",\"\",MAX(E$1:E65)+1)","v":""},null,{"$f":"IF(H66=\"\",\"\",MAX(G$1:G65)+1)","v":""},null,{"$f":"IF(J66=\"\",\"\",MAX(I$1:I65)+1)","v":""},null,{"$f":"IF(L66=\"\",\"\",MAX(K$1:K65)+1)","v":""},null,{"$f":"IF(N66=\"\",\"\",MAX(M$1:M65)+1)","v":""}]
[null,null,{"$f":"IF(D67=\"\",\"\",MAX(C$1:C66)+1)","v":""},null,{"$f":"IF(F67=\"\",\"\",MAX(E$1:E66)+1)","v":""},null,{"$f":"IF(H67=\"\",\"\",MAX(G$1:G66)+1)","v":""},null,{"$f":"IF(J67=\"\",\"\",MAX(I$1:I66)+1)","v":""},null,{"$f":"IF(L67=\"\",\"\",MAX(K$1:K66)+1)","v":""},null,{"$f":"IF(N67=\"\",\"\",MAX(M$1:M66)+1)","v":""}]
[null,null,{"$f":"IF(D68=\"\",\"\",MAX(C$1:C67)+1)","v":""},null,{"$f":"IF(F68=\"\",\"\",MAX(E$1:E67)+1)","v":""},null,{"$f":"IF(H68=\"\",\"\",MAX(G$1:G67)+1)","v":""},null,{"$f":"IF(J68=\"\",\"\",MAX(I$1:I67)+1)","v":""},null,{"$f":"IF(L68=\"\",\"\",MAX(K$1:K67)+1)","v":""},null,{"$f":"IF(N68=\"\",\"\",MAX(M$1:M67)+1)","v":""}]
[null,null,{"$f":"IF(D69=\"\",\"\",MAX(C$1:C68)+1)","v":""},null,{"$f":"IF(F69=\"\",\"\",MAX(E$1:E68)+1)","v":""},null,{"$f":"IF(H69=\"\",\"\",MAX(G$1:G68)+1)","v":""},null,{"$f":"IF(J69=\"\",\"\",MAX(I$1:I68)+1)","v":""},null,{"$f":"IF(L69=\"\",\"\",MAX(K$1:K68)+1)","v":""},null,{"$f":"IF(N69=\"\",\"\",MAX(M$1:M68)+1)","v":""}]
[null,null,{"$f":"IF(D70=\"\",\"\",MAX(C$1:C69)+1)","v":""},null,{"$f":"IF(F70=\"\",\"\",MAX(E$1:E69)+1)","v":""},null,{"$f":"IF(H70=\"\",\"\",MAX(G$1:G69)+1)","v":""},null,{"$f":"IF(J70=\"\",\"\",MAX(I$1:I69)+1)","v":""},null,{"$f":"IF(L70=\"\",\"\",MAX(K$1:K69)+1)","v":""},null,{"$f":"IF(N70=\"\",\"\",MAX(M$1:M69)+1)","v":""}]
[null,null,{"$f":"IF(D71=\"\",\"\",MAX(C$1:C70)+1)","v":""},null,{"$f":"IF(F71=\"\",\"\",MAX(E$1:E70)+1)","v":""},null,{"$f":"IF(H71=\"\",\"\",MAX(G$1:G70)+1)","v":""},null,{"$f":"IF(J71=\"\",\"\",MAX(I$1:I70)+1)","v":""},null,{"$f":"IF(L71=\"\",\"\",MAX(K$1:K70)+1)","v":""},null,{"$f":"IF(N71=\"\",\"\",MAX(M$1:M70)+1)","v":""}]
[null,null,{"$f":"IF(D72=\"\",\"\",MAX(C$1:C71)+1)","v":""},null,{"$f":"IF(F72=\"\",\"\",MAX(E$1:E71)+1)","v":""},null,{"$f":"IF(H72=\"\",\"\",MAX(G$1:G71)+1)","v":""},null,{"$f":"IF(J72=\"\",\"\",MAX(I$1:I71)+1)","v":""},null,{"$f":"IF(L72=\"\",\"\",MAX(K$1:K71)+1)","v":""},null,{"$f":"IF(N72=\"\",\"\",MAX(M$1:M71)+1)","v":""}]
[null,null,{"$f":"IF(D73=\"\",\"\",MAX(C$1:C72)+1)","v":""},null,{"$f":"IF(F73=\"\",\"\",MAX(E$1:E72)+1)","v":""},null,{"$f":"IF(H73=\"\",\"\",MAX(G$1:G72)+1)","v":""},null,{"$f":"IF(J73=\"\",\"\",MAX(I$1:I72)+1)","v":""},null,{"$f":"IF(L73=\"\",\"\",MAX(K$1:K72)+1)","v":""},null,{"$f":"IF(N73=\"\",\"\",MAX(M$1:M72)+1)","v":""}]
[null,null,{"$f":"IF(D74=\"\",\"\",MAX(C$1:C73)+1)","v":""},null,{"$f":"IF(F74=\"\",\"\",MAX(E$1:E73)+1)","v":""},null,{"$f":"IF(H74=\"\",\"\",MAX(G$1:G73)+1)","v":""},null,{"$f":"IF(J74=\"\",\"\",MAX(I$1:I73)+1)","v":""},null,{"$f":"IF(L74=\"\",\"\",MAX(K$1:K73)+1)","v":""},null,{"$f":"IF(N74=\"\",\"\",MAX(M$1:M73)+1)","v":""}]
[null,null,{"$f":"IF(D75=\"\",\"\",MAX(C$1:C74)+1)","v":""},null,{"$f":"IF(F75=\"\",\"\",MAX(E$1:E74)+1)","v":""},null,{"$f":"IF(H75=\"\",\"\",MAX(G$1:G74)+1)","v":""},null,{"$f":"IF(J75=\"\",\"\",MAX(I$1:I74)+1)","v":""},null,{"$f":"IF(L75=\"\",\"\",MAX(K$1:K74)+1)","v":""},null,{"$f":"IF(N75=\"\",\"\",MAX(M$1:M74)+1)","v":""}]
[null,null,{"$f":"IF(D76=\"\",\"\",MAX(C$1:C75)+1)","v":""},null,{"$f":"IF(F76=\"\",\"\",MAX(E$1:E75)+1)","v":""},null,{"$f":"IF(H76=\"\",\"\",MAX(G$1:G75)+1)","v":""},null,{"$f":"IF(J76=\"\",\"\",MAX(I$1:I75)+1)","v":""},null,{"$f":"IF(L76=\"\",\"\",MAX(K$1:K75)+1)","v":""},null,{"$f":"IF(N76=\"\",\"\",MAX(M$1:M75)+1)","v":""}]
[null,null,{"$f":"IF(D77=\"\",\"\",MAX(C$1:C76)+1)","v":""},null,{"$f":"IF(F77=\"\",\"\",MAX(E$1:E76)+1)","v":""},null,{"$f":"IF(H77=\"\",\"\",MAX(G$1:G76)+1)","v":""},null,{"$f":"IF(J77=\"\",\"\",MAX(I$1:I76)+1)","v":""},null,{"$f":"IF(L77=\"\",\"\",MAX(K$1:K76)+1)","v":""},null,{"$f":"IF(N77=\"\",\"\",MAX(M$1:M76)+1)","v":""}]
[null,null,{"$f":"IF(D78=\"\",\"\",MAX(C$1:C77)+1)","v":""},null,{"$f":"IF(F78=\"\",\"\",MAX(E$1:E77)+1)","v":""},null,{"$f":"IF(H78=\"\",\"\",MAX(G$1:G77)+1)","v":""},null,{"$f":"IF(J78=\"\",\"\",MAX(I$1:I77)+1)","v":""},null,{"$f":"IF(L78=\"\",\"\",MAX(K$1:K77)+1)","v":""},null,{"$f":"IF(N78=\"\",\"\",MAX(M$1:M77)+1)","v":""}]
[null,null,{"$f":"IF(D79=\"\",\"\",MAX(C$1:C78)+1)","v":""},null,{"$f":"IF(F79=\"\",\"\",MAX(E$1:E78)+1)","v":""},null,{"$f":"IF(H79=\"\",\"\",MAX(G$1:G78)+1)","v":""},null,{"$f":"IF(J79=\"\",\"\",MAX(I$1:I78)+1)","v":""},null,{"$f":"IF(L79=\"\",\"\",MAX(K$1:K78)+1)","v":""},null,{"$f":"IF(N79=\"\",\"\",MAX(M$1:M78)+1)","v":""}]
[null,null,{"$f":"IF(D80=\"\",\"\",MAX(C$1:C79)+1)","v":""},null,{"$f":"IF(F80=\"\",\"\",MAX(E$1:E79)+1)","v":""},null,{"$f":"IF(H80=\"\",\"\",MAX(G$1:G79)+1)","v":""},null,{"$f":"IF(J80=\"\",\"\",MAX(I$1:I79)+1)","v":""},null,{"$f":"IF(L80=\"\",\"\",MAX(K$1:K79)+1)","v":""},null,{"$f":"IF(N80=\"\",\"\",MAX(M$1:M79)+1)","v":""}]
[null,null,{"$f":"IF(D81=\"\",\"\",MAX(C$1:C80)+1)","v":""},null,{"$f":"IF(F81=\"\",\"\",MAX(E$1:E80)+1)","v":""},null,{"$f":"IF(H81=\"\",\"\",MAX(G$1:G80)+1)","v":""},null,{"$f":"IF(J81=\"\",\"\",MAX(I$1:I80)+1)","v":""},null,{"$f":"IF(L81=\"\",\"\",MAX(K$1:K80)+1)","v":""},null,{"$f":"IF(N81=\"\",\"\",MAX(M$1:M80)+1)","v":""}]
[null,null,{"$f":"IF(D82=\"\",\"\",MAX(C$1:C81)+1)","v":""},null,{"$f":"IF(F82=\"\",\"\",MAX(E$1:E81)+1)","v":""},null,{"$f":"IF(H82=\"\",\"\",MAX(G$1:G81)+1)","v":""},null,{"$f":"IF(J82=\"\",\"\",MAX(I$1:I81)+1)","v":""},null,{"$f":"IF(L82=\"\",\"\",MAX(K$1:K81)+1)","v":""},null,{"$f":"IF(N82=\"\",\"\",MAX(M$1:M81)+1)","v":""}]
[null,null,{"$f":"IF(D83=\"\",\"\",MAX(C$1:C82)+1)","v":""},null,{"$f":"IF(F83=\"\",\"\",MAX(E$1:E82)+1)","v":""},null,{"$f":"IF(H83=\"\",\"\",MAX(G$1:G82)+1)","v":""},null,{"$f":"IF(J83=\"\",\"\",MAX(I$1:I82)+1)","v":""},null,{"$f":"IF(L83=\"\",\"\",MAX(K$1:K82)+1)","v":""},null,{"$f":"IF(N83=\"\",\"\",MAX(M$1:M82)+1)","v":""}]
[null,null,{"$f":"IF(D84=\"\",\"\",MAX(C$1:C83)+1)","v":""},null,{"$f":"IF(F84=\"\",\"\",MAX(E$1:E83)+1)","v":""},null,{"$f":"IF(H84=\"\",\"\",MAX(G$1:G83)+1)","v":""},null,{"$f":"IF(J84=\"\",\"\",MAX(I$1:I83)+1)","v":""},null,{"$f":"IF(L84=\"\",\"\",MAX(K$1:K83)+1)","v":""},null,{"$f":"IF(N84=\"\",\"\",MAX(M$1:M83)+1)","v":""}]
[null,null,{"$f":"IF(D85=\"\",\"\",MAX(C$1:C84)+1)","v":""},null,{"$f":"IF(F85=\"\",\"\",MAX(E$1:E84)+1)","v":""},null,{"$f":"IF(H85=\"\",\"\",MAX(G$1:G84)+1)","v":""},null,{"$f":"IF(J85=\"\",\"\",MAX(I$1:I84)+1)","v":""},null,{"$f":"IF(L85=\"\",\"\",MAX(K$1:K84)+1)","v":""},null,{"$f":"IF(N85=\"\",\"\",MAX(M$1:M84)+1)","v":""}]
[null,null,{"$f":"IF(D86=\"\",\"\",MAX(C$1:C85)+1)","v":""},null,{"$f":"IF(F86=\"\",\"\",MAX(E$1:E85)+1)","v":""},null,{"$f":"IF(H86=\"\",\"\",MAX(G$1:G85)+1)","v":""},null,{"$f":"IF(J86=\"\",\"\",MAX(I$1:I85)+1)","v":""},null,{"$f":"IF(L86=\"\",\"\",MAX(K$1:K85)+1)","v":""},null,{"$f":"IF(N86=\"\",\"\",MAX(M$1:M85)+1)","v":""}]
[null,null,{"$f":"IF(D87=\"\",\"\",MAX(C$1:C86)+1)","v":""},null,{"$f":"IF(F87=\"\",\"\",MAX(E$1:E86)+1)","v":""},null,{"$f":"IF(H87=\"\",\"\",MAX(G$1:G86)+1)","v":""},null,{"$f":"IF(J87=\"\",\"\",MAX(I$1:I86)+1)","v":""},null,{"$f":"IF(L87=\"\",\"\",MAX(K$1:K86)+1)","v":""},null,{"$f":"IF(N87=\"\",\"\",MAX(M$1:M86)+1)","v":""}]
[null,null,{"$f":"IF(D88=\"\",\"\",MAX(C$1:C87)+1)","v":""},null,{"$f":"IF(F88=\"\",\"\",MAX(E$1:E87)+1)","v":""},null,{"$f":"IF(H88=\"\",\"\",MAX(G$1:G87)+1)","v":""},null,{"$f":"IF(J88=\"\",\"\",MAX(I$1:I87)+1)","v":""},null,{"$f":"IF(L88=\"\",\"\",MAX(K$1:K87)+1)","v":""},null,{"$f":"IF(N88=\"\",\"\",MAX(M$1:M87)+1)","v":""}]
[null,null,{"$f":"IF(D89=\"\",\"\",MAX(C$1:C88)+1)","v":""},null,{"$f":"IF(F89=\"\",\"\",MAX(E$1:E88)+1)","v":""},null,{"$f":"IF(H89=\"\",\"\",MAX(G$1:G88)+1)","v":""},null,{"$f":"IF(J89=\"\",\"\",MAX(I$1:I88)+1)","v":""},null,{"$f":"IF(L89=\"\",\"\",MAX(K$1:K88)+1)","v":""},null,{"$f":"IF(N89=\"\",\"\",MAX(M$1:M88)+1)","v":""}]
[null,null,{"$f":"IF(D90=\"\",\"\",MAX(C$1:C89)+1)","v":""},null,{"$f":"IF(F90=\"\",\"\",MAX(E$1:E89)+1)","v":""},null,{"$f":"IF(H90=\"\",\"\",MAX(G$1:G89)+1)","v":""},null,{"$f":"IF(J90=\"\",\"\",MAX(I$1:I89)+1)","v":""},null,{"$f":"IF(L90=\"\",\"\",MAX(K$1:K89)+1)","v":""},null,{"$f":"IF(N90=\"\",\"\",MAX(M$1:M89)+1)","v":""}]
[null,null,{"$f":"IF(D91=\"\",\"\",MAX(C$1:C90)+1)","v":""},null,{"$f":"IF(F91=\"\",\"\",MAX(E$1:E90)+1)","v":""},null,{"$f":"IF(H91=\"\",\"\",MAX(G$1:G90)+1)","v":""},null,{"$f":"IF(J91=\"\",\"\",MAX(I$1:I90)+1)","v":""},null,{"$f":"IF(L91=\"\",\"\",MAX(K$1:K90)+1)","v":""},null,{"$f":"IF(N91=\"\",\"\",MAX(M$1:M90)+1)","v":""}]
[null,null,{"$f":"IF(D92=\"\",\"\",MAX(C$1:C91)+1)","v":""},null,{"$f":"IF(F92=\"\",\"\",MAX(E$1:E91)+1)","v":""},null,{"$f":"IF(H92=\"\",\"\",MAX(G$1:G91)+1)","v":""},null,{"$f":"IF(J92=\"\",\"\",MAX(I$1:I91)+1)","v":""},null,{"$f":"IF(L92=\"\",\"\",MAX(K$1:K91)+1)","v":""},null,{"$f":"IF(N92=\"\",\"\",MAX(M$1:M91)+1)","v":""}]
[null,null,{"$f":"IF(D93=\"\",\"\",MAX(C$1:C92)+1)","v":""},null,{"$f":"IF(F93=\"\",\"\",MAX(E$1:E92)+1)","v":""},null,{"$f":"IF(H93=\"\",\"\",MAX(G$1:G92)+1)","v":""},null,{"$f":"IF(J93=\"\",\"\",MAX(I$1:I92)+1)","v":""},null,{"$f":"IF(L93=\"\",\"\",MAX(K$1:K92)+1)","v":""},null,{"$f":"IF(N93=\"\",\"\",MAX(M$1:M92)+1)","v":""}]
[null,null,{"$f":"IF(D94=\"\",\"\",MAX(C$1:C93)+1)","v":""},null,{"$f":"IF(F94=\"\",\"\",MAX(E$1:E93)+1)","v":""},null,{"$f":"IF(H94=\"\",\"\",MAX(G$1:G93)+1)","v":""},null,{"$f":"IF(J94=\"\",\"\",MAX(I$1:I93)+1)","v":""},null,{"$f":"IF(L94=\"\",\"\",MAX(K$1:K93)+1)","v":""},null,{"$f":"IF(N94=\"\",\"\",MAX(M$1:M93)+1)","v":""}]
[null,null,{"$f":"IF(D95=\"\",\"\",MAX(C$1:C94)+1)","v":""},null,{"$f":"IF(F95=\"\",\"\",MAX(E$1:E94)+1)","v":""},null,{"$f":"IF(H95=\"\",\"\",MAX(G$1:G94)+1)","v":""},null,{"$f":"IF(J95=\"\",\"\",MAX(I$1:I94)+1)","v":""},null,{"$f":"IF(L95=\"\",\"\",MAX(K$1:K94)+1)","v":""},null,{"$f":"IF(N95=\"\",\"\",MAX(M$1:M94)+1)","v":""}]
[null,null,{"$f":"IF(D96=\"\",\"\",MAX(C$1:C95)+1)","v":""},null,{"$f":"IF(F96=\"\",\"\",MAX(E$1:E95)+1)","v":""},null,{"$f":"IF(H96=\"\",\"\",MAX(G$1:G95)+1)","v":""},null,{"$f":"IF(J96=\"\",\"\",MAX(I$1:I95)+1)","v":""},null,{"$f":"IF(L96=\"\",\"\",MAX(K$1:K95)+1)","v":""},null,{"$f":"IF(N96=\"\",\"\",MAX(M$1:M95)+1)","v":""}]
[null,null,{"$f":"IF(D97=\"\",\"\",MAX(C$1:C96)+1)","v":""},null,{"$f":"IF(F97=\"\",\"\",MAX(E$1:E96)+1)","v":""},null,{"$f":"IF(H97=\"\",\"\",MAX(G$1:G96)+1)","v":""},null,{"$f":"IF(J97=\"\",\"\",MAX(I$1:I96)+1)","v":""},null,{"$f":"IF(L97=\"\",\"\",MAX(K$1:K96)+1)","v":""},null,{"$f":"IF(N97=\"\",\"\",MAX(M$1:M96)+1)","v":""}]
[null,null,{"$f":"IF(D98=\"\",\"\",MAX(C$1:C97)+1)","v":""},null,{"$f":"IF(F98=\"\",\"\",MAX(E$1:E97)+1)","v":""},null,{"$f":"IF(H98=\"\",\"\",MAX(G$1:G97)+1)","v":""},null,{"$f":"IF(J98=\"\",\"\",MAX(I$1:I97)+1)","v":""},null,{"$f":"IF(L98=\"\",\"\",MAX(K$1:K97)+1)","v":""},null,{"$f":"IF(N98=\"\",\"\",MAX(M$1:M97)+1)","v":""}]
[null,null,{"$f":"IF(D99=\"\",\"\",MAX(C$1:C98)+1)","v":""},null,{"$f":"IF(F99=\"\",\"\",MAX(E$1:E98)+1)","v":""},null,{"$f":"IF(H99=\"\",\"\",MAX(G$1:G98)+1)","v":""},null,{"$f":"IF(J99=\"\",\"\",MAX(I$1:I98)+1)","v":""},null,{"$f":"IF(L99=\"\",\"\",MAX(K$1:K98)+1)","v":""},null,{"$f":"IF(N99=\"\",\"\",MAX(M$1:M98)+1)","v":""}]
[null,null,{"$f":"IF(D100=\"\",\"\",MAX(C$1:C99)+1)","v":""},null,{"$f":"IF(F100=\"\",\"\",MAX(E$1:E99)+1)","v":""},null,{"$f":"IF(H100=\"\",\"\",MAX(G$1:G99)+1)","v":""},null,{"$f":"IF(J100=\"\",\"\",MAX(I$1:I99)+1)","v":""},null,{"$f":"IF(L100=\"\",\"\",MAX(K$1:K99)+1)","v":""},null,{"$f":"IF(N100=\"\",\"\",MAX(M$1:M99)+1)","v":""}]
[null,null,{"$f":"IF(D101=\"\",\"\",MAX(C$1:C100)+1)","v":""},null,{"$f":"IF(F101=\"\",\"\",MAX(E$1:E100)+1)","v":""},null,{"$f":"IF(H101=\"\",\"\",MAX(G$1:G100)+1)","v":""},null,{"$f":"IF(J101=\"\",\"\",MAX(I$1:I100)+1)","v":""},null,{"$f":"IF(L101=\"\",\"\",MAX(K$1:K100)+1)","v":""},null,{"$f":"IF(N101=\"\",\"\",MAX(M$1:M100)+1)","v":""}]
[null,null,{"$f":"IF(D102=\"\",\"\",MAX(C$1:C101)+1)","v":""},null,{"$f":"IF(F102=\"\",\"\",MAX(E$1:E101)+1)","v":""},null,{"$f":"IF(H102=\"\",\"\",MAX(G$1:G101)+1)","v":""},null,{"$f":"IF(J102=\"\",\"\",MAX(I$1:I101)+1)","v":""},null,{"$f":"IF(L102=\"\",\"\",MAX(K$1:K101)+1)","v":""},null,{"$f":"IF(N102=\"\",\"\",MAX(M$1:M101)+1)","v":""}]
[null,null,{"$f":"IF(D103=\"\",\"\",MAX(C$1:C102)+1)","v":""},null,{"$f":"IF(F103=\"\",\"\",MAX(E$1:E102)+1)","v":""},null,{"$f":"IF(H103=\"\",\"\",MAX(G$1:G102)+1)","v":""},null,{"$f":"IF(J103=\"\",\"\",MAX(I$1:I102)+1)","v":""},null,{"$f":"IF(L103=\"\",\"\",MAX(K$1:K102)+1)","v":""},null,{"$f":"IF(N103=\"\",\"\",MAX(M$1:M102)+1)","v":""}]
[null,null,{"$f":"IF(D104=\"\",\"\",MAX(C$1:C103)+1)","v":""},null,{"$f":"IF(F104=\"\",\"\",MAX(E$1:E103)+1)","v":""},null,{"$f":"IF(H104=\"\",\"\",MAX(G$1:G103)+1)","v":""},null,{"$f":"IF(J104=\"\",\"\",MAX(I$1:I103)+1)","v":""},null,{"$f":"IF(L104=\"\",\"\",MAX(K$1:K103)+1)","v":""},null,{"$f":"IF(N104=\"\",\"\",MAX(M$1:M103)+1)","v":""}]
[null,null,{"$f":"IF(D105=\"\",\"\",MAX(C$1:C104)+1)","v":""},null,{"$f":"IF(F105=\"\",\"\",MAX(E$1:E104)+1)","v":""},null,{"$f":"IF(H105=\"\",\"\",MAX(G$1:G104)+1)","v":""},null,{"$f":"IF(J105=\"\",\"\",MAX(I$1:I104)+1)","v":""},null,{"$f":"IF(L105=\"\",\"\",MAX(K$1:K104)+1)","v":""},null,{"$f":"IF(N105=\"\",\"\",MAX(M$1:M104)+1)","v":""}]
[null,null,{"$f":"IF(D106=\"\",\"\",MAX(C$1:C105)+1)","v":""},null,{"$f":"IF(F106=\"\",\"\",MAX(E$1:E105)+1)","v":""},null,{"$f":"IF(H106=\"\",\"\",MAX(G$1:G105)+1)","v":""},null,{"$f":"IF(J106=\"\",\"\",MAX(I$1:I105)+1)","v":""},null,{"$f":"IF(L106=\"\",\"\",MAX(K$1:K105)+1)","v":""},null,{"$f":"IF(N106=\"\",\"\",MAX(M$1:M105)+1)","v":""}]
[null,null,{"$f":"IF(D107=\"\",\"\",MAX(C$1:C106)+1)","v":""},null,{"$f":"IF(F107=\"\",\"\",MAX(E$1:E106)+1)","v":""},null,{"$f":"IF(H107=\"\",\"\",MAX(G$1:G106)+1)","v":""},null,{"$f":"IF(J107=\"\",\"\",MAX(I$1:I106)+1)","v":""},null,{"$f":"IF(L107=\"\",\"\",MAX(K$1:K106)+1)","v":""},null,{"$f":"IF(N107=\"\",\"\",MAX(M$1:M106)+1)","v":""}]
[null,null,{"$f":"IF(D108=\"\",\"\",MAX(C$1:C107)+1)","v":""},null,{"$f":"IF(F108=\"\",\"\",MAX(E$1:E107)+1)","v":""},null,{"$f":"IF(H108=\"\",\"\",MAX(G$1:G107)+1)","v":""},null,{"$f":"IF(J108=\"\",\"\",MAX(I$1:I107)+1)","v":""},null,{"$f":"IF(L108=\"\",\"\",MAX(K$1:K107)+1)","v":""},null,{"$f":"IF(N108=\"\",\"\",MAX(M$1:M107)+1)","v":""}]
[null,null,{"$f":"IF(D109=\"\",\"\",MAX(C$1:C108)+1)","v":""},null,{"$f":"IF(F109=\"\",\"\",MAX(E$1:E108)+1)","v":""},null,{"$f":"IF(H109=\"\",\"\",MAX(G$1:G108)+1)","v":""},null,{"$f":"IF(J109=\"\",\"\",MAX(I$1:I108)+1)","v":""},null,{"$f":"IF(L109=\"\",\"\",MAX(K$1:K108)+1)","v":""},null,{"$f":"IF(N109=\"\",\"\",MAX(M$1:M108)+1)","v":""}]
[null,null,{"$f":"IF(D110=\"\",\"\",MAX(C$1:C109)+1)","v":""},null,{"$f":"IF(F110=\"\",\"\",MAX(E$1:E109)+1)","v":""},null,{"$f":"IF(H110=\"\",\"\",MAX(G$1:G109)+1)","v":""},null,{"$f":"IF(J110=\"\",\"\",MAX(I$1:I109)+1)","v":""},null,{"$f":"IF(L110=\"\",\"\",MAX(K$1:K109)+1)","v":""},null,{"$f":"IF(N110=\"\",\"\",MAX(M$1:M109)+1)","v":""}]
[null,null,{"$f":"IF(D111=\"\",\"\",MAX(C$1:C110)+1)","v":""},null,{"$f":"IF(F111=\"\",\"\",MAX(E$1:E110)+1)","v":""},null,{"$f":"IF(H111=\"\",\"\",MAX(G$1:G110)+1)","v":""},null,{"$f":"IF(J111=\"\",\"\",MAX(I$1:I110)+1)","v":""},null,{"$f":"IF(L111=\"\",\"\",MAX(K$1:K110)+1)","v":""},null,{"$f":"IF(N111=\"\",\"\",MAX(M$1:M110)+1)","v":""}]
[null,null,{"$f":"IF(D112=\"\",\"\",MAX(C$1:C111)+1)","v":""},null,{"$f":"IF(F112=\"\",\"\",MAX(E$1:E111)+1)","v":""},null,{"$f":"IF(H112=\"\",\"\",MAX(G$1:G111)+1)","v":""},null,{"$f":"IF(J112=\"\",\"\",MAX(I$1:I111)+1)","v":""},null,{"$f":"IF(L112=\"\",\"\",MAX(K$1:K111)+1)","v":""},null,{"$f":"IF(N112=\"\",\"\",MAX(M$1:M111)+1)","v":""}]
[null,null,{"$f":"IF(D113=\"\",\"\",MAX(C$1:C112)+1)","v":""},null,{"$f":"IF(F113=\"\",\"\",MAX(E$1:E112)+1)","v":""},null,{"$f":"IF(H113=\"\",\"\",MAX(G$1:G112)+1)","v":""},null,{"$f":"IF(J113=\"\",\"\",MAX(I$1:I112)+1)","v":""},null,{"$f":"IF(L113=\"\",\"\",MAX(K$1:K112)+1)","v":""},null,{"$f":"IF(N113=\"\",\"\",MAX(M$1:M112)+1)","v":""}]
[null,null,{"$f":"IF(D114=\"\",\"\",MAX(C$1:C113)+1)","v":""},null,{"$f":"IF(F114=\"\",\"\",MAX(E$1:E113)+1)","v":""},null,{"$f":"IF(H114=\"\",\"\",MAX(G$1:G113)+1)","v":""},null,{"$f":"IF(J114=\"\",\"\",MAX(I$1:I113)+1)","v":""},null,{"$f":"IF(L114=\"\",\"\",MAX(K$1:K113)+1)","v":""},null,{"$f":"IF(N114=\"\",\"\",MAX(M$1:M113)+1)","v":""}]
[null,null,{"$f":"IF(D115=\"\",\"\",MAX(C$1:C114)+1)","v":""},null,{"$f":"IF(F115=\"\",\"\",MAX(E$1:E114)+1)","v":""},null,{"$f":"IF(H115=\"\",\"\",MAX(G$1:G114)+1)","v":""},null,{"$f":"IF(J115=\"\",\"\",MAX(I$1:I114)+1)","v":""},null,{"$f":"IF(L115=\"\",\"\",MAX(K$1:K114)+1)","v":""},null,{"$f":"IF(N115=\"\",\"\",MAX(M$1:M114)+1)","v":""}]
[null,null,{"$f":"IF(D116=\"\",\"\",MAX(C$1:C115)+1)","v":""},null,{"$f":"IF(F116=\"\",\"\",MAX(E$1:E115)+1)","v":""},null,{"$f":"IF(H116=\"\",\"\",MAX(G$1:G115)+1)","v":""},null,{"$f":"IF(J116=\"\",\"\",MAX(I$1:I115)+1)","v":""},null,{"$f":"IF(L116=\"\",\"\",MAX(K$1:K115)+1)","v":""},null,{"$f":"IF(N116=\"\",\"\",MAX(M$1:M115)+1)","v":""}]
[null,null,{"$f":"IF(D117=\"\",\"\",MAX(C$1:C116)+1)","v":""},null,{"$f":"IF(F117=\"\",\"\",MAX(E$1:E116)+1)","v":""},null,{"$f":"IF(H117=\"\",\"\",MAX(G$1:G116)+1)","v":""},null,{"$f":"IF(J117=\"\",\"\",MAX(I$1:I116)+1)","v":""},null,{"$f":"IF(L117=\"\",\"\",MAX(K$1:K116)+1)","v":""},null,{"$f":"IF(N117=\"\",\"\",MAX(M$1:M116)+1)","v":""}]
[null,null,{"$f":"IF(D118=\"\",\"\",MAX(C$1:C117)+1)","v":""},null,{"$f":"IF(F118=\"\",\"\",MAX(E$1:E117)+1)","v":""},null,{"$f":"IF(H118=\"\",\"\",MAX(G$1:G117)+1)","v":""},null,{"$f":"IF(J118=\"\",\"\",MAX(I$1:I117)+1)","v":""},null,{"$f":"IF(L118=\"\",\"\",MAX(K$1:K117)+1)","v":""},null,{"$f":"IF(N118=\"\",\"\",MAX(M$1:M117)+1)","v":""}]
[null,null,{"$f":"IF(D119=\"\",\"\",MAX(C$1:C118)+1)","v":""},null,{"$f":"IF(F119=\"\",\"\",MAX(E$1:E118)+1)","v":""},null,{"$f":"IF(H119=\"\",\"\",MAX(G$1:G118)+1)","v":""},null,{"$f":"IF(J119=\"\",\"\",MAX(I$1:I118)+1)","v":""},null,{"$f":"IF(L119=\"\",\"\",MAX(K$1:K118)+1)","v":""},null,{"$f":"IF(N119=\"\",\"\",MAX(M$1:M118)+1)","v":""}]
[null,null,{"$f":"IF(D120=\"\",\"\",MAX(C$1:C119)+1)","v":""},null,{"$f":"IF(F120=\"\",\"\",MAX(E$1:E119)+1)","v":""},null,{"$f":"IF(H120=\"\",\"\",MAX(G$1:G119)+1)","v":""},null,{"$f":"IF(J120=\"\",\"\",MAX(I$1:I119)+1)","v":""},null,{"$f":"IF(L120=\"\",\"\",MAX(K$1:K119)+1)","v":""},null,{"$f":"IF(N120=\"\",\"\",MAX(M$1:M119)+1)","v":""}]
[null,null,{"$f":"IF(D121=\"\",\"\",MAX(C$1:C120)+1)","v":""},null,{"$f":"IF(F121=\"\",\"\",MAX(E$1:E120)+1)","v":""},null,{"$f":"IF(H121=\"\",\"\",MAX(G$1:G120)+1)","v":""},null,{"$f":"IF(J121=\"\",\"\",MAX(I$1:I120)+1)","v":""},null,{"$f":"IF(L121=\"\",\"\",MAX(K$1:K120)+1)","v":""},null,{"$f":"IF(N121=\"\",\"\",MAX(M$1:M120)+1)","v":""}]
[null,null,{"$f":"IF(D122=\"\",\"\",MAX(C$1:C121)+1)","v":""},null,{"$f":"IF(F122=\"\",\"\",MAX(E$1:E121)+1)","v":""},null,{"$f":"IF(H122=\"\",\"\",MAX(G$1:G121)+1)","v":""},null,{"$f":"IF(J122=\"\",\"\",MAX(I$1:I121)+1)","v":""},null,{"$f":"IF(L122=\"\",\"\",MAX(K$1:K121)+1)","v":""},null,{"$f":"IF(N122=\"\",\"\",MAX(M$1:M121)+1)","v":""}]
[null,null,{"$f":"IF(D123=\"\",\"\",MAX(C$1:C122)+1)","v":""},null,{"$f":"IF(F123=\"\",\"\",MAX(E$1:E122)+1)","v":""},null,{"$f":"IF(H123=\"\",\"\",MAX(G$1:G122)+1)","v":""},null,{"$f":"IF(J123=\"\",\"\",MAX(I$1:I122)+1)","v":""},null,{"$f":"IF(L123=\"\",\"\",MAX(K$1:K122)+1)","v":""},null,{"$f":"IF(N123=\"\",\"\",MAX(M$1:M122)+1)","v":""}]
[null,null,{"$f":"IF(D124=\"\",\"\",MAX(C$1:C123)+1)","v":""},null,{"$f":"IF(F124=\"\",\"\",MAX(E$1:E123)+1)","v":""},null,{"$f":"IF(H124=\"\",\"\",MAX(G$1:G123)+1)","v":""},null,{"$f":"IF(J124=\"\",\"\",MAX(I$1:I123)+1)","v":""},null,{"$f":"IF(L124=\"\",\"\",MAX(K$1:K123)+1)","v":""},null,{"$f":"IF(N124=\"\",\"\",MAX(M$1:M123)+1)","v":""}]
[null,null,{"$f":"IF(D125=\"\",\"\",MAX(C$1:C124)+1)","v":""},null,{"$f":"IF(F125=\"\",\"\",MAX(E$1:E124)+1)","v":""},null,{"$f":"IF(H125=\"\",\"\",MAX(G$1:G124)+1)","v":""},null,{"$f":"IF(J125=\"\",\"\",MAX(I$1:I124)+1)","v":""},null,{"$f":"IF(L125=\"\",\"\",MAX(K$1:K124)+1)","v":""},null,{"$f":"IF(N125=\"\",\"\",MAX(M$1:M124)+1)","v":""}]
[null,null,{"$f":"IF(D126=\"\",\"\",MAX(C$1:C125)+1)","v":""},null,{"$f":"IF(F126=\"\",\"\",MAX(E$1:E125)+1)","v":""},null,{"$f":"IF(H126=\"\",\"\",MAX(G$1:G125)+1)","v":""},null,{"$f":"IF(J126=\"\",\"\",MAX(I$1:I125)+1)","v":""},null,{"$f":"IF(L126=\"\",\"\",MAX(K$1:K125)+1)","v":""},null,{"$f":"IF(N126=\"\",\"\",MAX(M$1:M125)+1)","v":""}]
[null,null,{"$f":"IF(D127=\"\",\"\",MAX(C$1:C126)+1)","v":""},null,{"$f":"IF(F127=\"\",\"\",MAX(E$1:E126)+1)","v":""},null,{"$f":"IF(H127=\"\",\"\",MAX(G$1:G126)+1)","v":""},null,{"$f":"IF(J127=\"\",\"\",MAX(I$1:I126)+1)","v":""},null,{"$f":"IF(L127=\"\",\"\",MAX(K$1:K126)+1)","v":""},null,{"$f":"IF(N127=\"\",\"\",MAX(M$1:M126)+1)","v":""}]
[null,null,{"$f":"IF(D128=\"\",\"\",MAX(C$1:C127)+1)","v":""},null,{"$f":"IF(F128=\"\",\"\",MAX(E$1:E127)+1)","v":""},null,{"$f":"IF(H128=\"\",\"\",MAX(G$1:G127)+1)","v":""},null,{"$f":"IF(J128=\"\",\"\",MAX(I$1:I127)+1)","v":""},null,{"$f":"IF(L128=\"\",\"\",MAX(K$1:K127)+1)","v":""},null,{"$f":"IF(N128=\"\",\"\",MAX(M$1:M127)+1)","v":""}]
[null,null,{"$f":"IF(D129=\"\",\"\",MAX(C$1:C128)+1)","v":""},null,{"$f":"IF(F129=\"\",\"\",MAX(E$1:E128)+1)","v":""},null,{"$f":"IF(H129=\"\",\"\",MAX(G$1:G128)+1)","v":""},null,{"$f":"IF(J129=\"\",\"\",MAX(I$1:I128)+1)","v":""},null,{"$f":"IF(L129=\"\",\"\",MAX(K$1:K128)+1)","v":""},null,{"$f":"IF(N129=\"\",\"\",MAX(M$1:M128)+1)","v":""}]
[null,null,{"$f":"IF(D130=\"\",\"\",MAX(C$1:C129)+1)","v":""},null,{"$f":"IF(F130=\"\",\"\",MAX(E$1:E129)+1)","v":""},null,{"$f":"IF(H130=\"\",\"\",MAX(G$1:G129)+1)","v":""},null,{"$f":"IF(J130=\"\",\"\",MAX(I$1:I129)+1)","v":""},null,{"$f":"IF(L130=\"\",\"\",MAX(K$1:K129)+1)","v":""},null,{"$f":"IF(N130=\"\",\"\",MAX(M$1:M129)+1)","v":""}]
[null,null,{"$f":"IF(D131=\"\",\"\",MAX(C$1:C130)+1)","v":""},null,{"$f":"IF(F131=\"\",\"\",MAX(E$1:E130)+1)","v":""},null,{"$f":"IF(H131=\"\",\"\",MAX(G$1:G130)+1)","v":""},null,{"$f":"IF(J131=\"\",\"\",MAX(I$1:I130)+1)","v":""},null,{"$f":"IF(L131=\"\",\"\",MAX(K$1:K130)+1)","v":""},null,{"$f":"IF(N131=\"\",\"\",MAX(M$1:M130)+1)","v":""}]
[null,null,{"$f":"IF(D132=\"\",\"\",MAX(C$1:C131)+1)","v":""},null,{"$f":"IF(F132=\"\",\"\",MAX(E$1:E131)+1)","v":""},null,{"$f":"IF(H132=\"\",\"\",MAX(G$1:G131)+1)","v":""},null,{"$f":"IF(J132=\"\",\"\",MAX(I$1:I131)+1)","v":""},null,{"$f":"IF(L132=\"\",\"\",MAX(K$1:K131)+1)","v":""},null,{"$f":"IF(N132=\"\",\"\",MAX(M$1:M131)+1)","v":""}]
[null,null,{"$f":"IF(D133=\"\",\"\",MAX(C$1:C132)+1)","v":""},null,{"$f":"IF(F133=\"\",\"\",MAX(E$1:E132)+1)","v":""},null,{"$f":"IF(H133=\"\",\"\",MAX(G$1:G132)+1)","v":""},null,{"$f":"IF(J133=\"\",\"\",MAX(I$1:I132)+1)","v":""},null,{"$f":"IF(L133=\"\",\"\",MAX(K$1:K132)+1)","v":""},null,{"$f":"IF(N133=\"\",\"\",MAX(M$1:M132)+1)","v":""}]
[null,null,{"$f":"IF(D134=\"\",\"\",MAX(C$1:C133)+1)","v":""},null,{"$f":"IF(F134=\"\",\"\",MAX(E$1:E133)+1)","v":""},null,{"$f":"IF(H134=\"\",\"\",MAX(G$1:G133)+1)","v":""},null,{"$f":"IF(J134=\"\",\"\",MAX(I$1:I133)+1)","v":""},null,{"$f":"IF(L134=\"\",\"\",MAX(K$1:K133)+1)","v":""},null,{"$f":"IF(N134=\"\",\"\",MAX(M$1:M133)+1)","v":""}]
[null,null,{"$f":"IF(D135=\"\",\"\",MAX(C$1:C134)+1)","v":""},null,{"$f":"IF(F135=\"\",\"\",MAX(E$1:E134)+1)","v":""},null,{"$f":"IF(H135=\"\",\"\",MAX(G$1:G134)+1)","v":""},null,{"$f":"IF(J135=\"\",\"\",MAX(I$1:I134)+1)","v":""},null,{"$f":"IF(L135=\"\",\"\",MAX(K$1:K134)+1)","v":""},null,{"$f":"IF(N135=\"\",\"\",MAX(M$1:M134)+1)","v":""}]
[null,null,{"$f":"IF(D136=\"\",\"\",MAX(C$1:C135)+1)","v":""},null,{"$f":"IF(F136=\"\",\"\",MAX(E$1:E135)+1)","v":""},null,{"$f":"IF(H136=\"\",\"\",MAX(G$1:G135)+1)","v":""},null,{"$f":"IF(J136=\"\",\"\",MAX(I$1:I135)+1)","v":""},null,{"$f":"IF(L136=\"\",\"\",MAX(K$1:K135)+1)","v":""},null,{"$f":"IF(N136=\"\",\"\",MAX(M$1:M135)+1)","v":""}]
[null,null,{"$f":"IF(D137=\"\",\"\",MAX(C$1:C136)+1)","v":""},null,{"$f":"IF(F137=\"\",\"\",MAX(E$1:E136)+1)","v":""},null,{"$f":"IF(H137=\"\",\"\",MAX(G$1:G136)+1)","v":""},null,{"$f":"IF(J137=\"\",\"\",MAX(I$1:I136)+1)","v":""},null,{"$f":"IF(L137=\"\",\"\",MAX(K$1:K136)+1)","v":""},null,{"$f":"IF(N137=\"\",\"\",MAX(M$1:M136)+1)","v":""}]
[null,null,{"$f":"IF(D138=\"\",\"\",MAX(C$1:C137)+1)","v":""},null,{"$f":"IF(F138=\"\",\"\",MAX(E$1:E137)+1)","v":""},null,{"$f":"IF(H138=\"\",\"\",MAX(G$1:G137)+1)","v":""},null,{"$f":"IF(J138=\"\",\"\",MAX(I$1:I137)+1)","v":""},null,{"$f":"IF(L138=\"\",\"\",MAX(K$1:K137)+1)","v":""},null,{"$f":"IF(N138=\"\",\"\",MAX(M$1:M137)+1)","v":""}]
[null,null,{"$f":"IF(D139=\"\",\"\",MAX(C$1:C138)+1)","v":""},null,{"$f":"IF(F139=\"\",\"\",MAX(E$1:E138)+1)","v":""},null,{"$f":"IF(H139=\"\",\"\",MAX(G$1:G138)+1)","v":""},null,{"$f":"IF(J139=\"\",\"\",MAX(I$1:I138)+1)","v":""},null,{"$f":"IF(L139=\"\",\"\",MAX(K$1:K138)+1)","v":""},null,{"$f":"IF(N139=\"\",\"\",MAX(M$1:M138)+1)","v":""}]
[null,null,{"$f":"IF(D140=\"\",\"\",MAX(C$1:C139)+1)","v":""},null,{"$f":"IF(F140=\"\",\"\",MAX(E$1:E139)+1)","v":""},null,{"$f":"IF(H140=\"\",\"\",MAX(G$1:G139)+1)","v":""},null,{"$f":"IF(J140=\"\",\"\",MAX(I$1:I139)+1)","v":""},null,{"$f":"IF(L140=\"\",\"\",MAX(K$1:K139)+1)","v":""},null,{"$f":"IF(N140=\"\",\"\",MAX(M$1:M139)+1)","v":""}]
[null,null,{"$f":"IF(D141=\"\",\"\",MAX(C$1:C140)+1)","v":""},null,{"$f":"IF(F141=\"\",\"\",MAX(E$1:E140)+1)","v":""},null,{"$f":"IF(H141=\"\",\"\",MAX(G$1:G140)+1)","v":""},null,{"$f":"IF(J141=\"\",\"\",MAX(I$1:I140)+1)","v":""},null,{"$f":"IF(L141=\"\",\"\",MAX(K$1:K140)+1)","v":""},null,{"$f":"IF(N141=\"\",\"\",MAX(M$1:M140)+1)","v":""}]
[null,null,{"$f":"IF(D142=\"\",\"\",MAX(C$1:C141)+1)","v":""},null,{"$f":"IF(F142=\"\",\"\",MAX(E$1:E141)+1)","v":""},null,{"$f":"IF(H142=\"\",\"\",MAX(G$1:G141)+1)","v":""},null,{"$f":"IF(J142=\"\",\"\",MAX(I$1:I141)+1)","v":""},null,{"$f":"IF(L142=\"\",\"\",MAX(K$1:K141)+1)","v":""},null,{"$f":"IF(N142=\"\",\"\",MAX(M$1:M141)+1)","v":""}]
[null,null,{"$f":"IF(D143=\"\",\"\",MAX(C$1:C142)+1)","v":""},null,{"$f":"IF(F143=\"\",\"\",MAX(E$1:E142)+1)","v":""},null,{"$f":"IF(H143=\"\",\"\",MAX(G$1:G142)+1)","v":""},null,{"$f":"IF(J143=\"\",\"\",MAX(I$1:I142)+1)","v":""},null,{"$f":"IF(L143=\"\",\"\",MAX(K$1:K142)+1)","v":""},null,{"$f":"IF(N143=\"\",\"\",MAX(M$1:M142)+1)","v":""}]
[null,null,{"$f":"IF(D144=\"\",\"\",MAX(C$1:C143)+1)","v":""},null,{"$f":"IF(F144=\"\",\"\",MAX(E$1:E143)+1)","v":""},null,{"$f":"IF(H144=\"\",\"\",MAX(G$1:G143)+1)","v":""},null,{"$f":"IF(J144=\"\",\"\",MAX(I$1:I143)+1)","v":""},null,{"$f":"IF(L144=\"\",\"\",MAX(K$1:K143)+1)","v":""},null,{"$f":"IF(N144=\"\",\"\",MAX(M$1:M143)+1)","v":""}]
[null,null,{"$f":"IF(D145=\"\",\"\",MAX(C$1:C144)+1)","v":""},null,{"$f":"IF(F145=\"\",\"\",MAX(E$1:E144)+1)","v":""},null,{"$f":"IF(H145=\"\",\"\",MAX(G$1:G144)+1)","v":""},null,{"$f":"IF(J145=\"\",\"\",MAX(I$1:I144)+1)","v":""},null,{"$f":"IF(L145=\"\",\"\",MAX(K$1:K144)+1)","v":""},null,{"$f":"IF(N145=\"\",\"\",MAX(M$1:M144)+1)","v":""}]
[null,null,{"$f":"IF(D146=\"\",\"\",MAX(C$1:C145)+1)","v":""},null,{"$f":"IF(F146=\"\",\"\",MAX(E$1:E145)+1)","v":""},null,{"$f":"IF(H146=\"\",\"\",MAX(G$1:G145)+1)","v":""},null,{"$f":"IF(J146=\"\",\"\",MAX(I$1:I145)+1)","v":""},null,{"$f":"IF(L146=\"\",\"\",MAX(K$1:K145)+1)","v":""},null,{"$f":"IF(N146=\"\",\"\",MAX(M$1:M145)+1)","v":""}]
[null,null,{"$f":"IF(D147=\"\",\"\",MAX(C$1:C146)+1)","v":""},null,{"$f":"IF(F147=\"\",\"\",MAX(E$1:E146)+1)","v":""},null,{"$f":"IF(H147=\"\",\"\",MAX(G$1:G146)+1)","v":""},null,{"$f":"IF(J147=\"\",\"\",MAX(I$1:I146)+1)","v":""},null,{"$f":"IF(L147=\"\",\"\",MAX(K$1:K146)+1)","v":""},null,{"$f":"IF(N147=\"\",\"\",MAX(M$1:M146)+1)","v":""}]
[null,null,{"$f":"IF(D148=\"\",\"\",MAX(C$1:C147)+1)","v":""},null,{"$f":"IF(F148=\"\",\"\",MAX(E$1:E147)+1)","v":""},null,{"$f":"IF(H148=\"\",\"\",MAX(G$1:G147)+1)","v":""},null,{"$f":"IF(J148=\"\",\"\",MAX(I$1:I147)+1)","v":""},null,{"$f":"IF(L148=\"\",\"\",MAX(K$1:K147)+1)","v":""},null,{"$f":"IF(N148=\"\",\"\",MAX(M$1:M147)+1)","v":""}]
[null,null,{"$f":"IF(D149=\"\",\"\",MAX(C$1:C148)+1)","v":""},null,{"$f":"IF(F149=\"\",\"\",MAX(E$1:E148)+1)","v":""},null,{"$f":"IF(H149=\"\",\"\",MAX(G$1:G148)+1)","v":""},null,{"$f":"IF(J149=\"\",\"\",MAX(I$1:I148)+1)","v":""},null,{"$f":"IF(L149=\"\",\"\",MAX(K$1:K148)+1)","v":""},null,{"$f":"IF(N149=\"\",\"\",MAX(M$1:M148)+1)","v":""}]
[null,null,{"$f":"IF(D150=\"\",\"\",MAX(C$1:C149)+1)","v":""},null,{"$f":"IF(F150=\"\",\"\",MAX(E$1:E149)+1)","v":""},null,{"$f":"IF(H150=\"\",\"\",MAX(G$1:G149)+1)","v":""},null,{"$f":"IF(J150=\"\",\"\",MAX(I$1:I149)+1)","v":""},null,{"$f":"IF(L150=\"\",\"\",MAX(K$1:K149)+1)","v":""},null,{"$f":"IF(N150=\"\",\"\",MAX(M$1:M149)+1)","v":""}]
[null,null,{"$f":"IF(D151=\"\",\"\",MAX(C$1:C150)+1)","v":""},null,{"$f":"IF(F151=\"\",\"\",MAX(E$1:E150)+1)","v":""},null,{"$f":"IF(H151=\"\",\"\",MAX(G$1:G150)+1)","v":""},null,{"$f":"IF(J151=\"\",\"\",MAX(I$1:I150)+1)","v":""},null,{"$f":"IF(L151=\"\",\"\",MAX(K$1:K150)+1)","v":""},null,{"$f":"IF(N151=\"\",\"\",MAX(M$1:M150)+1)","v":""}]
[null,null,{"$f":"IF(D152=\"\",\"\",MAX(C$1:C151)+1)","v":""},null,{"$f":"IF(F152=\"\",\"\",MAX(E$1:E151)+1)","v":""},null,{"$f":"IF(H152=\"\",\"\",MAX(G$1:G151)+1)","v":""},null,{"$f":"IF(J152=\"\",\"\",MAX(I$1:I151)+1)","v":""},null,{"$f":"IF(L152=\"\",\"\",MAX(K$1:K151)+1)","v":""},null,{"$f":"IF(N152=\"\",\"\",MAX(M$1:M151)+1)","v":""}]
[null,null,{"$f":"IF(D153=\"\",\"\",MAX(C$1:C152)+1)","v":""},null,{"$f":"IF(F153=\"\",\"\",MAX(E$1:E152)+1)","v":""},null,{"$f":"IF(H153=\"\",\"\",MAX(G$1:G152)+1)","v":""},null,{"$f":"IF(J153=\"\",\"\",MAX(I$1:I152)+1)","v":""},null,{"$f":"IF(L153=\"\",\"\",MAX(K$1:K152)+1)","v":""},null,{"$f":"IF(N153=\"\",\"\",MAX(M$1:M152)+1)","v":""}]
[null,null,{"$f":"IF(D154=\"\",\"\",MAX(C$1:C153)+1)","v":""},null,{"$f":"IF(F154=\"\",\"\",MAX(E$1:E153)+1)","v":""},null,{"$f":"IF(H154=\"\",\"\",MAX(G$1:G153)+1)","v":""},null,{"$f":"IF(J154=\"\",\"\",MAX(I$1:I153)+1)","v":""},null,{"$f":"IF(L154=\"\",\"\",MAX(K$1:K153)+1)","v":""},null,{"$f":"IF(N154=\"\",\"\",MAX(M$1:M153)+1)","v":""}]
[null,null,{"$f":"IF(D155=\"\",\"\",MAX(C$1:C154)+1)","v":""},null,{"$f":"IF(F155=\"\",\"\",MAX(E$1:E154)+1)","v":""},null,{"$f":"IF(H155=\"\",\"\",MAX(G$1:G154)+1)","v":""},null,{"$f":"IF(J155=\"\",\"\",MAX(I$1:I154)+1)","v":""},null,{"$f":"IF(L155=\"\",\"\",MAX(K$1:K154)+1)","v":""},null,{"$f":"IF(N155=\"\",\"\",MAX(M$1:M154)+1)","v":""}]
[null,null,{"$f":"IF(D156=\"\",\"\",MAX(C$1:C155)+1)","v":""},null,{"$f":"IF(F156=\"\",\"\",MAX(E$1:E155)+1)","v":""},null,{"$f":"IF(H156=\"\",\"\",MAX(G$1:G155)+1)","v":""},null,{"$f":"IF(J156=\"\",\"\",MAX(I$1:I155)+1)","v":""},null,{"$f":"IF(L156=\"\",\"\",MAX(K$1:K155)+1)","v":""},null,{"$f":"IF(N156=\"\",\"\",MAX(M$1:M155)+1)","v":""}]
[null,null,{"$f":"IF(D157=\"\",\"\",MAX(C$1:C156)+1)","v":""},null,{"$f":"IF(F157=\"\",\"\",MAX(E$1:E156)+1)","v":""},null,{"$f":"IF(H157=\"\",\"\",MAX(G$1:G156)+1)","v":""},null,{"$f":"IF(J157=\"\",\"\",MAX(I$1:I156)+1)","v":""},null,{"$f":"IF(L157=\"\",\"\",MAX(K$1:K156)+1)","v":""},null,{"$f":"IF(N157=\"\",\"\",MAX(M$1:M156)+1)","v":""}]
[null,null,{"$f":"IF(D158=\"\",\"\",MAX(C$1:C157)+1)","v":""},null,{"$f":"IF(F158=\"\",\"\",MAX(E$1:E157)+1)","v":""},null,{"$f":"IF(H158=\"\",\"\",MAX(G$1:G157)+1)","v":""},null,{"$f":"IF(J158=\"\",\"\",MAX(I$1:I157)+1)","v":""},null,{"$f":"IF(L158=\"\",\"\",MAX(K$1:K157)+1)","v":""},null,{"$f":"IF(N158=\"\",\"\",MAX(M$1:M157)+1)","v":""}]
[null,null,{"$f":"IF(D159=\"\",\"\",MAX(C$1:C158)+1)","v":""},null,{"$f":"IF(F159=\"\",\"\",MAX(E$1:E158)+1)","v":""},null,{"$f":"IF(H159=\"\",\"\",MAX(G$1:G158)+1)","v":""},null,{"$f":"IF(J159=\"\",\"\",MAX(I$1:I158)+1)","v":""},null,{"$f":"IF(L159=\"\",\"\",MAX(K$1:K158)+1)","v":""},null,{"$f":"IF(N159=\"\",\"\",MAX(M$1:M158)+1)","v":""}]
[null,null,{"$f":"IF(D160=\"\",\"\",MAX(C$1:C159)+1)","v":""},null,{"$f":"IF(F160=\"\",\"\",MAX(E$1:E159)+1)","v":""},null,{"$f":"IF(H160=\"\",\"\",MAX(G$1:G159)+1)","v":""},null,{"$f":"IF(J160=\"\",\"\",MAX(I$1:I159)+1)","v":""},null,{"$f":"IF(L160=\"\",\"\",MAX(K$1:K159)+1)","v":""},null,{"$f":"IF(N160=\"\",\"\",MAX(M$1:M159)+1)","v":""}]
[null,null,{"$f":"IF(D161=\"\",\"\",MAX(C$1:C160)+1)","v":""},null,{"$f":"IF(F161=\"\",\"\",MAX(E$1:E160)+1)","v":""},null,{"$f":"IF(H161=\"\",\"\",MAX(G$1:G160)+1)","v":""},null,{"$f":"IF(J161=\"\",\"\",MAX(I$1:I160)+1)","v":""},null,{"$f":"IF(L161=\"\",\"\",MAX(K$1:K160)+1)","v":""},null,{"$f":"IF(N161=\"\",\"\",MAX(M$1:M160)+1)","v":""}]
[null,null,{"$f":"IF(D162=\"\",\"\",MAX(C$1:C161)+1)","v":""},null,{"$f":"IF(F162=\"\",\"\",MAX(E$1:E161)+1)","v":""},null,{"$f":"IF(H162=\"\",\"\",MAX(G$1:G161)+1)","v":""},null,{"$f":"IF(J162=\"\",\"\",MAX(I$1:I161)+1)","v":""},null,{"$f":"IF(L162=\"\",\"\",MAX(K$1:K161)+1)","v":""},null,{"$f":"IF(N162=\"\",\"\",MAX(M$1:M161)+1)","v":""}]
[null,null,{"$f":"IF(D163=\"\",\"\",MAX(C$1:C162)+1)","v":""},null,{"$f":"IF(F163=\"\",\"\",MAX(E$1:E162)+1)","v":""},null,{"$f":"IF(H163=\"\",\"\",MAX(G$1:G162)+1)","v":""},null,{"$f":"IF(J163=\"\",\"\",MAX(I$1:I162)+1)","v":""},null,{"$f":"IF(L163=\"\",\"\",MAX(K$1:K162)+1)","v":""},null,{"$f":"IF(N163=\"\",\"\",MAX(M$1:M162)+1)","v":""}]
[null,null,{"$f":"IF(D164=\"\",\"\",MAX(C$1:C163)+1)","v":""},null,{"$f":"IF(F164=\"\",\"\",MAX(E$1:E163)+1)","v":""},null,{"$f":"IF(H164=\"\",\"\",MAX(G$1:G163)+1)","v":""},null,{"$f":"IF(J164=\"\",\"\",MAX(I$1:I163)+1)","v":""},null,{"$f":"IF(L164=\"\",\"\",MAX(K$1:K163)+1)","v":""},null,{"$f":"IF(N164=\"\",\"\",MAX(M$1:M163)+1)","v":""}]
[null,null,{"$f":"IF(D165=\"\",\"\",MAX(C$1:C164)+1)","v":""},null,{"$f":"IF(F165=\"\",\"\",MAX(E$1:E164)+1)","v":""},null,{"$f":"IF(H165=\"\",\"\",MAX(G$1:G164)+1)","v":""},null,{"$f":"IF(J165=\"\",\"\",MAX(I$1:I164)+1)","v":""},null,{"$f":"IF(L165=\"\",\"\",MAX(K$1:K164)+1)","v":""},null,{"$f":"IF(N165=\"\",\"\",MAX(M$1:M164)+1)","v":""}]
[null,null,{"$f":"IF(D166=\"\",\"\",MAX(C$1:C165)+1)","v":""},null,{"$f":"IF(F166=\"\",\"\",MAX(E$1:E165)+1)","v":""},null,{"$f":"IF(H166=\"\",\"\",MAX(G$1:G165)+1)","v":""},null,{"$f":"IF(J166=\"\",\"\",MAX(I$1:I165)+1)","v":""},null,{"$f":"IF(L166=\"\",\"\",MAX(K$1:K165)+1)","v":""},null,{"$f":"IF(N166=\"\",\"\",MAX(M$1:M165)+1)","v":""}]
[null,null,{"$f":"IF(D167=\"\",\"\",MAX(C$1:C166)+1)","v":""},null,{"$f":"IF(F167=\"\",\"\",MAX(E$1:E166)+1)","v":""},null,{"$f":"IF(H167=\"\",\"\",MAX(G$1:G166)+1)","v":""},null,{"$f":"IF(J167=\"\",\"\",MAX(I$1:I166)+1)","v":""},null,{"$f":"IF(L167=\"\",\"\",MAX(K$1:K166)+1)","v":""},null,{"$f":"IF(N167=\"\",\"\",MAX(M$1:M166)+1)","v":""}]
[null,null,{"$f":"IF(D168=\"\",\"\",MAX(C$1:C167)+1)","v":""},null,{"$f":"IF(F168=\"\",\"\",MAX(E$1:E167)+1)","v":""},null,{"$f":"IF(H168=\"\",\"\",MAX(G$1:G167)+1)","v":""},null,{"$f":"IF(J168=\"\",\"\",MAX(I$1:I167)+1)","v":""},null,{"$f":"IF(L168=\"\",\"\",MAX(K$1:K167)+1)","v":""},null,{"$f":"IF(N168=\"\",\"\",MAX(M$1:M167)+1)","v":""}]
[null,null,{"$f":"IF(D169=\"\",\"\",MAX(C$1:C168)+1)","v":""},null,{"$f":"IF(F169=\"\",\"\",MAX(E$1:E168)+1)","v":""},null,{"$f":"IF(H169=\"\",\"\",MAX(G$1:G168)+1)","v":""},null,{"$f":"IF(J169=\"\",\"\",MAX(I$1:I168)+1)","v":""},null,{"$f":"IF(L169=\"\",\"\",MAX(K$1:K168)+1)","v":""},null,{"$f":"IF(N169=\"\",\"\",MAX(M$1:M168)+1)","v":""}]
[null,null,{"$f":"IF(D170=\"\",\"\",MAX(C$1:C169)+1)","v":""},null,{"$f":"IF(F170=\"\",\"\",MAX(E$1:E169)+1)","v":""},null,{"$f":"IF(H170=\"\",\"\",MAX(G$1:G169)+1)","v":""},null,{"$f":"IF(J170=\"\",\"\",MAX(I$1:I169)+1)","v":""},null,{"$f":"IF(L170=\"\",\"\",MAX(K$1:K169)+1)","v":""},null,{"$f":"IF(N170=\"\",\"\",MAX(M$1:M169)+1)","v":""}]
[null,null,{"$f":"IF(D171=\"\",\"\",MAX(C$1:C170)+1)","v":""},null,{"$f":"IF(F171=\"\",\"\",MAX(E$1:E170)+1)","v":""},null,{"$f":"IF(H171=\"\",\"\",MAX(G$1:G170)+1)","v":""},null,{"$f":"IF(J171=\"\",\"\",MAX(I$1:I170)+1)","v":""},null,{"$f":"IF(L171=\"\",\"\",MAX(K$1:K170)+1)","v":""},null,{"$f":"IF(N171=\"\",\"\",MAX(M$1:M170)+1)","v":""}]
[null,null,{"$f":"IF(D172=\"\",\"\",MAX(C$1:C171)+1)","v":""},null,{"$f":"IF(F172=\"\",\"\",MAX(E$1:E171)+1)","v":""},null,{"$f":"IF(H172=\"\",\"\",MAX(G$1:G171)+1)","v":""},null,{"$f":"IF(J172=\"\",\"\",MAX(I$1:I171)+1)","v":""},null,{"$f":"IF(L172=\"\",\"\",MAX(K$1:K171)+1)","v":""},null,{"$f":"IF(N172=\"\",\"\",MAX(M$1:M171)+1)","v":""}]
[null,null,{"$f":"IF(D173=\"\",\"\",MAX(C$1:C172)+1)","v":""},null,{"$f":"IF(F173=\"\",\"\",MAX(E$1:E172)+1)","v":""},null,{"$f":"IF(H173=\"\",\"\",MAX(G$1:G172)+1)","v":""},null,{"$f":"IF(J173=\"\",\"\",MAX(I$1:I172)+1)","v":""},null,{"$f":"IF(L173=\"\",\"\",MAX(K$1:K172)+1)","v":""},null,{"$f":"IF(N173=\"\",\"\",MAX(M$1:M172)+1)","v":""}]
[null,null,{"$f":"IF(D174=\"\",\"\",MAX(C$1:C173)+1)","v":""},null,{"$f":"IF(F174=\"\",\"\",MAX(E$1:E173)+1)","v":""},null,{"$f":"IF(H174=\"\",\"\",MAX(G$1:G173)+1)","v":""},null,{"$f":"IF(J174=\"\",\"\",MAX(I$1:I173)+1)","v":""},null,{"$f":"IF(L174=\"\",\"\",MAX(K$1:K173)+1)","v":""},null,{"$f":"IF(N174=\"\",\"\",MAX(M$1:M173)+1)","v":""}]
[null,null,{"$f":"IF(D175=\"\",\"\",MAX(C$1:C174)+1)","v":""},null,{"$f":"IF(F175=\"\",\"\",MAX(E$1:E174)+1)","v":""},null,{"$f":"IF(H175=\"\",\"\",MAX(G$1:G174)+1)","v":""},null,{"$f":"IF(J175=\"\",\"\",MAX(I$1:I174)+1)","v":""},null,{"$f":"IF(L175=\"\",\"\",MAX(K$1:K174)+1)","v":""},null,{"$f":"IF(N175=\"\",\"\",MAX(M$1:M174)+1)","v":""}]
[null,null,{"$f":"IF(D176=\"\",\"\",MAX(C$1:C175)+1)","v":""},null,{"$f":"IF(F176=\"\",\"\",MAX(E$1:E175)+1)","v":""},null,{"$f":"IF(H176=\"\",\"\",MAX(G$1:G175)+1)","v":""},null,{"$f":"IF(J176=\"\",\"\",MAX(I$1:I175)+1)","v":""},null,{"$f":"IF(L176=\"\",\"\",MAX(K$1:K175)+1)","v":""},null,{"$f":"IF(N176=\"\",\"\",MAX(M$1:M175)+1)","v":""}]
[null,null,{"$f":"IF(D177=\"\",\"\",MAX(C$1:C176)+1)","v":""},null,{"$f":"IF(F177=\"\",\"\",MAX(E$1:E176)+1)","v":""},null,{"$f":"IF(H177=\"\",\"\",MAX(G$1:G176)+1)","v":""},null,{"$f":"IF(J177=\"\",\"\",MAX(I$1:I176)+1)","v":""},null,{"$f":"IF(L177=\"\",\"\",MAX(K$1:K176)+1)","v":""},null,{"$f":"IF(N177=\"\",\"\",MAX(M$1:M176)+1)","v":""}]
[null,null,{"$f":"IF(D178=\"\",\"\",MAX(C$1:C177)+1)","v":""},null,{"$f":"IF(F178=\"\",\"\",MAX(E$1:E177)+1)","v":""},null,{"$f":"IF(H178=\"\",\"\",MAX(G$1:G177)+1)","v":""},null,{"$f":"IF(J178=\"\",\"\",MAX(I$1:I177)+1)","v":""},null,{"$f":"IF(L178=\"\",\"\",MAX(K$1:K177)+1)","v":""},null,{"$f":"IF(N178=\"\",\"\",MAX(M$1:M177)+1)","v":""}]
[null,null,{"$f":"IF(D179=\"\",\"\",MAX(C$1:C178)+1)","v":""},null,{"$f":"IF(F179=\"\",\"\",MAX(E$1:E178)+1)","v":""},null,{"$f":"IF(H179=\"\",\"\",MAX(G$1:G178)+1)","v":""},null,{"$f":"IF(J179=\"\",\"\",MAX(I$1:I178)+1)","v":""},null,{"$f":"IF(L179=\"\",\"\",MAX(K$1:K178)+1)","v":""},null,{"$f":"IF(N179=\"\",\"\",MAX(M$1:M178)+1)","v":""}]
[null,null,{"$f":"IF(D180=\"\",\"\",MAX(C$1:C179)+1)","v":""},null,{"$f":"IF(F180=\"\",\"\",MAX(E$1:E179)+1)","v":""},null,{"$f":"IF(H180=\"\",\"\",MAX(G$1:G179)+1)","v":""},null,{"$f":"IF(J180=\"\",\"\",MAX(I$1:I179)+1)","v":""},null,{"$f":"IF(L180=\"\",\"\",MAX(K$1:K179)+1)","v":""},null,{"$f":"IF(N180=\"\",\"\",MAX(M$1:M179)+1)","v":""}]
[null,null,{"$f":"IF(D181=\"\",\"\",MAX(C$1:C180)+1)","v":""},null,{"$f":"IF(F181=\"\",\"\",MAX(E$1:E180)+1)","v":""},null,{"$f":"IF(H181=\"\",\"\",MAX(G$1:G180)+1)","v":""},null,{"$f":"IF(J181=\"\",\"\",MAX(I$1:I180)+1)","v":""},null,{"$f":"IF(L181=\"\",\"\",MAX(K$1:K180)+1)","v":""},null,{"$f":"IF(N181=\"\",\"\",MAX(M$1:M180)+1)","v":""}]
[null,null,{"$f":"IF(D182=\"\",\"\",MAX(C$1:C181)+1)","v":""},null,{"$f":"IF(F182=\"\",\"\",MAX(E$1:E181)+1)","v":""},null,{"$f":"IF(H182=\"\",\"\",MAX(G$1:G181)+1)","v":""},null,{"$f":"IF(J182=\"\",\"\",MAX(I$1:I181)+1)","v":""},null,{"$f":"IF(L182=\"\",\"\",MAX(K$1:K181)+1)","v":""},null,{"$f":"IF(N182=\"\",\"\",MAX(M$1:M181)+1)","v":""}]
[null,null,{"$f":"IF(D183=\"\",\"\",MAX(C$1:C182)+1)","v":""},null,{"$f":"IF(F183=\"\",\"\",MAX(E$1:E182)+1)","v":""},null,{"$f":"IF(H183=\"\",\"\",MAX(G$1:G182)+1)","v":""},null,{"$f":"IF(J183=\"\",\"\",MAX(I$1:I182)+1)","v":""},null,{"$f":"IF(L183=\"\",\"\",MAX(K$1:K182)+1)","v":""},null,{"$f":"IF(N183=\"\",\"\",MAX(M$1:M182)+1)","v":""}]
[null,null,{"$f":"IF(D184=\"\",\"\",MAX(C$1:C183)+1)","v":""},null,{"$f":"IF(F184=\"\",\"\",MAX(E$1:E183)+1)","v":""},null,{"$f":"IF(H184=\"\",\"\",MAX(G$1:G183)+1)","v":""},null,{"$f":"IF(J184=\"\",\"\",MAX(I$1:I183)+1)","v":""},null,{"$f":"IF(L184=\"\",\"\",MAX(K$1:K183)+1)","v":""},null,{"$f":"IF(N184=\"\",\"\",MAX(M$1:M183)+1)","v":""}]
[null,null,{"$f":"IF(D185=\"\",\"\",MAX(C$1:C184)+1)","v":""},null,{"$f":"IF(F185=\"\",\"\",MAX(E$1:E184)+1)","v":""},null,{"$f":"IF(H185=\"\",\"\",MAX(G$1:G184)+1)","v":""},null,{"$f":"IF(J185=\"\",\"\",MAX(I$1:I184)+1)","v":""},null,{"$f":"IF(L185=\"\",\"\",MAX(K$1:K184)+1)","v":""},null,{"$f":"IF(N185=\"\",\"\",MAX(M$1:M184)+1)","v":""}]
[null,null,{"$f":"IF(D186=\"\",\"\",MAX(C$1:C185)+1)","v":""},null,{"$f":"IF(F186=\"\",\"\",MAX(E$1:E185)+1)","v":""},null,{"$f":"IF(H186=\"\",\"\",MAX(G$1:G185)+1)","v":""},null,{"$f":"IF(J186=\"\",\"\",MAX(I$1:I185)+1)","v":""},null,{"$f":"IF(L186=\"\",\"\",MAX(K$1:K185)+1)","v":""},null,{"$f":"IF(N186=\"\",\"\",MAX(M$1:M185)+1)","v":""}]
[null,null,{"$f":"IF(D187=\"\",\"\",MAX(C$1:C186)+1)","v":""},null,{"$f":"IF(F187=\"\",\"\",MAX(E$1:E186)+1)","v":""},null,{"$f":"IF(H187=\"\",\"\",MAX(G$1:G186)+1)","v":""},null,{"$f":"IF(J187=\"\",\"\",MAX(I$1:I186)+1)","v":""},null,{"$f":"IF(L187=\"\",\"\",MAX(K$1:K186)+1)","v":""},null,{"$f":"IF(N187=\"\",\"\",MAX(M$1:M186)+1)","v":""}]
[null,null,{"$f":"IF(D188=\"\",\"\",MAX(C$1:C187)+1)","v":""},null,{"$f":"IF(F188=\"\",\"\",MAX(E$1:E187)+1)","v":""},null,{"$f":"IF(H188=\"\",\"\",MAX(G$1:G187)+1)","v":""},null,{"$f":"IF(J188=\"\",\"\",MAX(I$1:I187)+1)","v":""},null,{"$f":"IF(L188=\"\",\"\",MAX(K$1:K187)+1)","v":""},null,{"$f":"IF(N188=\"\",\"\",MAX(M$1:M187)+1)","v":""}]
[null,null,{"$f":"IF(D189=\"\",\"\",MAX(C$1:C188)+1)","v":""},null,{"$f":"IF(F189=\"\",\"\",MAX(E$1:E188)+1)","v":""},null,{"$f":"IF(H189=\"\",\"\",MAX(G$1:G188)+1)","v":""},null,{"$f":"IF(J189=\"\",\"\",MAX(I$1:I188)+1)","v":""},null,{"$f":"IF(L189=\"\",\"\",MAX(K$1:K188)+1)","v":""},null,{"$f":"IF(N189=\"\",\"\",MAX(M$1:M188)+1)","v":""}]
[null,null,{"$f":"IF(D190=\"\",\"\",MAX(C$1:C189)+1)","v":""},null,{"$f":"IF(F190=\"\",\"\",MAX(E$1:E189)+1)","v":""},null,{"$f":"IF(H190=\"\",\"\",MAX(G$1:G189)+1)","v":""},null,{"$f":"IF(J190=\"\",\"\",MAX(I$1:I189)+1)","v":""},null,{"$f":"IF(L190=\"\",\"\",MAX(K$1:K189)+1)","v":""},null,{"$f":"IF(N190=\"\",\"\",MAX(M$1:M189)+1)","v":""}]
[null,null,{"$f":"IF(D191=\"\",\"\",MAX(C$1:C190)+1)","v":""},null,{"$f":"IF(F191=\"\",\"\",MAX(E$1:E190)+1)","v":""},null,{"$f":"IF(H191=\"\",\"\",MAX(G$1:G190)+1)","v":""},null,{"$f":"IF(J191=\"\",\"\",MAX(I$1:I190)+1)","v":""},null,{"$f":"IF(L191=\"\",\"\",MAX(K$1:K190)+1)","v":""},null,{"$f":"IF(N191=\"\",\"\",MAX(M$1:M190)+1)","v":""}]
[null,null,{"$f":"IF(D192=\"\",\"\",MAX(C$1:C191)+1)","v":""},null,{"$f":"IF(F192=\"\",\"\",MAX(E$1:E191)+1)","v":""},null,{"$f":"IF(H192=\"\",\"\",MAX(G$1:G191)+1)","v":""},null,{"$f":"IF(J192=\"\",\"\",MAX(I$1:I191)+1)","v":""},null,{"$f":"IF(L192=\"\",\"\",MAX(K$1:K191)+1)","v":""},null,{"$f":"IF(N192=\"\",\"\",MAX(M$1:M191)+1)","v":""}]
[null,null,{"$f":"IF(D193=\"\",\"\",MAX(C$1:C192)+1)","v":""},null,{"$f":"IF(F193=\"\",\"\",MAX(E$1:E192)+1)","v":""},null,{"$f":"IF(H193=\"\",\"\",MAX(G$1:G192)+1)","v":""},null,{"$f":"IF(J193=\"\",\"\",MAX(I$1:I192)+1)","v":""},null,{"$f":"IF(L193=\"\",\"\",MAX(K$1:K192)+1)","v":""},null,{"$f":"IF(N193=\"\",\"\",MAX(M$1:M192)+1)","v":""}]
[null,null,{"$f":"IF(D194=\"\",\"\",MAX(C$1:C193)+1)","v":""},null,{"$f":"IF(F194=\"\",\"\",MAX(E$1:E193)+1)","v":""},null,{"$f":"IF(H194=\"\",\"\",MAX(G$1:G193)+1)","v":""},null,{"$f":"IF(J194=\"\",\"\",MAX(I$1:I193)+1)","v":""},null,{"$f":"IF(L194=\"\",\"\",MAX(K$1:K193)+1)","v":""},null,{"$f":"IF(N194=\"\",\"\",MAX(M$1:M193)+1)","v":""}]
[null,null,{"$f":"IF(D195=\"\",\"\",MAX(C$1:C194)+1)","v":""},null,{"$f":"IF(F195=\"\",\"\",MAX(E$1:E194)+1)","v":""},null,{"$f":"IF(H195=\"\",\"\",MAX(G$1:G194)+1)","v":""},null,{"$f":"IF(J195=\"\",\"\",MAX(I$1:I194)+1)","v":""},null,{"$f":"IF(L195=\"\",\"\",MAX(K$1:K194)+1)","v":""},null,{"$f":"IF(N195=\"\",\"\",MAX(M$1:M194)+1)","v":""}]
[null,null,{"$f":"IF(D196=\"\",\"\",MAX(C$1:C195)+1)","v":""},null,{"$f":"IF(F196=\"\",\"\",MAX(E$1:E195)+1)","v":""},null,{"$f":"IF(H196=\"\",\"\",MAX(G$1:G195)+1)","v":""},null,{"$f":"IF(J196=\"\",\"\",MAX(I$1:I195)+1)","v":""},null,{"$f":"IF(L196=\"\",\"\",MAX(K$1:K195)+1)","v":""},null,{"$f":"IF(N196=\"\",\"\",MAX(M$1:M195)+1)","v":""}]
[null,null,{"$f":"IF(D197=\"\",\"\",MAX(C$1:C196)+1)","v":""},null,{"$f":"IF(F197=\"\",\"\",MAX(E$1:E196)+1)","v":""},null,{"$f":"IF(H197=\"\",\"\",MAX(G$1:G196)+1)","v":""},null,{"$f":"IF(J197=\"\",\"\",MAX(I$1:I196)+1)","v":""},null,{"$f":"IF(L197=\"\",\"\",MAX(K$1:K196)+1)","v":""},null,{"$f":"IF(N197=\"\",\"\",MAX(M$1:M196)+1)","v":""}]
[null,null,{"$f":"IF(D198=\"\",\"\",MAX(C$1:C197)+1)","v":""},null,{"$f":"IF(F198=\"\",\"\",MAX(E$1:E197)+1)","v":""},null,{"$f":"IF(H198=\"\",\"\",MAX(G$1:G197)+1)","v":""},null,{"$f":"IF(J198=\"\",\"\",MAX(I$1:I197)+1)","v":""},null,{"$f":"IF(L198=\"\",\"\",MAX(K$1:K197)+1)","v":""},null,{"$f":"IF(N198=\"\",\"\",MAX(M$1:M197)+1)","v":""}]
[null,null,{"$f":"IF(D199=\"\",\"\",MAX(C$1:C198)+1)","v":""},null,{"$f":"IF(F199=\"\",\"\",MAX(E$1:E198)+1)","v":""},null,{"$f":"IF(H199=\"\",\"\",MAX(G$1:G198)+1)","v":""},null,{"$f":"IF(J199=\"\",\"\",MAX(I$1:I198)+1)","v":""},null,{"$f":"IF(L199=\"\",\"\",MAX(K$1:K198)+1)","v":""},null,{"$f":"IF(N199=\"\",\"\",MAX(M$1:M198)+1)","v":""}]
[null,null,{"$f":"IF(D200=\"\",\"\",MAX(C$1:C199)+1)","v":""},null,{"$f":"IF(F200=\"\",\"\",MAX(E$1:E199)+1)","v":""},null,{"$f":"IF(H200=\"\",\"\",MAX(G$1:G199)+1)","v":""},null,{"$f":"IF(J200=\"\",\"\",MAX(I$1:I199)+1)","v":""},null,{"$f":"IF(L200=\"\",\"\",MAX(K$1:K199)+1)","v":""},null,{"$f":"IF(N200=\"\",\"\",MAX(M$1:M199)+1)","v":""}]
[null,null,{"$f":"IF(D201=\"\",\"\",MAX(C$1:C200)+1)","v":""},null,{"$f":"IF(F201=\"\",\"\",MAX(E$1:E200)+1)","v":""},null,{"$f":"IF(H201=\"\",\"\",MAX(G$1:G200)+1)","v":""},null,{"$f":"IF(J201=\"\",\"\",MAX(I$1:I200)+1)","v":""},null,{"$f":"IF(L201=\"\",\"\",MAX(K$1:K200)+1)","v":""},null,{"$f":"IF(N201=\"\",\"\",MAX(M$1:M200)+1)","v":""}]
[null,null,{"$f":"IF(D202=\"\",\"\",MAX(C$1:C201)+1)","v":""},null,{"$f":"IF(F202=\"\",\"\",MAX(E$1:E201)+1)","v":""},null,{"$f":"IF(H202=\"\",\"\",MAX(G$1:G201)+1)","v":""},null,{"$f":"IF(J202=\"\",\"\",MAX(I$1:I201)+1)","v":""},null,{"$f":"IF(L202=\"\",\"\",MAX(K$1:K201)+1)","v":""},null,{"$f":"IF(N202=\"\",\"\",MAX(M$1:M201)+1)","v":""}]
[null,null,{"$f":"IF(D203=\"\",\"\",MAX(C$1:C202)+1)","v":""},null,{"$f":"IF(F203=\"\",\"\",MAX(E$1:E202)+1)","v":""},null,{"$f":"IF(H203=\"\",\"\",MAX(G$1:G202)+1)","v":""},null,{"$f":"IF(J203=\"\",\"\",MAX(I$1:I202)+1)","v":""},null,{"$f":"IF(L203=\"\",\"\",MAX(K$1:K202)+1)","v":""},null,{"$f":"IF(N203=\"\",\"\",MAX(M$1:M202)+1)","v":""}]
[null,null,{"$f":"IF(D204=\"\",\"\",MAX(C$1:C203)+1)","v":""},null,{"$f":"IF(F204=\"\",\"\",MAX(E$1:E203)+1)","v":""},null,{"$f":"IF(H204=\"\",\"\",MAX(G$1:G203)+1)","v":""},null,{"$f":"IF(J204=\"\",\"\",MAX(I$1:I203)+1)","v":""},null,{"$f":"IF(L204=\"\",\"\",MAX(K$1:K203)+1)","v":""},null,{"$f":"IF(N204=\"\",\"\",MAX(M$1:M203)+1)","v":""}]
[null,null,{"$f":"IF(D205=\"\",\"\",MAX(C$1:C204)+1)","v":""},null,{"$f":"IF(F205=\"\",\"\",MAX(E$1:E204)+1)","v":""},null,{"$f":"IF(H205=\"\",\"\",MAX(G$1:G204)+1)","v":""},null,{"$f":"IF(J205=\"\",\"\",MAX(I$1:I204)+1)","v":""},null,{"$f":"IF(L205=\"\",\"\",MAX(K$1:K204)+1)","v":""},null,{"$f":"IF(N205=\"\",\"\",MAX(M$1:M204)+1)","v":""}]
[null,null,{"$f":"IF(D206=\"\",\"\",MAX(C$1:C205)+1)","v":""},null,{"$f":"IF(F206=\"\",\"\",MAX(E$1:E205)+1)","v":""},null,{"$f":"IF(H206=\"\",\"\",MAX(G$1:G205)+1)","v":""},null,{"$f":"IF(J206=\"\",\"\",MAX(I$1:I205)+1)","v":""},null,{"$f":"IF(L206=\"\",\"\",MAX(K$1:K205)+1)","v":""},null,{"$f":"IF(N206=\"\",\"\",MAX(M$1:M205)+1)","v":""}]
[null,null,{"$f":"IF(D207=\"\",\"\",MAX(C$1:C206)+1)","v":""},null,{"$f":"IF(F207=\"\",\"\",MAX(E$1:E206)+1)","v":""},null,{"$f":"IF(H207=\"\",\"\",MAX(G$1:G206)+1)","v":""},null,{"$f":"IF(J207=\"\",\"\",MAX(I$1:I206)+1)","v":""},null,{"$f":"IF(L207=\"\",\"\",MAX(K$1:K206)+1)","v":""},null,{"$f":"IF(N207=\"\",\"\",MAX(M$1:M206)+1)","v":""}]
[null,null,{"$f":"IF(D208=\"\",\"\",MAX(C$1:C207)+1)","v":""},null,{"$f":"IF(F208=\"\",\"\",MAX(E$1:E207)+1)","v":""},null,{"$f":"IF(H208=\"\",\"\",MAX(G$1:G207)+1)","v":""},null,{"$f":"IF(J208=\"\",\"\",MAX(I$1:I207)+1)","v":""},null,{"$f":"IF(L208=\"\",\"\",MAX(K$1:K207)+1)","v":""},null,{"$f":"IF(N208=\"\",\"\",MAX(M$1:M207)+1)","v":""}]
[null,null,{"$f":"IF(D209=\"\",\"\",MAX(C$1:C208)+1)","v":""},null,{"$f":"IF(F209=\"\",\"\",MAX(E$1:E208)+1)","v":""},null,{"$f":"IF(H209=\"\",\"\",MAX(G$1:G208)+1)","v":""},null,{"$f":"IF(J209=\"\",\"\",MAX(I$1:I208)+1)","v":""},null,{"$f":"IF(L209=\"\",\"\",MAX(K$1:K208)+1)","v":""},null,{"$f":"IF(N209=\"\",\"\",MAX(M$1:M208)+1)","v":""}]
[null,null,{"$f":"IF(D210=\"\",\"\",MAX(C$1:C209)+1)","v":""},null,{"$f":"IF(F210=\"\",\"\",MAX(E$1:E209)+1)","v":""},null,{"$f":"IF(H210=\"\",\"\",MAX(G$1:G209)+1)","v":""},null,{"$f":"IF(J210=\"\",\"\",MAX(I$1:I209)+1)","v":""},null,{"$f":"IF(L210=\"\",\"\",MAX(K$1:K209)+1)","v":""},null,{"$f":"IF(N210=\"\",\"\",MAX(M$1:M209)+1)","v":""}]
[null,null,{"$f":"IF(D211=\"\",\"\",MAX(C$1:C210)+1)","v":""},null,{"$f":"IF(F211=\"\",\"\",MAX(E$1:E210)+1)","v":""},null,{"$f":"IF(H211=\"\",\"\",MAX(G$1:G210)+1)","v":""},null,{"$f":"IF(J211=\"\",\"\",MAX(I$1:I210)+1)","v":""},null,{"$f":"IF(L211=\"\",\"\",MAX(K$1:K210)+1)","v":""},null,{"$f":"IF(N211=\"\",\"\",MAX(M$1:M210)+1)","v":""}]
[null,null,{"$f":"IF(D212=\"\",\"\",MAX(C$1:C211)+1)","v":""},null,{"$f":"IF(F212=\"\",\"\",MAX(E$1:E211)+1)","v":""},null,{"$f":"IF(H212=\"\",\"\",MAX(G$1:G211)+1)","v":""},null,{"$f":"IF(J212=\"\",\"\",MAX(I$1:I211)+1)","v":""},null,{"$f":"IF(L212=\"\",\"\",MAX(K$1:K211)+1)","v":""},null,{"$f":"IF(N212=\"\",\"\",MAX(M$1:M211)+1)","v":""}]
[null,null,{"$f":"IF(D213=\"\",\"\",MAX(C$1:C212)+1)","v":""},null,{"$f":"IF(F213=\"\",\"\",MAX(E$1:E212)+1)","v":""},null,{"$f":"IF(H213=\"\",\"\",MAX(G$1:G212)+1)","v":""},null,{"$f":"IF(J213=\"\",\"\",MAX(I$1:I212)+1)","v":""},null,{"$f":"IF(L213=\"\",\"\",MAX(K$1:K212)+1)","v":""},null,{"$f":"IF(N213=\"\",\"\",MAX(M$1:M212)+1)","v":""}]
[null,null,{"$f":"IF(D214=\"\",\"\",MAX(C$1:C213)+1)","v":""},null,{"$f":"IF(F214=\"\",\"\",MAX(E$1:E213)+1)","v":""},null,{"$f":"IF(H214=\"\",\"\",MAX(G$1:G213)+1)","v":""},null,{"$f":"IF(J214=\"\",\"\",MAX(I$1:I213)+1)","v":""},null,{"$f":"IF(L214=\"\",\"\",MAX(K$1:K213)+1)","v":""},null,{"$f":"IF(N214=\"\",\"\",MAX(M$1:M213)+1)","v":""}]
[null,null,{"$f":"IF(D215=\"\",\"\",MAX(C$1:C214)+1)","v":""},null,{"$f":"IF(F215=\"\",\"\",MAX(E$1:E214)+1)","v":""},null,{"$f":"IF(H215=\"\",\"\",MAX(G$1:G214)+1)","v":""},null,{"$f":"IF(J215=\"\",\"\",MAX(I$1:I214)+1)","v":""},null,{"$f":"IF(L215=\"\",\"\",MAX(K$1:K214)+1)","v":""},null,{"$f":"IF(N215=\"\",\"\",MAX(M$1:M214)+1)","v":""}]
[null,null,{"$f":"IF(D216=\"\",\"\",MAX(C$1:C215)+1)","v":""},null,{"$f":"IF(F216=\"\",\"\",MAX(E$1:E215)+1)","v":""},null,{"$f":"IF(H216=\"\",\"\",MAX(G$1:G215)+1)","v":""},null,{"$f":"IF(J216=\"\",\"\",MAX(I$1:I215)+1)","v":""},null,{"$f":"IF(L216=\"\",\"\",MAX(K$1:K215)+1)","v":""},null,{"$f":"IF(N216=\"\",\"\",MAX(M$1:M215)+1)","v":""}]
[null,null,{"$f":"IF(D217=\"\",\"\",MAX(C$1:C216)+1)","v":""},null,{"$f":"IF(F217=\"\",\"\",MAX(E$1:E216)+1)","v":""},null,{"$f":"IF(H217=\"\",\"\",MAX(G$1:G216)+1)","v":""},null,{"$f":"IF(J217=\"\",\"\",MAX(I$1:I216)+1)","v":""},null,{"$f":"IF(L217=\"\",\"\",MAX(K$1:K216)+1)","v":""},null,{"$f":"IF(N217=\"\",\"\",MAX(M$1:M216)+1)","v":""}]
[null,null,{"$f":"IF(D218=\"\",\"\",MAX(C$1:C217)+1)","v":""},null,{"$f":"IF(F218=\"\",\"\",MAX(E$1:E217)+1)","v":""},null,{"$f":"IF(H218=\"\",\"\",MAX(G$1:G217)+1)","v":""},null,{"$f":"IF(J218=\"\",\"\",MAX(I$1:I217)+1)","v":""},null,{"$f":"IF(L218=\"\",\"\",MAX(K$1:K217)+1)","v":""},null,{"$f":"IF(N218=\"\",\"\",MAX(M$1:M217)+1)","v":""}]
[null,null,{"$f":"IF(D219=\"\",\"\",MAX(C$1:C218)+1)","v":""},null,{"$f":"IF(F219=\"\",\"\",MAX(E$1:E218)+1)","v":""},null,{"$f":"IF(H219=\"\",\"\",MAX(G$1:G218)+1)","v":""},null,{"$f":"IF(J219=\"\",\"\",MAX(I$1:I218)+1)","v":""},null,{"$f":"IF(L219=\"\",\"\",MAX(K$1:K218)+1)","v":""},null,{"$f":"IF(N219=\"\",\"\",MAX(M$1:M218)+1)","v":""}]
[null,null,{"$f":"IF(D220=\"\",\"\",MAX(C$1:C219)+1)","v":""},null,{"$f":"IF(F220=\"\",\"\",MAX(E$1:E219)+1)","v":""},null,{"$f":"IF(H220=\"\",\"\",MAX(G$1:G219)+1)","v":""},null,{"$f":"IF(J220=\"\",\"\",MAX(I$1:I219)+1)","v":""},null,{"$f":"IF(L220=\"\",\"\",MAX(K$1:K219)+1)","v":""},null,{"$f":"IF(N220=\"\",\"\",MAX(M$1:M219)+1)","v":""}]
[null,null,{"$f":"IF(D221=\"\",\"\",MAX(C$1:C220)+1)","v":""},null,{"$f":"IF(F221=\"\",\"\",MAX(E$1:E220)+1)","v":""},null,{"$f":"IF(H221=\"\",\"\",MAX(G$1:G220)+1)","v":""},null,{"$f":"IF(J221=\"\",\"\",MAX(I$1:I220)+1)","v":""},null,{"$f":"IF(L221=\"\",\"\",MAX(K$1:K220)+1)","v":""},null,{"$f":"IF(N221=\"\",\"\",MAX(M$1:M220)+1)","v":""}]
[null,null,{"$f":"IF(D222=\"\",\"\",MAX(C$1:C221)+1)","v":""},null,{"$f":"IF(F222=\"\",\"\",MAX(E$1:E221)+1)","v":""},null,{"$f":"IF(H222=\"\",\"\",MAX(G$1:G221)+1)","v":""},null,{"$f":"IF(J222=\"\",\"\",MAX(I$1:I221)+1)","v":""},null,{"$f":"IF(L222=\"\",\"\",MAX(K$1:K221)+1)","v":""},null,{"$f":"IF(N222=\"\",\"\",MAX(M$1:M221)+1)","v":""}]
[null,null,{"$f":"IF(D223=\"\",\"\",MAX(C$1:C222)+1)","v":""},null,{"$f":"IF(F223=\"\",\"\",MAX(E$1:E222)+1)","v":""},null,{"$f":"IF(H223=\"\",\"\",MAX(G$1:G222)+1)","v":""},null,{"$f":"IF(J223=\"\",\"\",MAX(I$1:I222)+1)","v":""},null,{"$f":"IF(L223=\"\",\"\",MAX(K$1:K222)+1)","v":""},null,{"$f":"IF(N223=\"\",\"\",MAX(M$1:M222)+1)","v":""}]
[null,null,{"$f":"IF(D224=\"\",\"\",MAX(C$1:C223)+1)","v":""},null,{"$f":"IF(F224=\"\",\"\",MAX(E$1:E223)+1)","v":""},null,{"$f":"IF(H224=\"\",\"\",MAX(G$1:G223)+1)","v":""},null,{"$f":"IF(J224=\"\",\"\",MAX(I$1:I223)+1)","v":""},null,{"$f":"IF(L224=\"\",\"\",MAX(K$1:K223)+1)","v":""},null,{"$f":"IF(N224=\"\",\"\",MAX(M$1:M223)+1)","v":""}]
[null,null,{"$f":"IF(D225=\"\",\"\",MAX(C$1:C224)+1)","v":""},null,{"$f":"IF(F225=\"\",\"\",MAX(E$1:E224)+1)","v":""},null,{"$f":"IF(H225=\"\",\"\",MAX(G$1:G224)+1)","v":""},null,{"$f":"IF(J225=\"\",\"\",MAX(I$1:I224)+1)","v":""},null,{"$f":"IF(L225=\"\",\"\",MAX(K$1:K224)+1)","v":""},null,{"$f":"IF(N225=\"\",\"\",MAX(M$1:M224)+1)","v":""}]
[null,null,{"$f":"IF(D226=\"\",\"\",MAX(C$1:C225)+1)","v":""},null,{"$f":"IF(F226=\"\",\"\",MAX(E$1:E225)+1)","v":""},null,{"$f":"IF(H226=\"\",\"\",MAX(G$1:G225)+1)","v":""},null,{"$f":"IF(J226=\"\",\"\",MAX(I$1:I225)+1)","v":""},null,{"$f":"IF(L226=\"\",\"\",MAX(K$1:K225)+1)","v":""},null,{"$f":"IF(N226=\"\",\"\",MAX(M$1:M225)+1)","v":""}]
[null,null,{"$f":"IF(D227=\"\",\"\",MAX(C$1:C226)+1)","v":""},null,{"$f":"IF(F227=\"\",\"\",MAX(E$1:E226)+1)","v":""},null,{"$f":"IF(H227=\"\",\"\",MAX(G$1:G226)+1)","v":""},null,{"$f":"IF(J227=\"\",\"\",MAX(I$1:I226)+1)","v":""},null,{"$f":"IF(L227=\"\",\"\",MAX(K$1:K226)+1)","v":""},null,{"$f":"IF(N227=\"\",\"\",MAX(M$1:M226)+1)","v":""}]
[null,null,{"$f":"IF(D228=\"\",\"\",MAX(C$1:C227)+1)","v":""},null,{"$f":"IF(F228=\"\",\"\",MAX(E$1:E227)+1)","v":""},null,{"$f":"IF(H228=\"\",\"\",MAX(G$1:G227)+1)","v":""},null,{"$f":"IF(J228=\"\",\"\",MAX(I$1:I227)+1)","v":""},null,{"$f":"IF(L228=\"\",\"\",MAX(K$1:K227)+1)","v":""},null,{"$f":"IF(N228=\"\",\"\",MAX(M$1:M227)+1)","v":""}]
[null,null,{"$f":"IF(D229=\"\",\"\",MAX(C$1:C228)+1)","v":""},null,{"$f":"IF(F229=\"\",\"\",MAX(E$1:E228)+1)","v":""},null,{"$f":"IF(H229=\"\",\"\",MAX(G$1:G228)+1)","v":""},null,{"$f":"IF(J229=\"\",\"\",MAX(I$1:I228)+1)","v":""},null,{"$f":"IF(L229=\"\",\"\",MAX(K$1:K228)+1)","v":""},null,{"$f":"IF(N229=\"\",\"\",MAX(M$1:M228)+1)","v":""}]
[null,null,{"$f":"IF(D230=\"\",\"\",MAX(C$1:C229)+1)","v":""},null,{"$f":"IF(F230=\"\",\"\",MAX(E$1:E229)+1)","v":""},null,{"$f":"IF(H230=\"\",\"\",MAX(G$1:G229)+1)","v":""},null,{"$f":"IF(J230=\"\",\"\",MAX(I$1:I229)+1)","v":""},null,{"$f":"IF(L230=\"\",\"\",MAX(K$1:K229)+1)","v":""},null,{"$f":"IF(N230=\"\",\"\",MAX(M$1:M229)+1)","v":""}]
[null,null,{"$f":"IF(D231=\"\",\"\",MAX(C$1:C230)+1)","v":""},null,{"$f":"IF(F231=\"\",\"\",MAX(E$1:E230)+1)","v":""},null,{"$f":"IF(H231=\"\",\"\",MAX(G$1:G230)+1)","v":""},null,{"$f":"IF(J231=\"\",\"\",MAX(I$1:I230)+1)","v":""},null,{"$f":"IF(L231=\"\",\"\",MAX(K$1:K230)+1)","v":""},null,{"$f":"IF(N231=\"\",\"\",MAX(M$1:M230)+1)","v":""}]
[null,null,{"$f":"IF(D232=\"\",\"\",MAX(C$1:C231)+1)","v":""},null,{"$f":"IF(F232=\"\",\"\",MAX(E$1:E231)+1)","v":""},null,{"$f":"IF(H232=\"\",\"\",MAX(G$1:G231)+1)","v":""},null,{"$f":"IF(J232=\"\",\"\",MAX(I$1:I231)+1)","v":""},null,{"$f":"IF(L232=\"\",\"\",MAX(K$1:K231)+1)","v":""},null,{"$f":"IF(N232=\"\",\"\",MAX(M$1:M231)+1)","v":""}]
[null,null,{"$f":"IF(D233=\"\",\"\",MAX(C$1:C232)+1)","v":""},null,{"$f":"IF(F233=\"\",\"\",MAX(E$1:E232)+1)","v":""},null,{"$f":"IF(H233=\"\",\"\",MAX(G$1:G232)+1)","v":""},null,{"$f":"IF(J233=\"\",\"\",MAX(I$1:I232)+1)","v":""},null,{"$f":"IF(L233=\"\",\"\",MAX(K$1:K232)+1)","v":""},null,{"$f":"IF(N233=\"\",\"\",MAX(M$1:M232)+1)","v":""}]
[null,null,{"$f":"IF(D234=\"\",\"\",MAX(C$1:C233)+1)","v":""},null,{"$f":"IF(F234=\"\",\"\",MAX(E$1:E233)+1)","v":""},null,{"$f":"IF(H234=\"\",\"\",MAX(G$1:G233)+1)","v":""},null,{"$f":"IF(J234=\"\",\"\",MAX(I$1:I233)+1)","v":""},null,{"$f":"IF(L234=\"\",\"\",MAX(K$1:K233)+1)","v":""},null,{"$f":"IF(N234=\"\",\"\",MAX(M$1:M233)+1)","v":""}]
[null,null,{"$f":"IF(D235=\"\",\"\",MAX(C$1:C234)+1)","v":""},null,{"$f":"IF(F235=\"\",\"\",MAX(E$1:E234)+1)","v":""},null,{"$f":"IF(H235=\"\",\"\",MAX(G$1:G234)+1)","v":""},null,{"$f":"IF(J235=\"\",\"\",MAX(I$1:I234)+1)","v":""},null,{"$f":"IF(L235=\"\",\"\",MAX(K$1:K234)+1)","v":""},null,{"$f":"IF(N235=\"\",\"\",MAX(M$1:M234)+1)","v":""}]
[null,null,{"$f":"IF(D236=\"\",\"\",MAX(C$1:C235)+1)","v":""},null,{"$f":"IF(F236=\"\",\"\",MAX(E$1:E235)+1)","v":""},null,{"$f":"IF(H236=\"\",\"\",MAX(G$1:G235)+1)","v":""},null,{"$f":"IF(J236=\"\",\"\",MAX(I$1:I235)+1)","v":""},null,{"$f":"IF(L236=\"\",\"\",MAX(K$1:K235)+1)","v":""},null,{"$f":"IF(N236=\"\",\"\",MAX(M$1:M235)+1)","v":""}]
[null,null,{"$f":"IF(D237=\"\",\"\",MAX(C$1:C236)+1)","v":""},null,{"$f":"IF(F237=\"\",\"\",MAX(E$1:E236)+1)","v":""},null,{"$f":"IF(H237=\"\",\"\",MAX(G$1:G236)+1)","v":""},null,{"$f":"IF(J237=\"\",\"\",MAX(I$1:I236)+1)","v":""},null,{"$f":"IF(L237=\"\",\"\",MAX(K$1:K236)+1)","v":""},null,{"$f":"IF(N237=\"\",\"\",MAX(M$1:M236)+1)","v":""}]
[null,null,{"$f":"IF(D238=\"\",\"\",MAX(C$1:C237)+1)","v":""},null,{"$f":"IF(F238=\"\",\"\",MAX(E$1:E237)+1)","v":""},null,{"$f":"IF(H238=\"\",\"\",MAX(G$1:G237)+1)","v":""},null,{"$f":"IF(J238=\"\",\"\",MAX(I$1:I237)+1)","v":""},null,{"$f":"IF(L238=\"\",\"\",MAX(K$1:K237)+1)","v":""},null,{"$f":"IF(N238=\"\",\"\",MAX(M$1:M237)+1)","v":""}]
[null,null,{"$f":"IF(D239=\"\",\"\",MAX(C$1:C238)+1)","v":""},null,{"$f":"IF(F239=\"\",\"\",MAX(E$1:E238)+1)","v":""},null,{"$f":"IF(H239=\"\",\"\",MAX(G$1:G238)+1)","v":""},null,{"$f":"IF(J239=\"\",\"\",MAX(I$1:I238)+1)","v":""},null,{"$f":"IF(L239=\"\",\"\",MAX(K$1:K238)+1)","v":""},null,{"$f":"IF(N239=\"\",\"\",MAX(M$1:M238)+1)","v":""}]
[null,null,{"$f":"IF(D240=\"\",\"\",MAX(C$1:C239)+1)","v":""},null,{"$f":"IF(F240=\"\",\"\",MAX(E$1:E239)+1)","v":""},null,{"$f":"IF(H240=\"\",\"\",MAX(G$1:G239)+1)","v":""},null,{"$f":"IF(J240=\"\",\"\",MAX(I$1:I239)+1)","v":""},null,{"$f":"IF(L240=\"\",\"\",MAX(K$1:K239)+1)","v":""},null,{"$f":"IF(N240=\"\",\"\",MAX(M$1:M239)+1)","v":""}]
[null,null,{"$f":"IF(D241=\"\",\"\",MAX(C$1:C240)+1)","v":""},null,{"$f":"IF(F241=\"\",\"\",MAX(E$1:E240)+1)","v":""},null,{"$f":"IF(H241=\"\",\"\",MAX(G$1:G240)+1)","v":""},null,{"$f":"IF(J241=\"\",\"\",MAX(I$1:I240)+1)","v":""},null,{"$f":"IF(L241=\"\",\"\",MAX(K$1:K240)+1)","v":""},null,{"$f":"IF(N241=\"\",\"\",MAX(M$1:M240)+1)","v":""}]
[null,null,{"$f":"IF(D242=\"\",\"\",MAX(C$1:C241)+1)","v":""},null,{"$f":"IF(F242=\"\",\"\",MAX(E$1:E241)+1)","v":""},null,{"$f":"IF(H242=\"\",\"\",MAX(G$1:G241)+1)","v":""},null,{"$f":"IF(J242=\"\",\"\",MAX(I$1:I241)+1)","v":""},null,{"$f":"IF(L242=\"\",\"\",MAX(K$1:K241)+1)","v":""},null,{"$f":"IF(N242=\"\",\"\",MAX(M$1:M241)+1)","v":""}]
[null,null,{"$f":"IF(D243=\"\",\"\",MAX(C$1:C242)+1)","v":""},null,{"$f":"IF(F243=\"\",\"\",MAX(E$1:E242)+1)","v":""},null,{"$f":"IF(H243=\"\",\"\",MAX(G$1:G242)+1)","v":""},null,{"$f":"IF(J243=\"\",\"\",MAX(I$1:I242)+1)","v":""},null,{"$f":"IF(L243=\"\",\"\",MAX(K$1:K242)+1)","v":""},null,{"$f":"IF(N243=\"\",\"\",MAX(M$1:M242)+1)","v":""}]
[null,null,{"$f":"IF(D244=\"\",\"\",MAX(C$1:C243)+1)","v":""},null,{"$f":"IF(F244=\"\",\"\",MAX(E$1:E243)+1)","v":""},null,{"$f":"IF(H244=\"\",\"\",MAX(G$1:G243)+1)","v":""},null,{"$f":"IF(J244=\"\",\"\",MAX(I$1:I243)+1)","v":""},null,{"$f":"IF(L244=\"\",\"\",MAX(K$1:K243)+1)","v":""},null,{"$f":"IF(N244=\"\",\"\",MAX(M$1:M243)+1)","v":""}]
[null,null,{"$f":"IF(D245=\"\",\"\",MAX(C$1:C244)+1)","v":""},null,{"$f":"IF(F245=\"\",\"\",MAX(E$1:E244)+1)","v":""},null,{"$f":"IF(H245=\"\",\"\",MAX(G$1:G244)+1)","v":""},null,{"$f":"IF(J245=\"\",\"\",MAX(I$1:I244)+1)","v":""},null,{"$f":"IF(L245=\"\",\"\",MAX(K$1:K244)+1)","v":""},null,{"$f":"IF(N245=\"\",\"\",MAX(M$1:M244)+1)","v":""}]
[null,null,{"$f":"IF(D246=\"\",\"\",MAX(C$1:C245)+1)","v":""},null,{"$f":"IF(F246=\"\",\"\",MAX(E$1:E245)+1)","v":""},null,{"$f":"IF(H246=\"\",\"\",MAX(G$1:G245)+1)","v":""},null,{"$f":"IF(J246=\"\",\"\",MAX(I$1:I245)+1)","v":""},null,{"$f":"IF(L246=\"\",\"\",MAX(K$1:K245)+1)","v":""},null,{"$f":"IF(N246=\"\",\"\",MAX(M$1:M245)+1)","v":""}]
[null,null,{"$f":"IF(D247=\"\",\"\",MAX(C$1:C246)+1)","v":""},null,{"$f":"IF(F247=\"\",\"\",MAX(E$1:E246)+1)","v":""},null,{"$f":"IF(H247=\"\",\"\",MAX(G$1:G246)+1)","v":""},null,{"$f":"IF(J247=\"\",\"\",MAX(I$1:I246)+1)","v":""},null,{"$f":"IF(L247=\"\",\"\",MAX(K$1:K246)+1)","v":""},null,{"$f":"IF(N247=\"\",\"\",MAX(M$1:M246)+1)","v":""}]
[null,null,{"$f":"IF(D248=\"\",\"\",MAX(C$1:C247)+1)","v":""},null,{"$f":"IF(F248=\"\",\"\",MAX(E$1:E247)+1)","v":""},null,{"$f":"IF(H248=\"\",\"\",MAX(G$1:G247)+1)","v":""},null,{"$f":"IF(J248=\"\",\"\",MAX(I$1:I247)+1)","v":""},null,{"$f":"IF(L248=\"\",\"\",MAX(K$1:K247)+1)","v":""},null,{"$f":"IF(N248=\"\",\"\",MAX(M$1:M247)+1)","v":""}]
[null,null,{"$f":"IF(D249=\"\",\"\",MAX(C$1:C248)+1)","v":""},null,{"$f":"IF(F249=\"\",\"\",MAX(E$1:E248)+1)","v":""},null,{"$f":"IF(H249=\"\",\"\",MAX(G$1:G248)+1)","v":""},null,{"$f":"IF(J249=\"\",\"\",MAX(I$1:I248)+1)","v":""},null,{"$f":"IF(L249=\"\",\"\",MAX(K$1:K248)+1)","v":""},null,{"$f":"IF(N249=\"\",\"\",MAX(M$1:M248)+1)","v":""}]
[null,null,{"$f":"IF(D250=\"\",\"\",MAX(C$1:C249)+1)","v":""},null,{"$f":"IF(F250=\"\",\"\",MAX(E$1:E249)+1)","v":""},null,{"$f":"IF(H250=\"\",\"\",MAX(G$1:G249)+1)","v":""},null,{"$f":"IF(J250=\"\",\"\",MAX(I$1:I249)+1)","v":""},null,{"$f":"IF(L250=\"\",\"\",MAX(K$1:K249)+1)","v":""},null,{"$f":"IF(N250=\"\",\"\",MAX(M$1:M249)+1)","v":""}]
[null,null,{"$f":"IF(D251=\"\",\"\",MAX(C$1:C250)+1)","v":""},null,{"$f":"IF(F251=\"\",\"\",MAX(E$1:E250)+1)","v":""},null,{"$f":"IF(H251=\"\",\"\",MAX(G$1:G250)+1)","v":""},null,{"$f":"IF(J251=\"\",\"\",MAX(I$1:I250)+1)","v":""},null,{"$f":"IF(L251=\"\",\"\",MAX(K$1:K250)+1)","v":""},null,{"$f":"IF(N251=\"\",\"\",MAX(M$1:M250)+1)","v":""}]
[null,null,{"$f":"IF(D252=\"\",\"\",MAX(C$1:C251)+1)","v":""},null,{"$f":"IF(F252=\"\",\"\",MAX(E$1:E251)+1)","v":""},null,{"$f":"IF(H252=\"\",\"\",MAX(G$1:G251)+1)","v":""},null,{"$f":"IF(J252=\"\",\"\",MAX(I$1:I251)+1)","v":""},null,{"$f":"IF(L252=\"\",\"\",MAX(K$1:K251)+1)","v":""},null,{"$f":"IF(N252=\"\",\"\",MAX(M$1:M251)+1)","v":""}]
[null,null,{"$f":"IF(D253=\"\",\"\",MAX(C$1:C252)+1)","v":""},null,{"$f":"IF(F253=\"\",\"\",MAX(E$1:E252)+1)","v":""},null,{"$f":"IF(H253=\"\",\"\",MAX(G$1:G252)+1)","v":""},null,{"$f":"IF(J253=\"\",\"\",MAX(I$1:I252)+1)","v":""},null,{"$f":"IF(L253=\"\",\"\",MAX(K$1:K252)+1)","v":""},null,{"$f":"IF(N253=\"\",\"\",MAX(M$1:M252)+1)","v":""}]
[null,null,{"$f":"IF(D254=\"\",\"\",MAX(C$1:C253)+1)","v":""},null,{"$f":"IF(F254=\"\",\"\",MAX(E$1:E253)+1)","v":""},null,{"$f":"IF(H254=\"\",\"\",MAX(G$1:G253)+1)","v":""},null,{"$f":"IF(J254=\"\",\"\",MAX(I$1:I253)+1)","v":""},null,{"$f":"IF(L254=\"\",\"\",MAX(K$1:K253)+1)","v":""},null,{"$f":"IF(N254=\"\",\"\",MAX(M$1:M253)+1)","v":""}]
[null,null,{"$f":"IF(D255=\"\",\"\",MAX(C$1:C254)+1)","v":""},null,{"$f":"IF(F255=\"\",\"\",MAX(E$1:E254)+1)","v":""},null,{"$f":"IF(H255=\"\",\"\",MAX(G$1:G254)+1)","v":""},null,{"$f":"IF(J255=\"\",\"\",MAX(I$1:I254)+1)","v":""},null,{"$f":"IF(L255=\"\",\"\",MAX(K$1:K254)+1)","v":""},null,{"$f":"IF(N255=\"\",\"\",MAX(M$1:M254)+1)","v":""}]
[null,null,{"$f":"IF(D256=\"\",\"\",MAX(C$1:C255)+1)","v":""},null,{"$f":"IF(F256=\"\",\"\",MAX(E$1:E255)+1)","v":""},null,{"$f":"IF(H256=\"\",\"\",MAX(G$1:G255)+1)","v":""},null,{"$f":"IF(J256=\"\",\"\",MAX(I$1:I255)+1)","v":""},null,{"$f":"IF(L256=\"\",\"\",MAX(K$1:K255)+1)","v":""},null,{"$f":"IF(N256=\"\",\"\",MAX(M$1:M255)+1)","v":""}]
[null,null,{"$f":"IF(D257=\"\",\"\",MAX(C$1:C256)+1)","v":""},null,{"$f":"IF(F257=\"\",\"\",MAX(E$1:E256)+1)","v":""},null,{"$f":"IF(H257=\"\",\"\",MAX(G$1:G256)+1)","v":""},null,{"$f":"IF(J257=\"\",\"\",MAX(I$1:I256)+1)","v":""},null,{"$f":"IF(L257=\"\",\"\",MAX(K$1:K256)+1)","v":""},null,{"$f":"IF(N257=\"\",\"\",MAX(M$1:M256)+1)","v":""}]
[null,null,{"$f":"IF(D258=\"\",\"\",MAX(C$1:C257)+1)","v":""},null,{"$f":"IF(F258=\"\",\"\",MAX(E$1:E257)+1)","v":""},null,{"$f":"IF(H258=\"\",\"\",MAX(G$1:G257)+1)","v":""},null,{"$f":"IF(J258=\"\",\"\",MAX(I$1:I257)+1)","v":""},null,{"$f":"IF(L258=\"\",\"\",MAX(K$1:K257)+1)","v":""},null,{"$f":"IF(N258=\"\",\"\",MAX(M$1:M257)+1)","v":""}]
[null,null,{"$f":"IF(D259=\"\",\"\",MAX(C$1:C258)+1)","v":""},null,{"$f":"IF(F259=\"\",\"\",MAX(E$1:E258)+1)","v":""},null,{"$f":"IF(H259=\"\",\"\",MAX(G$1:G258)+1)","v":""},null,{"$f":"IF(J259=\"\",\"\",MAX(I$1:I258)+1)","v":""},null,{"$f":"IF(L259=\"\",\"\",MAX(K$1:K258)+1)","v":""},null,{"$f":"IF(N259=\"\",\"\",MAX(M$1:M258)+1)","v":""}]
[null,null,{"$f":"IF(D260=\"\",\"\",MAX(C$1:C259)+1)","v":""},null,{"$f":"IF(F260=\"\",\"\",MAX(E$1:E259)+1)","v":""},null,{"$f":"IF(H260=\"\",\"\",MAX(G$1:G259)+1)","v":""},null,{"$f":"IF(J260=\"\",\"\",MAX(I$1:I259)+1)","v":""},null,{"$f":"IF(L260=\"\",\"\",MAX(K$1:K259)+1)","v":""},null,{"$f":"IF(N260=\"\",\"\",MAX(M$1:M259)+1)","v":""}]
[null,null,{"$f":"IF(D261=\"\",\"\",MAX(C$1:C260)+1)","v":""},null,{"$f":"IF(F261=\"\",\"\",MAX(E$1:E260)+1)","v":""},null,{"$f":"IF(H261=\"\",\"\",MAX(G$1:G260)+1)","v":""},null,{"$f":"IF(J261=\"\",\"\",MAX(I$1:I260)+1)","v":""},null,{"$f":"IF(L261=\"\",\"\",MAX(K$1:K260)+1)","v":""},null,{"$f":"IF(N261=\"\",\"\",MAX(M$1:M260)+1)","v":""}]
[null,null,{"$f":"IF(D262=\"\",\"\",MAX(C$1:C261)+1)","v":""},null,{"$f":"IF(F262=\"\",\"\",MAX(E$1:E261)+1)","v":""},null,{"$f":"IF(H262=\"\",\"\",MAX(G$1:G261)+1)","v":""},null,{"$f":"IF(J262=\"\",\"\",MAX(I$1:I261)+1)","v":""},null,{"$f":"IF(L262=\"\",\"\",MAX(K$1:K261)+1)","v":""},null,{"$f":"IF(N262=\"\",\"\",MAX(M$1:M261)+1)","v":""}]
[null,null,{"$f":"IF(D263=\"\",\"\",MAX(C$1:C262)+1)","v":""},null,{"$f":"IF(F263=\"\",\"\",MAX(E$1:E262)+1)","v":""},null,{"$f":"IF(H263=\"\",\"\",MAX(G$1:G262)+1)","v":""},null,{"$f":"IF(J263=\"\",\"\",MAX(I$1:I262)+1)","v":""},null,{"$f":"IF(L263=\"\",\"\",MAX(K$1:K262)+1)","v":""},null,{"$f":"IF(N263=\"\",\"\",MAX(M$1:M262)+1)","v":""}]
[null,null,{"$f":"IF(D264=\"\",\"\",MAX(C$1:C263)+1)","v":""},null,{"$f":"IF(F264=\"\",\"\",MAX(E$1:E263)+1)","v":""},null,{"$f":"IF(H264=\"\",\"\",MAX(G$1:G263)+1)","v":""},null,{"$f":"IF(J264=\"\",\"\",MAX(I$1:I263)+1)","v":""},null,{"$f":"IF(L264=\"\",\"\",MAX(K$1:K263)+1)","v":""},null,{"$f":"IF(N264=\"\",\"\",MAX(M$1:M263)+1)","v":""}]
[null,null,{"$f":"IF(D265=\"\",\"\",MAX(C$1:C264)+1)","v":""},null,{"$f":"IF(F265=\"\",\"\",MAX(E$1:E264)+1)","v":""},null,{"$f":"IF(H265=\"\",\"\",MAX(G$1:G264)+1)","v":""},null,{"$f":"IF(J265=\"\",\"\",MAX(I$1:I264)+1)","v":""},null,{"$f":"IF(L265=\"\",\"\",MAX(K$1:K264)+1)","v":""},null,{"$f":"IF(N265=\"\",\"\",MAX(M$1:M264)+1)","v":""}]
[null,null,{"$f":"IF(D266=\"\",\"\",MAX(C$1:C265)+1)","v":""},null,{"$f":"IF(F266=\"\",\"\",MAX(E$1:E265)+1)","v":""},null,{"$f":"IF(H266=\"\",\"\",MAX(G$1:G265)+1)","v":""},null,{"$f":"IF(J266=\"\",\"\",MAX(I$1:I265)+1)","v":""},null,{"$f":"IF(L266=\"\",\"\",MAX(K$1:K265)+1)","v":""},null,{"$f":"IF(N266=\"\",\"\",MAX(M$1:M265)+1)","v":""}]
[null,null,{"$f":"IF(D267=\"\",\"\",MAX(C$1:C266)+1)","v":""},null,{"$f":"IF(F267=\"\",\"\",MAX(E$1:E266)+1)","v":""},null,{"$f":"IF(H267=\"\",\"\",MAX(G$1:G266)+1)","v":""},null,{"$f":"IF(J267=\"\",\"\",MAX(I$1:I266)+1)","v":""},null,{"$f":"IF(L267=\"\",\"\",MAX(K$1:K266)+1)","v":""},null,{"$f":"IF(N267=\"\",\"\",MAX(M$1:M266)+1)","v":""}]
[null,null,{"$f":"IF(D268=\"\",\"\",MAX(C$1:C267)+1)","v":""},null,{"$f":"IF(F268=\"\",\"\",MAX(E$1:E267)+1)","v":""},null,{"$f":"IF(H268=\"\",\"\",MAX(G$1:G267)+1)","v":""},null,{"$f":"IF(J268=\"\",\"\",MAX(I$1:I267)+1)","v":""},null,{"$f":"IF(L268=\"\",\"\",MAX(K$1:K267)+1)","v":""},null,{"$f":"IF(N268=\"\",\"\",MAX(M$1:M267)+1)","v":""}]
[null,null,{"$f":"IF(D269=\"\",\"\",MAX(C$1:C268)+1)","v":""},null,{"$f":"IF(F269=\"\",\"\",MAX(E$1:E268)+1)","v":""},null,{"$f":"IF(H269=\"\",\"\",MAX(G$1:G268)+1)","v":""},null,{"$f":"IF(J269=\"\",\"\",MAX(I$1:I268)+1)","v":""},null,{"$f":"IF(L269=\"\",\"\",MAX(K$1:K268)+1)","v":""},null,{"$f":"IF(N269=\"\",\"\",MAX(M$1:M268)+1)","v":""}]
[null,null,{"$f":"IF(D270=\"\",\"\",MAX(C$1:C269)+1)","v":""},null,{"$f":"IF(F270=\"\",\"\",MAX(E$1:E269)+1)","v":""},null,{"$f":"IF(H270=\"\",\"\",MAX(G$1:G269)+1)","v":""},null,{"$f":"IF(J270=\"\",\"\",MAX(I$1:I269)+1)","v":""},null,{"$f":"IF(L270=\"\",\"\",MAX(K$1:K269)+1)","v":""},null,{"$f":"IF(N270=\"\",\"\",MAX(M$1:M269)+1)","v":""}]
[null,null,{"$f":"IF(D271=\"\",\"\",MAX(C$1:C270)+1)","v":""},null,{"$f":"IF(F271=\"\",\"\",MAX(E$1:E270)+1)","v":""},null,{"$f":"IF(H271=\"\",\"\",MAX(G$1:G270)+1)","v":""},null,{"$f":"IF(J271=\"\",\"\",MAX(I$1:I270)+1)","v":""},null,{"$f":"IF(L271=\"\",\"\",MAX(K$1:K270)+1)","v":""},null,{"$f":"IF(N271=\"\",\"\",MAX(M$1:M270)+1)","v":""}]
[null,null,{"$f":"IF(D272=\"\",\"\",MAX(C$1:C271)+1)","v":""},null,{"$f":"IF(F272=\"\",\"\",MAX(E$1:E271)+1)","v":""},null,{"$f":"IF(H272=\"\",\"\",MAX(G$1:G271)+1)","v":""},null,{"$f":"IF(J272=\"\",\"\",MAX(I$1:I271)+1)","v":""},null,{"$f":"IF(L272=\"\",\"\",MAX(K$1:K271)+1)","v":""},null,{"$f":"IF(N272=\"\",\"\",MAX(M$1:M271)+1)","v":""}]
[null,null,{"$f":"IF(D273=\"\",\"\",MAX(C$1:C272)+1)","v":""},null,{"$f":"IF(F273=\"\",\"\",MAX(E$1:E272)+1)","v":""},null,{"$f":"IF(H273=\"\",\"\",MAX(G$1:G272)+1)","v":""},null,{"$f":"IF(J273=\"\",\"\",MAX(I$1:I272)+1)","v":""},null,{"$f":"IF(L273=\"\",\"\",MAX(K$1:K272)+1)","v":""},null,{"$f":"IF(N273=\"\",\"\",MAX(M$1:M272)+1)","v":""}]
[null,null,{"$f":"IF(D274=\"\",\"\",MAX(C$1:C273)+1)","v":""},null,{"$f":"IF(F274=\"\",\"\",MAX(E$1:E273)+1)","v":""},null,{"$f":"IF(H274=\"\",\"\",MAX(G$1:G273)+1)","v":""},null,{"$f":"IF(J274=\"\",\"\",MAX(I$1:I273)+1)","v":""},null,{"$f":"IF(L274=\"\",\"\",MAX(K$1:K273)+1)","v":""},null,{"$f":"IF(N274=\"\",\"\",MAX(M$1:M273)+1)","v":""}]
[null,null,{"$f":"IF(D275=\"\",\"\",MAX(C$1:C274)+1)","v":""},null,{"$f":"IF(F275=\"\",\"\",MAX(E$1:E274)+1)","v":""},null,{"$f":"IF(H275=\"\",\"\",MAX(G$1:G274)+1)","v":""},null,{"$f":"IF(J275=\"\",\"\",MAX(I$1:I274)+1)","v":""},null,{"$f":"IF(L275=\"\",\"\",MAX(K$1:K274)+1)","v":""},null,{"$f":"IF(N275=\"\",\"\",MAX(M$1:M274)+1)","v":""}]
[null,null,{"$f":"IF(D276=\"\",\"\",MAX(C$1:C275)+1)","v":""},null,{"$f":"IF(F276=\"\",\"\",MAX(E$1:E275)+1)","v":""},null,{"$f":"IF(H276=\"\",\"\",MAX(G$1:G275)+1)","v":""},null,{"$f":"IF(J276=\"\",\"\",MAX(I$1:I275)+1)","v":""},null,{"$f":"IF(L276=\"\",\"\",MAX(K$1:K275)+1)","v":""},null,{"$f":"IF(N276=\"\",\"\",MAX(M$1:M275)+1)","v":""}]
[null,null,{"$f":"IF(D277=\"\",\"\",MAX(C$1:C276)+1)","v":""},null,{"$f":"IF(F277=\"\",\"\",MAX(E$1:E276)+1)","v":""},null,{"$f":"IF(H277=\"\",\"\",MAX(G$1:G276)+1)","v":""},null,{"$f":"IF(J277=\"\",\"\",MAX(I$1:I276)+1)","v":""},null,{"$f":"IF(L277=\"\",\"\",MAX(K$1:K276)+1)","v":""},null,{"$f":"IF(N277=\"\",\"\",MAX(M$1:M276)+1)","v":""}]
[null,null,{"$f":"IF(D278=\"\",\"\",MAX(C$1:C277)+1)","v":""},null,{"$f":"IF(F278=\"\",\"\",MAX(E$1:E277)+1)","v":""},null,{"$f":"IF(H278=\"\",\"\",MAX(G$1:G277)+1)","v":""},null,{"$f":"IF(J278=\"\",\"\",MAX(I$1:I277)+1)","v":""},null,{"$f":"IF(L278=\"\",\"\",MAX(K$1:K277)+1)","v":""},null,{"$f":"IF(N278=\"\",\"\",MAX(M$1:M277)+1)","v":""}]
[null,null,{"$f":"IF(D279=\"\",\"\",MAX(C$1:C278)+1)","v":""},null,{"$f":"IF(F279=\"\",\"\",MAX(E$1:E278)+1)","v":""},null,{"$f":"IF(H279=\"\",\"\",MAX(G$1:G278)+1)","v":""},null,{"$f":"IF(J279=\"\",\"\",MAX(I$1:I278)+1)","v":""},null,{"$f":"IF(L279=\"\",\"\",MAX(K$1:K278)+1)","v":""},null,{"$f":"IF(N279=\"\",\"\",MAX(M$1:M278)+1)","v":""}]
[null,null,{"$f":"IF(D280=\"\",\"\",MAX(C$1:C279)+1)","v":""},null,{"$f":"IF(F280=\"\",\"\",MAX(E$1:E279)+1)","v":""},null,{"$f":"IF(H280=\"\",\"\",MAX(G$1:G279)+1)","v":""},null,{"$f":"IF(J280=\"\",\"\",MAX(I$1:I279)+1)","v":""},null,{"$f":"IF(L280=\"\",\"\",MAX(K$1:K279)+1)","v":""},null,{"$f":"IF(N280=\"\",\"\",MAX(M$1:M279)+1)","v":""}]
[null,null,{"$f":"IF(D281=\"\",\"\",MAX(C$1:C280)+1)","v":""},null,{"$f":"IF(F281=\"\",\"\",MAX(E$1:E280)+1)","v":""},null,{"$f":"IF(H281=\"\",\"\",MAX(G$1:G280)+1)","v":""},null,{"$f":"IF(J281=\"\",\"\",MAX(I$1:I280)+1)","v":""},null,{"$f":"IF(L281=\"\",\"\",MAX(K$1:K280)+1)","v":""},null,{"$f":"IF(N281=\"\",\"\",MAX(M$1:M280)+1)","v":""}]
[null,null,{"$f":"IF(D282=\"\",\"\",MAX(C$1:C281)+1)","v":""},null,{"$f":"IF(F282=\"\",\"\",MAX(E$1:E281)+1)","v":""},null,{"$f":"IF(H282=\"\",\"\",MAX(G$1:G281)+1)","v":""},null,{"$f":"IF(J282=\"\",\"\",MAX(I$1:I281)+1)","v":""},null,{"$f":"IF(L282=\"\",\"\",MAX(K$1:K281)+1)","v":""},null,{"$f":"IF(N282=\"\",\"\",MAX(M$1:M281)+1)","v":""}]
[null,null,{"$f":"IF(D283=\"\",\"\",MAX(C$1:C282)+1)","v":""},null,{"$f":"IF(F283=\"\",\"\",MAX(E$1:E282)+1)","v":""},null,{"$f":"IF(H283=\"\",\"\",MAX(G$1:G282)+1)","v":""},null,{"$f":"IF(J283=\"\",\"\",MAX(I$1:I282)+1)","v":""},null,{"$f":"IF(L283=\"\",\"\",MAX(K$1:K282)+1)","v":""},null,{"$f":"IF(N283=\"\",\"\",MAX(M$1:M282)+1)","v":""}]
[null,null,{"$f":"IF(D284=\"\",\"\",MAX(C$1:C283)+1)","v":""},null,{"$f":"IF(F284=\"\",\"\",MAX(E$1:E283)+1)","v":""},null,{"$f":"IF(H284=\"\",\"\",MAX(G$1:G283)+1)","v":""},null,{"$f":"IF(J284=\"\",\"\",MAX(I$1:I283)+1)","v":""},null,{"$f":"IF(L284=\"\",\"\",MAX(K$1:K283)+1)","v":""},null,{"$f":"IF(N284=\"\",\"\",MAX(M$1:M283)+1)","v":""}]
[null,null,{"$f":"IF(D285=\"\",\"\",MAX(C$1:C284)+1)","v":""},null,{"$f":"IF(F285=\"\",\"\",MAX(E$1:E284)+1)","v":""},null,{"$f":"IF(H285=\"\",\"\",MAX(G$1:G284)+1)","v":""},null,{"$f":"IF(J285=\"\",\"\",MAX(I$1:I284)+1)","v":""},null,{"$f":"IF(L285=\"\",\"\",MAX(K$1:K284)+1)","v":""},null,{"$f":"IF(N285=\"\",\"\",MAX(M$1:M284)+1)","v":""}]
[null,null,{"$f":"IF(D286=\"\",\"\",MAX(C$1:C285)+1)","v":""},null,{"$f":"IF(F286=\"\",\"\",MAX(E$1:E285)+1)","v":""},null,{"$f":"IF(H286=\"\",\"\",MAX(G$1:G285)+1)","v":""},null,{"$f":"IF(J286=\"\",\"\",MAX(I$1:I285)+1)","v":""},null,{"$f":"IF(L286=\"\",\"\",MAX(K$1:K285)+1)","v":""},null,{"$f":"IF(N286=\"\",\"\",MAX(M$1:M285)+1)","v":""}]
[null,null,{"$f":"IF(D287=\"\",\"\",MAX(C$1:C286)+1)","v":""},null,{"$f":"IF(F287=\"\",\"\",MAX(E$1:E286)+1)","v":""},null,{"$f":"IF(H287=\"\",\"\",MAX(G$1:G286)+1)","v":""},null,{"$f":"IF(J287=\"\",\"\",MAX(I$1:I286)+1)","v":""},null,{"$f":"IF(L287=\"\",\"\",MAX(K$1:K286)+1)","v":""},null,{"$f":"IF(N287=\"\",\"\",MAX(M$1:M286)+1)","v":""}]
[null,null,{"$f":"IF(D288=\"\",\"\",MAX(C$1:C287)+1)","v":""},null,{"$f":"IF(F288=\"\",\"\",MAX(E$1:E287)+1)","v":""},null,{"$f":"IF(H288=\"\",\"\",MAX(G$1:G287)+1)","v":""},null,{"$f":"IF(J288=\"\",\"\",MAX(I$1:I287)+1)","v":""},null,{"$f":"IF(L288=\"\",\"\",MAX(K$1:K287)+1)","v":""},null,{"$f":"IF(N288=\"\",\"\",MAX(M$1:M287)+1)","v":""}]
[null,null,{"$f":"IF(D289=\"\",\"\",MAX(C$1:C288)+1)","v":""},null,{"$f":"IF(F289=\"\",\"\",MAX(E$1:E288)+1)","v":""},null,{"$f":"IF(H289=\"\",\"\",MAX(G$1:G288)+1)","v":""},null,{"$f":"IF(J289=\"\",\"\",MAX(I$1:I288)+1)","v":""},null,{"$f":"IF(L289=\"\",\"\",MAX(K$1:K288)+1)","v":""},null,{"$f":"IF(N289=\"\",\"\",MAX(M$1:M288)+1)","v":""}]
[null,null,{"$f":"IF(D290=\"\",\"\",MAX(C$1:C289)+1)","v":""},null,{"$f":"IF(F290=\"\",\"\",MAX(E$1:E289)+1)","v":""},null,{"$f":"IF(H290=\"\",\"\",MAX(G$1:G289)+1)","v":""},null,{"$f":"IF(J290=\"\",\"\",MAX(I$1:I289)+1)","v":""},null,{"$f":"IF(L290=\"\",\"\",MAX(K$1:K289)+1)","v":""},null,{"$f":"IF(N290=\"\",\"\",MAX(M$1:M289)+1)","v":""}]
[null,null,{"$f":"IF(D291=\"\",\"\",MAX(C$1:C290)+1)","v":""},null,{"$f":"IF(F291=\"\",\"\",MAX(E$1:E290)+1)","v":""},null,{"$f":"IF(H291=\"\",\"\",MAX(G$1:G290)+1)","v":""},null,{"$f":"IF(J291=\"\",\"\",MAX(I$1:I290)+1)","v":""},null,{"$f":"IF(L291=\"\",\"\",MAX(K$1:K290)+1)","v":""},null,{"$f":"IF(N291=\"\",\"\",MAX(M$1:M290)+1)","v":""}]
[null,null,{"$f":"IF(D292=\"\",\"\",MAX(C$1:C291)+1)","v":""},null,{"$f":"IF(F292=\"\",\"\",MAX(E$1:E291)+1)","v":""},null,{"$f":"IF(H292=\"\",\"\",MAX(G$1:G291)+1)","v":""},null,{"$f":"IF(J292=\"\",\"\",MAX(I$1:I291)+1)","v":""},null,{"$f":"IF(L292=\"\",\"\",MAX(K$1:K291)+1)","v":""},null,{"$f":"IF(N292=\"\",\"\",MAX(M$1:M291)+1)","v":""}]
[null,null,{"$f":"IF(D293=\"\",\"\",MAX(C$1:C292)+1)","v":""},null,{"$f":"IF(F293=\"\",\"\",MAX(E$1:E292)+1)","v":""},null,{"$f":"IF(H293=\"\",\"\",MAX(G$1:G292)+1)","v":""},null,{"$f":"IF(J293=\"\",\"\",MAX(I$1:I292)+1)","v":""},null,{"$f":"IF(L293=\"\",\"\",MAX(K$1:K292)+1)","v":""},null,{"$f":"IF(N293=\"\",\"\",MAX(M$1:M292)+1)","v":""}]
[null,null,{"$f":"IF(D294=\"\",\"\",MAX(C$1:C293)+1)","v":""},null,{"$f":"IF(F294=\"\",\"\",MAX(E$1:E293)+1)","v":""},null,{"$f":"IF(H294=\"\",\"\",MAX(G$1:G293)+1)","v":""},null,{"$f":"IF(J294=\"\",\"\",MAX(I$1:I293)+1)","v":""},null,{"$f":"IF(L294=\"\",\"\",MAX(K$1:K293)+1)","v":""},null,{"$f":"IF(N294=\"\",\"\",MAX(M$1:M293)+1)","v":""}]
[null,null,{"$f":"IF(D295=\"\",\"\",MAX(C$1:C294)+1)","v":""},null,{"$f":"IF(F295=\"\",\"\",MAX(E$1:E294)+1)","v":""},null,{"$f":"IF(H295=\"\",\"\",MAX(G$1:G294)+1)","v":""},null,{"$f":"IF(J295=\"\",\"\",MAX(I$1:I294)+1)","v":""},null,{"$f":"IF(L295=\"\",\"\",MAX(K$1:K294)+1)","v":""},null,{"$f":"IF(N295=\"\",\"\",MAX(M$1:M294)+1)","v":""}]
[null,null,{"$f":"IF(D296=\"\",\"\",MAX(C$1:C295)+1)","v":""},null,{"$f":"IF(F296=\"\",\"\",MAX(E$1:E295)+1)","v":""},null,{"$f":"IF(H296=\"\",\"\",MAX(G$1:G295)+1)","v":""},null,{"$f":"IF(J296=\"\",\"\",MAX(I$1:I295)+1)","v":""},null,{"$f":"IF(L296=\"\",\"\",MAX(K$1:K295)+1)","v":""},null,{"$f":"IF(N296=\"\",\"\",MAX(M$1:M295)+1)","v":""}]
[null,null,{"$f":"IF(D297=\"\",\"\",MAX(C$1:C296)+1)","v":""},null,{"$f":"IF(F297=\"\",\"\",MAX(E$1:E296)+1)","v":""},null,{"$f":"IF(H297=\"\",\"\",MAX(G$1:G296)+1)","v":""},null,{"$f":"IF(J297=\"\",\"\",MAX(I$1:I296)+1)","v":""},null,{"$f":"IF(L297=\"\",\"\",MAX(K$1:K296)+1)","v":""},null,{"$f":"IF(N297=\"\",\"\",MAX(M$1:M296)+1)","v":""}]
[null,null,{"$f":"IF(D298=\"\",\"\",MAX(C$1:C297)+1)","v":""},null,{"$f":"IF(F298=\"\",\"\",MAX(E$1:E297)+1)","v":""},null,{"$f":"IF(H298=\"\",\"\",MAX(G$1:G297)+1)","v":""},null,{"$f":"IF(J298=\"\",\"\",MAX(I$1:I297)+1)","v":""},null,{"$f":"IF(L298=\"\",\"\",MAX(K$1:K297)+1)","v":""},null,{"$f":"IF(N298=\"\",\"\",MAX(M$1:M297)+1)","v":""}]
[null,null,{"$f":"IF(D299=\"\",\"\",MAX(C$1:C298)+1)","v":""},null,{"$f":"IF(F299=\"\",\"\",MAX(E$1:E298)+1)","v":""},null,{"$f":"IF(H299=\"\",\"\",MAX(G$1:G298)+1)","v":""},null,{"$f":"IF(J299=\"\",\"\",MAX(I$1:I298)+1)","v":""},null,{"$f":"IF(L299=\"\",\"\",MAX(K$1:K298)+1)","v":""},null,{"$f":"IF(N299=\"\",\"\",MAX(M$1:M298)+1)","v":""}]
[null,null,{"$f":"IF(D300=\"\",\"\",MAX(C$1:C299)+1)","v":""},null,{"$f":"IF(F300=\"\",\"\",MAX(E$1:E299)+1)","v":""},null,{"$f":"IF(H300=\"\",\"\",MAX(G$1:G299)+1)","v":""},null,{"$f":"IF(J300=\"\",\"\",MAX(I$1:I299)+1)","v":""},null,{"$f":"IF(L300=\"\",\"\",MAX(K$1:K299)+1)","v":""},null,{"$f":"IF(N300=\"\",\"\",MAX(M$1:M299)+1)","v":""}]
[null,null,{"$f":"IF(D301=\"\",\"\",MAX(C$1:C300)+1)","v":""},null,{"$f":"IF(F301=\"\",\"\",MAX(E$1:E300)+1)","v":""},null,{"$f":"IF(H301=\"\",\"\",MAX(G$1:G300)+1)","v":""},null,{"$f":"IF(J301=\"\",\"\",MAX(I$1:I300)+1)","v":""},null,{"$f":"IF(L301=\"\",\"\",MAX(K$1:K300)+1)","v":""},null,{"$f":"IF(N301=\"\",\"\",MAX(M$1:M300)+1)","v":""}]
[null,null,{"$f":"IF(D302=\"\",\"\",MAX(C$1:C301)+1)","v":""},null,{"$f":"IF(F302=\"\",\"\",MAX(E$1:E301)+1)","v":""},null,{"$f":"IF(H302=\"\",\"\",MAX(G$1:G301)+1)","v":""},null,{"$f":"IF(J302=\"\",\"\",MAX(I$1:I301)+1)","v":""},null,{"$f":"IF(L302=\"\",\"\",MAX(K$1:K301)+1)","v":""},null,{"$f":"IF(N302=\"\",\"\",MAX(M$1:M301)+1)","v":""}]
[null,null,{"$f":"IF(D303=\"\",\"\",MAX(C$1:C302)+1)","v":""},null,{"$f":"IF(F303=\"\",\"\",MAX(E$1:E302)+1)","v":""},null,{"$f":"IF(H303=\"\",\"\",MAX(G$1:G302)+1)","v":""},null,{"$f":"IF(J303=\"\",\"\",MAX(I$1:I302)+1)","v":""},null,{"$f":"IF(L303=\"\",\"\",MAX(K$1:K302)+1)","v":""},null,{"$f":"IF(N303=\"\",\"\",MAX(M$1:M302)+1)","v":""}]
[null,null,{"$f":"IF(D304=\"\",\"\",MAX(C$1:C303)+1)","v":""},null,{"$f":"IF(F304=\"\",\"\",MAX(E$1:E303)+1)","v":""},null,{"$f":"IF(H304=\"\",\"\",MAX(G$1:G303)+1)","v":""},null,{"$f":"IF(J304=\"\",\"\",MAX(I$1:I303)+1)","v":""},null,{"$f":"IF(L304=\"\",\"\",MAX(K$1:K303)+1)","v":""},null,{"$f":"IF(N304=\"\",\"\",MAX(M$1:M303)+1)","v":""}]
[null,null,{"$f":"IF(D305=\"\",\"\",MAX(C$1:C304)+1)","v":""},null,{"$f":"IF(F305=\"\",\"\",MAX(E$1:E304)+1)","v":""},null,{"$f":"IF(H305=\"\",\"\",MAX(G$1:G304)+1)","v":""},null,{"$f":"IF(J305=\"\",\"\",MAX(I$1:I304)+1)","v":""},null,{"$f":"IF(L305=\"\",\"\",MAX(K$1:K304)+1)","v":""},null,{"$f":"IF(N305=\"\",\"\",MAX(M$1:M304)+1)","v":""}]
[null,null,{"$f":"IF(D306=\"\",\"\",MAX(C$1:C305)+1)","v":""},null,{"$f":"IF(F306=\"\",\"\",MAX(E$1:E305)+1)","v":""},null,{"$f":"IF(H306=\"\",\"\",MAX(G$1:G305)+1)","v":""},null,{"$f":"IF(J306=\"\",\"\",MAX(I$1:I305)+1)","v":""},null,{"$f":"IF(L306=\"\",\"\",MAX(K$1:K305)+1)","v":""},null,{"$f":"IF(N306=\"\",\"\",MAX(M$1:M305)+1)","v":""}]
[null,null,{"$f":"IF(D307=\"\",\"\",MAX(C$1:C306)+1)","v":""},null,{"$f":"IF(F307=\"\",\"\",MAX(E$1:E306)+1)","v":""},null,{"$f":"IF(H307=\"\",\"\",MAX(G$1:G306)+1)","v":""},null,{"$f":"IF(J307=\"\",\"\",MAX(I$1:I306)+1)","v":""},null,{"$f":"IF(L307=\"\",\"\",MAX(K$1:K306)+1)","v":""},null,{"$f":"IF(N307=\"\",\"\",MAX(M$1:M306)+1)","v":""}]
[null,null,{"$f":"IF(D308=\"\",\"\",MAX(C$1:C307)+1)","v":""},null,{"$f":"IF(F308=\"\",\"\",MAX(E$1:E307)+1)","v":""},null,{"$f":"IF(H308=\"\",\"\",MAX(G$1:G307)+1)","v":""},null,{"$f":"IF(J308=\"\",\"\",MAX(I$1:I307)+1)","v":""},null,{"$f":"IF(L308=\"\",\"\",MAX(K$1:K307)+1)","v":""},null,{"$f":"IF(N308=\"\",\"\",MAX(M$1:M307)+1)","v":""}]
[null,null,{"$f":"IF(D309=\"\",\"\",MAX(C$1:C308)+1)","v":""},null,{"$f":"IF(F309=\"\",\"\",MAX(E$1:E308)+1)","v":""},null,{"$f":"IF(H309=\"\",\"\",MAX(G$1:G308)+1)","v":""},null,{"$f":"IF(J309=\"\",\"\",MAX(I$1:I308)+1)","v":""},null,{"$f":"IF(L309=\"\",\"\",MAX(K$1:K308)+1)","v":""},null,{"$f":"IF(N309=\"\",\"\",MAX(M$1:M308)+1)","v":""}]
[null,null,{"$f":"IF(D310=\"\",\"\",MAX(C$1:C309)+1)","v":""},null,{"$f":"IF(F310=\"\",\"\",MAX(E$1:E309)+1)","v":""},null,{"$f":"IF(H310=\"\",\"\",MAX(G$1:G309)+1)","v":""},null,{"$f":"IF(J310=\"\",\"\",MAX(I$1:I309)+1)","v":""},null,{"$f":"IF(L310=\"\",\"\",MAX(K$1:K309)+1)","v":""},null,{"$f":"IF(N310=\"\",\"\",MAX(M$1:M309)+1)","v":""}]
[null,null,{"$f":"IF(D311=\"\",\"\",MAX(C$1:C310)+1)","v":""},null,{"$f":"IF(F311=\"\",\"\",MAX(E$1:E310)+1)","v":""},null,{"$f":"IF(H311=\"\",\"\",MAX(G$1:G310)+1)","v":""},null,{"$f":"IF(J311=\"\",\"\",MAX(I$1:I310)+1)","v":""},null,{"$f":"IF(L311=\"\",\"\",MAX(K$1:K310)+1)","v":""},null,{"$f":"IF(N311=\"\",\"\",MAX(M$1:M310)+1)","v":""}]
[null,null,{"$f":"IF(D312=\"\",\"\",MAX(C$1:C311)+1)","v":""},null,{"$f":"IF(F312=\"\",\"\",MAX(E$1:E311)+1)","v":""},null,{"$f":"IF(H312=\"\",\"\",MAX(G$1:G311)+1)","v":""},null,{"$f":"IF(J312=\"\",\"\",MAX(I$1:I311)+1)","v":""},null,{"$f":"IF(L312=\"\",\"\",MAX(K$1:K311)+1)","v":""},null,{"$f":"IF(N312=\"\",\"\",MAX(M$1:M311)+1)","v":""}]
[null,null,{"$f":"IF(D313=\"\",\"\",MAX(C$1:C312)+1)","v":""},null,{"$f":"IF(F313=\"\",\"\",MAX(E$1:E312)+1)","v":""},null,{"$f":"IF(H313=\"\",\"\",MAX(G$1:G312)+1)","v":""},null,{"$f":"IF(J313=\"\",\"\",MAX(I$1:I312)+1)","v":""},null,{"$f":"IF(L313=\"\",\"\",MAX(K$1:K312)+1)","v":""},null,{"$f":"IF(N313=\"\",\"\",MAX(M$1:M312)+1)","v":""}]
[null,null,{"$f":"IF(D314=\"\",\"\",MAX(C$1:C313)+1)","v":""},null,{"$f":"IF(F314=\"\",\"\",MAX(E$1:E313)+1)","v":""},null,{"$f":"IF(H314=\"\",\"\",MAX(G$1:G313)+1)","v":""},null,{"$f":"IF(J314=\"\",\"\",MAX(I$1:I313)+1)","v":""},null,{"$f":"IF(L314=\"\",\"\",MAX(K$1:K313)+1)","v":""},null,{"$f":"IF(N314=\"\",\"\",MAX(M$1:M313)+1)","v":""}]
[null,null,{"$f":"IF(D315=\"\",\"\",MAX(C$1:C314)+1)","v":""},null,{"$f":"IF(F315=\"\",\"\",MAX(E$1:E314)+1)","v":""},null,{"$f":"IF(H315=\"\",\"\",MAX(G$1:G314)+1)","v":""},null,{"$f":"IF(J315=\"\",\"\",MAX(I$1:I314)+1)","v":""},null,{"$f":"IF(L315=\"\",\"\",MAX(K$1:K314)+1)","v":""},null,{"$f":"IF(N315=\"\",\"\",MAX(M$1:M314)+1)","v":""}]
[null,null,{"$f":"IF(D316=\"\",\"\",MAX(C$1:C315)+1)","v":""},null,{"$f":"IF(F316=\"\",\"\",MAX(E$1:E315)+1)","v":""},null,{"$f":"IF(H316=\"\",\"\",MAX(G$1:G315)+1)","v":""},null,{"$f":"IF(J316=\"\",\"\",MAX(I$1:I315)+1)","v":""},null,{"$f":"IF(L316=\"\",\"\",MAX(K$1:K315)+1)","v":""},null,{"$f":"IF(N316=\"\",\"\",MAX(M$1:M315)+1)","v":""}]
[null,null,{"$f":"IF(D317=\"\",\"\",MAX(C$1:C316)+1)","v":""},null,{"$f":"IF(F317=\"\",\"\",MAX(E$1:E316)+1)","v":""},null,{"$f":"IF(H317=\"\",\"\",MAX(G$1:G316)+1)","v":""},null,{"$f":"IF(J317=\"\",\"\",MAX(I$1:I316)+1)","v":""},null,{"$f":"IF(L317=\"\",\"\",MAX(K$1:K316)+1)","v":""},null,{"$f":"IF(N317=\"\",\"\",MAX(M$1:M316)+1)","v":""}]
[null,null,{"$f":"IF(D318=\"\",\"\",MAX(C$1:C317)+1)","v":""},null,{"$f":"IF(F318=\"\",\"\",MAX(E$1:E317)+1)","v":""},null,{"$f":"IF(H318=\"\",\"\",MAX(G$1:G317)+1)","v":""},null,{"$f":"IF(J318=\"\",\"\",MAX(I$1:I317)+1)","v":""},null,{"$f":"IF(L318=\"\",\"\",MAX(K$1:K317)+1)","v":""},null,{"$f":"IF(N318=\"\",\"\",MAX(M$1:M317)+1)","v":""}]
[null,null,{"$f":"IF(D319=\"\",\"\",MAX(C$1:C318)+1)","v":""},null,{"$f":"IF(F319=\"\",\"\",MAX(E$1:E318)+1)","v":""},null,{"$f":"IF(H319=\"\",\"\",MAX(G$1:G318)+1)","v":""},null,{"$f":"IF(J319=\"\",\"\",MAX(I$1:I318)+1)","v":""},null,{"$f":"IF(L319=\"\",\"\",MAX(K$1:K318)+1)","v":""},null,{"$f":"IF(N319=\"\",\"\",MAX(M$1:M318)+1)","v":""}]
[null,null,{"$f":"IF(D320=\"\",\"\",MAX(C$1:C319)+1)","v":""},null,{"$f":"IF(F320=\"\",\"\",MAX(E$1:E319)+1)","v":""},null,{"$f":"IF(H320=\"\",\"\",MAX(G$1:G319)+1)","v":""},null,{"$f":"IF(J320=\"\",\"\",MAX(I$1:I319)+1)","v":""},null,{"$f":"IF(L320=\"\",\"\",MAX(K$1:K319)+1)","v":""},null,{"$f":"IF(N320=\"\",\"\",MAX(M$1:M319)+1)","v":""}]
[null,null,{"$f":"IF(D321=\"\",\"\",MAX(C$1:C320)+1)","v":""},null,{"$f":"IF(F321=\"\",\"\",MAX(E$1:E320)+1)","v":""},null,{"$f":"IF(H321=\"\",\"\",MAX(G$1:G320)+1)","v":""},null,{"$f":"IF(J321=\"\",\"\",MAX(I$1:I320)+1)","v":""},null,{"$f":"IF(L321=\"\",\"\",MAX(K$1:K320)+1)","v":""},null,{"$f":"IF(N321=\"\",\"\",MAX(M$1:M320)+1)","v":""}]
[null,null,{"$f":"IF(D322=\"\",\"\",MAX(C$1:C321)+1)","v":""},null,{"$f":"IF(F322=\"\",\"\",MAX(E$1:E321)+1)","v":""},null,{"$f":"IF(H322=\"\",\"\",MAX(G$1:G321)+1)","v":""},null,{"$f":"IF(J322=\"\",\"\",MAX(I$1:I321)+1)","v":""},null,{"$f":"IF(L322=\"\",\"\",MAX(K$1:K321)+1)","v":""},null,{"$f":"IF(N322=\"\",\"\",MAX(M$1:M321)+1)","v":""}]
[null,null,{"$f":"IF(D323=\"\",\"\",MAX(C$1:C322)+1)","v":""},null,{"$f":"IF(F323=\"\",\"\",MAX(E$1:E322)+1)","v":""},null,{"$f":"IF(H323=\"\",\"\",MAX(G$1:G322)+1)","v":""},null,{"$f":"IF(J323=\"\",\"\",MAX(I$1:I322)+1)","v":""},null,{"$f":"IF(L323=\"\",\"\",MAX(K$1:K322)+1)","v":""},null,{"$f":"IF(N323=\"\",\"\",MAX(M$1:M322)+1)","v":""}]
[null,null,{"$f":"IF(D324=\"\",\"\",MAX(C$1:C323)+1)","v":""},null,{"$f":"IF(F324=\"\",\"\",MAX(E$1:E323)+1)","v":""},null,{"$f":"IF(H324=\"\",\"\",MAX(G$1:G323)+1)","v":""},null,{"$f":"IF(J324=\"\",\"\",MAX(I$1:I323)+1)","v":""},null,{"$f":"IF(L324=\"\",\"\",MAX(K$1:K323)+1)","v":""},null,{"$f":"IF(N324=\"\",\"\",MAX(M$1:M323)+1)","v":""}]
[null,null,{"$f":"IF(D325=\"\",\"\",MAX(C$1:C324)+1)","v":""},null,{"$f":"IF(F325=\"\",\"\",MAX(E$1:E324)+1)","v":""},null,{"$f":"IF(H325=\"\",\"\",MAX(G$1:G324)+1)","v":""},null,{"$f":"IF(J325=\"\",\"\",MAX(I$1:I324)+1)","v":""},null,{"$f":"IF(L325=\"\",\"\",MAX(K$1:K324)+1)","v":""},null,{"$f":"IF(N325=\"\",\"\",MAX(M$1:M324)+1)","v":""}]
[null,null,{"$f":"IF(D326=\"\",\"\",MAX(C$1:C325)+1)","v":""},null,{"$f":"IF(F326=\"\",\"\",MAX(E$1:E325)+1)","v":""},null,{"$f":"IF(H326=\"\",\"\",MAX(G$1:G325)+1)","v":""},null,{"$f":"IF(J326=\"\",\"\",MAX(I$1:I325)+1)","v":""},null,{"$f":"IF(L326=\"\",\"\",MAX(K$1:K325)+1)","v":""},null,{"$f":"IF(N326=\"\",\"\",MAX(M$1:M325)+1)","v":""}]
[null,null,{"$f":"IF(D327=\"\",\"\",MAX(C$1:C326)+1)","v":""},null,{"$f":"IF(F327=\"\",\"\",MAX(E$1:E326)+1)","v":""},null,{"$f":"IF(H327=\"\",\"\",MAX(G$1:G326)+1)","v":""},null,{"$f":"IF(J327=\"\",\"\",MAX(I$1:I326)+1)","v":""},null,{"$f":"IF(L327=\"\",\"\",MAX(K$1:K326)+1)","v":""},null,{"$f":"IF(N327=\"\",\"\",MAX(M$1:M326)+1)","v":""}]
[null,null,{"$f":"IF(D328=\"\",\"\",MAX(C$1:C327)+1)","v":""},null,{"$f":"IF(F328=\"\",\"\",MAX(E$1:E327)+1)","v":""},null,{"$f":"IF(H328=\"\",\"\",MAX(G$1:G327)+1)","v":""},null,{"$f":"IF(J328=\"\",\"\",MAX(I$1:I327)+1)","v":""},null,{"$f":"IF(L328=\"\",\"\",MAX(K$1:K327)+1)","v":""},null,{"$f":"IF(N328=\"\",\"\",MAX(M$1:M327)+1)","v":""}]
[null,null,{"$f":"IF(D329=\"\",\"\",MAX(C$1:C328)+1)","v":""},null,{"$f":"IF(F329=\"\",\"\",MAX(E$1:E328)+1)","v":""},null,{"$f":"IF(H329=\"\",\"\",MAX(G$1:G328)+1)","v":""},null,{"$f":"IF(J329=\"\",\"\",MAX(I$1:I328)+1)","v":""},null,{"$f":"IF(L329=\"\",\"\",MAX(K$1:K328)+1)","v":""},null,{"$f":"IF(N329=\"\",\"\",MAX(M$1:M328)+1)","v":""}]
[null,null,{"$f":"IF(D330=\"\",\"\",MAX(C$1:C329)+1)","v":""},null,{"$f":"IF(F330=\"\",\"\",MAX(E$1:E329)+1)","v":""},null,{"$f":"IF(H330=\"\",\"\",MAX(G$1:G329)+1)","v":""},null,{"$f":"IF(J330=\"\",\"\",MAX(I$1:I329)+1)","v":""},null,{"$f":"IF(L330=\"\",\"\",MAX(K$1:K329)+1)","v":""},null,{"$f":"IF(N330=\"\",\"\",MAX(M$1:M329)+1)","v":""}]
[null,null,{"$f":"IF(D331=\"\",\"\",MAX(C$1:C330)+1)","v":""},null,{"$f":"IF(F331=\"\",\"\",MAX(E$1:E330)+1)","v":""},null,{"$f":"IF(H331=\"\",\"\",MAX(G$1:G330)+1)","v":""},null,{"$f":"IF(J331=\"\",\"\",MAX(I$1:I330)+1)","v":""},null,{"$f":"IF(L331=\"\",\"\",MAX(K$1:K330)+1)","v":""},null,{"$f":"IF(N331=\"\",\"\",MAX(M$1:M330)+1)","v":""}]
[null,null,{"$f":"IF(D332=\"\",\"\",MAX(C$1:C331)+1)","v":""},null,{"$f":"IF(F332=\"\",\"\",MAX(E$1:E331)+1)","v":""},null,{"$f":"IF(H332=\"\",\"\",MAX(G$1:G331)+1)","v":""},null,{"$f":"IF(J332=\"\",\"\",MAX(I$1:I331)+1)","v":""},null,{"$f":"IF(L332=\"\",\"\",MAX(K$1:K331)+1)","v":""},null,{"$f":"IF(N332=\"\",\"\",MAX(M$1:M331)+1)","v":""}]
[null,null,{"$f":"IF(D333=\"\",\"\",MAX(C$1:C332)+1)","v":""},null,{"$f":"IF(F333=\"\",\"\",MAX(E$1:E332)+1)","v":""},null,{"$f":"IF(H333=\"\",\"\",MAX(G$1:G332)+1)","v":""},null,{"$f":"IF(J333=\"\",\"\",MAX(I$1:I332)+1)","v":""},null,{"$f":"IF(L333=\"\",\"\",MAX(K$1:K332)+1)","v":""},null,{"$f":"IF(N333=\"\",\"\",MAX(M$1:M332)+1)","v":""}]
[null,null,{"$f":"IF(D334=\"\",\"\",MAX(C$1:C333)+1)","v":""},null,{"$f":"IF(F334=\"\",\"\",MAX(E$1:E333)+1)","v":""},null,{"$f":"IF(H334=\"\",\"\",MAX(G$1:G333)+1)","v":""},null,{"$f":"IF(J334=\"\",\"\",MAX(I$1:I333)+1)","v":""},null,{"$f":"IF(L334=\"\",\"\",MAX(K$1:K333)+1)","v":""},null,{"$f":"IF(N334=\"\",\"\",MAX(M$1:M333)+1)","v":""}]
[null,null,{"$f":"IF(D335=\"\",\"\",MAX(C$1:C334)+1)","v":""},null,{"$f":"IF(F335=\"\",\"\",MAX(E$1:E334)+1)","v":""},null,{"$f":"IF(H335=\"\",\"\",MAX(G$1:G334)+1)","v":""},null,{"$f":"IF(J335=\"\",\"\",MAX(I$1:I334)+1)","v":""},null,{"$f":"IF(L335=\"\",\"\",MAX(K$1:K334)+1)","v":""},null,{"$f":"IF(N335=\"\",\"\",MAX(M$1:M334)+1)","v":""}]
[null,null,{"$f":"IF(D336=\"\",\"\",MAX(C$1:C335)+1)","v":""},null,{"$f":"IF(F336=\"\",\"\",MAX(E$1:E335)+1)","v":""},null,{"$f":"IF(H336=\"\",\"\",MAX(G$1:G335)+1)","v":""},null,{"$f":"IF(J336=\"\",\"\",MAX(I$1:I335)+1)","v":""},null,{"$f":"IF(L336=\"\",\"\",MAX(K$1:K335)+1)","v":""},null,{"$f":"IF(N336=\"\",\"\",MAX(M$1:M335)+1)","v":""}]
[null,null,{"$f":"IF(D337=\"\",\"\",MAX(C$1:C336)+1)","v":""},null,{"$f":"IF(F337=\"\",\"\",MAX(E$1:E336)+1)","v":""},null,{"$f":"IF(H337=\"\",\"\",MAX(G$1:G336)+1)","v":""},null,{"$f":"IF(J337=\"\",\"\",MAX(I$1:I336)+1)","v":""},null,{"$f":"IF(L337=\"\",\"\",MAX(K$1:K336)+1)","v":""},null,{"$f":"IF(N337=\"\",\"\",MAX(M$1:M336)+1)","v":""}]
[null,null,{"$f":"IF(D338=\"\",\"\",MAX(C$1:C337)+1)","v":""},null,{"$f":"IF(F338=\"\",\"\",MAX(E$1:E337)+1)","v":""},null,{"$f":"IF(H338=\"\",\"\",MAX(G$1:G337)+1)","v":""},null,{"$f":"IF(J338=\"\",\"\",MAX(I$1:I337)+1)","v":""},null,{"$f":"IF(L338=\"\",\"\",MAX(K$1:K337)+1)","v":""},null,{"$f":"IF(N338=\"\",\"\",MAX(M$1:M337)+1)","v":""}]
[null,null,{"$f":"IF(D339=\"\",\"\",MAX(C$1:C338)+1)","v":""},null,{"$f":"IF(F339=\"\",\"\",MAX(E$1:E338)+1)","v":""},null,{"$f":"IF(H339=\"\",\"\",MAX(G$1:G338)+1)","v":""},null,{"$f":"IF(J339=\"\",\"\",MAX(I$1:I338)+1)","v":""},null,{"$f":"IF(L339=\"\",\"\",MAX(K$1:K338)+1)","v":""},null,{"$f":"IF(N339=\"\",\"\",MAX(M$1:M338)+1)","v":""}]
[null,null,{"$f":"IF(D340=\"\",\"\",MAX(C$1:C339)+1)","v":""},null,{"$f":"IF(F340=\"\",\"\",MAX(E$1:E339)+1)","v":""},null,{"$f":"IF(H340=\"\",\"\",MAX(G$1:G339)+1)","v":""},null,{"$f":"IF(J340=\"\",\"\",MAX(I$1:I339)+1)","v":""},null,{"$f":"IF(L340=\"\",\"\",MAX(K$1:K339)+1)","v":""},null,{"$f":"IF(N340=\"\",\"\",MAX(M$1:M339)+1)","v":""}]
[null,null,{"$f":"IF(D341=\"\",\"\",MAX(C$1:C340)+1)","v":""},null,{"$f":"IF(F341=\"\",\"\",MAX(E$1:E340)+1)","v":""},null,{"$f":"IF(H341=\"\",\"\",MAX(G$1:G340)+1)","v":""},null,{"$f":"IF(J341=\"\",\"\",MAX(I$1:I340)+1)","v":""},null,{"$f":"IF(L341=\"\",\"\",MAX(K$1:K340)+1)","v":""},null,{"$f":"IF(N341=\"\",\"\",MAX(M$1:M340)+1)","v":""}]
[null,null,{"$f":"IF(D342=\"\",\"\",MAX(C$1:C341)+1)","v":""},null,{"$f":"IF(F342=\"\",\"\",MAX(E$1:E341)+1)","v":""},null,{"$f":"IF(H342=\"\",\"\",MAX(G$1:G341)+1)","v":""},null,{"$f":"IF(J342=\"\",\"\",MAX(I$1:I341)+1)","v":""},null,{"$f":"IF(L342=\"\",\"\",MAX(K$1:K341)+1)","v":""},null,{"$f":"IF(N342=\"\",\"\",MAX(M$1:M341)+1)","v":""}]
[null,null,{"$f":"IF(D343=\"\",\"\",MAX(C$1:C342)+1)","v":""},null,{"$f":"IF(F343=\"\",\"\",MAX(E$1:E342)+1)","v":""},null,{"$f":"IF(H343=\"\",\"\",MAX(G$1:G342)+1)","v":""},null,{"$f":"IF(J343=\"\",\"\",MAX(I$1:I342)+1)","v":""},null,{"$f":"IF(L343=\"\",\"\",MAX(K$1:K342)+1)","v":""},null,{"$f":"IF(N343=\"\",\"\",MAX(M$1:M342)+1)","v":""}]
[null,null,{"$f":"IF(D344=\"\",\"\",MAX(C$1:C343)+1)","v":""},null,{"$f":"IF(F344=\"\",\"\",MAX(E$1:E343)+1)","v":""},null,{"$f":"IF(H344=\"\",\"\",MAX(G$1:G343)+1)","v":""},null,{"$f":"IF(J344=\"\",\"\",MAX(I$1:I343)+1)","v":""},null,{"$f":"IF(L344=\"\",\"\",MAX(K$1:K343)+1)","v":""},null,{"$f":"IF(N344=\"\",\"\",MAX(M$1:M343)+1)","v":""}]
[null,null,{"$f":"IF(D345=\"\",\"\",MAX(C$1:C344)+1)","v":""},null,{"$f":"IF(F345=\"\",\"\",MAX(E$1:E344)+1)","v":""},null,{"$f":"IF(H345=\"\",\"\",MAX(G$1:G344)+1)","v":""},null,{"$f":"IF(J345=\"\",\"\",MAX(I$1:I344)+1)","v":""},null,{"$f":"IF(L345=\"\",\"\",MAX(K$1:K344)+1)","v":""},null,{"$f":"IF(N345=\"\",\"\",MAX(M$1:M344)+1)","v":""}]
[null,null,{"$f":"IF(D346=\"\",\"\",MAX(C$1:C345)+1)","v":""},null,{"$f":"IF(F346=\"\",\"\",MAX(E$1:E345)+1)","v":""},null,{"$f":"IF(H346=\"\",\"\",MAX(G$1:G345)+1)","v":""},null,{"$f":"IF(J346=\"\",\"\",MAX(I$1:I345)+1)","v":""},null,{"$f":"IF(L346=\"\",\"\",MAX(K$1:K345)+1)","v":""},null,{"$f":"IF(N346=\"\",\"\",MAX(M$1:M345)+1)","v":""}]
[null,null,{"$f":"IF(D347=\"\",\"\",MAX(C$1:C346)+1)","v":""},null,{"$f":"IF(F347=\"\",\"\",MAX(E$1:E346)+1)","v":""},null,{"$f":"IF(H347=\"\",\"\",MAX(G$1:G346)+1)","v":""},null,{"$f":"IF(J347=\"\",\"\",MAX(I$1:I346)+1)","v":""},null,{"$f":"IF(L347=\"\",\"\",MAX(K$1:K346)+1)","v":""},null,{"$f":"IF(N347=\"\",\"\",MAX(M$1:M346)+1)","v":""}]
[null,null,{"$f":"IF(D348=\"\",\"\",MAX(C$1:C347)+1)","v":""},null,{"$f":"IF(F348=\"\",\"\",MAX(E$1:E347)+1)","v":""},null,{"$f":"IF(H348=\"\",\"\",MAX(G$1:G347)+1)","v":""},null,{"$f":"IF(J348=\"\",\"\",MAX(I$1:I347)+1)","v":""},null,{"$f":"IF(L348=\"\",\"\",MAX(K$1:K347)+1)","v":""},null,{"$f":"IF(N348=\"\",\"\",MAX(M$1:M347)+1)","v":""}]
[null,null,{"$f":"IF(D349=\"\",\"\",MAX(C$1:C348)+1)","v":""},null,{"$f":"IF(F349=\"\",\"\",MAX(E$1:E348)+1)","v":""},null,{"$f":"IF(H349=\"\",\"\",MAX(G$1:G348)+1)","v":""},null,{"$f":"IF(J349=\"\",\"\",MAX(I$1:I348)+1)","v":""},null,{"$f":"IF(L349=\"\",\"\",MAX(K$1:K348)+1)","v":""},null,{"$f":"IF(N349=\"\",\"\",MAX(M$1:M348)+1)","v":""}]
[null,null,{"$f":"IF(D350=\"\",\"\",MAX(C$1:C349)+1)","v":""},null,{"$f":"IF(F350=\"\",\"\",MAX(E$1:E349)+1)","v":""},null,{"$f":"IF(H350=\"\",\"\",MAX(G$1:G349)+1)","v":""},null,{"$f":"IF(J350=\"\",\"\",MAX(I$1:I349)+1)","v":""},null,{"$f":"IF(L350=\"\",\"\",MAX(K$1:K349)+1)","v":""},null,{"$f":"IF(N350=\"\",\"\",MAX(M$1:M349)+1)","v":""}]
[null,null,{"$f":"IF(D351=\"\",\"\",MAX(C$1:C350)+1)","v":""},null,{"$f":"IF(F351=\"\",\"\",MAX(E$1:E350)+1)","v":""},null,{"$f":"IF(H351=\"\",\"\",MAX(G$1:G350)+1)","v":""},null,{"$f":"IF(J351=\"\",\"\",MAX(I$1:I350)+1)","v":""},null,{"$f":"IF(L351=\"\",\"\",MAX(K$1:K350)+1)","v":""},null,{"$f":"IF(N351=\"\",\"\",MAX(M$1:M350)+1)","v":""}]
[null,null,{"$f":"IF(D352=\"\",\"\",MAX(C$1:C351)+1)","v":""},null,{"$f":"IF(F352=\"\",\"\",MAX(E$1:E351)+1)","v":""},null,{"$f":"IF(H352=\"\",\"\",MAX(G$1:G351)+1)","v":""},null,{"$f":"IF(J352=\"\",\"\",MAX(I$1:I351)+1)","v":""},null,{"$f":"IF(L352=\"\",\"\",MAX(K$1:K351)+1)","v":""},null,{"$f":"IF(N352=\"\",\"\",MAX(M$1:M351)+1)","v":""}]
[null,null,{"$f":"IF(D353=\"\",\"\",MAX(C$1:C352)+1)","v":""},null,{"$f":"IF(F353=\"\",\"\",MAX(E$1:E352)+1)","v":""},null,{"$f":"IF(H353=\"\",\"\",MAX(G$1:G352)+1)","v":""},null,{"$f":"IF(J353=\"\",\"\",MAX(I$1:I352)+1)","v":""},null,{"$f":"IF(L353=\"\",\"\",MAX(K$1:K352)+1)","v":""},null,{"$f":"IF(N353=\"\",\"\",MAX(M$1:M352)+1)","v":""}]
[null,null,{"$f":"IF(D354=\"\",\"\",MAX(C$1:C353)+1)","v":""},null,{"$f":"IF(F354=\"\",\"\",MAX(E$1:E353)+1)","v":""},null,{"$f":"IF(H354=\"\",\"\",MAX(G$1:G353)+1)","v":""},null,{"$f":"IF(J354=\"\",\"\",MAX(I$1:I353)+1)","v":""},null,{"$f":"IF(L354=\"\",\"\",MAX(K$1:K353)+1)","v":""},null,{"$f":"IF(N354=\"\",\"\",MAX(M$1:M353)+1)","v":""}]
[null,null,{"$f":"IF(D355=\"\",\"\",MAX(C$1:C354)+1)","v":""},null,{"$f":"IF(F355=\"\",\"\",MAX(E$1:E354)+1)","v":""},null,{"$f":"IF(H355=\"\",\"\",MAX(G$1:G354)+1)","v":""},null,{"$f":"IF(J355=\"\",\"\",MAX(I$1:I354)+1)","v":""},null,{"$f":"IF(L355=\"\",\"\",MAX(K$1:K354)+1)","v":""},null,{"$f":"IF(N355=\"\",\"\",MAX(M$1:M354)+1)","v":""}]
[null,null,{"$f":"IF(D356=\"\",\"\",MAX(C$1:C355)+1)","v":""},null,{"$f":"IF(F356=\"\",\"\",MAX(E$1:E355)+1)","v":""},null,{"$f":"IF(H356=\"\",\"\",MAX(G$1:G355)+1)","v":""},null,{"$f":"IF(J356=\"\",\"\",MAX(I$1:I355)+1)","v":""},null,{"$f":"IF(L356=\"\",\"\",MAX(K$1:K355)+1)","v":""},null,{"$f":"IF(N356=\"\",\"\",MAX(M$1:M355)+1)","v":""}]
[null,null,{"$f":"IF(D357=\"\",\"\",MAX(C$1:C356)+1)","v":""},null,{"$f":"IF(F357=\"\",\"\",MAX(E$1:E356)+1)","v":""},null,{"$f":"IF(H357=\"\",\"\",MAX(G$1:G356)+1)","v":""},null,{"$f":"IF(J357=\"\",\"\",MAX(I$1:I356)+1)","v":""},null,{"$f":"IF(L357=\"\",\"\",MAX(K$1:K356)+1)","v":""},null,{"$f":"IF(N357=\"\",\"\",MAX(M$1:M356)+1)","v":""}]
[null,null,{"$f":"IF(D358=\"\",\"\",MAX(C$1:C357)+1)","v":""},null,{"$f":"IF(F358=\"\",\"\",MAX(E$1:E357)+1)","v":""},null,{"$f":"IF(H358=\"\",\"\",MAX(G$1:G357)+1)","v":""},null,{"$f":"IF(J358=\"\",\"\",MAX(I$1:I357)+1)","v":""},null,{"$f":"IF(L358=\"\",\"\",MAX(K$1:K357)+1)","v":""},null,{"$f":"IF(N358=\"\",\"\",MAX(M$1:M357)+1)","v":""}]
[null,null,{"$f":"IF(D359=\"\",\"\",MAX(C$1:C358)+1)","v":""},null,{"$f":"IF(F359=\"\",\"\",MAX(E$1:E358)+1)","v":""},null,{"$f":"IF(H359=\"\",\"\",MAX(G$1:G358)+1)","v":""},null,{"$f":"IF(J359=\"\",\"\",MAX(I$1:I358)+1)","v":""},null,{"$f":"IF(L359=\"\",\"\",MAX(K$1:K358)+1)","v":""},null,{"$f":"IF(N359=\"\",\"\",MAX(M$1:M358)+1)","v":""}]
[null,null,{"$f":"IF(D360=\"\",\"\",MAX(C$1:C359)+1)","v":""},null,{"$f":"IF(F360=\"\",\"\",MAX(E$1:E359)+1)","v":""},null,{"$f":"IF(H360=\"\",\"\",MAX(G$1:G359)+1)","v":""},null,{"$f":"IF(J360=\"\",\"\",MAX(I$1:I359)+1)","v":""},null,{"$f":"IF(L360=\"\",\"\",MAX(K$1:K359)+1)","v":""},null,{"$f":"IF(N360=\"\",\"\",MAX(M$1:M359)+1)","v":""}]
[null,null,{"$f":"IF(D361=\"\",\"\",MAX(C$1:C360)+1)","v":""},null,{"$f":"IF(F361=\"\",\"\",MAX(E$1:E360)+1)","v":""},null,{"$f":"IF(H361=\"\",\"\",MAX(G$1:G360)+1)","v":""},null,{"$f":"IF(J361=\"\",\"\",MAX(I$1:I360)+1)","v":""},null,{"$f":"IF(L361=\"\",\"\",MAX(K$1:K360)+1)","v":""},null,{"$f":"IF(N361=\"\",\"\",MAX(M$1:M360)+1)","v":""}]
[null,null,{"$f":"IF(D362=\"\",\"\",MAX(C$1:C361)+1)","v":""},null,{"$f":"IF(F362=\"\",\"\",MAX(E$1:E361)+1)","v":""},null,{"$f":"IF(H362=\"\",\"\",MAX(G$1:G361)+1)","v":""},null,{"$f":"IF(J362=\"\",\"\",MAX(I$1:I361)+1)","v":""},null,{"$f":"IF(L362=\"\",\"\",MAX(K$1:K361)+1)","v":""},null,{"$f":"IF(N362=\"\",\"\",MAX(M$1:M361)+1)","v":""}]
[null,null,{"$f":"IF(D363=\"\",\"\",MAX(C$1:C362)+1)","v":""},null,{"$f":"IF(F363=\"\",\"\",MAX(E$1:E362)+1)","v":""},null,{"$f":"IF(H363=\"\",\"\",MAX(G$1:G362)+1)","v":""},null,{"$f":"IF(J363=\"\",\"\",MAX(I$1:I362)+1)","v":""},null,{"$f":"IF(L363=\"\",\"\",MAX(K$1:K362)+1)","v":""},null,{"$f":"IF(N363=\"\",\"\",MAX(M$1:M362)+1)","v":""}]
[null,null,{"$f":"IF(D364=\"\",\"\",MAX(C$1:C363)+1)","v":""},null,{"$f":"IF(F364=\"\",\"\",MAX(E$1:E363)+1)","v":""},null,{"$f":"IF(H364=\"\",\"\",MAX(G$1:G363)+1)","v":""},null,{"$f":"IF(J364=\"\",\"\",MAX(I$1:I363)+1)","v":""},null,{"$f":"IF(L364=\"\",\"\",MAX(K$1:K363)+1)","v":""},null,{"$f":"IF(N364=\"\",\"\",MAX(M$1:M363)+1)","v":""}]
[null,null,{"$f":"IF(D365=\"\",\"\",MAX(C$1:C364)+1)","v":""},null,{"$f":"IF(F365=\"\",\"\",MAX(E$1:E364)+1)","v":""},null,{"$f":"IF(H365=\"\",\"\",MAX(G$1:G364)+1)","v":""},null,{"$f":"IF(J365=\"\",\"\",MAX(I$1:I364)+1)","v":""},null,{"$f":"IF(L365=\"\",\"\",MAX(K$1:K364)+1)","v":""},null,{"$f":"IF(N365=\"\",\"\",MAX(M$1:M364)+1)","v":""}]
[null,null,{"$f":"IF(D366=\"\",\"\",MAX(C$1:C365)+1)","v":""},null,{"$f":"IF(F366=\"\",\"\",MAX(E$1:E365)+1)","v":""},null,{"$f":"IF(H366=\"\",\"\",MAX(G$1:G365)+1)","v":""},null,{"$f":"IF(J366=\"\",\"\",MAX(I$1:I365)+1)","v":""},null,{"$f":"IF(L366=\"\",\"\",MAX(K$1:K365)+1)","v":""},null,{"$f":"IF(N366=\"\",\"\",MAX(M$1:M365)+1)","v":""}]
[null,null,{"$f":"IF(D367=\"\",\"\",MAX(C$1:C366)+1)","v":""},null,{"$f":"IF(F367=\"\",\"\",MAX(E$1:E366)+1)","v":""},null,{"$f":"IF(H367=\"\",\"\",MAX(G$1:G366)+1)","v":""},null,{"$f":"IF(J367=\"\",\"\",MAX(I$1:I366)+1)","v":""},null,{"$f":"IF(L367=\"\",\"\",MAX(K$1:K366)+1)","v":""},null,{"$f":"IF(N367=\"\",\"\",MAX(M$1:M366)+1)","v":""}]
[null,null,{"$f":"IF(D368=\"\",\"\",MAX(C$1:C367)+1)","v":""},null,{"$f":"IF(F368=\"\",\"\",MAX(E$1:E367)+1)","v":""},null,{"$f":"IF(H368=\"\",\"\",MAX(G$1:G367)+1)","v":""},null,{"$f":"IF(J368=\"\",\"\",MAX(I$1:I367)+1)","v":""},null,{"$f":"IF(L368=\"\",\"\",MAX(K$1:K367)+1)","v":""},null,{"$f":"IF(N368=\"\",\"\",MAX(M$1:M367)+1)","v":""}]
[null,null,{"$f":"IF(D369=\"\",\"\",MAX(C$1:C368)+1)","v":""},null,{"$f":"IF(F369=\"\",\"\",MAX(E$1:E368)+1)","v":""},null,{"$f":"IF(H369=\"\",\"\",MAX(G$1:G368)+1)","v":""},null,{"$f":"IF(J369=\"\",\"\",MAX(I$1:I368)+1)","v":""},null,{"$f":"IF(L369=\"\",\"\",MAX(K$1:K368)+1)","v":""},null,{"$f":"IF(N369=\"\",\"\",MAX(M$1:M368)+1)","v":""}]
[null,null,{"$f":"IF(D370=\"\",\"\",MAX(C$1:C369)+1)","v":""},null,{"$f":"IF(F370=\"\",\"\",MAX(E$1:E369)+1)","v":""},null,{"$f":"IF(H370=\"\",\"\",MAX(G$1:G369)+1)","v":""},null,{"$f":"IF(J370=\"\",\"\",MAX(I$1:I369)+1)","v":""},null,{"$f":"IF(L370=\"\",\"\",MAX(K$1:K369)+1)","v":""},null,{"$f":"IF(N370=\"\",\"\",MAX(M$1:M369)+1)","v":""}]
[null,null,{"$f":"IF(D371=\"\",\"\",MAX(C$1:C370)+1)","v":""},null,{"$f":"IF(F371=\"\",\"\",MAX(E$1:E370)+1)","v":""},null,{"$f":"IF(H371=\"\",\"\",MAX(G$1:G370)+1)","v":""},null,{"$f":"IF(J371=\"\",\"\",MAX(I$1:I370)+1)","v":""},null,{"$f":"IF(L371=\"\",\"\",MAX(K$1:K370)+1)","v":""},null,{"$f":"IF(N371=\"\",\"\",MAX(M$1:M370)+1)","v":""}]
[null,null,{"$f":"IF(D372=\"\",\"\",MAX(C$1:C371)+1)","v":""},null,{"$f":"IF(F372=\"\",\"\",MAX(E$1:E371)+1)","v":""},null,{"$f":"IF(H372=\"\",\"\",MAX(G$1:G371)+1)","v":""},null,{"$f":"IF(J372=\"\",\"\",MAX(I$1:I371)+1)","v":""},null,{"$f":"IF(L372=\"\",\"\",MAX(K$1:K371)+1)","v":""},null,{"$f":"IF(N372=\"\",\"\",MAX(M$1:M371)+1)","v":""}]
[null,null,{"$f":"IF(D373=\"\",\"\",MAX(C$1:C372)+1)","v":""},null,{"$f":"IF(F373=\"\",\"\",MAX(E$1:E372)+1)","v":""},null,{"$f":"IF(H373=\"\",\"\",MAX(G$1:G372)+1)","v":""},null,{"$f":"IF(J373=\"\",\"\",MAX(I$1:I372)+1)","v":""},null,{"$f":"IF(L373=\"\",\"\",MAX(K$1:K372)+1)","v":""},null,{"$f":"IF(N373=\"\",\"\",MAX(M$1:M372)+1)","v":""}]
[null,null,{"$f":"IF(D374=\"\",\"\",MAX(C$1:C373)+1)","v":""},null,{"$f":"IF(F374=\"\",\"\",MAX(E$1:E373)+1)","v":""},null,{"$f":"IF(H374=\"\",\"\",MAX(G$1:G373)+1)","v":""},null,{"$f":"IF(J374=\"\",\"\",MAX(I$1:I373)+1)","v":""},null,{"$f":"IF(L374=\"\",\"\",MAX(K$1:K373)+1)","v":""},null,{"$f":"IF(N374=\"\",\"\",MAX(M$1:M373)+1)","v":""}]
[null,null,{"$f":"IF(D375=\"\",\"\",MAX(C$1:C374)+1)","v":""},null,{"$f":"IF(F375=\"\",\"\",MAX(E$1:E374)+1)","v":""},null,{"$f":"IF(H375=\"\",\"\",MAX(G$1:G374)+1)","v":""},null,{"$f":"IF(J375=\"\",\"\",MAX(I$1:I374)+1)","v":""},null,{"$f":"IF(L375=\"\",\"\",MAX(K$1:K374)+1)","v":""},null,{"$f":"IF(N375=\"\",\"\",MAX(M$1:M374)+1)","v":""}]
[null,null,{"$f":"IF(D376=\"\",\"\",MAX(C$1:C375)+1)","v":""},null,{"$f":"IF(F376=\"\",\"\",MAX(E$1:E375)+1)","v":""},null,{"$f":"IF(H376=\"\",\"\",MAX(G$1:G375)+1)","v":""},null,{"$f":"IF(J376=\"\",\"\",MAX(I$1:I375)+1)","v":""},null,{"$f":"IF(L376=\"\",\"\",MAX(K$1:K375)+1)","v":""},null,{"$f":"IF(N376=\"\",\"\",MAX(M$1:M375)+1)","v":""}]
[null,null,{"$f":"IF(D377=\"\",\"\",MAX(C$1:C376)+1)","v":""},null,{"$f":"IF(F377=\"\",\"\",MAX(E$1:E376)+1)","v":""},null,{"$f":"IF(H377=\"\",\"\",MAX(G$1:G376)+1)","v":""},null,{"$f":"IF(J377=\"\",\"\",MAX(I$1:I376)+1)","v":""},null,{"$f":"IF(L377=\"\",\"\",MAX(K$1:K376)+1)","v":""},null,{"$f":"IF(N377=\"\",\"\",MAX(M$1:M376)+1)","v":""}]
[null,null,{"$f":"IF(D378=\"\",\"\",MAX(C$1:C377)+1)","v":""},null,{"$f":"IF(F378=\"\",\"\",MAX(E$1:E377)+1)","v":""},null,{"$f":"IF(H378=\"\",\"\",MAX(G$1:G377)+1)","v":""},null,{"$f":"IF(J378=\"\",\"\",MAX(I$1:I377)+1)","v":""},null,{"$f":"IF(L378=\"\",\"\",MAX(K$1:K377)+1)","v":""},null,{"$f":"IF(N378=\"\",\"\",MAX(M$1:M377)+1)","v":""}]
[null,null,{"$f":"IF(D379=\"\",\"\",MAX(C$1:C378)+1)","v":""},null,{"$f":"IF(F379=\"\",\"\",MAX(E$1:E378)+1)","v":""},null,{"$f":"IF(H379=\"\",\"\",MAX(G$1:G378)+1)","v":""},null,{"$f":"IF(J379=\"\",\"\",MAX(I$1:I378)+1)","v":""},null,{"$f":"IF(L379=\"\",\"\",MAX(K$1:K378)+1)","v":""},null,{"$f":"IF(N379=\"\",\"\",MAX(M$1:M378)+1)","v":""}]
[null,null,{"$f":"IF(D380=\"\",\"\",MAX(C$1:C379)+1)","v":""},null,{"$f":"IF(F380=\"\",\"\",MAX(E$1:E379)+1)","v":""},null,{"$f":"IF(H380=\"\",\"\",MAX(G$1:G379)+1)","v":""},null,{"$f":"IF(J380=\"\",\"\",MAX(I$1:I379)+1)","v":""},null,{"$f":"IF(L380=\"\",\"\",MAX(K$1:K379)+1)","v":""},null,{"$f":"IF(N380=\"\",\"\",MAX(M$1:M379)+1)","v":""}]
[null,null,{"$f":"IF(D381=\"\",\"\",MAX(C$1:C380)+1)","v":""},null,{"$f":"IF(F381=\"\",\"\",MAX(E$1:E380)+1)","v":""},null,{"$f":"IF(H381=\"\",\"\",MAX(G$1:G380)+1)","v":""},null,{"$f":"IF(J381=\"\",\"\",MAX(I$1:I380)+1)","v":""},null,{"$f":"IF(L381=\"\",\"\",MAX(K$1:K380)+1)","v":""},null,{"$f":"IF(N381=\"\",\"\",MAX(M$1:M380)+1)","v":""}]
[null,null,{"$f":"IF(D382=\"\",\"\",MAX(C$1:C381)+1)","v":""},null,{"$f":"IF(F382=\"\",\"\",MAX(E$1:E381)+1)","v":""},null,{"$f":"IF(H382=\"\",\"\",MAX(G$1:G381)+1)","v":""},null,{"$f":"IF(J382=\"\",\"\",MAX(I$1:I381)+1)","v":""},null,{"$f":"IF(L382=\"\",\"\",MAX(K$1:K381)+1)","v":""},null,{"$f":"IF(N382=\"\",\"\",MAX(M$1:M381)+1)","v":""}]
[null,null,{"$f":"IF(D383=\"\",\"\",MAX(C$1:C382)+1)","v":""},null,{"$f":"IF(F383=\"\",\"\",MAX(E$1:E382)+1)","v":""},null,{"$f":"IF(H383=\"\",\"\",MAX(G$1:G382)+1)","v":""},null,{"$f":"IF(J383=\"\",\"\",MAX(I$1:I382)+1)","v":""},null,{"$f":"IF(L383=\"\",\"\",MAX(K$1:K382)+1)","v":""},null,{"$f":"IF(N383=\"\",\"\",MAX(M$1:M382)+1)","v":""}]
[null,null,{"$f":"IF(D384=\"\",\"\",MAX(C$1:C383)+1)","v":""},null,{"$f":"IF(F384=\"\",\"\",MAX(E$1:E383)+1)","v":""},null,{"$f":"IF(H384=\"\",\"\",MAX(G$1:G383)+1)","v":""},null,{"$f":"IF(J384=\"\",\"\",MAX(I$1:I383)+1)","v":""},null,{"$f":"IF(L384=\"\",\"\",MAX(K$1:K383)+1)","v":""},null,{"$f":"IF(N384=\"\",\"\",MAX(M$1:M383)+1)","v":""}]
[null,null,{"$f":"IF(D385=\"\",\"\",MAX(C$1:C384)+1)","v":""},null,{"$f":"IF(F385=\"\",\"\",MAX(E$1:E384)+1)","v":""},null,{"$f":"IF(H385=\"\",\"\",MAX(G$1:G384)+1)","v":""},null,{"$f":"IF(J385=\"\",\"\",MAX(I$1:I384)+1)","v":""},null,{"$f":"IF(L385=\"\",\"\",MAX(K$1:K384)+1)","v":""},null,{"$f":"IF(N385=\"\",\"\",MAX(M$1:M384)+1)","v":""}]
[null,null,{"$f":"IF(D386=\"\",\"\",MAX(C$1:C385)+1)","v":""},null,{"$f":"IF(F386=\"\",\"\",MAX(E$1:E385)+1)","v":""},null,{"$f":"IF(H386=\"\",\"\",MAX(G$1:G385)+1)","v":""},null,{"$f":"IF(J386=\"\",\"\",MAX(I$1:I385)+1)","v":""},null,{"$f":"IF(L386=\"\",\"\",MAX(K$1:K385)+1)","v":""},null,{"$f":"IF(N386=\"\",\"\",MAX(M$1:M385)+1)","v":""}]
[null,null,{"$f":"IF(D387=\"\",\"\",MAX(C$1:C386)+1)","v":""},null,{"$f":"IF(F387=\"\",\"\",MAX(E$1:E386)+1)","v":""},null,{"$f":"IF(H387=\"\",\"\",MAX(G$1:G386)+1)","v":""},null,{"$f":"IF(J387=\"\",\"\",MAX(I$1:I386)+1)","v":""},null,{"$f":"IF(L387=\"\",\"\",MAX(K$1:K386)+1)","v":""},null,{"$f":"IF(N387=\"\",\"\",MAX(M$1:M386)+1)","v":""}]
[null,null,{"$f":"IF(D388=\"\",\"\",MAX(C$1:C387)+1)","v":""},null,{"$f":"IF(F388=\"\",\"\",MAX(E$1:E387)+1)","v":""},null,{"$f":"IF(H388=\"\",\"\",MAX(G$1:G387)+1)","v":""},null,{"$f":"IF(J388=\"\",\"\",MAX(I$1:I387)+1)","v":""},null,{"$f":"IF(L388=\"\",\"\",MAX(K$1:K387)+1)","v":""},null,{"$f":"IF(N388=\"\",\"\",MAX(M$1:M387)+1)","v":""}]
[null,null,{"$f":"IF(D389=\"\",\"\",MAX(C$1:C388)+1)","v":""},null,{"$f":"IF(F389=\"\",\"\",MAX(E$1:E388)+1)","v":""},null,{"$f":"IF(H389=\"\",\"\",MAX(G$1:G388)+1)","v":""},null,{"$f":"IF(J389=\"\",\"\",MAX(I$1:I388)+1)","v":""},null,{"$f":"IF(L389=\"\",\"\",MAX(K$1:K388)+1)","v":""},null,{"$f":"IF(N389=\"\",\"\",MAX(M$1:M388)+1)","v":""}]
[null,null,{"$f":"IF(D390=\"\",\"\",MAX(C$1:C389)+1)","v":""},null,{"$f":"IF(F390=\"\",\"\",MAX(E$1:E389)+1)","v":""},null,{"$f":"IF(H390=\"\",\"\",MAX(G$1:G389)+1)","v":""},null,{"$f":"IF(J390=\"\",\"\",MAX(I$1:I389)+1)","v":""},null,{"$f":"IF(L390=\"\",\"\",MAX(K$1:K389)+1)","v":""},null,{"$f":"IF(N390=\"\",\"\",MAX(M$1:M389)+1)","v":""}]
[null,null,{"$f":"IF(D391=\"\",\"\",MAX(C$1:C390)+1)","v":""},null,{"$f":"IF(F391=\"\",\"\",MAX(E$1:E390)+1)","v":""},null,{"$f":"IF(H391=\"\",\"\",MAX(G$1:G390)+1)","v":""},null,{"$f":"IF(J391=\"\",\"\",MAX(I$1:I390)+1)","v":""},null,{"$f":"IF(L391=\"\",\"\",MAX(K$1:K390)+1)","v":""},null,{"$f":"IF(N391=\"\",\"\",MAX(M$1:M390)+1)","v":""}]
[null,null,{"$f":"IF(D392=\"\",\"\",MAX(C$1:C391)+1)","v":""},null,{"$f":"IF(F392=\"\",\"\",MAX(E$1:E391)+1)","v":""},null,{"$f":"IF(H392=\"\",\"\",MAX(G$1:G391)+1)","v":""},null,{"$f":"IF(J392=\"\",\"\",MAX(I$1:I391)+1)","v":""},null,{"$f":"IF(L392=\"\",\"\",MAX(K$1:K391)+1)","v":""},null,{"$f":"IF(N392=\"\",\"\",MAX(M$1:M391)+1)","v":""}]
[null,null,{"$f":"IF(D393=\"\",\"\",MAX(C$1:C392)+1)","v":""},null,{"$f":"IF(F393=\"\",\"\",MAX(E$1:E392)+1)","v":""},null,{"$f":"IF(H393=\"\",\"\",MAX(G$1:G392)+1)","v":""},null,{"$f":"IF(J393=\"\",\"\",MAX(I$1:I392)+1)","v":""},null,{"$f":"IF(L393=\"\",\"\",MAX(K$1:K392)+1)","v":""},null,{"$f":"IF(N393=\"\",\"\",MAX(M$1:M392)+1)","v":""}]
[null,null,{"$f":"IF(D394=\"\",\"\",MAX(C$1:C393)+1)","v":""},null,{"$f":"IF(F394=\"\",\"\",MAX(E$1:E393)+1)","v":""},null,{"$f":"IF(H394=\"\",\"\",MAX(G$1:G393)+1)","v":""},null,{"$f":"IF(J394=\"\",\"\",MAX(I$1:I393)+1)","v":""},null,{"$f":"IF(L394=\"\",\"\",MAX(K$1:K393)+1)","v":""},null,{"$f":"IF(N394=\"\",\"\",MAX(M$1:M393)+1)","v":""}]
[null,null,{"$f":"IF(D395=\"\",\"\",MAX(C$1:C394)+1)","v":""},null,{"$f":"IF(F395=\"\",\"\",MAX(E$1:E394)+1)","v":""},null,{"$f":"IF(H395=\"\",\"\",MAX(G$1:G394)+1)","v":""},null,{"$f":"IF(J395=\"\",\"\",MAX(I$1:I394)+1)","v":""},null,{"$f":"IF(L395=\"\",\"\",MAX(K$1:K394)+1)","v":""},null,{"$f":"IF(N395=\"\",\"\",MAX(M$1:M394)+1)","v":""}]
[null,null,{"$f":"IF(D396=\"\",\"\",MAX(C$1:C395)+1)","v":""},null,{"$f":"IF(F396=\"\",\"\",MAX(E$1:E395)+1)","v":""},null,{"$f":"IF(H396=\"\",\"\",MAX(G$1:G395)+1)","v":""},null,{"$f":"IF(J396=\"\",\"\",MAX(I$1:I395)+1)","v":""},null,{"$f":"IF(L396=\"\",\"\",MAX(K$1:K395)+1)","v":""},null,{"$f":"IF(N396=\"\",\"\",MAX(M$1:M395)+1)","v":""}]
[null,null,{"$f":"IF(D397=\"\",\"\",MAX(C$1:C396)+1)","v":""},null,{"$f":"IF(F397=\"\",\"\",MAX(E$1:E396)+1)","v":""},null,{"$f":"IF(H397=\"\",\"\",MAX(G$1:G396)+1)","v":""},null,{"$f":"IF(J397=\"\",\"\",MAX(I$1:I396)+1)","v":""},null,{"$f":"IF(L397=\"\",\"\",MAX(K$1:K396)+1)","v":""},null,{"$f":"IF(N397=\"\",\"\",MAX(M$1:M396)+1)","v":""}]
[null,null,{"$f":"IF(D398=\"\",\"\",MAX(C$1:C397)+1)","v":""},null,{"$f":"IF(F398=\"\",\"\",MAX(E$1:E397)+1)","v":""},null,{"$f":"IF(H398=\"\",\"\",MAX(G$1:G397)+1)","v":""},null,{"$f":"IF(J398=\"\",\"\",MAX(I$1:I397)+1)","v":""},null,{"$f":"IF(L398=\"\",\"\",MAX(K$1:K397)+1)","v":""},null,{"$f":"IF(N398=\"\",\"\",MAX(M$1:M397)+1)","v":""}]
[null,null,{"$f":"IF(D399=\"\",\"\",MAX(C$1:C398)+1)","v":""},null,{"$f":"IF(F399=\"\",\"\",MAX(E$1:E398)+1)","v":""},null,{"$f":"IF(H399=\"\",\"\",MAX(G$1:G398)+1)","v":""},null,{"$f":"IF(J399=\"\",\"\",MAX(I$1:I398)+1)","v":""},null,{"$f":"IF(L399=\"\",\"\",MAX(K$1:K398)+1)","v":""},null,{"$f":"IF(N399=\"\",\"\",MAX(M$1:M398)+1)","v":""}]
[null,null,{"$f":"IF(D400=\"\",\"\",MAX(C$1:C399)+1)","v":""},null,{"$f":"IF(F400=\"\",\"\",MAX(E$1:E399)+1)","v":""},null,{"$f":"IF(H400=\"\",\"\",MAX(G$1:G399)+1)","v":""},null,{"$f":"IF(J400=\"\",\"\",MAX(I$1:I399)+1)","v":""},null,{"$f":"IF(L400=\"\",\"\",MAX(K$1:K399)+1)","v":""},null,{"$f":"IF(N400=\"\",\"\",MAX(M$1:M399)+1)","v":""}]
[null,null,{"$f":"IF(D401=\"\",\"\",MAX(C$1:C400)+1)","v":""},null,{"$f":"IF(F401=\"\",\"\",MAX(E$1:E400)+1)","v":""},null,{"$f":"IF(H401=\"\",\"\",MAX(G$1:G400)+1)","v":""},null,{"$f":"IF(J401=\"\",\"\",MAX(I$1:I400)+1)","v":""},null,{"$f":"IF(L401=\"\",\"\",MAX(K$1:K400)+1)","v":""},null,{"$f":"IF(N401=\"\",\"\",MAX(M$1:M400)+1)","v":""}]
[null,null,{"$f":"IF(D402=\"\",\"\",MAX(C$1:C401)+1)","v":""},null,{"$f":"IF(F402=\"\",\"\",MAX(E$1:E401)+1)","v":""},null,{"$f":"IF(H402=\"\",\"\",MAX(G$1:G401)+1)","v":""},null,{"$f":"IF(J402=\"\",\"\",MAX(I$1:I401)+1)","v":""},null,{"$f":"IF(L402=\"\",\"\",MAX(K$1:K401)+1)","v":""},null,{"$f":"IF(N402=\"\",\"\",MAX(M$1:M401)+1)","v":""}]
[null,null,{"$f":"IF(D403=\"\",\"\",MAX(C$1:C402)+1)","v":""},null,{"$f":"IF(F403=\"\",\"\",MAX(E$1:E402)+1)","v":""},null,{"$f":"IF(H403=\"\",\"\",MAX(G$1:G402)+1)","v":""},null,{"$f":"IF(J403=\"\",\"\",MAX(I$1:I402)+1)","v":""},null,{"$f":"IF(L403=\"\",\"\",MAX(K$1:K402)+1)","v":""},null,{"$f":"IF(N403=\"\",\"\",MAX(M$1:M402)+1)","v":""}]
[null,null,{"$f":"IF(D404=\"\",\"\",MAX(C$1:C403)+1)","v":""},null,{"$f":"IF(F404=\"\",\"\",MAX(E$1:E403)+1)","v":""},null,{"$f":"IF(H404=\"\",\"\",MAX(G$1:G403)+1)","v":""},null,{"$f":"IF(J404=\"\",\"\",MAX(I$1:I403)+1)","v":""},null,{"$f":"IF(L404=\"\",\"\",MAX(K$1:K403)+1)","v":""},null,{"$f":"IF(N404=\"\",\"\",MAX(M$1:M403)+1)","v":""}]
[null,null,{"$f":"IF(D405=\"\",\"\",MAX(C$1:C404)+1)","v":""},null,{"$f":"IF(F405=\"\",\"\",MAX(E$1:E404)+1)","v":""},null,{"$f":"IF(H405=\"\",\"\",MAX(G$1:G404)+1)","v":""},null,{"$f":"IF(J405=\"\",\"\",MAX(I$1:I404)+1)","v":""},null,{"$f":"IF(L405=\"\",\"\",MAX(K$1:K404)+1)","v":""},null,{"$f":"IF(N405=\"\",\"\",MAX(M$1:M404)+1)","v":""}]
[null,null,{"$f":"IF(D406=\"\",\"\",MAX(C$1:C405)+1)","v":""},null,{"$f":"IF(F406=\"\",\"\",MAX(E$1:E405)+1)","v":""},null,{"$f":"IF(H406=\"\",\"\",MAX(G$1:G405)+1)","v":""},null,{"$f":"IF(J406=\"\",\"\",MAX(I$1:I405)+1)","v":""},null,{"$f":"IF(L406=\"\",\"\",MAX(K$1:K405)+1)","v":""},null,{"$f":"IF(N406=\"\",\"\",MAX(M$1:M405)+1)","v":""}]
[null,null,{"$f":"IF(D407=\"\",\"\",MAX(C$1:C406)+1)","v":""},null,{"$f":"IF(F407=\"\",\"\",MAX(E$1:E406)+1)","v":""},null,{"$f":"IF(H407=\"\",\"\",MAX(G$1:G406)+1)","v":""},null,{"$f":"IF(J407=\"\",\"\",MAX(I$1:I406)+1)","v":""},null,{"$f":"IF(L407=\"\",\"\",MAX(K$1:K406)+1)","v":""},null,{"$f":"IF(N407=\"\",\"\",MAX(M$1:M406)+1)","v":""}]
[null,null,{"$f":"IF(D408=\"\",\"\",MAX(C$1:C407)+1)","v":""},null,{"$f":"IF(F408=\"\",\"\",MAX(E$1:E407)+1)","v":""},null,{"$f":"IF(H408=\"\",\"\",MAX(G$1:G407)+1)","v":""},null,{"$f":"IF(J408=\"\",\"\",MAX(I$1:I407)+1)","v":""},null,{"$f":"IF(L408=\"\",\"\",MAX(K$1:K407)+1)","v":""},null,{"$f":"IF(N408=\"\",\"\",MAX(M$1:M407)+1)","v":""}]
[null,null,{"$f":"IF(D409=\"\",\"\",MAX(C$1:C408)+1)","v":""},null,{"$f":"IF(F409=\"\",\"\",MAX(E$1:E408)+1)","v":""},null,{"$f":"IF(H409=\"\",\"\",MAX(G$1:G408)+1)","v":""},null,{"$f":"IF(J409=\"\",\"\",MAX(I$1:I408)+1)","v":""},null,{"$f":"IF(L409=\"\",\"\",MAX(K$1:K408)+1)","v":""},null,{"$f":"IF(N409=\"\",\"\",MAX(M$1:M408)+1)","v":""}]
[null,null,{"$f":"IF(D410=\"\",\"\",MAX(C$1:C409)+1)","v":""},null,{"$f":"IF(F410=\"\",\"\",MAX(E$1:E409)+1)","v":""},null,{"$f":"IF(H410=\"\",\"\",MAX(G$1:G409)+1)","v":""},null,{"$f":"IF(J410=\"\",\"\",MAX(I$1:I409)+1)","v":""},null,{"$f":"IF(L410=\"\",\"\",MAX(K$1:K409)+1)","v":""},null,{"$f":"IF(N410=\"\",\"\",MAX(M$1:M409)+1)","v":""}]
[null,null,{"$f":"IF(D411=\"\",\"\",MAX(C$1:C410)+1)","v":""},null,{"$f":"IF(F411=\"\",\"\",MAX(E$1:E410)+1)","v":""},null,{"$f":"IF(H411=\"\",\"\",MAX(G$1:G410)+1)","v":""},null,{"$f":"IF(J411=\"\",\"\",MAX(I$1:I410)+1)","v":""},null,{"$f":"IF(L411=\"\",\"\",MAX(K$1:K410)+1)","v":""},null,{"$f":"IF(N411=\"\",\"\",MAX(M$1:M410)+1)","v":""}]
[null,null,{"$f":"IF(D412=\"\",\"\",MAX(C$1:C411)+1)","v":""},null,{"$f":"IF(F412=\"\",\"\",MAX(E$1:E411)+1)","v":""},null,{"$f":"IF(H412=\"\",\"\",MAX(G$1:G411)+1)","v":""},null,{"$f":"IF(J412=\"\",\"\",MAX(I$1:I411)+1)","v":""},null,{"$f":"IF(L412=\"\",\"\",MAX(K$1:K411)+1)","v":""},null,{"$f":"IF(N412=\"\",\"\",MAX(M$1:M411)+1)","v":""}]
[null,null,{"$f":"IF(D413=\"\",\"\",MAX(C$1:C412)+1)","v":""},null,{"$f":"IF(F413=\"\",\"\",MAX(E$1:E412)+1)","v":""},null,{"$f":"IF(H413=\"\",\"\",MAX(G$1:G412)+1)","v":""},null,{"$f":"IF(J413=\"\",\"\",MAX(I$1:I412)+1)","v":""},null,{"$f":"IF(L413=\"\",\"\",MAX(K$1:K412)+1)","v":""},null,{"$f":"IF(N413=\"\",\"\",MAX(M$1:M412)+1)","v":""}]
[null,null,{"$f":"IF(D414=\"\",\"\",MAX(C$1:C413)+1)","v":""},null,{"$f":"IF(F414=\"\",\"\",MAX(E$1:E413)+1)","v":""},null,{"$f":"IF(H414=\"\",\"\",MAX(G$1:G413)+1)","v":""},null,{"$f":"IF(J414=\"\",\"\",MAX(I$1:I413)+1)","v":""},null,{"$f":"IF(L414=\"\",\"\",MAX(K$1:K413)+1)","v":""},null,{"$f":"IF(N414=\"\",\"\",MAX(M$1:M413)+1)","v":""}]
[null,null,{"$f":"IF(D415=\"\",\"\",MAX(C$1:C414)+1)","v":""},null,{"$f":"IF(F415=\"\",\"\",MAX(E$1:E414)+1)","v":""},null,{"$f":"IF(H415=\"\",\"\",MAX(G$1:G414)+1)","v":""},null,{"$f":"IF(J415=\"\",\"\",MAX(I$1:I414)+1)","v":""},null,{"$f":"IF(L415=\"\",\"\",MAX(K$1:K414)+1)","v":""},null,{"$f":"IF(N415=\"\",\"\",MAX(M$1:M414)+1)","v":""}]
[null,null,{"$f":"IF(D416=\"\",\"\",MAX(C$1:C415)+1)","v":""},null,{"$f":"IF(F416=\"\",\"\",MAX(E$1:E415)+1)","v":""},null,{"$f":"IF(H416=\"\",\"\",MAX(G$1:G415)+1)","v":""},null,{"$f":"IF(J416=\"\",\"\",MAX(I$1:I415)+1)","v":""},null,{"$f":"IF(L416=\"\",\"\",MAX(K$1:K415)+1)","v":""},null,{"$f":"IF(N416=\"\",\"\",MAX(M$1:M415)+1)","v":""}]
[null,null,{"$f":"IF(D417=\"\",\"\",MAX(C$1:C416)+1)","v":""},null,{"$f":"IF(F417=\"\",\"\",MAX(E$1:E416)+1)","v":""},null,{"$f":"IF(H417=\"\",\"\",MAX(G$1:G416)+1)","v":""},null,{"$f":"IF(J417=\"\",\"\",MAX(I$1:I416)+1)","v":""},null,{"$f":"IF(L417=\"\",\"\",MAX(K$1:K416)+1)","v":""},null,{"$f":"IF(N417=\"\",\"\",MAX(M$1:M416)+1)","v":""}]
[null,null,{"$f":"IF(D418=\"\",\"\",MAX(C$1:C417)+1)","v":""},null,{"$f":"IF(F418=\"\",\"\",MAX(E$1:E417)+1)","v":""},null,{"$f":"IF(H418=\"\",\"\",MAX(G$1:G417)+1)","v":""},null,{"$f":"IF(J418=\"\",\"\",MAX(I$1:I417)+1)","v":""},null,{"$f":"IF(L418=\"\",\"\",MAX(K$1:K417)+1)","v":""},null,{"$f":"IF(N418=\"\",\"\",MAX(M$1:M417)+1)","v":""}]
[null,null,{"$f":"IF(D419=\"\",\"\",MAX(C$1:C418)+1)","v":""},null,{"$f":"IF(F419=\"\",\"\",MAX(E$1:E418)+1)","v":""},null,{"$f":"IF(H419=\"\",\"\",MAX(G$1:G418)+1)","v":""},null,{"$f":"IF(J419=\"\",\"\",MAX(I$1:I418)+1)","v":""},null,{"$f":"IF(L419=\"\",\"\",MAX(K$1:K418)+1)","v":""},null,{"$f":"IF(N419=\"\",\"\",MAX(M$1:M418)+1)","v":""}]
[null,null,{"$f":"IF(D420=\"\",\"\",MAX(C$1:C419)+1)","v":""},null,{"$f":"IF(F420=\"\",\"\",MAX(E$1:E419)+1)","v":""},null,{"$f":"IF(H420=\"\",\"\",MAX(G$1:G419)+1)","v":""},null,{"$f":"IF(J420=\"\",\"\",MAX(I$1:I419)+1)","v":""},null,{"$f":"IF(L420=\"\",\"\",MAX(K$1:K419)+1)","v":""},null,{"$f":"IF(N420=\"\",\"\",MAX(M$1:M419)+1)","v":""}]
[null,null,{"$f":"IF(D421=\"\",\"\",MAX(C$1:C420)+1)","v":""},null,{"$f":"IF(F421=\"\",\"\",MAX(E$1:E420)+1)","v":""},null,{"$f":"IF(H421=\"\",\"\",MAX(G$1:G420)+1)","v":""},null,{"$f":"IF(J421=\"\",\"\",MAX(I$1:I420)+1)","v":""},null,{"$f":"IF(L421=\"\",\"\",MAX(K$1:K420)+1)","v":""},null,{"$f":"IF(N421=\"\",\"\",MAX(M$1:M420)+1)","v":""}]
[null,null,{"$f":"IF(D422=\"\",\"\",MAX(C$1:C421)+1)","v":""},null,{"$f":"IF(F422=\"\",\"\",MAX(E$1:E421)+1)","v":""},null,{"$f":"IF(H422=\"\",\"\",MAX(G$1:G421)+1)","v":""},null,{"$f":"IF(J422=\"\",\"\",MAX(I$1:I421)+1)","v":""},null,{"$f":"IF(L422=\"\",\"\",MAX(K$1:K421)+1)","v":""},null,{"$f":"IF(N422=\"\",\"\",MAX(M$1:M421)+1)","v":""}]
[null,null,{"$f":"IF(D423=\"\",\"\",MAX(C$1:C422)+1)","v":""},null,{"$f":"IF(F423=\"\",\"\",MAX(E$1:E422)+1)","v":""},null,{"$f":"IF(H423=\"\",\"\",MAX(G$1:G422)+1)","v":""},null,{"$f":"IF(J423=\"\",\"\",MAX(I$1:I422)+1)","v":""},null,{"$f":"IF(L423=\"\",\"\",MAX(K$1:K422)+1)","v":""},null,{"$f":"IF(N423=\"\",\"\",MAX(M$1:M422)+1)","v":""}]
[null,null,{"$f":"IF(D424=\"\",\"\",MAX(C$1:C423)+1)","v":""},null,{"$f":"IF(F424=\"\",\"\",MAX(E$1:E423)+1)","v":""},null,{"$f":"IF(H424=\"\",\"\",MAX(G$1:G423)+1)","v":""},null,{"$f":"IF(J424=\"\",\"\",MAX(I$1:I423)+1)","v":""},null,{"$f":"IF(L424=\"\",\"\",MAX(K$1:K423)+1)","v":""},null,{"$f":"IF(N424=\"\",\"\",MAX(M$1:M423)+1)","v":""}]
[null,null,{"$f":"IF(D425=\"\",\"\",MAX(C$1:C424)+1)","v":""},null,{"$f":"IF(F425=\"\",\"\",MAX(E$1:E424)+1)","v":""},null,{"$f":"IF(H425=\"\",\"\",MAX(G$1:G424)+1)","v":""},null,{"$f":"IF(J425=\"\",\"\",MAX(I$1:I424)+1)","v":""},null,{"$f":"IF(L425=\"\",\"\",MAX(K$1:K424)+1)","v":""},null,{"$f":"IF(N425=\"\",\"\",MAX(M$1:M424)+1)","v":""}]
[null,null,{"$f":"IF(D426=\"\",\"\",MAX(C$1:C425)+1)","v":""},null,{"$f":"IF(F426=\"\",\"\",MAX(E$1:E425)+1)","v":""},null,{"$f":"IF(H426=\"\",\"\",MAX(G$1:G425)+1)","v":""},null,{"$f":"IF(J426=\"\",\"\",MAX(I$1:I425)+1)","v":""},null,{"$f":"IF(L426=\"\",\"\",MAX(K$1:K425)+1)","v":""},null,{"$f":"IF(N426=\"\",\"\",MAX(M$1:M425)+1)","v":""}]
[null,null,{"$f":"IF(D427=\"\",\"\",MAX(C$1:C426)+1)","v":""},null,{"$f":"IF(F427=\"\",\"\",MAX(E$1:E426)+1)","v":""},null,{"$f":"IF(H427=\"\",\"\",MAX(G$1:G426)+1)","v":""},null,{"$f":"IF(J427=\"\",\"\",MAX(I$1:I426)+1)","v":""},null,{"$f":"IF(L427=\"\",\"\",MAX(K$1:K426)+1)","v":""},null,{"$f":"IF(N427=\"\",\"\",MAX(M$1:M426)+1)","v":""}]
[null,null,{"$f":"IF(D428=\"\",\"\",MAX(C$1:C427)+1)","v":""},null,{"$f":"IF(F428=\"\",\"\",MAX(E$1:E427)+1)","v":""},null,{"$f":"IF(H428=\"\",\"\",MAX(G$1:G427)+1)","v":""},null,{"$f":"IF(J428=\"\",\"\",MAX(I$1:I427)+1)","v":""},null,{"$f":"IF(L428=\"\",\"\",MAX(K$1:K427)+1)","v":""},null,{"$f":"IF(N428=\"\",\"\",MAX(M$1:M427)+1)","v":""}]
[null,null,{"$f":"IF(D429=\"\",\"\",MAX(C$1:C428)+1)","v":""},null,{"$f":"IF(F429=\"\",\"\",MAX(E$1:E428)+1)","v":""},null,{"$f":"IF(H429=\"\",\"\",MAX(G$1:G428)+1)","v":""},null,{"$f":"IF(J429=\"\",\"\",MAX(I$1:I428)+1)","v":""},null,{"$f":"IF(L429=\"\",\"\",MAX(K$1:K428)+1)","v":""},null,{"$f":"IF(N429=\"\",\"\",MAX(M$1:M428)+1)","v":""}]
[null,null,{"$f":"IF(D430=\"\",\"\",MAX(C$1:C429)+1)","v":""},null,{"$f":"IF(F430=\"\",\"\",MAX(E$1:E429)+1)","v":""},null,{"$f":"IF(H430=\"\",\"\",MAX(G$1:G429)+1)","v":""},null,{"$f":"IF(J430=\"\",\"\",MAX(I$1:I429)+1)","v":""},null,{"$f":"IF(L430=\"\",\"\",MAX(K$1:K429)+1)","v":""},null,{"$f":"IF(N430=\"\",\"\",MAX(M$1:M429)+1)","v":""}]
[null,null,{"$f":"IF(D431=\"\",\"\",MAX(C$1:C430)+1)","v":""},null,{"$f":"IF(F431=\"\",\"\",MAX(E$1:E430)+1)","v":""},null,{"$f":"IF(H431=\"\",\"\",MAX(G$1:G430)+1)","v":""},null,{"$f":"IF(J431=\"\",\"\",MAX(I$1:I430)+1)","v":""},null,{"$f":"IF(L431=\"\",\"\",MAX(K$1:K430)+1)","v":""},null,{"$f":"IF(N431=\"\",\"\",MAX(M$1:M430)+1)","v":""}]
[null,null,{"$f":"IF(D432=\"\",\"\",MAX(C$1:C431)+1)","v":""},null,{"$f":"IF(F432=\"\",\"\",MAX(E$1:E431)+1)","v":""},null,{"$f":"IF(H432=\"\",\"\",MAX(G$1:G431)+1)","v":""},null,{"$f":"IF(J432=\"\",\"\",MAX(I$1:I431)+1)","v":""},null,{"$f":"IF(L432=\"\",\"\",MAX(K$1:K431)+1)","v":""},null,{"$f":"IF(N432=\"\",\"\",MAX(M$1:M431)+1)","v":""}]
[null,null,{"$f":"IF(D433=\"\",\"\",MAX(C$1:C432)+1)","v":""},null,{"$f":"IF(F433=\"\",\"\",MAX(E$1:E432)+1)","v":""},null,{"$f":"IF(H433=\"\",\"\",MAX(G$1:G432)+1)","v":""},null,{"$f":"IF(J433=\"\",\"\",MAX(I$1:I432)+1)","v":""},null,{"$f":"IF(L433=\"\",\"\",MAX(K$1:K432)+1)","v":""},null,{"$f":"IF(N433=\"\",\"\",MAX(M$1:M432)+1)","v":""}]
[null,null,{"$f":"IF(D434=\"\",\"\",MAX(C$1:C433)+1)","v":""},null,{"$f":"IF(F434=\"\",\"\",MAX(E$1:E433)+1)","v":""},null,{"$f":"IF(H434=\"\",\"\",MAX(G$1:G433)+1)","v":""},null,{"$f":"IF(J434=\"\",\"\",MAX(I$1:I433)+1)","v":""},null,{"$f":"IF(L434=\"\",\"\",MAX(K$1:K433)+1)","v":""},null,{"$f":"IF(N434=\"\",\"\",MAX(M$1:M433)+1)","v":""}]
[null,null,{"$f":"IF(D435=\"\",\"\",MAX(C$1:C434)+1)","v":""},null,{"$f":"IF(F435=\"\",\"\",MAX(E$1:E434)+1)","v":""},null,{"$f":"IF(H435=\"\",\"\",MAX(G$1:G434)+1)","v":""},null,{"$f":"IF(J435=\"\",\"\",MAX(I$1:I434)+1)","v":""},null,{"$f":"IF(L435=\"\",\"\",MAX(K$1:K434)+1)","v":""},null,{"$f":"IF(N435=\"\",\"\",MAX(M$1:M434)+1)","v":""}]
[null,null,{"$f":"IF(D436=\"\",\"\",MAX(C$1:C435)+1)","v":""},null,{"$f":"IF(F436=\"\",\"\",MAX(E$1:E435)+1)","v":""},null,{"$f":"IF(H436=\"\",\"\",MAX(G$1:G435)+1)","v":""},null,{"$f":"IF(J436=\"\",\"\",MAX(I$1:I435)+1)","v":""},null,{"$f":"IF(L436=\"\",\"\",MAX(K$1:K435)+1)","v":""},null,{"$f":"IF(N436=\"\",\"\",MAX(M$1:M435)+1)","v":""}]
[null,null,{"$f":"IF(D437=\"\",\"\",MAX(C$1:C436)+1)","v":""},null,{"$f":"IF(F437=\"\",\"\",MAX(E$1:E436)+1)","v":""},null,{"$f":"IF(H437=\"\",\"\",MAX(G$1:G436)+1)","v":""},null,{"$f":"IF(J437=\"\",\"\",MAX(I$1:I436)+1)","v":""},null,{"$f":"IF(L437=\"\",\"\",MAX(K$1:K436)+1)","v":""},null,{"$f":"IF(N437=\"\",\"\",MAX(M$1:M436)+1)","v":""}]
[null,null,{"$f":"IF(D438=\"\",\"\",MAX(C$1:C437)+1)","v":""},null,{"$f":"IF(F438=\"\",\"\",MAX(E$1:E437)+1)","v":""},null,{"$f":"IF(H438=\"\",\"\",MAX(G$1:G437)+1)","v":""},null,{"$f":"IF(J438=\"\",\"\",MAX(I$1:I437)+1)","v":""},null,{"$f":"IF(L438=\"\",\"\",MAX(K$1:K437)+1)","v":""},null,{"$f":"IF(N438=\"\",\"\",MAX(M$1:M437)+1)","v":""}]
[null,null,{"$f":"IF(D439=\"\",\"\",MAX(C$1:C438)+1)","v":""},null,{"$f":"IF(F439=\"\",\"\",MAX(E$1:E438)+1)","v":""},null,{"$f":"IF(H439=\"\",\"\",MAX(G$1:G438)+1)","v":""},null,{"$f":"IF(J439=\"\",\"\",MAX(I$1:I438)+1)","v":""},null,{"$f":"IF(L439=\"\",\"\",MAX(K$1:K438)+1)","v":""},null,{"$f":"IF(N439=\"\",\"\",MAX(M$1:M438)+1)","v":""}]
[null,null,{"$f":"IF(D440=\"\",\"\",MAX(C$1:C439)+1)","v":""},null,{"$f":"IF(F440=\"\",\"\",MAX(E$1:E439)+1)","v":""},null,{"$f":"IF(H440=\"\",\"\",MAX(G$1:G439)+1)","v":""},null,{"$f":"IF(J440=\"\",\"\",MAX(I$1:I439)+1)","v":""},null,{"$f":"IF(L440=\"\",\"\",MAX(K$1:K439)+1)","v":""},null,{"$f":"IF(N440=\"\",\"\",MAX(M$1:M439)+1)","v":""}]
[null,null,{"$f":"IF(D441=\"\",\"\",MAX(C$1:C440)+1)","v":""},null,{"$f":"IF(F441=\"\",\"\",MAX(E$1:E440)+1)","v":""},null,{"$f":"IF(H441=\"\",\"\",MAX(G$1:G440)+1)","v":""},null,{"$f":"IF(J441=\"\",\"\",MAX(I$1:I440)+1)","v":""},null,{"$f":"IF(L441=\"\",\"\",MAX(K$1:K440)+1)","v":""},null,{"$f":"IF(N441=\"\",\"\",MAX(M$1:M440)+1)","v":""}]
[null,null,{"$f":"IF(D442=\"\",\"\",MAX(C$1:C441)+1)","v":""},null,{"$f":"IF(F442=\"\",\"\",MAX(E$1:E441)+1)","v":""},null,{"$f":"IF(H442=\"\",\"\",MAX(G$1:G441)+1)","v":""},null,{"$f":"IF(J442=\"\",\"\",MAX(I$1:I441)+1)","v":""},null,{"$f":"IF(L442=\"\",\"\",MAX(K$1:K441)+1)","v":""},null,{"$f":"IF(N442=\"\",\"\",MAX(M$1:M441)+1)","v":""}]
[null,null,{"$f":"IF(D443=\"\",\"\",MAX(C$1:C442)+1)","v":""},null,{"$f":"IF(F443=\"\",\"\",MAX(E$1:E442)+1)","v":""},null,{"$f":"IF(H443=\"\",\"\",MAX(G$1:G442)+1)","v":""},null,{"$f":"IF(J443=\"\",\"\",MAX(I$1:I442)+1)","v":""},null,{"$f":"IF(L443=\"\",\"\",MAX(K$1:K442)+1)","v":""},null,{"$f":"IF(N443=\"\",\"\",MAX(M$1:M442)+1)","v":""}]
[null,null,{"$f":"IF(D444=\"\",\"\",MAX(C$1:C443)+1)","v":""},null,{"$f":"IF(F444=\"\",\"\",MAX(E$1:E443)+1)","v":""},null,{"$f":"IF(H444=\"\",\"\",MAX(G$1:G443)+1)","v":""},null,{"$f":"IF(J444=\"\",\"\",MAX(I$1:I443)+1)","v":""},null,{"$f":"IF(L444=\"\",\"\",MAX(K$1:K443)+1)","v":""},null,{"$f":"IF(N444=\"\",\"\",MAX(M$1:M443)+1)","v":""}]
[null,null,{"$f":"IF(D445=\"\",\"\",MAX(C$1:C444)+1)","v":""},null,{"$f":"IF(F445=\"\",\"\",MAX(E$1:E444)+1)","v":""},null,{"$f":"IF(H445=\"\",\"\",MAX(G$1:G444)+1)","v":""},null,{"$f":"IF(J445=\"\",\"\",MAX(I$1:I444)+1)","v":""},null,{"$f":"IF(L445=\"\",\"\",MAX(K$1:K444)+1)","v":""},null,{"$f":"IF(N445=\"\",\"\",MAX(M$1:M444)+1)","v":""}]
[null,null,{"$f":"IF(D446=\"\",\"\",MAX(C$1:C445)+1)","v":""},null,{"$f":"IF(F446=\"\",\"\",MAX(E$1:E445)+1)","v":""},null,{"$f":"IF(H446=\"\",\"\",MAX(G$1:G445)+1)","v":""},null,{"$f":"IF(J446=\"\",\"\",MAX(I$1:I445)+1)","v":""},null,{"$f":"IF(L446=\"\",\"\",MAX(K$1:K445)+1)","v":""},null,{"$f":"IF(N446=\"\",\"\",MAX(M$1:M445)+1)","v":""}]
[null,null,{"$f":"IF(D447=\"\",\"\",MAX(C$1:C446)+1)","v":""},null,{"$f":"IF(F447=\"\",\"\",MAX(E$1:E446)+1)","v":""},null,{"$f":"IF(H447=\"\",\"\",MAX(G$1:G446)+1)","v":""},null,{"$f":"IF(J447=\"\",\"\",MAX(I$1:I446)+1)","v":""},null,{"$f":"IF(L447=\"\",\"\",MAX(K$1:K446)+1)","v":""},null,{"$f":"IF(N447=\"\",\"\",MAX(M$1:M446)+1)","v":""}]
[null,null,{"$f":"IF(D448=\"\",\"\",MAX(C$1:C447)+1)","v":""},null,{"$f":"IF(F448=\"\",\"\",MAX(E$1:E447)+1)","v":""},null,{"$f":"IF(H448=\"\",\"\",MAX(G$1:G447)+1)","v":""},null,{"$f":"IF(J448=\"\",\"\",MAX(I$1:I447)+1)","v":""},null,{"$f":"IF(L448=\"\",\"\",MAX(K$1:K447)+1)","v":""},null,{"$f":"IF(N448=\"\",\"\",MAX(M$1:M447)+1)","v":""}]
[null,null,{"$f":"IF(D449=\"\",\"\",MAX(C$1:C448)+1)","v":""},null,{"$f":"IF(F449=\"\",\"\",MAX(E$1:E448)+1)","v":""},null,{"$f":"IF(H449=\"\",\"\",MAX(G$1:G448)+1)","v":""},null,{"$f":"IF(J449=\"\",\"\",MAX(I$1:I448)+1)","v":""},null,{"$f":"IF(L449=\"\",\"\",MAX(K$1:K448)+1)","v":""},null,{"$f":"IF(N449=\"\",\"\",MAX(M$1:M448)+1)","v":""}]
[null,null,{"$f":"IF(D450=\"\",\"\",MAX(C$1:C449)+1)","v":""},null,{"$f":"IF(F450=\"\",\"\",MAX(E$1:E449)+1)","v":""},null,{"$f":"IF(H450=\"\",\"\",MAX(G$1:G449)+1)","v":""},null,{"$f":"IF(J450=\"\",\"\",MAX(I$1:I449)+1)","v":""},null,{"$f":"IF(L450=\"\",\"\",MAX(K$1:K449)+1)","v":""},null,{"$f":"IF(N450=\"\",\"\",MAX(M$1:M449)+1)","v":""}]
[null,null,{"$f":"IF(D451=\"\",\"\",MAX(C$1:C450)+1)","v":""},null,{"$f":"IF(F451=\"\",\"\",MAX(E$1:E450)+1)","v":""},null,{"$f":"IF(H451=\"\",\"\",MAX(G$1:G450)+1)","v":""},null,{"$f":"IF(J451=\"\",\"\",MAX(I$1:I450)+1)","v":""},null,{"$f":"IF(L451=\"\",\"\",MAX(K$1:K450)+1)","v":""},null,{"$f":"IF(N451=\"\",\"\",MAX(M$1:M450)+1)","v":""}]
[null,null,{"$f":"IF(D452=\"\",\"\",MAX(C$1:C451)+1)","v":""},null,{"$f":"IF(F452=\"\",\"\",MAX(E$1:E451)+1)","v":""},null,{"$f":"IF(H452=\"\",\"\",MAX(G$1:G451)+1)","v":""},null,{"$f":"IF(J452=\"\",\"\",MAX(I$1:I451)+1)","v":""},null,{"$f":"IF(L452=\"\",\"\",MAX(K$1:K451)+1)","v":""},null,{"$f":"IF(N452=\"\",\"\",MAX(M$1:M451)+1)","v":""}]
[null,null,{"$f":"IF(D453=\"\",\"\",MAX(C$1:C452)+1)","v":""},null,{"$f":"IF(F453=\"\",\"\",MAX(E$1:E452)+1)","v":""},null,{"$f":"IF(H453=\"\",\"\",MAX(G$1:G452)+1)","v":""},null,{"$f":"IF(J453=\"\",\"\",MAX(I$1:I452)+1)","v":""},null,{"$f":"IF(L453=\"\",\"\",MAX(K$1:K452)+1)","v":""},null,{"$f":"IF(N453=\"\",\"\",MAX(M$1:M452)+1)","v":""}]
[null,null,{"$f":"IF(D454=\"\",\"\",MAX(C$1:C453)+1)","v":""},null,{"$f":"IF(F454=\"\",\"\",MAX(E$1:E453)+1)","v":""},null,{"$f":"IF(H454=\"\",\"\",MAX(G$1:G453)+1)","v":""},null,{"$f":"IF(J454=\"\",\"\",MAX(I$1:I453)+1)","v":""},null,{"$f":"IF(L454=\"\",\"\",MAX(K$1:K453)+1)","v":""},null,{"$f":"IF(N454=\"\",\"\",MAX(M$1:M453)+1)","v":""}]
[null,null,{"$f":"IF(D455=\"\",\"\",MAX(C$1:C454)+1)","v":""},null,{"$f":"IF(F455=\"\",\"\",MAX(E$1:E454)+1)","v":""},null,{"$f":"IF(H455=\"\",\"\",MAX(G$1:G454)+1)","v":""},null,{"$f":"IF(J455=\"\",\"\",MAX(I$1:I454)+1)","v":""},null,{"$f":"IF(L455=\"\",\"\",MAX(K$1:K454)+1)","v":""},null,{"$f":"IF(N455=\"\",\"\",MAX(M$1:M454)+1)","v":""}]
[null,null,{"$f":"IF(D456=\"\",\"\",MAX(C$1:C455)+1)","v":""},null,{"$f":"IF(F456=\"\",\"\",MAX(E$1:E455)+1)","v":""},null,{"$f":"IF(H456=\"\",\"\",MAX(G$1:G455)+1)","v":""},null,{"$f":"IF(J456=\"\",\"\",MAX(I$1:I455)+1)","v":""},null,{"$f":"IF(L456=\"\",\"\",MAX(K$1:K455)+1)","v":""},null,{"$f":"IF(N456=\"\",\"\",MAX(M$1:M455)+1)","v":""}]
[null,null,{"$f":"IF(D457=\"\",\"\",MAX(C$1:C456)+1)","v":""},null,{"$f":"IF(F457=\"\",\"\",MAX(E$1:E456)+1)","v":""},null,{"$f":"IF(H457=\"\",\"\",MAX(G$1:G456)+1)","v":""},null,{"$f":"IF(J457=\"\",\"\",MAX(I$1:I456)+1)","v":""},null,{"$f":"IF(L457=\"\",\"\",MAX(K$1:K456)+1)","v":""},null,{"$f":"IF(N457=\"\",\"\",MAX(M$1:M456)+1)","v":""}]
[null,null,{"$f":"IF(D458=\"\",\"\",MAX(C$1:C457)+1)","v":""},null,{"$f":"IF(F458=\"\",\"\",MAX(E$1:E457)+1)","v":""},null,{"$f":"IF(H458=\"\",\"\",MAX(G$1:G457)+1)","v":""},null,{"$f":"IF(J458=\"\",\"\",MAX(I$1:I457)+1)","v":""},null,{"$f":"IF(L458=\"\",\"\",MAX(K$1:K457)+1)","v":""},null,{"$f":"IF(N458=\"\",\"\",MAX(M$1:M457)+1)","v":""}]
[null,null,{"$f":"IF(D459=\"\",\"\",MAX(C$1:C458)+1)","v":""},null,{"$f":"IF(F459=\"\",\"\",MAX(E$1:E458)+1)","v":""},null,{"$f":"IF(H459=\"\",\"\",MAX(G$1:G458)+1)","v":""},null,{"$f":"IF(J459=\"\",\"\",MAX(I$1:I458)+1)","v":""},null,{"$f":"IF(L459=\"\",\"\",MAX(K$1:K458)+1)","v":""},null,{"$f":"IF(N459=\"\",\"\",MAX(M$1:M458)+1)","v":""}]
[null,null,{"$f":"IF(D460=\"\",\"\",MAX(C$1:C459)+1)","v":""},null,{"$f":"IF(F460=\"\",\"\",MAX(E$1:E459)+1)","v":""},null,{"$f":"IF(H460=\"\",\"\",MAX(G$1:G459)+1)","v":""},null,{"$f":"IF(J460=\"\",\"\",MAX(I$1:I459)+1)","v":""},null,{"$f":"IF(L460=\"\",\"\",MAX(K$1:K459)+1)","v":""},null,{"$f":"IF(N460=\"\",\"\",MAX(M$1:M459)+1)","v":""}]
[null,null,{"$f":"IF(D461=\"\",\"\",MAX(C$1:C460)+1)","v":""},null,{"$f":"IF(F461=\"\",\"\",MAX(E$1:E460)+1)","v":""},null,{"$f":"IF(H461=\"\",\"\",MAX(G$1:G460)+1)","v":""},null,{"$f":"IF(J461=\"\",\"\",MAX(I$1:I460)+1)","v":""},null,{"$f":"IF(L461=\"\",\"\",MAX(K$1:K460)+1)","v":""},null,{"$f":"IF(N461=\"\",\"\",MAX(M$1:M460)+1)","v":""}]
[null,null,{"$f":"IF(D462=\"\",\"\",MAX(C$1:C461)+1)","v":""},null,{"$f":"IF(F462=\"\",\"\",MAX(E$1:E461)+1)","v":""},null,{"$f":"IF(H462=\"\",\"\",MAX(G$1:G461)+1)","v":""},null,{"$f":"IF(J462=\"\",\"\",MAX(I$1:I461)+1)","v":""},null,{"$f":"IF(L462=\"\",\"\",MAX(K$1:K461)+1)","v":""},null,{"$f":"IF(N462=\"\",\"\",MAX(M$1:M461)+1)","v":""}]
[null,null,{"$f":"IF(D463=\"\",\"\",MAX(C$1:C462)+1)","v":""},null,{"$f":"IF(F463=\"\",\"\",MAX(E$1:E462)+1)","v":""},null,{"$f":"IF(H463=\"\",\"\",MAX(G$1:G462)+1)","v":""},null,{"$f":"IF(J463=\"\",\"\",MAX(I$1:I462)+1)","v":""},null,{"$f":"IF(L463=\"\",\"\",MAX(K$1:K462)+1)","v":""},null,{"$f":"IF(N463=\"\",\"\",MAX(M$1:M462)+1)","v":""}]
[null,null,{"$f":"IF(D464=\"\",\"\",MAX(C$1:C463)+1)","v":""},null,{"$f":"IF(F464=\"\",\"\",MAX(E$1:E463)+1)","v":""},null,{"$f":"IF(H464=\"\",\"\",MAX(G$1:G463)+1)","v":""},null,{"$f":"IF(J464=\"\",\"\",MAX(I$1:I463)+1)","v":""},null,{"$f":"IF(L464=\"\",\"\",MAX(K$1:K463)+1)","v":""},null,{"$f":"IF(N464=\"\",\"\",MAX(M$1:M463)+1)","v":""}]
[null,null,{"$f":"IF(D465=\"\",\"\",MAX(C$1:C464)+1)","v":""},null,{"$f":"IF(F465=\"\",\"\",MAX(E$1:E464)+1)","v":""},null,{"$f":"IF(H465=\"\",\"\",MAX(G$1:G464)+1)","v":""},null,{"$f":"IF(J465=\"\",\"\",MAX(I$1:I464)+1)","v":""},null,{"$f":"IF(L465=\"\",\"\",MAX(K$1:K464)+1)","v":""},null,{"$f":"IF(N465=\"\",\"\",MAX(M$1:M464)+1)","v":""}]
[null,null,{"$f":"IF(D466=\"\",\"\",MAX(C$1:C465)+1)","v":""},null,{"$f":"IF(F466=\"\",\"\",MAX(E$1:E465)+1)","v":""},null,{"$f":"IF(H466=\"\",\"\",MAX(G$1:G465)+1)","v":""},null,{"$f":"IF(J466=\"\",\"\",MAX(I$1:I465)+1)","v":""},null,{"$f":"IF(L466=\"\",\"\",MAX(K$1:K465)+1)","v":""},null,{"$f":"IF(N466=\"\",\"\",MAX(M$1:M465)+1)","v":""}]
[null,null,{"$f":"IF(D467=\"\",\"\",MAX(C$1:C466)+1)","v":""},null,{"$f":"IF(F467=\"\",\"\",MAX(E$1:E466)+1)","v":""},null,{"$f":"IF(H467=\"\",\"\",MAX(G$1:G466)+1)","v":""},null,{"$f":"IF(J467=\"\",\"\",MAX(I$1:I466)+1)","v":""},null,{"$f":"IF(L467=\"\",\"\",MAX(K$1:K466)+1)","v":""},null,{"$f":"IF(N467=\"\",\"\",MAX(M$1:M466)+1)","v":""}]
[null,null,{"$f":"IF(D468=\"\",\"\",MAX(C$1:C467)+1)","v":""},null,{"$f":"IF(F468=\"\",\"\",MAX(E$1:E467)+1)","v":""},null,{"$f":"IF(H468=\"\",\"\",MAX(G$1:G467)+1)","v":""},null,{"$f":"IF(J468=\"\",\"\",MAX(I$1:I467)+1)","v":""},null,{"$f":"IF(L468=\"\",\"\",MAX(K$1:K467)+1)","v":""},null,{"$f":"IF(N468=\"\",\"\",MAX(M$1:M467)+1)","v":""}]
[null,null,{"$f":"IF(D469=\"\",\"\",MAX(C$1:C468)+1)","v":""},null,{"$f":"IF(F469=\"\",\"\",MAX(E$1:E468)+1)","v":""},null,{"$f":"IF(H469=\"\",\"\",MAX(G$1:G468)+1)","v":""},null,{"$f":"IF(J469=\"\",\"\",MAX(I$1:I468)+1)","v":""},null,{"$f":"IF(L469=\"\",\"\",MAX(K$1:K468)+1)","v":""},null,{"$f":"IF(N469=\"\",\"\",MAX(M$1:M468)+1)","v":""}]
[null,null,{"$f":"IF(D470=\"\",\"\",MAX(C$1:C469)+1)","v":""},null,{"$f":"IF(F470=\"\",\"\",MAX(E$1:E469)+1)","v":""},null,{"$f":"IF(H470=\"\",\"\",MAX(G$1:G469)+1)","v":""},null,{"$f":"IF(J470=\"\",\"\",MAX(I$1:I469)+1)","v":""},null,{"$f":"IF(L470=\"\",\"\",MAX(K$1:K469)+1)","v":""},null,{"$f":"IF(N470=\"\",\"\",MAX(M$1:M469)+1)","v":""}]
[null,null,{"$f":"IF(D471=\"\",\"\",MAX(C$1:C470)+1)","v":""},null,{"$f":"IF(F471=\"\",\"\",MAX(E$1:E470)+1)","v":""},null,{"$f":"IF(H471=\"\",\"\",MAX(G$1:G470)+1)","v":""},null,{"$f":"IF(J471=\"\",\"\",MAX(I$1:I470)+1)","v":""},null,{"$f":"IF(L471=\"\",\"\",MAX(K$1:K470)+1)","v":""},null,{"$f":"IF(N471=\"\",\"\",MAX(M$1:M470)+1)","v":""}]
[null,null,{"$f":"IF(D472=\"\",\"\",MAX(C$1:C471)+1)","v":""},null,{"$f":"IF(F472=\"\",\"\",MAX(E$1:E471)+1)","v":""},null,{"$f":"IF(H472=\"\",\"\",MAX(G$1:G471)+1)","v":""},null,{"$f":"IF(J472=\"\",\"\",MAX(I$1:I471)+1)","v":""},null,{"$f":"IF(L472=\"\",\"\",MAX(K$1:K471)+1)","v":""},null,{"$f":"IF(N472=\"\",\"\",MAX(M$1:M471)+1)","v":""}]
[null,null,{"$f":"IF(D473=\"\",\"\",MAX(C$1:C472)+1)","v":""},null,{"$f":"IF(F473=\"\",\"\",MAX(E$1:E472)+1)","v":""},null,{"$f":"IF(H473=\"\",\"\",MAX(G$1:G472)+1)","v":""},null,{"$f":"IF(J473=\"\",\"\",MAX(I$1:I472)+1)","v":""},null,{"$f":"IF(L473=\"\",\"\",MAX(K$1:K472)+1)","v":""},null,{"$f":"IF(N473=\"\",\"\",MAX(M$1:M472)+1)","v":""}]
[null,null,{"$f":"IF(D474=\"\",\"\",MAX(C$1:C473)+1)","v":""},null,{"$f":"IF(F474=\"\",\"\",MAX(E$1:E473)+1)","v":""},null,{"$f":"IF(H474=\"\",\"\",MAX(G$1:G473)+1)","v":""},null,{"$f":"IF(J474=\"\",\"\",MAX(I$1:I473)+1)","v":""},null,{"$f":"IF(L474=\"\",\"\",MAX(K$1:K473)+1)","v":""},null,{"$f":"IF(N474=\"\",\"\",MAX(M$1:M473)+1)","v":""}]
[null,null,{"$f":"IF(D475=\"\",\"\",MAX(C$1:C474)+1)","v":""},null,{"$f":"IF(F475=\"\",\"\",MAX(E$1:E474)+1)","v":""},null,{"$f":"IF(H475=\"\",\"\",MAX(G$1:G474)+1)","v":""},null,{"$f":"IF(J475=\"\",\"\",MAX(I$1:I474)+1)","v":""},null,{"$f":"IF(L475=\"\",\"\",MAX(K$1:K474)+1)","v":""},null,{"$f":"IF(N475=\"\",\"\",MAX(M$1:M474)+1)","v":""}]
[null,null,{"$f":"IF(D476=\"\",\"\",MAX(C$1:C475)+1)","v":""},null,{"$f":"IF(F476=\"\",\"\",MAX(E$1:E475)+1)","v":""},null,{"$f":"IF(H476=\"\",\"\",MAX(G$1:G475)+1)","v":""},null,{"$f":"IF(J476=\"\",\"\",MAX(I$1:I475)+1)","v":""},null,{"$f":"IF(L476=\"\",\"\",MAX(K$1:K475)+1)","v":""},null,{"$f":"IF(N476=\"\",\"\",MAX(M$1:M475)+1)","v":""}]
[null,null,{"$f":"IF(D477=\"\",\"\",MAX(C$1:C476)+1)","v":""},null,{"$f":"IF(F477=\"\",\"\",MAX(E$1:E476)+1)","v":""},null,{"$f":"IF(H477=\"\",\"\",MAX(G$1:G476)+1)","v":""},null,{"$f":"IF(J477=\"\",\"\",MAX(I$1:I476)+1)","v":""},null,{"$f":"IF(L477=\"\",\"\",MAX(K$1:K476)+1)","v":""},null,{"$f":"IF(N477=\"\",\"\",MAX(M$1:M476)+1)","v":""}]
[null,null,{"$f":"IF(D478=\"\",\"\",MAX(C$1:C477)+1)","v":""},null,{"$f":"IF(F478=\"\",\"\",MAX(E$1:E477)+1)","v":""},null,{"$f":"IF(H478=\"\",\"\",MAX(G$1:G477)+1)","v":""},null,{"$f":"IF(J478=\"\",\"\",MAX(I$1:I477)+1)","v":""},null,{"$f":"IF(L478=\"\",\"\",MAX(K$1:K477)+1)","v":""},null,{"$f":"IF(N478=\"\",\"\",MAX(M$1:M477)+1)","v":""}]
[null,null,{"$f":"IF(D479=\"\",\"\",MAX(C$1:C478)+1)","v":""},null,{"$f":"IF(F479=\"\",\"\",MAX(E$1:E478)+1)","v":""},null,{"$f":"IF(H479=\"\",\"\",MAX(G$1:G478)+1)","v":""},null,{"$f":"IF(J479=\"\",\"\",MAX(I$1:I478)+1)","v":""},null,{"$f":"IF(L479=\"\",\"\",MAX(K$1:K478)+1)","v":""},null,{"$f":"IF(N479=\"\",\"\",MAX(M$1:M478)+1)","v":""}]
[null,null,{"$f":"IF(D480=\"\",\"\",MAX(C$1:C479)+1)","v":""},null,{"$f":"IF(F480=\"\",\"\",MAX(E$1:E479)+1)","v":""},null,{"$f":"IF(H480=\"\",\"\",MAX(G$1:G479)+1)","v":""},null,{"$f":"IF(J480=\"\",\"\",MAX(I$1:I479)+1)","v":""},null,{"$f":"IF(L480=\"\",\"\",MAX(K$1:K479)+1)","v":""},null,{"$f":"IF(N480=\"\",\"\",MAX(M$1:M479)+1)","v":""}]
[null,null,{"$f":"IF(D481=\"\",\"\",MAX(C$1:C480)+1)","v":""},null,{"$f":"IF(F481=\"\",\"\",MAX(E$1:E480)+1)","v":""},null,{"$f":"IF(H481=\"\",\"\",MAX(G$1:G480)+1)","v":""},null,{"$f":"IF(J481=\"\",\"\",MAX(I$1:I480)+1)","v":""},null,{"$f":"IF(L481=\"\",\"\",MAX(K$1:K480)+1)","v":""},null,{"$f":"IF(N481=\"\",\"\",MAX(M$1:M480)+1)","v":""}]
[null,null,{"$f":"IF(D482=\"\",\"\",MAX(C$1:C481)+1)","v":""},null,{"$f":"IF(F482=\"\",\"\",MAX(E$1:E481)+1)","v":""},null,{"$f":"IF(H482=\"\",\"\",MAX(G$1:G481)+1)","v":""},null,{"$f":"IF(J482=\"\",\"\",MAX(I$1:I481)+1)","v":""},null,{"$f":"IF(L482=\"\",\"\",MAX(K$1:K481)+1)","v":""},null,{"$f":"IF(N482=\"\",\"\",MAX(M$1:M481)+1)","v":""}]
[null,null,{"$f":"IF(D483=\"\",\"\",MAX(C$1:C482)+1)","v":""},null,{"$f":"IF(F483=\"\",\"\",MAX(E$1:E482)+1)","v":""},null,{"$f":"IF(H483=\"\",\"\",MAX(G$1:G482)+1)","v":""},null,{"$f":"IF(J483=\"\",\"\",MAX(I$1:I482)+1)","v":""},null,{"$f":"IF(L483=\"\",\"\",MAX(K$1:K482)+1)","v":""},null,{"$f":"IF(N483=\"\",\"\",MAX(M$1:M482)+1)","v":""}]
[null,null,{"$f":"IF(D484=\"\",\"\",MAX(C$1:C483)+1)","v":""},null,{"$f":"IF(F484=\"\",\"\",MAX(E$1:E483)+1)","v":""},null,{"$f":"IF(H484=\"\",\"\",MAX(G$1:G483)+1)","v":""},null,{"$f":"IF(J484=\"\",\"\",MAX(I$1:I483)+1)","v":""},null,{"$f":"IF(L484=\"\",\"\",MAX(K$1:K483)+1)","v":""},null,{"$f":"IF(N484=\"\",\"\",MAX(M$1:M483)+1)","v":""}]
[null,null,{"$f":"IF(D485=\"\",\"\",MAX(C$1:C484)+1)","v":""},null,{"$f":"IF(F485=\"\",\"\",MAX(E$1:E484)+1)","v":""},null,{"$f":"IF(H485=\"\",\"\",MAX(G$1:G484)+1)","v":""},null,{"$f":"IF(J485=\"\",\"\",MAX(I$1:I484)+1)","v":""},null,{"$f":"IF(L485=\"\",\"\",MAX(K$1:K484)+1)","v":""},null,{"$f":"IF(N485=\"\",\"\",MAX(M$1:M484)+1)","v":""}]
[null,null,{"$f":"IF(D486=\"\",\"\",MAX(C$1:C485)+1)","v":""},null,{"$f":"IF(F486=\"\",\"\",MAX(E$1:E485)+1)","v":""},null,{"$f":"IF(H486=\"\",\"\",MAX(G$1:G485)+1)","v":""},null,{"$f":"IF(J486=\"\",\"\",MAX(I$1:I485)+1)","v":""},null,{"$f":"IF(L486=\"\",\"\",MAX(K$1:K485)+1)","v":""},null,{"$f":"IF(N486=\"\",\"\",MAX(M$1:M485)+1)","v":""}]
[null,null,{"$f":"IF(D487=\"\",\"\",MAX(C$1:C486)+1)","v":""},null,{"$f":"IF(F487=\"\",\"\",MAX(E$1:E486)+1)","v":""},null,{"$f":"IF(H487=\"\",\"\",MAX(G$1:G486)+1)","v":""},null,{"$f":"IF(J487=\"\",\"\",MAX(I$1:I486)+1)","v":""},null,{"$f":"IF(L487=\"\",\"\",MAX(K$1:K486)+1)","v":""},null,{"$f":"IF(N487=\"\",\"\",MAX(M$1:M486)+1)","v":""}]
[null,null,{"$f":"IF(D488=\"\",\"\",MAX(C$1:C487)+1)","v":""},null,{"$f":"IF(F488=\"\",\"\",MAX(E$1:E487)+1)","v":""},null,{"$f":"IF(H488=\"\",\"\",MAX(G$1:G487)+1)","v":""},null,{"$f":"IF(J488=\"\",\"\",MAX(I$1:I487)+1)","v":""},null,{"$f":"IF(L488=\"\",\"\",MAX(K$1:K487)+1)","v":""},null,{"$f":"IF(N488=\"\",\"\",MAX(M$1:M487)+1)","v":""}]
[null,null,{"$f":"IF(D489=\"\",\"\",MAX(C$1:C488)+1)","v":""},null,{"$f":"IF(F489=\"\",\"\",MAX(E$1:E488)+1)","v":""},null,{"$f":"IF(H489=\"\",\"\",MAX(G$1:G488)+1)","v":""},null,{"$f":"IF(J489=\"\",\"\",MAX(I$1:I488)+1)","v":""},null,{"$f":"IF(L489=\"\",\"\",MAX(K$1:K488)+1)","v":""},null,{"$f":"IF(N489=\"\",\"\",MAX(M$1:M488)+1)","v":""}]
[null,null,{"$f":"IF(D490=\"\",\"\",MAX(C$1:C489)+1)","v":""},null,{"$f":"IF(F490=\"\",\"\",MAX(E$1:E489)+1)","v":""},null,{"$f":"IF(H490=\"\",\"\",MAX(G$1:G489)+1)","v":""},null,{"$f":"IF(J490=\"\",\"\",MAX(I$1:I489)+1)","v":""},null,{"$f":"IF(L490=\"\",\"\",MAX(K$1:K489)+1)","v":""},null,{"$f":"IF(N490=\"\",\"\",MAX(M$1:M489)+1)","v":""}]
[null,null,{"$f":"IF(D491=\"\",\"\",MAX(C$1:C490)+1)","v":""},null,{"$f":"IF(F491=\"\",\"\",MAX(E$1:E490)+1)","v":""},null,{"$f":"IF(H491=\"\",\"\",MAX(G$1:G490)+1)","v":""},null,{"$f":"IF(J491=\"\",\"\",MAX(I$1:I490)+1)","v":""},null,{"$f":"IF(L491=\"\",\"\",MAX(K$1:K490)+1)","v":""},null,{"$f":"IF(N491=\"\",\"\",MAX(M$1:M490)+1)","v":""}]
[null,null,{"$f":"IF(D492=\"\",\"\",MAX(C$1:C491)+1)","v":""},null,{"$f":"IF(F492=\"\",\"\",MAX(E$1:E491)+1)","v":""},null,{"$f":"IF(H492=\"\",\"\",MAX(G$1:G491)+1)","v":""},null,{"$f":"IF(J492=\"\",\"\",MAX(I$1:I491)+1)","v":""},null,{"$f":"IF(L492=\"\",\"\",MAX(K$1:K491)+1)","v":""},null,{"$f":"IF(N492=\"\",\"\",MAX(M$1:M491)+1)","v":""}]
[null,null,{"$f":"IF(D493=\"\",\"\",MAX(C$1:C492)+1)","v":""},null,{"$f":"IF(F493=\"\",\"\",MAX(E$1:E492)+1)","v":""},null,{"$f":"IF(H493=\"\",\"\",MAX(G$1:G492)+1)","v":""},null,{"$f":"IF(J493=\"\",\"\",MAX(I$1:I492)+1)","v":""},null,{"$f":"IF(L493=\"\",\"\",MAX(K$1:K492)+1)","v":""},null,{"$f":"IF(N493=\"\",\"\",MAX(M$1:M492)+1)","v":""}]
[null,null,{"$f":"IF(D494=\"\",\"\",MAX(C$1:C493)+1)","v":""},null,{"$f":"IF(F494=\"\",\"\",MAX(E$1:E493)+1)","v":""},null,{"$f":"IF(H494=\"\",\"\",MAX(G$1:G493)+1)","v":""},null,{"$f":"IF(J494=\"\",\"\",MAX(I$1:I493)+1)","v":""},null,{"$f":"IF(L494=\"\",\"\",MAX(K$1:K493)+1)","v":""},null,{"$f":"IF(N494=\"\",\"\",MAX(M$1:M493)+1)","v":""}]
[null,null,{"$f":"IF(D495=\"\",\"\",MAX(C$1:C494)+1)","v":""},null,{"$f":"IF(F495=\"\",\"\",MAX(E$1:E494)+1)","v":""},null,{"$f":"IF(H495=\"\",\"\",MAX(G$1:G494)+1)","v":""},null,{"$f":"IF(J495=\"\",\"\",MAX(I$1:I494)+1)","v":""},null,{"$f":"IF(L495=\"\",\"\",MAX(K$1:K494)+1)","v":""},null,{"$f":"IF(N495=\"\",\"\",MAX(M$1:M494)+1)","v":""}]
[null,null,{"$f":"IF(D496=\"\",\"\",MAX(C$1:C495)+1)","v":""},null,{"$f":"IF(F496=\"\",\"\",MAX(E$1:E495)+1)","v":""},null,{"$f":"IF(H496=\"\",\"\",MAX(G$1:G495)+1)","v":""},null,{"$f":"IF(J496=\"\",\"\",MAX(I$1:I495)+1)","v":""},null,{"$f":"IF(L496=\"\",\"\",MAX(K$1:K495)+1)","v":""},null,{"$f":"IF(N496=\"\",\"\",MAX(M$1:M495)+1)","v":""}]
[null,null,{"$f":"IF(D497=\"\",\"\",MAX(C$1:C496)+1)","v":""},null,{"$f":"IF(F497=\"\",\"\",MAX(E$1:E496)+1)","v":""},null,{"$f":"IF(H497=\"\",\"\",MAX(G$1:G496)+1)","v":""},null,{"$f":"IF(J497=\"\",\"\",MAX(I$1:I496)+1)","v":""},null,{"$f":"IF(L497=\"\",\"\",MAX(K$1:K496)+1)","v":""},null,{"$f":"IF(N497=\"\",\"\",MAX(M$1:M496)+1)","v":""}]
[null,null,{"$f":"IF(D498=\"\",\"\",MAX(C$1:C497)+1)","v":""},null,{"$f":"IF(F498=\"\",\"\",MAX(E$1:E497)+1)","v":""},null,{"$f":"IF(H498=\"\",\"\",MAX(G$1:G497)+1)","v":""},null,{"$f":"IF(J498=\"\",\"\",MAX(I$1:I497)+1)","v":""},null,{"$f":"IF(L498=\"\",\"\",MAX(K$1:K497)+1)","v":""},null,{"$f":"IF(N498=\"\",\"\",MAX(M$1:M497)+1)","v":""}]
[null,null,{"$f":"IF(D499=\"\",\"\",MAX(C$1:C498)+1)","v":""},null,{"$f":"IF(F499=\"\",\"\",MAX(E$1:E498)+1)","v":""},null,{"$f":"IF(H499=\"\",\"\",MAX(G$1:G498)+1)","v":""},null,{"$f":"IF(J499=\"\",\"\",MAX(I$1:I498)+1)","v":""},null,{"$f":"IF(L499=\"\",\"\",MAX(K$1:K498)+1)","v":""},null,{"$f":"IF(N499=\"\",\"\",MAX(M$1:M498)+1)","v":""}]
[null,null,{"$f":"IF(D500=\"\",\"\",MAX(C$1:C499)+1)","v":""},null,{"$f":"IF(F500=\"\",\"\",MAX(E$1:E499)+1)","v":""},null,{"$f":"IF(H500=\"\",\"\",MAX(G$1:G499)+1)","v":""},null,{"$f":"IF(J500=\"\",\"\",MAX(I$1:I499)+1)","v":""},null,{"$f":"IF(L500=\"\",\"\",MAX(K$1:K499)+1)","v":""},null,{"$f":"IF(N500=\"\",\"\",MAX(M$1:M499)+1)","v":""}]
[null,null,{"$f":"IF(D501=\"\",\"\",MAX(C$1:C500)+1)","v":""},null,{"$f":"IF(F501=\"\",\"\",MAX(E$1:E500)+1)","v":""},null,{"$f":"IF(H501=\"\",\"\",MAX(G$1:G500)+1)","v":""},null,{"$f":"IF(J501=\"\",\"\",MAX(I$1:I500)+1)","v":""},null,{"$f":"IF(L501=\"\",\"\",MAX(K$1:K500)+1)","v":""},null,{"$f":"IF(N501=\"\",\"\",MAX(M$1:M500)+1)","v":""}]
[null,null,{"$f":"IF(D502=\"\",\"\",MAX(C$1:C501)+1)","v":""},null,{"$f":"IF(F502=\"\",\"\",MAX(E$1:E501)+1)","v":""},null,{"$f":"IF(H502=\"\",\"\",MAX(G$1:G501)+1)","v":""},null,{"$f":"IF(J502=\"\",\"\",MAX(I$1:I501)+1)","v":""},null,{"$f":"IF(L502=\"\",\"\",MAX(K$1:K501)+1)","v":""},null,{"$f":"IF(N502=\"\",\"\",MAX(M$1:M501)+1)","v":""}]
[null,null,{"$f":"IF(D503=\"\",\"\",MAX(C$1:C502)+1)","v":""},null,{"$f":"IF(F503=\"\",\"\",MAX(E$1:E502)+1)","v":""},null,{"$f":"IF(H503=\"\",\"\",MAX(G$1:G502)+1)","v":""},null,{"$f":"IF(J503=\"\",\"\",MAX(I$1:I502)+1)","v":""},null,{"$f":"IF(L503=\"\",\"\",MAX(K$1:K502)+1)","v":""},null,{"$f":"IF(N503=\"\",\"\",MAX(M$1:M502)+1)","v":""}]
[null,null,{"$f":"IF(D504=\"\",\"\",MAX(C$1:C503)+1)","v":""},null,{"$f":"IF(F504=\"\",\"\",MAX(E$1:E503)+1)","v":""},null,{"$f":"IF(H504=\"\",\"\",MAX(G$1:G503)+1)","v":""},null,{"$f":"IF(J504=\"\",\"\",MAX(I$1:I503)+1)","v":""},null,{"$f":"IF(L504=\"\",\"\",MAX(K$1:K503)+1)","v":""},null,{"$f":"IF(N504=\"\",\"\",MAX(M$1:M503)+1)","v":""}]
[null,null,{"$f":"IF(D505=\"\",\"\",MAX(C$1:C504)+1)","v":""},null,{"$f":"IF(F505=\"\",\"\",MAX(E$1:E504)+1)","v":""},null,{"$f":"IF(H505=\"\",\"\",MAX(G$1:G504)+1)","v":""},null,{"$f":"IF(J505=\"\",\"\",MAX(I$1:I504)+1)","v":""},null,{"$f":"IF(L505=\"\",\"\",MAX(K$1:K504)+1)","v":""},null,{"$f":"IF(N505=\"\",\"\",MAX(M$1:M504)+1)","v":""}]
[null,null,{"$f":"IF(D506=\"\",\"\",MAX(C$1:C505)+1)","v":""},null,{"$f":"IF(F506=\"\",\"\",MAX(E$1:E505)+1)","v":""},null,{"$f":"IF(H506=\"\",\"\",MAX(G$1:G505)+1)","v":""},null,{"$f":"IF(J506=\"\",\"\",MAX(I$1:I505)+1)","v":""},null,{"$f":"IF(L506=\"\",\"\",MAX(K$1:K505)+1)","v":""},null,{"$f":"IF(N506=\"\",\"\",MAX(M$1:M505)+1)","v":""}]
[null,null,{"$f":"IF(D507=\"\",\"\",MAX(C$1:C506)+1)","v":""},null,{"$f":"IF(F507=\"\",\"\",MAX(E$1:E506)+1)","v":""},null,{"$f":"IF(H507=\"\",\"\",MAX(G$1:G506)+1)","v":""},null,{"$f":"IF(J507=\"\",\"\",MAX(I$1:I506)+1)","v":""},null,{"$f":"IF(L507=\"\",\"\",MAX(K$1:K506)+1)","v":""},null,{"$f":"IF(N507=\"\",\"\",MAX(M$1:M506)+1)","v":""}]
[null,null,{"$f":"IF(D508=\"\",\"\",MAX(C$1:C507)+1)","v":""},null,{"$f":"IF(F508=\"\",\"\",MAX(E$1:E507)+1)","v":""},null,{"$f":"IF(H508=\"\",\"\",MAX(G$1:G507)+1)","v":""},null,{"$f":"IF(J508=\"\",\"\",MAX(I$1:I507)+1)","v":""},null,{"$f":"IF(L508=\"\",\"\",MAX(K$1:K507)+1)","v":""},null,{"$f":"IF(N508=\"\",\"\",MAX(M$1:M507)+1)","v":""}]
[null,null,{"$f":"IF(D509=\"\",\"\",MAX(C$1:C508)+1)","v":""},null,{"$f":"IF(F509=\"\",\"\",MAX(E$1:E508)+1)","v":""},null,{"$f":"IF(H509=\"\",\"\",MAX(G$1:G508)+1)","v":""},null,{"$f":"IF(J509=\"\",\"\",MAX(I$1:I508)+1)","v":""},null,{"$f":"IF(L509=\"\",\"\",MAX(K$1:K508)+1)","v":""},null,{"$f":"IF(N509=\"\",\"\",MAX(M$1:M508)+1)","v":""}]
[null,null,{"$f":"IF(D510=\"\",\"\",MAX(C$1:C509)+1)","v":""},null,{"$f":"IF(F510=\"\",\"\",MAX(E$1:E509)+1)","v":""},null,{"$f":"IF(H510=\"\",\"\",MAX(G$1:G509)+1)","v":""},null,{"$f":"IF(J510=\"\",\"\",MAX(I$1:I509)+1)","v":""},null,{"$f":"IF(L510=\"\",\"\",MAX(K$1:K509)+1)","v":""},null,{"$f":"IF(N510=\"\",\"\",MAX(M$1:M509)+1)","v":""}]
[null,null,{"$f":"IF(D511=\"\",\"\",MAX(C$1:C510)+1)","v":""},null,{"$f":"IF(F511=\"\",\"\",MAX(E$1:E510)+1)","v":""},null,{"$f":"IF(H511=\"\",\"\",MAX(G$1:G510)+1)","v":""},null,{"$f":"IF(J511=\"\",\"\",MAX(I$1:I510)+1)","v":""},null,{"$f":"IF(L511=\"\",\"\",MAX(K$1:K510)+1)","v":""},null,{"$f":"IF(N511=\"\",\"\",MAX(M$1:M510)+1)","v":""}]
[null,null,{"$f":"IF(D512=\"\",\"\",MAX(C$1:C511)+1)","v":""},null,{"$f":"IF(F512=\"\",\"\",MAX(E$1:E511)+1)","v":""},null,{"$f":"IF(H512=\"\",\"\",MAX(G$1:G511)+1)","v":""},null,{"$f":"IF(J512=\"\",\"\",MAX(I$1:I511)+1)","v":""},null,{"$f":"IF(L512=\"\",\"\",MAX(K$1:K511)+1)","v":""},null,{"$f":"IF(N512=\"\",\"\",MAX(M$1:M511)+1)","v":""}]
[null,null,{"$f":"IF(D513=\"\",\"\",MAX(C$1:C512)+1)","v":""},null,{"$f":"IF(F513=\"\",\"\",MAX(E$1:E512)+1)","v":""},null,{"$f":"IF(H513=\"\",\"\",MAX(G$1:G512)+1)","v":""},null,{"$f":"IF(J513=\"\",\"\",MAX(I$1:I512)+1)","v":""},null,{"$f":"IF(L513=\"\",\"\",MAX(K$1:K512)+1)","v":""},null,{"$f":"IF(N513=\"\",\"\",MAX(M$1:M512)+1)","v":""}]
[null,null,{"$f":"IF(D514=\"\",\"\",MAX(C$1:C513)+1)","v":""},null,{"$f":"IF(F514=\"\",\"\",MAX(E$1:E513)+1)","v":""},null,{"$f":"IF(H514=\"\",\"\",MAX(G$1:G513)+1)","v":""},null,{"$f":"IF(J514=\"\",\"\",MAX(I$1:I513)+1)","v":""},null,{"$f":"IF(L514=\"\",\"\",MAX(K$1:K513)+1)","v":""},null,{"$f":"IF(N514=\"\",\"\",MAX(M$1:M513)+1)","v":""}]
[null,null,{"$f":"IF(D515=\"\",\"\",MAX(C$1:C514)+1)","v":""},null,{"$f":"IF(F515=\"\",\"\",MAX(E$1:E514)+1)","v":""},null,{"$f":"IF(H515=\"\",\"\",MAX(G$1:G514)+1)","v":""},null,{"$f":"IF(J515=\"\",\"\",MAX(I$1:I514)+1)","v":""},null,{"$f":"IF(L515=\"\",\"\",MAX(K$1:K514)+1)","v":""},null,{"$f":"IF(N515=\"\",\"\",MAX(M$1:M514)+1)","v":""}]
[null,null,{"$f":"IF(D516=\"\",\"\",MAX(C$1:C515)+1)","v":""},null,{"$f":"IF(F516=\"\",\"\",MAX(E$1:E515)+1)","v":""},null,{"$f":"IF(H516=\"\",\"\",MAX(G$1:G515)+1)","v":""},null,{"$f":"IF(J516=\"\",\"\",MAX(I$1:I515)+1)","v":""},null,{"$f":"IF(L516=\"\",\"\",MAX(K$1:K515)+1)","v":""},null,{"$f":"IF(N516=\"\",\"\",MAX(M$1:M515)+1)","v":""}]
[null,null,{"$f":"IF(D517=\"\",\"\",MAX(C$1:C516)+1)","v":""},null,{"$f":"IF(F517=\"\",\"\",MAX(E$1:E516)+1)","v":""},null,{"$f":"IF(H517=\"\",\"\",MAX(G$1:G516)+1)","v":""},null,{"$f":"IF(J517=\"\",\"\",MAX(I$1:I516)+1)","v":""},null,{"$f":"IF(L517=\"\",\"\",MAX(K$1:K516)+1)","v":""},null,{"$f":"IF(N517=\"\",\"\",MAX(M$1:M516)+1)","v":""}]
[null,null,{"$f":"IF(D518=\"\",\"\",MAX(C$1:C517)+1)","v":""},null,{"$f":"IF(F518=\"\",\"\",MAX(E$1:E517)+1)","v":""},null,{"$f":"IF(H518=\"\",\"\",MAX(G$1:G517)+1)","v":""},null,{"$f":"IF(J518=\"\",\"\",MAX(I$1:I517)+1)","v":""},null,{"$f":"IF(L518=\"\",\"\",MAX(K$1:K517)+1)","v":""},null,{"$f":"IF(N518=\"\",\"\",MAX(M$1:M517)+1)","v":""}]
[null,null,{"$f":"IF(D519=\"\",\"\",MAX(C$1:C518)+1)","v":""},null,{"$f":"IF(F519=\"\",\"\",MAX(E$1:E518)+1)","v":""},null,{"$f":"IF(H519=\"\",\"\",MAX(G$1:G518)+1)","v":""},null,{"$f":"IF(J519=\"\",\"\",MAX(I$1:I518)+1)","v":""},null,{"$f":"IF(L519=\"\",\"\",MAX(K$1:K518)+1)","v":""},null,{"$f":"IF(N519=\"\",\"\",MAX(M$1:M518)+1)","v":""}]
[null,null,{"$f":"IF(D520=\"\",\"\",MAX(C$1:C519)+1)","v":""},null,{"$f":"IF(F520=\"\",\"\",MAX(E$1:E519)+1)","v":""},null,{"$f":"IF(H520=\"\",\"\",MAX(G$1:G519)+1)","v":""},null,{"$f":"IF(J520=\"\",\"\",MAX(I$1:I519)+1)","v":""},null,{"$f":"IF(L520=\"\",\"\",MAX(K$1:K519)+1)","v":""},null,{"$f":"IF(N520=\"\",\"\",MAX(M$1:M519)+1)","v":""}]
[null,null,{"$f":"IF(D521=\"\",\"\",MAX(C$1:C520)+1)","v":""},null,{"$f":"IF(F521=\"\",\"\",MAX(E$1:E520)+1)","v":""},null,{"$f":"IF(H521=\"\",\"\",MAX(G$1:G520)+1)","v":""},null,{"$f":"IF(J521=\"\",\"\",MAX(I$1:I520)+1)","v":""},null,{"$f":"IF(L521=\"\",\"\",MAX(K$1:K520)+1)","v":""},null,{"$f":"IF(N521=\"\",\"\",MAX(M$1:M520)+1)","v":""}]
[null,null,{"$f":"IF(D522=\"\",\"\",MAX(C$1:C521)+1)","v":""},null,{"$f":"IF(F522=\"\",\"\",MAX(E$1:E521)+1)","v":""},null,{"$f":"IF(H522=\"\",\"\",MAX(G$1:G521)+1)","v":""},null,{"$f":"IF(J522=\"\",\"\",MAX(I$1:I521)+1)","v":""},null,{"$f":"IF(L522=\"\",\"\",MAX(K$1:K521)+1)","v":""},null,{"$f":"IF(N522=\"\",\"\",MAX(M$1:M521)+1)","v":""}]
[null,null,{"$f":"IF(D523=\"\",\"\",MAX(C$1:C522)+1)","v":""},null,{"$f":"IF(F523=\"\",\"\",MAX(E$1:E522)+1)","v":""},null,{"$f":"IF(H523=\"\",\"\",MAX(G$1:G522)+1)","v":""},null,{"$f":"IF(J523=\"\",\"\",MAX(I$1:I522)+1)","v":""},null,{"$f":"IF(L523=\"\",\"\",MAX(K$1:K522)+1)","v":""},null,{"$f":"IF(N523=\"\",\"\",MAX(M$1:M522)+1)","v":""}]
[null,null,{"$f":"IF(D524=\"\",\"\",MAX(C$1:C523)+1)","v":""},null,{"$f":"IF(F524=\"\",\"\",MAX(E$1:E523)+1)","v":""},null,{"$f":"IF(H524=\"\",\"\",MAX(G$1:G523)+1)","v":""},null,{"$f":"IF(J524=\"\",\"\",MAX(I$1:I523)+1)","v":""},null,{"$f":"IF(L524=\"\",\"\",MAX(K$1:K523)+1)","v":""},null,{"$f":"IF(N524=\"\",\"\",MAX(M$1:M523)+1)","v":""}]
[null,null,{"$f":"IF(D525=\"\",\"\",MAX(C$1:C524)+1)","v":""},null,{"$f":"IF(F525=\"\",\"\",MAX(E$1:E524)+1)","v":""},null,{"$f":"IF(H525=\"\",\"\",MAX(G$1:G524)+1)","v":""},null,{"$f":"IF(J525=\"\",\"\",MAX(I$1:I524)+1)","v":""},null,{"$f":"IF(L525=\"\",\"\",MAX(K$1:K524)+1)","v":""},null,{"$f":"IF(N525=\"\",\"\",MAX(M$1:M524)+1)","v":""}]
[null,null,{"$f":"IF(D526=\"\",\"\",MAX(C$1:C525)+1)","v":""},null,{"$f":"IF(F526=\"\",\"\",MAX(E$1:E525)+1)","v":""},null,{"$f":"IF(H526=\"\",\"\",MAX(G$1:G525)+1)","v":""},null,{"$f":"IF(J526=\"\",\"\",MAX(I$1:I525)+1)","v":""},null,{"$f":"IF(L526=\"\",\"\",MAX(K$1:K525)+1)","v":""},null,{"$f":"IF(N526=\"\",\"\",MAX(M$1:M525)+1)","v":""}]
[null,null,{"$f":"IF(D527=\"\",\"\",MAX(C$1:C526)+1)","v":""},null,{"$f":"IF(F527=\"\",\"\",MAX(E$1:E526)+1)","v":""},null,{"$f":"IF(H527=\"\",\"\",MAX(G$1:G526)+1)","v":""},null,{"$f":"IF(J527=\"\",\"\",MAX(I$1:I526)+1)","v":""},null,{"$f":"IF(L527=\"\",\"\",MAX(K$1:K526)+1)","v":""},null,{"$f":"IF(N527=\"\",\"\",MAX(M$1:M526)+1)","v":""}]
[null,null,{"$f":"IF(D528=\"\",\"\",MAX(C$1:C527)+1)","v":""},null,{"$f":"IF(F528=\"\",\"\",MAX(E$1:E527)+1)","v":""},null,{"$f":"IF(H528=\"\",\"\",MAX(G$1:G527)+1)","v":""},null,{"$f":"IF(J528=\"\",\"\",MAX(I$1:I527)+1)","v":""},null,{"$f":"IF(L528=\"\",\"\",MAX(K$1:K527)+1)","v":""},null,{"$f":"IF(N528=\"\",\"\",MAX(M$1:M527)+1)","v":""}]
[null,null,{"$f":"IF(D529=\"\",\"\",MAX(C$1:C528)+1)","v":""},null,{"$f":"IF(F529=\"\",\"\",MAX(E$1:E528)+1)","v":""},null,{"$f":"IF(H529=\"\",\"\",MAX(G$1:G528)+1)","v":""},null,{"$f":"IF(J529=\"\",\"\",MAX(I$1:I528)+1)","v":""},null,{"$f":"IF(L529=\"\",\"\",MAX(K$1:K528)+1)","v":""},null,{"$f":"IF(N529=\"\",\"\",MAX(M$1:M528)+1)","v":""}]
[null,null,{"$f":"IF(D530=\"\",\"\",MAX(C$1:C529)+1)","v":""},null,{"$f":"IF(F530=\"\",\"\",MAX(E$1:E529)+1)","v":""},null,{"$f":"IF(H530=\"\",\"\",MAX(G$1:G529)+1)","v":""},null,{"$f":"IF(J530=\"\",\"\",MAX(I$1:I529)+1)","v":""},null,{"$f":"IF(L530=\"\",\"\",MAX(K$1:K529)+1)","v":""},null,{"$f":"IF(N530=\"\",\"\",MAX(M$1:M529)+1)","v":""}]
[null,null,{"$f":"IF(D531=\"\",\"\",MAX(C$1:C530)+1)","v":""},null,{"$f":"IF(F531=\"\",\"\",MAX(E$1:E530)+1)","v":""},null,{"$f":"IF(H531=\"\",\"\",MAX(G$1:G530)+1)","v":""},null,{"$f":"IF(J531=\"\",\"\",MAX(I$1:I530)+1)","v":""},null,{"$f":"IF(L531=\"\",\"\",MAX(K$1:K530)+1)","v":""},null,{"$f":"IF(N531=\"\",\"\",MAX(M$1:M530)+1)","v":""}]
[null,null,{"$f":"IF(D532=\"\",\"\",MAX(C$1:C531)+1)","v":""},null,{"$f":"IF(F532=\"\",\"\",MAX(E$1:E531)+1)","v":""},null,{"$f":"IF(H532=\"\",\"\",MAX(G$1:G531)+1)","v":""},null,{"$f":"IF(J532=\"\",\"\",MAX(I$1:I531)+1)","v":""},null,{"$f":"IF(L532=\"\",\"\",MAX(K$1:K531)+1)","v":""},null,{"$f":"IF(N532=\"\",\"\",MAX(M$1:M531)+1)","v":""}]
[null,null,{"$f":"IF(D533=\"\",\"\",MAX(C$1:C532)+1)","v":""},null,{"$f":"IF(F533=\"\",\"\",MAX(E$1:E532)+1)","v":""},null,{"$f":"IF(H533=\"\",\"\",MAX(G$1:G532)+1)","v":""},null,{"$f":"IF(J533=\"\",\"\",MAX(I$1:I532)+1)","v":""},null,{"$f":"IF(L533=\"\",\"\",MAX(K$1:K532)+1)","v":""},null,{"$f":"IF(N533=\"\",\"\",MAX(M$1:M532)+1)","v":""}]
[null,null,{"$f":"IF(D534=\"\",\"\",MAX(C$1:C533)+1)","v":""},null,{"$f":"IF(F534=\"\",\"\",MAX(E$1:E533)+1)","v":""},null,{"$f":"IF(H534=\"\",\"\",MAX(G$1:G533)+1)","v":""},null,{"$f":"IF(J534=\"\",\"\",MAX(I$1:I533)+1)","v":""},null,{"$f":"IF(L534=\"\",\"\",MAX(K$1:K533)+1)","v":""},null,{"$f":"IF(N534=\"\",\"\",MAX(M$1:M533)+1)","v":""}]
[null,null,{"$f":"IF(D535=\"\",\"\",MAX(C$1:C534)+1)","v":""},null,{"$f":"IF(F535=\"\",\"\",MAX(E$1:E534)+1)","v":""},null,{"$f":"IF(H535=\"\",\"\",MAX(G$1:G534)+1)","v":""},null,{"$f":"IF(J535=\"\",\"\",MAX(I$1:I534)+1)","v":""},null,{"$f":"IF(L535=\"\",\"\",MAX(K$1:K534)+1)","v":""},null,{"$f":"IF(N535=\"\",\"\",MAX(M$1:M534)+1)","v":""}]
[null,null,{"$f":"IF(D536=\"\",\"\",MAX(C$1:C535)+1)","v":""},null,{"$f":"IF(F536=\"\",\"\",MAX(E$1:E535)+1)","v":""},null,{"$f":"IF(H536=\"\",\"\",MAX(G$1:G535)+1)","v":""},null,{"$f":"IF(J536=\"\",\"\",MAX(I$1:I535)+1)","v":""},null,{"$f":"IF(L536=\"\",\"\",MAX(K$1:K535)+1)","v":""},null,{"$f":"IF(N536=\"\",\"\",MAX(M$1:M535)+1)","v":""}]
[null,null,{"$f":"IF(D537=\"\",\"\",MAX(C$1:C536)+1)","v":""},null,{"$f":"IF(F537=\"\",\"\",MAX(E$1:E536)+1)","v":""},null,{"$f":"IF(H537=\"\",\"\",MAX(G$1:G536)+1)","v":""},null,{"$f":"IF(J537=\"\",\"\",MAX(I$1:I536)+1)","v":""},null,{"$f":"IF(L537=\"\",\"\",MAX(K$1:K536)+1)","v":""},null,{"$f":"IF(N537=\"\",\"\",MAX(M$1:M536)+1)","v":""}]
[null,null,{"$f":"IF(D538=\"\",\"\",MAX(C$1:C537)+1)","v":""},null,{"$f":"IF(F538=\"\",\"\",MAX(E$1:E537)+1)","v":""},null,{"$f":"IF(H538=\"\",\"\",MAX(G$1:G537)+1)","v":""},null,{"$f":"IF(J538=\"\",\"\",MAX(I$1:I537)+1)","v":""},null,{"$f":"IF(L538=\"\",\"\",MAX(K$1:K537)+1)","v":""},null,{"$f":"IF(N538=\"\",\"\",MAX(M$1:M537)+1)","v":""}]
[null,null,{"$f":"IF(D539=\"\",\"\",MAX(C$1:C538)+1)","v":""},null,{"$f":"IF(F539=\"\",\"\",MAX(E$1:E538)+1)","v":""},null,{"$f":"IF(H539=\"\",\"\",MAX(G$1:G538)+1)","v":""},null,{"$f":"IF(J539=\"\",\"\",MAX(I$1:I538)+1)","v":""},null,{"$f":"IF(L539=\"\",\"\",MAX(K$1:K538)+1)","v":""},null,{"$f":"IF(N539=\"\",\"\",MAX(M$1:M538)+1)","v":""}]
[null,null,{"$f":"IF(D540=\"\",\"\",MAX(C$1:C539)+1)","v":""},null,{"$f":"IF(F540=\"\",\"\",MAX(E$1:E539)+1)","v":""},null,{"$f":"IF(H540=\"\",\"\",MAX(G$1:G539)+1)","v":""},null,{"$f":"IF(J540=\"\",\"\",MAX(I$1:I539)+1)","v":""},null,{"$f":"IF(L540=\"\",\"\",MAX(K$1:K539)+1)","v":""},null,{"$f":"IF(N540=\"\",\"\",MAX(M$1:M539)+1)","v":""}]
[null,null,{"$f":"IF(D541=\"\",\"\",MAX(C$1:C540)+1)","v":""},null,{"$f":"IF(F541=\"\",\"\",MAX(E$1:E540)+1)","v":""},null,{"$f":"IF(H541=\"\",\"\",MAX(G$1:G540)+1)","v":""},null,{"$f":"IF(J541=\"\",\"\",MAX(I$1:I540)+1)","v":""},null,{"$f":"IF(L541=\"\",\"\",MAX(K$1:K540)+1)","v":""},null,{"$f":"IF(N541=\"\",\"\",MAX(M$1:M540)+1)","v":""}]
[null,null,{"$f":"IF(D542=\"\",\"\",MAX(C$1:C541)+1)","v":""},null,{"$f":"IF(F542=\"\",\"\",MAX(E$1:E541)+1)","v":""},null,{"$f":"IF(H542=\"\",\"\",MAX(G$1:G541)+1)","v":""},null,{"$f":"IF(J542=\"\",\"\",MAX(I$1:I541)+1)","v":""},null,{"$f":"IF(L542=\"\",\"\",MAX(K$1:K541)+1)","v":""},null,{"$f":"IF(N542=\"\",\"\",MAX(M$1:M541)+1)","v":""}]
[null,null,{"$f":"IF(D543=\"\",\"\",MAX(C$1:C542)+1)","v":""},null,{"$f":"IF(F543=\"\",\"\",MAX(E$1:E542)+1)","v":""},null,{"$f":"IF(H543=\"\",\"\",MAX(G$1:G542)+1)","v":""},null,{"$f":"IF(J543=\"\",\"\",MAX(I$1:I542)+1)","v":""},null,{"$f":"IF(L543=\"\",\"\",MAX(K$1:K542)+1)","v":""},null,{"$f":"IF(N543=\"\",\"\",MAX(M$1:M542)+1)","v":""}]
[null,null,{"$f":"IF(D544=\"\",\"\",MAX(C$1:C543)+1)","v":""},null,{"$f":"IF(F544=\"\",\"\",MAX(E$1:E543)+1)","v":""},null,{"$f":"IF(H544=\"\",\"\",MAX(G$1:G543)+1)","v":""},null,{"$f":"IF(J544=\"\",\"\",MAX(I$1:I543)+1)","v":""},null,{"$f":"IF(L544=\"\",\"\",MAX(K$1:K543)+1)","v":""},null,{"$f":"IF(N544=\"\",\"\",MAX(M$1:M543)+1)","v":""}]
[null,null,{"$f":"IF(D545=\"\",\"\",MAX(C$1:C544)+1)","v":""},null,{"$f":"IF(F545=\"\",\"\",MAX(E$1:E544)+1)","v":""},null,{"$f":"IF(H545=\"\",\"\",MAX(G$1:G544)+1)","v":""},null,{"$f":"IF(J545=\"\",\"\",MAX(I$1:I544)+1)","v":""},null,{"$f":"IF(L545=\"\",\"\",MAX(K$1:K544)+1)","v":""},null,{"$f":"IF(N545=\"\",\"\",MAX(M$1:M544)+1)","v":""}]
[null,null,{"$f":"IF(D546=\"\",\"\",MAX(C$1:C545)+1)","v":""},null,{"$f":"IF(F546=\"\",\"\",MAX(E$1:E545)+1)","v":""},null,{"$f":"IF(H546=\"\",\"\",MAX(G$1:G545)+1)","v":""},null,{"$f":"IF(J546=\"\",\"\",MAX(I$1:I545)+1)","v":""},null,{"$f":"IF(L546=\"\",\"\",MAX(K$1:K545)+1)","v":""},null,{"$f":"IF(N546=\"\",\"\",MAX(M$1:M545)+1)","v":""}]
[null,null,{"$f":"IF(D547=\"\",\"\",MAX(C$1:C546)+1)","v":""},null,{"$f":"IF(F547=\"\",\"\",MAX(E$1:E546)+1)","v":""},null,{"$f":"IF(H547=\"\",\"\",MAX(G$1:G546)+1)","v":""},null,{"$f":"IF(J547=\"\",\"\",MAX(I$1:I546)+1)","v":""},null,{"$f":"IF(L547=\"\",\"\",MAX(K$1:K546)+1)","v":""},null,{"$f":"IF(N547=\"\",\"\",MAX(M$1:M546)+1)","v":""}]
[null,null,{"$f":"IF(D548=\"\",\"\",MAX(C$1:C547)+1)","v":""},null,{"$f":"IF(F548=\"\",\"\",MAX(E$1:E547)+1)","v":""},null,{"$f":"IF(H548=\"\",\"\",MAX(G$1:G547)+1)","v":""},null,{"$f":"IF(J548=\"\",\"\",MAX(I$1:I547)+1)","v":""},null,{"$f":"IF(L548=\"\",\"\",MAX(K$1:K547)+1)","v":""},null,{"$f":"IF(N548=\"\",\"\",MAX(M$1:M547)+1)","v":""}]
[null,null,{"$f":"IF(D549=\"\",\"\",MAX(C$1:C548)+1)","v":""},null,{"$f":"IF(F549=\"\",\"\",MAX(E$1:E548)+1)","v":""},null,{"$f":"IF(H549=\"\",\"\",MAX(G$1:G548)+1)","v":""},null,{"$f":"IF(J549=\"\",\"\",MAX(I$1:I548)+1)","v":""},null,{"$f":"IF(L549=\"\",\"\",MAX(K$1:K548)+1)","v":""},null,{"$f":"IF(N549=\"\",\"\",MAX(M$1:M548)+1)","v":""}]
[null,null,{"$f":"IF(D550=\"\",\"\",MAX(C$1:C549)+1)","v":""},null,{"$f":"IF(F550=\"\",\"\",MAX(E$1:E549)+1)","v":""},null,{"$f":"IF(H550=\"\",\"\",MAX(G$1:G549)+1)","v":""},null,{"$f":"IF(J550=\"\",\"\",MAX(I$1:I549)+1)","v":""},null,{"$f":"IF(L550=\"\",\"\",MAX(K$1:K549)+1)","v":""},null,{"$f":"IF(N550=\"\",\"\",MAX(M$1:M549)+1)","v":""}]
[null,null,{"$f":"IF(D551=\"\",\"\",MAX(C$1:C550)+1)","v":""},null,{"$f":"IF(F551=\"\",\"\",MAX(E$1:E550)+1)","v":""},null,{"$f":"IF(H551=\"\",\"\",MAX(G$1:G550)+1)","v":""},null,{"$f":"IF(J551=\"\",\"\",MAX(I$1:I550)+1)","v":""},null,{"$f":"IF(L551=\"\",\"\",MAX(K$1:K550)+1)","v":""},null,{"$f":"IF(N551=\"\",\"\",MAX(M$1:M550)+1)","v":""}]
[null,null,{"$f":"IF(D552=\"\",\"\",MAX(C$1:C551)+1)","v":""},null,{"$f":"IF(F552=\"\",\"\",MAX(E$1:E551)+1)","v":""},null,{"$f":"IF(H552=\"\",\"\",MAX(G$1:G551)+1)","v":""},null,{"$f":"IF(J552=\"\",\"\",MAX(I$1:I551)+1)","v":""},null,{"$f":"IF(L552=\"\",\"\",MAX(K$1:K551)+1)","v":""},null,{"$f":"IF(N552=\"\",\"\",MAX(M$1:M551)+1)","v":""}]
[null,null,{"$f":"IF(D553=\"\",\"\",MAX(C$1:C552)+1)","v":""},null,{"$f":"IF(F553=\"\",\"\",MAX(E$1:E552)+1)","v":""},null,{"$f":"IF(H553=\"\",\"\",MAX(G$1:G552)+1)","v":""},null,{"$f":"IF(J553=\"\",\"\",MAX(I$1:I552)+1)","v":""},null,{"$f":"IF(L553=\"\",\"\",MAX(K$1:K552)+1)","v":""},null,{"$f":"IF(N553=\"\",\"\",MAX(M$1:M552)+1)","v":""}]
[null,null,{"$f":"IF(D554=\"\",\"\",MAX(C$1:C553)+1)","v":""},null,{"$f":"IF(F554=\"\",\"\",MAX(E$1:E553)+1)","v":""},null,{"$f":"IF(H554=\"\",\"\",MAX(G$1:G553)+1)","v":""},null,{"$f":"IF(J554=\"\",\"\",MAX(I$1:I553)+1)","v":""},null,{"$f":"IF(L554=\"\",\"\",MAX(K$1:K553)+1)","v":""},null,{"$f":"IF(N554=\"\",\"\",MAX(M$1:M553)+1)","v":""}]
[null,null,{"$f":"IF(D555=\"\",\"\",MAX(C$1:C554)+1)","v":""},null,{"$f":"IF(F555=\"\",\"\",MAX(E$1:E554)+1)","v":""},null,{"$f":"IF(H555=\"\",\"\",MAX(G$1:G554)+1)","v":""},null,{"$f":"IF(J555=\"\",\"\",MAX(I$1:I554)+1)","v":""},null,{"$f":"IF(L555=\"\",\"\",MAX(K$1:K554)+1)","v":""},null,{"$f":"IF(N555=\"\",\"\",MAX(M$1:M554)+1)","v":""}]
[null,null,{"$f":"IF(D556=\"\",\"\",MAX(C$1:C555)+1)","v":""},null,{"$f":"IF(F556=\"\",\"\",MAX(E$1:E555)+1)","v":""},null,{"$f":"IF(H556=\"\",\"\",MAX(G$1:G555)+1)","v":""},null,{"$f":"IF(J556=\"\",\"\",MAX(I$1:I555)+1)","v":""},null,{"$f":"IF(L556=\"\",\"\",MAX(K$1:K555)+1)","v":""},null,{"$f":"IF(N556=\"\",\"\",MAX(M$1:M555)+1)","v":""}]
[null,null,{"$f":"IF(D557=\"\",\"\",MAX(C$1:C556)+1)","v":""},null,{"$f":"IF(F557=\"\",\"\",MAX(E$1:E556)+1)","v":""},null,{"$f":"IF(H557=\"\",\"\",MAX(G$1:G556)+1)","v":""},null,{"$f":"IF(J557=\"\",\"\",MAX(I$1:I556)+1)","v":""},null,{"$f":"IF(L557=\"\",\"\",MAX(K$1:K556)+1)","v":""},null,{"$f":"IF(N557=\"\",\"\",MAX(M$1:M556)+1)","v":""}]
[null,null,{"$f":"IF(D558=\"\",\"\",MAX(C$1:C557)+1)","v":""},null,{"$f":"IF(F558=\"\",\"\",MAX(E$1:E557)+1)","v":""},null,{"$f":"IF(H558=\"\",\"\",MAX(G$1:G557)+1)","v":""},null,{"$f":"IF(J558=\"\",\"\",MAX(I$1:I557)+1)","v":""},null,{"$f":"IF(L558=\"\",\"\",MAX(K$1:K557)+1)","v":""},null,{"$f":"IF(N558=\"\",\"\",MAX(M$1:M557)+1)","v":""}]
[null,null,{"$f":"IF(D559=\"\",\"\",MAX(C$1:C558)+1)","v":""},null,{"$f":"IF(F559=\"\",\"\",MAX(E$1:E558)+1)","v":""},null,{"$f":"IF(H559=\"\",\"\",MAX(G$1:G558)+1)","v":""},null,{"$f":"IF(J559=\"\",\"\",MAX(I$1:I558)+1)","v":""},null,{"$f":"IF(L559=\"\",\"\",MAX(K$1:K558)+1)","v":""},null,{"$f":"IF(N559=\"\",\"\",MAX(M$1:M558)+1)","v":""}]
[null,null,{"$f":"IF(D560=\"\",\"\",MAX(C$1:C559)+1)","v":""},null,{"$f":"IF(F560=\"\",\"\",MAX(E$1:E559)+1)","v":""},null,{"$f":"IF(H560=\"\",\"\",MAX(G$1:G559)+1)","v":""},null,{"$f":"IF(J560=\"\",\"\",MAX(I$1:I559)+1)","v":""},null,{"$f":"IF(L560=\"\",\"\",MAX(K$1:K559)+1)","v":""},null,{"$f":"IF(N560=\"\",\"\",MAX(M$1:M559)+1)","v":""}]
[null,null,{"$f":"IF(D561=\"\",\"\",MAX(C$1:C560)+1)","v":""},null,{"$f":"IF(F561=\"\",\"\",MAX(E$1:E560)+1)","v":""},null,{"$f":"IF(H561=\"\",\"\",MAX(G$1:G560)+1)","v":""},null,{"$f":"IF(J561=\"\",\"\",MAX(I$1:I560)+1)","v":""},null,{"$f":"IF(L561=\"\",\"\",MAX(K$1:K560)+1)","v":""},null,{"$f":"IF(N561=\"\",\"\",MAX(M$1:M560)+1)","v":""}]
[null,null,{"$f":"IF(D562=\"\",\"\",MAX(C$1:C561)+1)","v":""},null,{"$f":"IF(F562=\"\",\"\",MAX(E$1:E561)+1)","v":""},null,{"$f":"IF(H562=\"\",\"\",MAX(G$1:G561)+1)","v":""},null,{"$f":"IF(J562=\"\",\"\",MAX(I$1:I561)+1)","v":""},null,{"$f":"IF(L562=\"\",\"\",MAX(K$1:K561)+1)","v":""},null,{"$f":"IF(N562=\"\",\"\",MAX(M$1:M561)+1)","v":""}]
[null,null,{"$f":"IF(D563=\"\",\"\",MAX(C$1:C562)+1)","v":""},null,{"$f":"IF(F563=\"\",\"\",MAX(E$1:E562)+1)","v":""},null,{"$f":"IF(H563=\"\",\"\",MAX(G$1:G562)+1)","v":""},null,{"$f":"IF(J563=\"\",\"\",MAX(I$1:I562)+1)","v":""},null,{"$f":"IF(L563=\"\",\"\",MAX(K$1:K562)+1)","v":""},null,{"$f":"IF(N563=\"\",\"\",MAX(M$1:M562)+1)","v":""}]
[null,null,{"$f":"IF(D564=\"\",\"\",MAX(C$1:C563)+1)","v":""},null,{"$f":"IF(F564=\"\",\"\",MAX(E$1:E563)+1)","v":""},null,{"$f":"IF(H564=\"\",\"\",MAX(G$1:G563)+1)","v":""},null,{"$f":"IF(J564=\"\",\"\",MAX(I$1:I563)+1)","v":""},null,{"$f":"IF(L564=\"\",\"\",MAX(K$1:K563)+1)","v":""},null,{"$f":"IF(N564=\"\",\"\",MAX(M$1:M563)+1)","v":""}]
[null,null,{"$f":"IF(D565=\"\",\"\",MAX(C$1:C564)+1)","v":""},null,{"$f":"IF(F565=\"\",\"\",MAX(E$1:E564)+1)","v":""},null,{"$f":"IF(H565=\"\",\"\",MAX(G$1:G564)+1)","v":""},null,{"$f":"IF(J565=\"\",\"\",MAX(I$1:I564)+1)","v":""},null,{"$f":"IF(L565=\"\",\"\",MAX(K$1:K564)+1)","v":""},null,{"$f":"IF(N565=\"\",\"\",MAX(M$1:M564)+1)","v":""}]
[null,null,{"$f":"IF(D566=\"\",\"\",MAX(C$1:C565)+1)","v":""},null,{"$f":"IF(F566=\"\",\"\",MAX(E$1:E565)+1)","v":""},null,{"$f":"IF(H566=\"\",\"\",MAX(G$1:G565)+1)","v":""},null,{"$f":"IF(J566=\"\",\"\",MAX(I$1:I565)+1)","v":""},null,{"$f":"IF(L566=\"\",\"\",MAX(K$1:K565)+1)","v":""},null,{"$f":"IF(N566=\"\",\"\",MAX(M$1:M565)+1)","v":""}]
[null,null,{"$f":"IF(D567=\"\",\"\",MAX(C$1:C566)+1)","v":""},null,{"$f":"IF(F567=\"\",\"\",MAX(E$1:E566)+1)","v":""},null,{"$f":"IF(H567=\"\",\"\",MAX(G$1:G566)+1)","v":""},null,{"$f":"IF(J567=\"\",\"\",MAX(I$1:I566)+1)","v":""},null,{"$f":"IF(L567=\"\",\"\",MAX(K$1:K566)+1)","v":""},null,{"$f":"IF(N567=\"\",\"\",MAX(M$1:M566)+1)","v":""}]
[null,null,{"$f":"IF(D568=\"\",\"\",MAX(C$1:C567)+1)","v":""},null,{"$f":"IF(F568=\"\",\"\",MAX(E$1:E567)+1)","v":""},null,{"$f":"IF(H568=\"\",\"\",MAX(G$1:G567)+1)","v":""},null,{"$f":"IF(J568=\"\",\"\",MAX(I$1:I567)+1)","v":""},null,{"$f":"IF(L568=\"\",\"\",MAX(K$1:K567)+1)","v":""},null,{"$f":"IF(N568=\"\",\"\",MAX(M$1:M567)+1)","v":""}]
[null,null,{"$f":"IF(D569=\"\",\"\",MAX(C$1:C568)+1)","v":""},null,{"$f":"IF(F569=\"\",\"\",MAX(E$1:E568)+1)","v":""},null,{"$f":"IF(H569=\"\",\"\",MAX(G$1:G568)+1)","v":""},null,{"$f":"IF(J569=\"\",\"\",MAX(I$1:I568)+1)","v":""},null,{"$f":"IF(L569=\"\",\"\",MAX(K$1:K568)+1)","v":""},null,{"$f":"IF(N569=\"\",\"\",MAX(M$1:M568)+1)","v":""}]
[null,null,{"$f":"IF(D570=\"\",\"\",MAX(C$1:C569)+1)","v":""},null,{"$f":"IF(F570=\"\",\"\",MAX(E$1:E569)+1)","v":""},null,{"$f":"IF(H570=\"\",\"\",MAX(G$1:G569)+1)","v":""},null,{"$f":"IF(J570=\"\",\"\",MAX(I$1:I569)+1)","v":""},null,{"$f":"IF(L570=\"\",\"\",MAX(K$1:K569)+1)","v":""},null,{"$f":"IF(N570=\"\",\"\",MAX(M$1:M569)+1)","v":""}]
[null,null,{"$f":"IF(D571=\"\",\"\",MAX(C$1:C570)+1)","v":""},null,{"$f":"IF(F571=\"\",\"\",MAX(E$1:E570)+1)","v":""},null,{"$f":"IF(H571=\"\",\"\",MAX(G$1:G570)+1)","v":""},null,{"$f":"IF(J571=\"\",\"\",MAX(I$1:I570)+1)","v":""},null,{"$f":"IF(L571=\"\",\"\",MAX(K$1:K570)+1)","v":""},null,{"$f":"IF(N571=\"\",\"\",MAX(M$1:M570)+1)","v":""}]
[null,null,{"$f":"IF(D572=\"\",\"\",MAX(C$1:C571)+1)","v":""},null,{"$f":"IF(F572=\"\",\"\",MAX(E$1:E571)+1)","v":""},null,{"$f":"IF(H572=\"\",\"\",MAX(G$1:G571)+1)","v":""},null,{"$f":"IF(J572=\"\",\"\",MAX(I$1:I571)+1)","v":""},null,{"$f":"IF(L572=\"\",\"\",MAX(K$1:K571)+1)","v":""},null,{"$f":"IF(N572=\"\",\"\",MAX(M$1:M571)+1)","v":""}]
[null,null,{"$f":"IF(D573=\"\",\"\",MAX(C$1:C572)+1)","v":""},null,{"$f":"IF(F573=\"\",\"\",MAX(E$1:E572)+1)","v":""},null,{"$f":"IF(H573=\"\",\"\",MAX(G$1:G572)+1)","v":""},null,{"$f":"IF(J573=\"\",\"\",MAX(I$1:I572)+1)","v":""},null,{"$f":"IF(L573=\"\",\"\",MAX(K$1:K572)+1)","v":""},null,{"$f":"IF(N573=\"\",\"\",MAX(M$1:M572)+1)","v":""}]
[null,null,{"$f":"IF(D574=\"\",\"\",MAX(C$1:C573)+1)","v":""},null,{"$f":"IF(F574=\"\",\"\",MAX(E$1:E573)+1)","v":""},null,{"$f":"IF(H574=\"\",\"\",MAX(G$1:G573)+1)","v":""},null,{"$f":"IF(J574=\"\",\"\",MAX(I$1:I573)+1)","v":""},null,{"$f":"IF(L574=\"\",\"\",MAX(K$1:K573)+1)","v":""},null,{"$f":"IF(N574=\"\",\"\",MAX(M$1:M573)+1)","v":""}]
[null,null,{"$f":"IF(D575=\"\",\"\",MAX(C$1:C574)+1)","v":""},null,{"$f":"IF(F575=\"\",\"\",MAX(E$1:E574)+1)","v":""},null,{"$f":"IF(H575=\"\",\"\",MAX(G$1:G574)+1)","v":""},null,{"$f":"IF(J575=\"\",\"\",MAX(I$1:I574)+1)","v":""},null,{"$f":"IF(L575=\"\",\"\",MAX(K$1:K574)+1)","v":""},null,{"$f":"IF(N575=\"\",\"\",MAX(M$1:M574)+1)","v":""}]
[null,null,{"$f":"IF(D576=\"\",\"\",MAX(C$1:C575)+1)","v":""},null,{"$f":"IF(F576=\"\",\"\",MAX(E$1:E575)+1)","v":""},null,{"$f":"IF(H576=\"\",\"\",MAX(G$1:G575)+1)","v":""},null,{"$f":"IF(J576=\"\",\"\",MAX(I$1:I575)+1)","v":""},null,{"$f":"IF(L576=\"\",\"\",MAX(K$1:K575)+1)","v":""},null,{"$f":"IF(N576=\"\",\"\",MAX(M$1:M575)+1)","v":""}]
[null,null,{"$f":"IF(D577=\"\",\"\",MAX(C$1:C576)+1)","v":""},null,{"$f":"IF(F577=\"\",\"\",MAX(E$1:E576)+1)","v":""},null,{"$f":"IF(H577=\"\",\"\",MAX(G$1:G576)+1)","v":""},null,{"$f":"IF(J577=\"\",\"\",MAX(I$1:I576)+1)","v":""},null,{"$f":"IF(L577=\"\",\"\",MAX(K$1:K576)+1)","v":""},null,{"$f":"IF(N577=\"\",\"\",MAX(M$1:M576)+1)","v":""}]
[null,null,{"$f":"IF(D578=\"\",\"\",MAX(C$1:C577)+1)","v":""},null,{"$f":"IF(F578=\"\",\"\",MAX(E$1:E577)+1)","v":""},null,{"$f":"IF(H578=\"\",\"\",MAX(G$1:G577)+1)","v":""},null,{"$f":"IF(J578=\"\",\"\",MAX(I$1:I577)+1)","v":""},null,{"$f":"IF(L578=\"\",\"\",MAX(K$1:K577)+1)","v":""},null,{"$f":"IF(N578=\"\",\"\",MAX(M$1:M577)+1)","v":""}]
[null,null,{"$f":"IF(D579=\"\",\"\",MAX(C$1:C578)+1)","v":""},null,{"$f":"IF(F579=\"\",\"\",MAX(E$1:E578)+1)","v":""},null,{"$f":"IF(H579=\"\",\"\",MAX(G$1:G578)+1)","v":""},null,{"$f":"IF(J579=\"\",\"\",MAX(I$1:I578)+1)","v":""},null,{"$f":"IF(L579=\"\",\"\",MAX(K$1:K578)+1)","v":""},null,{"$f":"IF(N579=\"\",\"\",MAX(M$1:M578)+1)","v":""}]
[null,null,{"$f":"IF(D580=\"\",\"\",MAX(C$1:C579)+1)","v":""},null,{"$f":"IF(F580=\"\",\"\",MAX(E$1:E579)+1)","v":""},null,{"$f":"IF(H580=\"\",\"\",MAX(G$1:G579)+1)","v":""},null,{"$f":"IF(J580=\"\",\"\",MAX(I$1:I579)+1)","v":""},null,{"$f":"IF(L580=\"\",\"\",MAX(K$1:K579)+1)","v":""},null,{"$f":"IF(N580=\"\",\"\",MAX(M$1:M579)+1)","v":""}]
[null,null,{"$f":"IF(D581=\"\",\"\",MAX(C$1:C580)+1)","v":""},null,{"$f":"IF(F581=\"\",\"\",MAX(E$1:E580)+1)","v":""},null,{"$f":"IF(H581=\"\",\"\",MAX(G$1:G580)+1)","v":""},null,{"$f":"IF(J581=\"\",\"\",MAX(I$1:I580)+1)","v":""},null,{"$f":"IF(L581=\"\",\"\",MAX(K$1:K580)+1)","v":""},null,{"$f":"IF(N581=\"\",\"\",MAX(M$1:M580)+1)","v":""}]
[null,null,{"$f":"IF(D582=\"\",\"\",MAX(C$1:C581)+1)","v":""},null,{"$f":"IF(F582=\"\",\"\",MAX(E$1:E581)+1)","v":""},null,{"$f":"IF(H582=\"\",\"\",MAX(G$1:G581)+1)","v":""},null,{"$f":"IF(J582=\"\",\"\",MAX(I$1:I581)+1)","v":""},null,{"$f":"IF(L582=\"\",\"\",MAX(K$1:K581)+1)","v":""},null,{"$f":"IF(N582=\"\",\"\",MAX(M$1:M581)+1)","v":""}]
[null,null,{"$f":"IF(D583=\"\",\"\",MAX(C$1:C582)+1)","v":""},null,{"$f":"IF(F583=\"\",\"\",MAX(E$1:E582)+1)","v":""},null,{"$f":"IF(H583=\"\",\"\",MAX(G$1:G582)+1)","v":""},null,{"$f":"IF(J583=\"\",\"\",MAX(I$1:I582)+1)","v":""},null,{"$f":"IF(L583=\"\",\"\",MAX(K$1:K582)+1)","v":""},null,{"$f":"IF(N583=\"\",\"\",MAX(M$1:M582)+1)","v":""}]
[null,null,{"$f":"IF(D584=\"\",\"\",MAX(C$1:C583)+1)","v":""},null,{"$f":"IF(F584=\"\",\"\",MAX(E$1:E583)+1)","v":""},null,{"$f":"IF(H584=\"\",\"\",MAX(G$1:G583)+1)","v":""},null,{"$f":"IF(J584=\"\",\"\",MAX(I$1:I583)+1)","v":""},null,{"$f":"IF(L584=\"\",\"\",MAX(K$1:K583)+1)","v":""},null,{"$f":"IF(N584=\"\",\"\",MAX(M$1:M583)+1)","v":""}]
[null,null,{"$f":"IF(D585=\"\",\"\",MAX(C$1:C584)+1)","v":""},null,{"$f":"IF(F585=\"\",\"\",MAX(E$1:E584)+1)","v":""},null,{"$f":"IF(H585=\"\",\"\",MAX(G$1:G584)+1)","v":""},null,{"$f":"IF(J585=\"\",\"\",MAX(I$1:I584)+1)","v":""},null,{"$f":"IF(L585=\"\",\"\",MAX(K$1:K584)+1)","v":""},null,{"$f":"IF(N585=\"\",\"\",MAX(M$1:M584)+1)","v":""}]
[null,null,{"$f":"IF(D586=\"\",\"\",MAX(C$1:C585)+1)","v":""},null,{"$f":"IF(F586=\"\",\"\",MAX(E$1:E585)+1)","v":""},null,{"$f":"IF(H586=\"\",\"\",MAX(G$1:G585)+1)","v":""},null,{"$f":"IF(J586=\"\",\"\",MAX(I$1:I585)+1)","v":""},null,{"$f":"IF(L586=\"\",\"\",MAX(K$1:K585)+1)","v":""},null,{"$f":"IF(N586=\"\",\"\",MAX(M$1:M585)+1)","v":""}]
[null,null,{"$f":"IF(D587=\"\",\"\",MAX(C$1:C586)+1)","v":""},null,{"$f":"IF(F587=\"\",\"\",MAX(E$1:E586)+1)","v":""},null,{"$f":"IF(H587=\"\",\"\",MAX(G$1:G586)+1)","v":""},null,{"$f":"IF(J587=\"\",\"\",MAX(I$1:I586)+1)","v":""},null,{"$f":"IF(L587=\"\",\"\",MAX(K$1:K586)+1)","v":""},null,{"$f":"IF(N587=\"\",\"\",MAX(M$1:M586)+1)","v":""}]
[null,null,{"$f":"IF(D588=\"\",\"\",MAX(C$1:C587)+1)","v":""},null,{"$f":"IF(F588=\"\",\"\",MAX(E$1:E587)+1)","v":""},null,{"$f":"IF(H588=\"\",\"\",MAX(G$1:G587)+1)","v":""},null,{"$f":"IF(J588=\"\",\"\",MAX(I$1:I587)+1)","v":""},null,{"$f":"IF(L588=\"\",\"\",MAX(K$1:K587)+1)","v":""},null,{"$f":"IF(N588=\"\",\"\",MAX(M$1:M587)+1)","v":""}]
[null,null,{"$f":"IF(D589=\"\",\"\",MAX(C$1:C588)+1)","v":""},null,{"$f":"IF(F589=\"\",\"\",MAX(E$1:E588)+1)","v":""},null,{"$f":"IF(H589=\"\",\"\",MAX(G$1:G588)+1)","v":""},null,{"$f":"IF(J589=\"\",\"\",MAX(I$1:I588)+1)","v":""},null,{"$f":"IF(L589=\"\",\"\",MAX(K$1:K588)+1)","v":""},null,{"$f":"IF(N589=\"\",\"\",MAX(M$1:M588)+1)","v":""}]
[null,null,{"$f":"IF(D590=\"\",\"\",MAX(C$1:C589)+1)","v":""},null,{"$f":"IF(F590=\"\",\"\",MAX(E$1:E589)+1)","v":""},null,{"$f":"IF(H590=\"\",\"\",MAX(G$1:G589)+1)","v":""},null,{"$f":"IF(J590=\"\",\"\",MAX(I$1:I589)+1)","v":""},null,{"$f":"IF(L590=\"\",\"\",MAX(K$1:K589)+1)","v":""},null,{"$f":"IF(N590=\"\",\"\",MAX(M$1:M589)+1)","v":""}]
[null,null,{"$f":"IF(D591=\"\",\"\",MAX(C$1:C590)+1)","v":""},null,{"$f":"IF(F591=\"\",\"\",MAX(E$1:E590)+1)","v":""},null,{"$f":"IF(H591=\"\",\"\",MAX(G$1:G590)+1)","v":""},null,{"$f":"IF(J591=\"\",\"\",MAX(I$1:I590)+1)","v":""},null,{"$f":"IF(L591=\"\",\"\",MAX(K$1:K590)+1)","v":""},null,{"$f":"IF(N591=\"\",\"\",MAX(M$1:M590)+1)","v":""}]
[null,null,{"$f":"IF(D592=\"\",\"\",MAX(C$1:C591)+1)","v":""},null,{"$f":"IF(F592=\"\",\"\",MAX(E$1:E591)+1)","v":""},null,{"$f":"IF(H592=\"\",\"\",MAX(G$1:G591)+1)","v":""},null,{"$f":"IF(J592=\"\",\"\",MAX(I$1:I591)+1)","v":""},null,{"$f":"IF(L592=\"\",\"\",MAX(K$1:K591)+1)","v":""},null,{"$f":"IF(N592=\"\",\"\",MAX(M$1:M591)+1)","v":""}]
[null,null,{"$f":"IF(D593=\"\",\"\",MAX(C$1:C592)+1)","v":""},null,{"$f":"IF(F593=\"\",\"\",MAX(E$1:E592)+1)","v":""},null,{"$f":"IF(H593=\"\",\"\",MAX(G$1:G592)+1)","v":""},null,{"$f":"IF(J593=\"\",\"\",MAX(I$1:I592)+1)","v":""},null,{"$f":"IF(L593=\"\",\"\",MAX(K$1:K592)+1)","v":""},null,{"$f":"IF(N593=\"\",\"\",MAX(M$1:M592)+1)","v":""}]
[null,null,{"$f":"IF(D594=\"\",\"\",MAX(C$1:C593)+1)","v":""},null,{"$f":"IF(F594=\"\",\"\",MAX(E$1:E593)+1)","v":""},null,{"$f":"IF(H594=\"\",\"\",MAX(G$1:G593)+1)","v":""},null,{"$f":"IF(J594=\"\",\"\",MAX(I$1:I593)+1)","v":""},null,{"$f":"IF(L594=\"\",\"\",MAX(K$1:K593)+1)","v":""},null,{"$f":"IF(N594=\"\",\"\",MAX(M$1:M593)+1)","v":""}]
[null,null,{"$f":"IF(D595=\"\",\"\",MAX(C$1:C594)+1)","v":""},null,{"$f":"IF(F595=\"\",\"\",MAX(E$1:E594)+1)","v":""},null,{"$f":"IF(H595=\"\",\"\",MAX(G$1:G594)+1)","v":""},null,{"$f":"IF(J595=\"\",\"\",MAX(I$1:I594)+1)","v":""},null,{"$f":"IF(L595=\"\",\"\",MAX(K$1:K594)+1)","v":""},null,{"$f":"IF(N595=\"\",\"\",MAX(M$1:M594)+1)","v":""}]
[null,null,{"$f":"IF(D596=\"\",\"\",MAX(C$1:C595)+1)","v":""},null,{"$f":"IF(F596=\"\",\"\",MAX(E$1:E595)+1)","v":""},null,{"$f":"IF(H596=\"\",\"\",MAX(G$1:G595)+1)","v":""},null,{"$f":"IF(J596=\"\",\"\",MAX(I$1:I595)+1)","v":""},null,{"$f":"IF(L596=\"\",\"\",MAX(K$1:K595)+1)","v":""},null,{"$f":"IF(N596=\"\",\"\",MAX(M$1:M595)+1)","v":""}]
[null,null,{"$f":"IF(D597=\"\",\"\",MAX(C$1:C596)+1)","v":""},null,{"$f":"IF(F597=\"\",\"\",MAX(E$1:E596)+1)","v":""},null,{"$f":"IF(H597=\"\",\"\",MAX(G$1:G596)+1)","v":""},null,{"$f":"IF(J597=\"\",\"\",MAX(I$1:I596)+1)","v":""},null,{"$f":"IF(L597=\"\",\"\",MAX(K$1:K596)+1)","v":""},null,{"$f":"IF(N597=\"\",\"\",MAX(M$1:M596)+1)","v":""}]
[null,null,{"$f":"IF(D598=\"\",\"\",MAX(C$1:C597)+1)","v":""},null,{"$f":"IF(F598=\"\",\"\",MAX(E$1:E597)+1)","v":""},null,{"$f":"IF(H598=\"\",\"\",MAX(G$1:G597)+1)","v":""},null,{"$f":"IF(J598=\"\",\"\",MAX(I$1:I597)+1)","v":""},null,{"$f":"IF(L598=\"\",\"\",MAX(K$1:K597)+1)","v":""},null,{"$f":"IF(N598=\"\",\"\",MAX(M$1:M597)+1)","v":""}]
[null,null,{"$f":"IF(D599=\"\",\"\",MAX(C$1:C598)+1)","v":""},null,{"$f":"IF(F599=\"\",\"\",MAX(E$1:E598)+1)","v":""},null,{"$f":"IF(H599=\"\",\"\",MAX(G$1:G598)+1)","v":""},null,{"$f":"IF(J599=\"\",\"\",MAX(I$1:I598)+1)","v":""},null,{"$f":"IF(L599=\"\",\"\",MAX(K$1:K598)+1)","v":""},null,{"$f":"IF(N599=\"\",\"\",MAX(M$1:M598)+1)","v":""}]
[null,null,{"$f":"IF(D600=\"\",\"\",MAX(C$1:C599)+1)","v":""},null,{"$f":"IF(F600=\"\",\"\",MAX(E$1:E599)+1)","v":""},null,{"$f":"IF(H600=\"\",\"\",MAX(G$1:G599)+1)","v":""},null,{"$f":"IF(J600=\"\",\"\",MAX(I$1:I599)+1)","v":""},null,{"$f":"IF(L600=\"\",\"\",MAX(K$1:K599)+1)","v":""},null,{"$f":"IF(N600=\"\",\"\",MAX(M$1:M599)+1)","v":""}]
[null,null,{"$f":"IF(D601=\"\",\"\",MAX(C$1:C600)+1)","v":""},null,{"$f":"IF(F601=\"\",\"\",MAX(E$1:E600)+1)","v":""},null,{"$f":"IF(H601=\"\",\"\",MAX(G$1:G600)+1)","v":""},null,{"$f":"IF(J601=\"\",\"\",MAX(I$1:I600)+1)","v":""},null,{"$f":"IF(L601=\"\",\"\",MAX(K$1:K600)+1)","v":""},null,{"$f":"IF(N601=\"\",\"\",MAX(M$1:M600)+1)","v":""}]
[null,null,{"$f":"IF(D602=\"\",\"\",MAX(C$1:C601)+1)","v":""},null,{"$f":"IF(F602=\"\",\"\",MAX(E$1:E601)+1)","v":""},null,{"$f":"IF(H602=\"\",\"\",MAX(G$1:G601)+1)","v":""},null,{"$f":"IF(J602=\"\",\"\",MAX(I$1:I601)+1)","v":""},null,{"$f":"IF(L602=\"\",\"\",MAX(K$1:K601)+1)","v":""},null,{"$f":"IF(N602=\"\",\"\",MAX(M$1:M601)+1)","v":""}]
[null,null,{"$f":"IF(D603=\"\",\"\",MAX(C$1:C602)+1)","v":""},null,{"$f":"IF(F603=\"\",\"\",MAX(E$1:E602)+1)","v":""},null,{"$f":"IF(H603=\"\",\"\",MAX(G$1:G602)+1)","v":""},null,{"$f":"IF(J603=\"\",\"\",MAX(I$1:I602)+1)","v":""},null,{"$f":"IF(L603=\"\",\"\",MAX(K$1:K602)+1)","v":""},null,{"$f":"IF(N603=\"\",\"\",MAX(M$1:M602)+1)","v":""}]
[null,null,{"$f":"IF(D604=\"\",\"\",MAX(C$1:C603)+1)","v":""},null,{"$f":"IF(F604=\"\",\"\",MAX(E$1:E603)+1)","v":""},null,{"$f":"IF(H604=\"\",\"\",MAX(G$1:G603)+1)","v":""},null,{"$f":"IF(J604=\"\",\"\",MAX(I$1:I603)+1)","v":""},null,{"$f":"IF(L604=\"\",\"\",MAX(K$1:K603)+1)","v":""},null,{"$f":"IF(N604=\"\",\"\",MAX(M$1:M603)+1)","v":""}]
[null,null,{"$f":"IF(D605=\"\",\"\",MAX(C$1:C604)+1)","v":""},null,{"$f":"IF(F605=\"\",\"\",MAX(E$1:E604)+1)","v":""},null,{"$f":"IF(H605=\"\",\"\",MAX(G$1:G604)+1)","v":""},null,{"$f":"IF(J605=\"\",\"\",MAX(I$1:I604)+1)","v":""},null,{"$f":"IF(L605=\"\",\"\",MAX(K$1:K604)+1)","v":""},null,{"$f":"IF(N605=\"\",\"\",MAX(M$1:M604)+1)","v":""}]
[null,null,{"$f":"IF(D606=\"\",\"\",MAX(C$1:C605)+1)","v":""},null,{"$f":"IF(F606=\"\",\"\",MAX(E$1:E605)+1)","v":""},null,{"$f":"IF(H606=\"\",\"\",MAX(G$1:G605)+1)","v":""},null,{"$f":"IF(J606=\"\",\"\",MAX(I$1:I605)+1)","v":""},null,{"$f":"IF(L606=\"\",\"\",MAX(K$1:K605)+1)","v":""},null,{"$f":"IF(N606=\"\",\"\",MAX(M$1:M605)+1)","v":""}]
[null,null,{"$f":"IF(D607=\"\",\"\",MAX(C$1:C606)+1)","v":""},null,{"$f":"IF(F607=\"\",\"\",MAX(E$1:E606)+1)","v":""},null,{"$f":"IF(H607=\"\",\"\",MAX(G$1:G606)+1)","v":""},null,{"$f":"IF(J607=\"\",\"\",MAX(I$1:I606)+1)","v":""},null,{"$f":"IF(L607=\"\",\"\",MAX(K$1:K606)+1)","v":""},null,{"$f":"IF(N607=\"\",\"\",MAX(M$1:M606)+1)","v":""}]
[null,null,{"$f":"IF(D608=\"\",\"\",MAX(C$1:C607)+1)","v":""},null,{"$f":"IF(F608=\"\",\"\",MAX(E$1:E607)+1)","v":""},null,{"$f":"IF(H608=\"\",\"\",MAX(G$1:G607)+1)","v":""},null,{"$f":"IF(J608=\"\",\"\",MAX(I$1:I607)+1)","v":""},null,{"$f":"IF(L608=\"\",\"\",MAX(K$1:K607)+1)","v":""},null,{"$f":"IF(N608=\"\",\"\",MAX(M$1:M607)+1)","v":""}]
[null,null,{"$f":"IF(D609=\"\",\"\",MAX(C$1:C608)+1)","v":""},null,{"$f":"IF(F609=\"\",\"\",MAX(E$1:E608)+1)","v":""},null,{"$f":"IF(H609=\"\",\"\",MAX(G$1:G608)+1)","v":""},null,{"$f":"IF(J609=\"\",\"\",MAX(I$1:I608)+1)","v":""},null,{"$f":"IF(L609=\"\",\"\",MAX(K$1:K608)+1)","v":""},null,{"$f":"IF(N609=\"\",\"\",MAX(M$1:M608)+1)","v":""}]
[null,null,{"$f":"IF(D610=\"\",\"\",MAX(C$1:C609)+1)","v":""},null,{"$f":"IF(F610=\"\",\"\",MAX(E$1:E609)+1)","v":""},null,{"$f":"IF(H610=\"\",\"\",MAX(G$1:G609)+1)","v":""},null,{"$f":"IF(J610=\"\",\"\",MAX(I$1:I609)+1)","v":""},null,{"$f":"IF(L610=\"\",\"\",MAX(K$1:K609)+1)","v":""},null,{"$f":"IF(N610=\"\",\"\",MAX(M$1:M609)+1)","v":""}]
[null,null,{"$f":"IF(D611=\"\",\"\",MAX(C$1:C610)+1)","v":""},null,{"$f":"IF(F611=\"\",\"\",MAX(E$1:E610)+1)","v":""},null,{"$f":"IF(H611=\"\",\"\",MAX(G$1:G610)+1)","v":""},null,{"$f":"IF(J611=\"\",\"\",MAX(I$1:I610)+1)","v":""},null,{"$f":"IF(L611=\"\",\"\",MAX(K$1:K610)+1)","v":""},null,{"$f":"IF(N611=\"\",\"\",MAX(M$1:M610)+1)","v":""}]
[null,null,{"$f":"IF(D612=\"\",\"\",MAX(C$1:C611)+1)","v":""},null,{"$f":"IF(F612=\"\",\"\",MAX(E$1:E611)+1)","v":""},null,{"$f":"IF(H612=\"\",\"\",MAX(G$1:G611)+1)","v":""},null,{"$f":"IF(J612=\"\",\"\",MAX(I$1:I611)+1)","v":""},null,{"$f":"IF(L612=\"\",\"\",MAX(K$1:K611)+1)","v":""},null,{"$f":"IF(N612=\"\",\"\",MAX(M$1:M611)+1)","v":""}]
[null,null,{"$f":"IF(D613=\"\",\"\",MAX(C$1:C612)+1)","v":""},null,{"$f":"IF(F613=\"\",\"\",MAX(E$1:E612)+1)","v":""},null,{"$f":"IF(H613=\"\",\"\",MAX(G$1:G612)+1)","v":""},null,{"$f":"IF(J613=\"\",\"\",MAX(I$1:I612)+1)","v":""},null,{"$f":"IF(L613=\"\",\"\",MAX(K$1:K612)+1)","v":""},null,{"$f":"IF(N613=\"\",\"\",MAX(M$1:M612)+1)","v":""}]
[null,null,{"$f":"IF(D614=\"\",\"\",MAX(C$1:C613)+1)","v":""},null,{"$f":"IF(F614=\"\",\"\",MAX(E$1:E613)+1)","v":""},null,{"$f":"IF(H614=\"\",\"\",MAX(G$1:G613)+1)","v":""},null,{"$f":"IF(J614=\"\",\"\",MAX(I$1:I613)+1)","v":""},null,{"$f":"IF(L614=\"\",\"\",MAX(K$1:K613)+1)","v":""},null,{"$f":"IF(N614=\"\",\"\",MAX(M$1:M613)+1)","v":""}]
[null,null,{"$f":"IF(D615=\"\",\"\",MAX(C$1:C614)+1)","v":""},null,{"$f":"IF(F615=\"\",\"\",MAX(E$1:E614)+1)","v":""},null,{"$f":"IF(H615=\"\",\"\",MAX(G$1:G614)+1)","v":""},null,{"$f":"IF(J615=\"\",\"\",MAX(I$1:I614)+1)","v":""},null,{"$f":"IF(L615=\"\",\"\",MAX(K$1:K614)+1)","v":""},null,{"$f":"IF(N615=\"\",\"\",MAX(M$1:M614)+1)","v":""}]
[null,null,{"$f":"IF(D616=\"\",\"\",MAX(C$1:C615)+1)","v":""},null,{"$f":"IF(F616=\"\",\"\",MAX(E$1:E615)+1)","v":""},null,{"$f":"IF(H616=\"\",\"\",MAX(G$1:G615)+1)","v":""},null,{"$f":"IF(J616=\"\",\"\",MAX(I$1:I615)+1)","v":""},null,{"$f":"IF(L616=\"\",\"\",MAX(K$1:K615)+1)","v":""},null,{"$f":"IF(N616=\"\",\"\",MAX(M$1:M615)+1)","v":""}]
[null,null,{"$f":"IF(D617=\"\",\"\",MAX(C$1:C616)+1)","v":""},null,{"$f":"IF(F617=\"\",\"\",MAX(E$1:E616)+1)","v":""},null,{"$f":"IF(H617=\"\",\"\",MAX(G$1:G616)+1)","v":""},null,{"$f":"IF(J617=\"\",\"\",MAX(I$1:I616)+1)","v":""},null,{"$f":"IF(L617=\"\",\"\",MAX(K$1:K616)+1)","v":""},null,{"$f":"IF(N617=\"\",\"\",MAX(M$1:M616)+1)","v":""}]
[null,null,{"$f":"IF(D618=\"\",\"\",MAX(C$1:C617)+1)","v":""},null,{"$f":"IF(F618=\"\",\"\",MAX(E$1:E617)+1)","v":""},null,{"$f":"IF(H618=\"\",\"\",MAX(G$1:G617)+1)","v":""},null,{"$f":"IF(J618=\"\",\"\",MAX(I$1:I617)+1)","v":""},null,{"$f":"IF(L618=\"\",\"\",MAX(K$1:K617)+1)","v":""},null,{"$f":"IF(N618=\"\",\"\",MAX(M$1:M617)+1)","v":""}]
[null,null,{"$f":"IF(D619=\"\",\"\",MAX(C$1:C618)+1)","v":""},null,{"$f":"IF(F619=\"\",\"\",MAX(E$1:E618)+1)","v":""},null,{"$f":"IF(H619=\"\",\"\",MAX(G$1:G618)+1)","v":""},null,{"$f":"IF(J619=\"\",\"\",MAX(I$1:I618)+1)","v":""},null,{"$f":"IF(L619=\"\",\"\",MAX(K$1:K618)+1)","v":""},null,{"$f":"IF(N619=\"\",\"\",MAX(M$1:M618)+1)","v":""}]
[null,null,{"$f":"IF(D620=\"\",\"\",MAX(C$1:C619)+1)","v":""},null,{"$f":"IF(F620=\"\",\"\",MAX(E$1:E619)+1)","v":""},null,{"$f":"IF(H620=\"\",\"\",MAX(G$1:G619)+1)","v":""},null,{"$f":"IF(J620=\"\",\"\",MAX(I$1:I619)+1)","v":""},null,{"$f":"IF(L620=\"\",\"\",MAX(K$1:K619)+1)","v":""},null,{"$f":"IF(N620=\"\",\"\",MAX(M$1:M619)+1)","v":""}]
[null,null,{"$f":"IF(D621=\"\",\"\",MAX(C$1:C620)+1)","v":""},null,{"$f":"IF(F621=\"\",\"\",MAX(E$1:E620)+1)","v":""},null,{"$f":"IF(H621=\"\",\"\",MAX(G$1:G620)+1)","v":""},null,{"$f":"IF(J621=\"\",\"\",MAX(I$1:I620)+1)","v":""},null,{"$f":"IF(L621=\"\",\"\",MAX(K$1:K620)+1)","v":""},null,{"$f":"IF(N621=\"\",\"\",MAX(M$1:M620)+1)","v":""}]
[null,null,{"$f":"IF(D622=\"\",\"\",MAX(C$1:C621)+1)","v":""},null,{"$f":"IF(F622=\"\",\"\",MAX(E$1:E621)+1)","v":""},null,{"$f":"IF(H622=\"\",\"\",MAX(G$1:G621)+1)","v":""},null,{"$f":"IF(J622=\"\",\"\",MAX(I$1:I621)+1)","v":""},null,{"$f":"IF(L622=\"\",\"\",MAX(K$1:K621)+1)","v":""},null,{"$f":"IF(N622=\"\",\"\",MAX(M$1:M621)+1)","v":""}]
[null,null,{"$f":"IF(D623=\"\",\"\",MAX(C$1:C622)+1)","v":""},null,{"$f":"IF(F623=\"\",\"\",MAX(E$1:E622)+1)","v":""},null,{"$f":"IF(H623=\"\",\"\",MAX(G$1:G622)+1)","v":""},null,{"$f":"IF(J623=\"\",\"\",MAX(I$1:I622)+1)","v":""},null,{"$f":"IF(L623=\"\",\"\",MAX(K$1:K622)+1)","v":""},null,{"$f":"IF(N623=\"\",\"\",MAX(M$1:M622)+1)","v":""}]
[null,null,{"$f":"IF(D624=\"\",\"\",MAX(C$1:C623)+1)","v":""},null,{"$f":"IF(F624=\"\",\"\",MAX(E$1:E623)+1)","v":""},null,{"$f":"IF(H624=\"\",\"\",MAX(G$1:G623)+1)","v":""},null,{"$f":"IF(J624=\"\",\"\",MAX(I$1:I623)+1)","v":""},null,{"$f":"IF(L624=\"\",\"\",MAX(K$1:K623)+1)","v":""},null,{"$f":"IF(N624=\"\",\"\",MAX(M$1:M623)+1)","v":""}]
[null,null,{"$f":"IF(D625=\"\",\"\",MAX(C$1:C624)+1)","v":""},null,{"$f":"IF(F625=\"\",\"\",MAX(E$1:E624)+1)","v":""},null,{"$f":"IF(H625=\"\",\"\",MAX(G$1:G624)+1)","v":""},null,{"$f":"IF(J625=\"\",\"\",MAX(I$1:I624)+1)","v":""},null,{"$f":"IF(L625=\"\",\"\",MAX(K$1:K624)+1)","v":""},null,{"$f":"IF(N625=\"\",\"\",MAX(M$1:M624)+1)","v":""}]
[null,null,{"$f":"IF(D626=\"\",\"\",MAX(C$1:C625)+1)","v":""},null,{"$f":"IF(F626=\"\",\"\",MAX(E$1:E625)+1)","v":""},null,{"$f":"IF(H626=\"\",\"\",MAX(G$1:G625)+1)","v":""},null,{"$f":"IF(J626=\"\",\"\",MAX(I$1:I625)+1)","v":""},null,{"$f":"IF(L626=\"\",\"\",MAX(K$1:K625)+1)","v":""},null,{"$f":"IF(N626=\"\",\"\",MAX(M$1:M625)+1)","v":""}]
[null,null,{"$f":"IF(D627=\"\",\"\",MAX(C$1:C626)+1)","v":""},null,{"$f":"IF(F627=\"\",\"\",MAX(E$1:E626)+1)","v":""},null,{"$f":"IF(H627=\"\",\"\",MAX(G$1:G626)+1)","v":""},null,{"$f":"IF(J627=\"\",\"\",MAX(I$1:I626)+1)","v":""},null,{"$f":"IF(L627=\"\",\"\",MAX(K$1:K626)+1)","v":""},null,{"$f":"IF(N627=\"\",\"\",MAX(M$1:M626)+1)","v":""}]
[null,null,{"$f":"IF(D628=\"\",\"\",MAX(C$1:C627)+1)","v":""},null,{"$f":"IF(F628=\"\",\"\",MAX(E$1:E627)+1)","v":""},null,{"$f":"IF(H628=\"\",\"\",MAX(G$1:G627)+1)","v":""},null,{"$f":"IF(J628=\"\",\"\",MAX(I$1:I627)+1)","v":""},null,{"$f":"IF(L628=\"\",\"\",MAX(K$1:K627)+1)","v":""},null,{"$f":"IF(N628=\"\",\"\",MAX(M$1:M627)+1)","v":""}]
[null,null,{"$f":"IF(D629=\"\",\"\",MAX(C$1:C628)+1)","v":""},null,{"$f":"IF(F629=\"\",\"\",MAX(E$1:E628)+1)","v":""},null,{"$f":"IF(H629=\"\",\"\",MAX(G$1:G628)+1)","v":""},null,{"$f":"IF(J629=\"\",\"\",MAX(I$1:I628)+1)","v":""},null,{"$f":"IF(L629=\"\",\"\",MAX(K$1:K628)+1)","v":""},null,{"$f":"IF(N629=\"\",\"\",MAX(M$1:M628)+1)","v":""}]
[null,null,{"$f":"IF(D630=\"\",\"\",MAX(C$1:C629)+1)","v":""},null,{"$f":"IF(F630=\"\",\"\",MAX(E$1:E629)+1)","v":""},null,{"$f":"IF(H630=\"\",\"\",MAX(G$1:G629)+1)","v":""},null,{"$f":"IF(J630=\"\",\"\",MAX(I$1:I629)+1)","v":""},null,{"$f":"IF(L630=\"\",\"\",MAX(K$1:K629)+1)","v":""},null,{"$f":"IF(N630=\"\",\"\",MAX(M$1:M629)+1)","v":""}]
[null,null,{"$f":"IF(D631=\"\",\"\",MAX(C$1:C630)+1)","v":""},null,{"$f":"IF(F631=\"\",\"\",MAX(E$1:E630)+1)","v":""},null,{"$f":"IF(H631=\"\",\"\",MAX(G$1:G630)+1)","v":""},null,{"$f":"IF(J631=\"\",\"\",MAX(I$1:I630)+1)","v":""},null,{"$f":"IF(L631=\"\",\"\",MAX(K$1:K630)+1)","v":""},null,{"$f":"IF(N631=\"\",\"\",MAX(M$1:M630)+1)","v":""}]
[null,null,{"$f":"IF(D632=\"\",\"\",MAX(C$1:C631)+1)","v":""},null,{"$f":"IF(F632=\"\",\"\",MAX(E$1:E631)+1)","v":""},null,{"$f":"IF(H632=\"\",\"\",MAX(G$1:G631)+1)","v":""},null,{"$f":"IF(J632=\"\",\"\",MAX(I$1:I631)+1)","v":""},null,{"$f":"IF(L632=\"\",\"\",MAX(K$1:K631)+1)","v":""},null,{"$f":"IF(N632=\"\",\"\",MAX(M$1:M631)+1)","v":""}]
[null,null,{"$f":"IF(D633=\"\",\"\",MAX(C$1:C632)+1)","v":""},null,{"$f":"IF(F633=\"\",\"\",MAX(E$1:E632)+1)","v":""},null,{"$f":"IF(H633=\"\",\"\",MAX(G$1:G632)+1)","v":""},null,{"$f":"IF(J633=\"\",\"\",MAX(I$1:I632)+1)","v":""},null,{"$f":"IF(L633=\"\",\"\",MAX(K$1:K632)+1)","v":""},null,{"$f":"IF(N633=\"\",\"\",MAX(M$1:M632)+1)","v":""}]
[null,null,{"$f":"IF(D634=\"\",\"\",MAX(C$1:C633)+1)","v":""},null,{"$f":"IF(F634=\"\",\"\",MAX(E$1:E633)+1)","v":""},null,{"$f":"IF(H634=\"\",\"\",MAX(G$1:G633)+1)","v":""},null,{"$f":"IF(J634=\"\",\"\",MAX(I$1:I633)+1)","v":""},null,{"$f":"IF(L634=\"\",\"\",MAX(K$1:K633)+1)","v":""},null,{"$f":"IF(N634=\"\",\"\",MAX(M$1:M633)+1)","v":""}]
[null,null,{"$f":"IF(D635=\"\",\"\",MAX(C$1:C634)+1)","v":""},null,{"$f":"IF(F635=\"\",\"\",MAX(E$1:E634)+1)","v":""},null,{"$f":"IF(H635=\"\",\"\",MAX(G$1:G634)+1)","v":""},null,{"$f":"IF(J635=\"\",\"\",MAX(I$1:I634)+1)","v":""},null,{"$f":"IF(L635=\"\",\"\",MAX(K$1:K634)+1)","v":""},null,{"$f":"IF(N635=\"\",\"\",MAX(M$1:M634)+1)","v":""}]
[null,null,{"$f":"IF(D636=\"\",\"\",MAX(C$1:C635)+1)","v":""},null,{"$f":"IF(F636=\"\",\"\",MAX(E$1:E635)+1)","v":""},null,{"$f":"IF(H636=\"\",\"\",MAX(G$1:G635)+1)","v":""},null,{"$f":"IF(J636=\"\",\"\",MAX(I$1:I635)+1)","v":""},null,{"$f":"IF(L636=\"\",\"\",MAX(K$1:K635)+1)","v":""},null,{"$f":"IF(N636=\"\",\"\",MAX(M$1:M635)+1)","v":""}]
[null,null,{"$f":"IF(D637=\"\",\"\",MAX(C$1:C636)+1)","v":""},null,{"$f":"IF(F637=\"\",\"\",MAX(E$1:E636)+1)","v":""},null,{"$f":"IF(H637=\"\",\"\",MAX(G$1:G636)+1)","v":""},null,{"$f":"IF(J637=\"\",\"\",MAX(I$1:I636)+1)","v":""},null,{"$f":"IF(L637=\"\",\"\",MAX(K$1:K636)+1)","v":""},null,{"$f":"IF(N637=\"\",\"\",MAX(M$1:M636)+1)","v":""}]
[null,null,{"$f":"IF(D638=\"\",\"\",MAX(C$1:C637)+1)","v":""},null,{"$f":"IF(F638=\"\",\"\",MAX(E$1:E637)+1)","v":""},null,{"$f":"IF(H638=\"\",\"\",MAX(G$1:G637)+1)","v":""},null,{"$f":"IF(J638=\"\",\"\",MAX(I$1:I637)+1)","v":""},null,{"$f":"IF(L638=\"\",\"\",MAX(K$1:K637)+1)","v":""},null,{"$f":"IF(N638=\"\",\"\",MAX(M$1:M637)+1)","v":""}]
[null,null,{"$f":"IF(D639=\"\",\"\",MAX(C$1:C638)+1)","v":""},null,{"$f":"IF(F639=\"\",\"\",MAX(E$1:E638)+1)","v":""},null,{"$f":"IF(H639=\"\",\"\",MAX(G$1:G638)+1)","v":""},null,{"$f":"IF(J639=\"\",\"\",MAX(I$1:I638)+1)","v":""},null,{"$f":"IF(L639=\"\",\"\",MAX(K$1:K638)+1)","v":""},null,{"$f":"IF(N639=\"\",\"\",MAX(M$1:M638)+1)","v":""}]
[null,null,{"$f":"IF(D640=\"\",\"\",MAX(C$1:C639)+1)","v":""},null,{"$f":"IF(F640=\"\",\"\",MAX(E$1:E639)+1)","v":""},null,{"$f":"IF(H640=\"\",\"\",MAX(G$1:G639)+1)","v":""},null,{"$f":"IF(J640=\"\",\"\",MAX(I$1:I639)+1)","v":""},null,{"$f":"IF(L640=\"\",\"\",MAX(K$1:K639)+1)","v":""},null,{"$f":"IF(N640=\"\",\"\",MAX(M$1:M639)+1)","v":""}]
[null,null,{"$f":"IF(D641=\"\",\"\",MAX(C$1:C640)+1)","v":""},null,{"$f":"IF(F641=\"\",\"\",MAX(E$1:E640)+1)","v":""},null,{"$f":"IF(H641=\"\",\"\",MAX(G$1:G640)+1)","v":""},null,{"$f":"IF(J641=\"\",\"\",MAX(I$1:I640)+1)","v":""},null,{"$f":"IF(L641=\"\",\"\",MAX(K$1:K640)+1)","v":""},null,{"$f":"IF(N641=\"\",\"\",MAX(M$1:M640)+1)","v":""}]
[null,null,{"$f":"IF(D642=\"\",\"\",MAX(C$1:C641)+1)","v":""},null,{"$f":"IF(F642=\"\",\"\",MAX(E$1:E641)+1)","v":""},null,{"$f":"IF(H642=\"\",\"\",MAX(G$1:G641)+1)","v":""},null,{"$f":"IF(J642=\"\",\"\",MAX(I$1:I641)+1)","v":""},null,{"$f":"IF(L642=\"\",\"\",MAX(K$1:K641)+1)","v":""},null,{"$f":"IF(N642=\"\",\"\",MAX(M$1:M641)+1)","v":""}]
[null,null,{"$f":"IF(D643=\"\",\"\",MAX(C$1:C642)+1)","v":""},null,{"$f":"IF(F643=\"\",\"\",MAX(E$1:E642)+1)","v":""},null,{"$f":"IF(H643=\"\",\"\",MAX(G$1:G642)+1)","v":""},null,{"$f":"IF(J643=\"\",\"\",MAX(I$1:I642)+1)","v":""},null,{"$f":"IF(L643=\"\",\"\",MAX(K$1:K642)+1)","v":""},null,{"$f":"IF(N643=\"\",\"\",MAX(M$1:M642)+1)","v":""}]
[null,null,{"$f":"IF(D644=\"\",\"\",MAX(C$1:C643)+1)","v":""},null,{"$f":"IF(F644=\"\",\"\",MAX(E$1:E643)+1)","v":""},null,{"$f":"IF(H644=\"\",\"\",MAX(G$1:G643)+1)","v":""},null,{"$f":"IF(J644=\"\",\"\",MAX(I$1:I643)+1)","v":""},null,{"$f":"IF(L644=\"\",\"\",MAX(K$1:K643)+1)","v":""},null,{"$f":"IF(N644=\"\",\"\",MAX(M$1:M643)+1)","v":""}]
[null,null,{"$f":"IF(D645=\"\",\"\",MAX(C$1:C644)+1)","v":""},null,{"$f":"IF(F645=\"\",\"\",MAX(E$1:E644)+1)","v":""},null,{"$f":"IF(H645=\"\",\"\",MAX(G$1:G644)+1)","v":""},null,{"$f":"IF(J645=\"\",\"\",MAX(I$1:I644)+1)","v":""},null,{"$f":"IF(L645=\"\",\"\",MAX(K$1:K644)+1)","v":""},null,{"$f":"IF(N645=\"\",\"\",MAX(M$1:M644)+1)","v":""}]
[null,null,{"$f":"IF(D646=\"\",\"\",MAX(C$1:C645)+1)","v":""},null,{"$f":"IF(F646=\"\",\"\",MAX(E$1:E645)+1)","v":""},null,{"$f":"IF(H646=\"\",\"\",MAX(G$1:G645)+1)","v":""},null,{"$f":"IF(J646=\"\",\"\",MAX(I$1:I645)+1)","v":""},null,{"$f":"IF(L646=\"\",\"\",MAX(K$1:K645)+1)","v":""},null,{"$f":"IF(N646=\"\",\"\",MAX(M$1:M645)+1)","v":""}]
[null,null,{"$f":"IF(D647=\"\",\"\",MAX(C$1:C646)+1)","v":""},null,{"$f":"IF(F647=\"\",\"\",MAX(E$1:E646)+1)","v":""},null,{"$f":"IF(H647=\"\",\"\",MAX(G$1:G646)+1)","v":""},null,{"$f":"IF(J647=\"\",\"\",MAX(I$1:I646)+1)","v":""},null,{"$f":"IF(L647=\"\",\"\",MAX(K$1:K646)+1)","v":""},null,{"$f":"IF(N647=\"\",\"\",MAX(M$1:M646)+1)","v":""}]
[null,null,{"$f":"IF(D648=\"\",\"\",MAX(C$1:C647)+1)","v":""},null,{"$f":"IF(F648=\"\",\"\",MAX(E$1:E647)+1)","v":""},null,{"$f":"IF(H648=\"\",\"\",MAX(G$1:G647)+1)","v":""},null,{"$f":"IF(J648=\"\",\"\",MAX(I$1:I647)+1)","v":""},null,{"$f":"IF(L648=\"\",\"\",MAX(K$1:K647)+1)","v":""},null,{"$f":"IF(N648=\"\",\"\",MAX(M$1:M647)+1)","v":""}]
[null,null,{"$f":"IF(D649=\"\",\"\",MAX(C$1:C648)+1)","v":""},null,{"$f":"IF(F649=\"\",\"\",MAX(E$1:E648)+1)","v":""},null,{"$f":"IF(H649=\"\",\"\",MAX(G$1:G648)+1)","v":""},null,{"$f":"IF(J649=\"\",\"\",MAX(I$1:I648)+1)","v":""},null,{"$f":"IF(L649=\"\",\"\",MAX(K$1:K648)+1)","v":""},null,{"$f":"IF(N649=\"\",\"\",MAX(M$1:M648)+1)","v":""}]
[null,null,{"$f":"IF(D650=\"\",\"\",MAX(C$1:C649)+1)","v":""},null,{"$f":"IF(F650=\"\",\"\",MAX(E$1:E649)+1)","v":""},null,{"$f":"IF(H650=\"\",\"\",MAX(G$1:G649)+1)","v":""},null,{"$f":"IF(J650=\"\",\"\",MAX(I$1:I649)+1)","v":""},null,{"$f":"IF(L650=\"\",\"\",MAX(K$1:K649)+1)","v":""},null,{"$f":"IF(N650=\"\",\"\",MAX(M$1:M649)+1)","v":""}]
[null,null,{"$f":"IF(D651=\"\",\"\",MAX(C$1:C650)+1)","v":""},null,{"$f":"IF(F651=\"\",\"\",MAX(E$1:E650)+1)","v":""},null,{"$f":"IF(H651=\"\",\"\",MAX(G$1:G650)+1)","v":""},null,{"$f":"IF(J651=\"\",\"\",MAX(I$1:I650)+1)","v":""},null,{"$f":"IF(L651=\"\",\"\",MAX(K$1:K650)+1)","v":""},null,{"$f":"IF(N651=\"\",\"\",MAX(M$1:M650)+1)","v":""}]
[null,null,{"$f":"IF(D652=\"\",\"\",MAX(C$1:C651)+1)","v":""},null,{"$f":"IF(F652=\"\",\"\",MAX(E$1:E651)+1)","v":""},null,{"$f":"IF(H652=\"\",\"\",MAX(G$1:G651)+1)","v":""},null,{"$f":"IF(J652=\"\",\"\",MAX(I$1:I651)+1)","v":""},null,{"$f":"IF(L652=\"\",\"\",MAX(K$1:K651)+1)","v":""},null,{"$f":"IF(N652=\"\",\"\",MAX(M$1:M651)+1)","v":""}]
[null,null,{"$f":"IF(D653=\"\",\"\",MAX(C$1:C652)+1)","v":""},null,{"$f":"IF(F653=\"\",\"\",MAX(E$1:E652)+1)","v":""},null,{"$f":"IF(H653=\"\",\"\",MAX(G$1:G652)+1)","v":""},null,{"$f":"IF(J653=\"\",\"\",MAX(I$1:I652)+1)","v":""},null,{"$f":"IF(L653=\"\",\"\",MAX(K$1:K652)+1)","v":""},null,{"$f":"IF(N653=\"\",\"\",MAX(M$1:M652)+1)","v":""}]
[null,null,{"$f":"IF(D654=\"\",\"\",MAX(C$1:C653)+1)","v":""},null,{"$f":"IF(F654=\"\",\"\",MAX(E$1:E653)+1)","v":""},null,{"$f":"IF(H654=\"\",\"\",MAX(G$1:G653)+1)","v":""},null,{"$f":"IF(J654=\"\",\"\",MAX(I$1:I653)+1)","v":""},null,{"$f":"IF(L654=\"\",\"\",MAX(K$1:K653)+1)","v":""},null,{"$f":"IF(N654=\"\",\"\",MAX(M$1:M653)+1)","v":""}]
[null,null,{"$f":"IF(D655=\"\",\"\",MAX(C$1:C654)+1)","v":""},null,{"$f":"IF(F655=\"\",\"\",MAX(E$1:E654)+1)","v":""},null,{"$f":"IF(H655=\"\",\"\",MAX(G$1:G654)+1)","v":""},null,{"$f":"IF(J655=\"\",\"\",MAX(I$1:I654)+1)","v":""},null,{"$f":"IF(L655=\"\",\"\",MAX(K$1:K654)+1)","v":""},null,{"$f":"IF(N655=\"\",\"\",MAX(M$1:M654)+1)","v":""}]
[null,null,{"$f":"IF(D656=\"\",\"\",MAX(C$1:C655)+1)","v":""},null,{"$f":"IF(F656=\"\",\"\",MAX(E$1:E655)+1)","v":""},null,{"$f":"IF(H656=\"\",\"\",MAX(G$1:G655)+1)","v":""},null,{"$f":"IF(J656=\"\",\"\",MAX(I$1:I655)+1)","v":""},null,{"$f":"IF(L656=\"\",\"\",MAX(K$1:K655)+1)","v":""},null,{"$f":"IF(N656=\"\",\"\",MAX(M$1:M655)+1)","v":""}]
[null,null,{"$f":"IF(D657=\"\",\"\",MAX(C$1:C656)+1)","v":""},null,{"$f":"IF(F657=\"\",\"\",MAX(E$1:E656)+1)","v":""},null,{"$f":"IF(H657=\"\",\"\",MAX(G$1:G656)+1)","v":""},null,{"$f":"IF(J657=\"\",\"\",MAX(I$1:I656)+1)","v":""},null,{"$f":"IF(L657=\"\",\"\",MAX(K$1:K656)+1)","v":""},null,{"$f":"IF(N657=\"\",\"\",MAX(M$1:M656)+1)","v":""}]
[null,null,{"$f":"IF(D658=\"\",\"\",MAX(C$1:C657)+1)","v":""},null,{"$f":"IF(F658=\"\",\"\",MAX(E$1:E657)+1)","v":""},null,{"$f":"IF(H658=\"\",\"\",MAX(G$1:G657)+1)","v":""},null,{"$f":"IF(J658=\"\",\"\",MAX(I$1:I657)+1)","v":""},null,{"$f":"IF(L658=\"\",\"\",MAX(K$1:K657)+1)","v":""},null,{"$f":"IF(N658=\"\",\"\",MAX(M$1:M657)+1)","v":""}]
[null,null,{"$f":"IF(D659=\"\",\"\",MAX(C$1:C658)+1)","v":""},null,{"$f":"IF(F659=\"\",\"\",MAX(E$1:E658)+1)","v":""},null,{"$f":"IF(H659=\"\",\"\",MAX(G$1:G658)+1)","v":""},null,{"$f":"IF(J659=\"\",\"\",MAX(I$1:I658)+1)","v":""},null,{"$f":"IF(L659=\"\",\"\",MAX(K$1:K658)+1)","v":""},null,{"$f":"IF(N659=\"\",\"\",MAX(M$1:M658)+1)","v":""}]
[null,null,{"$f":"IF(D660=\"\",\"\",MAX(C$1:C659)+1)","v":""},null,{"$f":"IF(F660=\"\",\"\",MAX(E$1:E659)+1)","v":""},null,{"$f":"IF(H660=\"\",\"\",MAX(G$1:G659)+1)","v":""},null,{"$f":"IF(J660=\"\",\"\",MAX(I$1:I659)+1)","v":""},null,{"$f":"IF(L660=\"\",\"\",MAX(K$1:K659)+1)","v":""},null,{"$f":"IF(N660=\"\",\"\",MAX(M$1:M659)+1)","v":""}]
[null,null,{"$f":"IF(D661=\"\",\"\",MAX(C$1:C660)+1)","v":""},null,{"$f":"IF(F661=\"\",\"\",MAX(E$1:E660)+1)","v":""},null,{"$f":"IF(H661=\"\",\"\",MAX(G$1:G660)+1)","v":""},null,{"$f":"IF(J661=\"\",\"\",MAX(I$1:I660)+1)","v":""},null,{"$f":"IF(L661=\"\",\"\",MAX(K$1:K660)+1)","v":""},null,{"$f":"IF(N661=\"\",\"\",MAX(M$1:M660)+1)","v":""}]
[null,null,{"$f":"IF(D662=\"\",\"\",MAX(C$1:C661)+1)","v":""},null,{"$f":"IF(F662=\"\",\"\",MAX(E$1:E661)+1)","v":""},null,{"$f":"IF(H662=\"\",\"\",MAX(G$1:G661)+1)","v":""},null,{"$f":"IF(J662=\"\",\"\",MAX(I$1:I661)+1)","v":""},null,{"$f":"IF(L662=\"\",\"\",MAX(K$1:K661)+1)","v":""},null,{"$f":"IF(N662=\"\",\"\",MAX(M$1:M661)+1)","v":""}]
[null,null,{"$f":"IF(D663=\"\",\"\",MAX(C$1:C662)+1)","v":""},null,{"$f":"IF(F663=\"\",\"\",MAX(E$1:E662)+1)","v":""},null,{"$f":"IF(H663=\"\",\"\",MAX(G$1:G662)+1)","v":""},null,{"$f":"IF(J663=\"\",\"\",MAX(I$1:I662)+1)","v":""},null,{"$f":"IF(L663=\"\",\"\",MAX(K$1:K662)+1)","v":""},null,{"$f":"IF(N663=\"\",\"\",MAX(M$1:M662)+1)","v":""}]
[null,null,{"$f":"IF(D664=\"\",\"\",MAX(C$1:C663)+1)","v":""},null,{"$f":"IF(F664=\"\",\"\",MAX(E$1:E663)+1)","v":""},null,{"$f":"IF(H664=\"\",\"\",MAX(G$1:G663)+1)","v":""},null,{"$f":"IF(J664=\"\",\"\",MAX(I$1:I663)+1)","v":""},null,{"$f":"IF(L664=\"\",\"\",MAX(K$1:K663)+1)","v":""},null,{"$f":"IF(N664=\"\",\"\",MAX(M$1:M663)+1)","v":""}]
[null,null,{"$f":"IF(D665=\"\",\"\",MAX(C$1:C664)+1)","v":""},null,{"$f":"IF(F665=\"\",\"\",MAX(E$1:E664)+1)","v":""},null,{"$f":"IF(H665=\"\",\"\",MAX(G$1:G664)+1)","v":""},null,{"$f":"IF(J665=\"\",\"\",MAX(I$1:I664)+1)","v":""},null,{"$f":"IF(L665=\"\",\"\",MAX(K$1:K664)+1)","v":""},null,{"$f":"IF(N665=\"\",\"\",MAX(M$1:M664)+1)","v":""}]
[null,null,{"$f":"IF(D666=\"\",\"\",MAX(C$1:C665)+1)","v":""},null,{"$f":"IF(F666=\"\",\"\",MAX(E$1:E665)+1)","v":""},null,{"$f":"IF(H666=\"\",\"\",MAX(G$1:G665)+1)","v":""},null,{"$f":"IF(J666=\"\",\"\",MAX(I$1:I665)+1)","v":""},null,{"$f":"IF(L666=\"\",\"\",MAX(K$1:K665)+1)","v":""},null,{"$f":"IF(N666=\"\",\"\",MAX(M$1:M665)+1)","v":""}]
[null,null,{"$f":"IF(D667=\"\",\"\",MAX(C$1:C666)+1)","v":""},null,{"$f":"IF(F667=\"\",\"\",MAX(E$1:E666)+1)","v":""},null,{"$f":"IF(H667=\"\",\"\",MAX(G$1:G666)+1)","v":""},null,{"$f":"IF(J667=\"\",\"\",MAX(I$1:I666)+1)","v":""},null,{"$f":"IF(L667=\"\",\"\",MAX(K$1:K666)+1)","v":""},null,{"$f":"IF(N667=\"\",\"\",MAX(M$1:M666)+1)","v":""}]
[null,null,{"$f":"IF(D668=\"\",\"\",MAX(C$1:C667)+1)","v":""},null,{"$f":"IF(F668=\"\",\"\",MAX(E$1:E667)+1)","v":""},null,{"$f":"IF(H668=\"\",\"\",MAX(G$1:G667)+1)","v":""},null,{"$f":"IF(J668=\"\",\"\",MAX(I$1:I667)+1)","v":""},null,{"$f":"IF(L668=\"\",\"\",MAX(K$1:K667)+1)","v":""},null,{"$f":"IF(N668=\"\",\"\",MAX(M$1:M667)+1)","v":""}]
[null,null,{"$f":"IF(D669=\"\",\"\",MAX(C$1:C668)+1)","v":""},null,{"$f":"IF(F669=\"\",\"\",MAX(E$1:E668)+1)","v":""},null,{"$f":"IF(H669=\"\",\"\",MAX(G$1:G668)+1)","v":""},null,{"$f":"IF(J669=\"\",\"\",MAX(I$1:I668)+1)","v":""},null,{"$f":"IF(L669=\"\",\"\",MAX(K$1:K668)+1)","v":""},null,{"$f":"IF(N669=\"\",\"\",MAX(M$1:M668)+1)","v":""}]
[null,null,{"$f":"IF(D670=\"\",\"\",MAX(C$1:C669)+1)","v":""},null,{"$f":"IF(F670=\"\",\"\",MAX(E$1:E669)+1)","v":""},null,{"$f":"IF(H670=\"\",\"\",MAX(G$1:G669)+1)","v":""},null,{"$f":"IF(J670=\"\",\"\",MAX(I$1:I669)+1)","v":""},null,{"$f":"IF(L670=\"\",\"\",MAX(K$1:K669)+1)","v":""},null,{"$f":"IF(N670=\"\",\"\",MAX(M$1:M669)+1)","v":""}]
[null,null,{"$f":"IF(D671=\"\",\"\",MAX(C$1:C670)+1)","v":""},null,{"$f":"IF(F671=\"\",\"\",MAX(E$1:E670)+1)","v":""},null,{"$f":"IF(H671=\"\",\"\",MAX(G$1:G670)+1)","v":""},null,{"$f":"IF(J671=\"\",\"\",MAX(I$1:I670)+1)","v":""},null,{"$f":"IF(L671=\"\",\"\",MAX(K$1:K670)+1)","v":""},null,{"$f":"IF(N671=\"\",\"\",MAX(M$1:M670)+1)","v":""}]
[null,null,{"$f":"IF(D672=\"\",\"\",MAX(C$1:C671)+1)","v":""},null,{"$f":"IF(F672=\"\",\"\",MAX(E$1:E671)+1)","v":""},null,{"$f":"IF(H672=\"\",\"\",MAX(G$1:G671)+1)","v":""},null,{"$f":"IF(J672=\"\",\"\",MAX(I$1:I671)+1)","v":""},null,{"$f":"IF(L672=\"\",\"\",MAX(K$1:K671)+1)","v":""},null,{"$f":"IF(N672=\"\",\"\",MAX(M$1:M671)+1)","v":""}]
[null,null,{"$f":"IF(D673=\"\",\"\",MAX(C$1:C672)+1)","v":""},null,{"$f":"IF(F673=\"\",\"\",MAX(E$1:E672)+1)","v":""},null,{"$f":"IF(H673=\"\",\"\",MAX(G$1:G672)+1)","v":""},null,{"$f":"IF(J673=\"\",\"\",MAX(I$1:I672)+1)","v":""},null,{"$f":"IF(L673=\"\",\"\",MAX(K$1:K672)+1)","v":""},null,{"$f":"IF(N673=\"\",\"\",MAX(M$1:M672)+1)","v":""}]
[null,null,{"$f":"IF(D674=\"\",\"\",MAX(C$1:C673)+1)","v":""},null,{"$f":"IF(F674=\"\",\"\",MAX(E$1:E673)+1)","v":""},null,{"$f":"IF(H674=\"\",\"\",MAX(G$1:G673)+1)","v":""},null,{"$f":"IF(J674=\"\",\"\",MAX(I$1:I673)+1)","v":""},null,{"$f":"IF(L674=\"\",\"\",MAX(K$1:K673)+1)","v":""},null,{"$f":"IF(N674=\"\",\"\",MAX(M$1:M673)+1)","v":""}]
[null,null,{"$f":"IF(D675=\"\",\"\",MAX(C$1:C674)+1)","v":""},null,{"$f":"IF(F675=\"\",\"\",MAX(E$1:E674)+1)","v":""},null,{"$f":"IF(H675=\"\",\"\",MAX(G$1:G674)+1)","v":""},null,{"$f":"IF(J675=\"\",\"\",MAX(I$1:I674)+1)","v":""},null,{"$f":"IF(L675=\"\",\"\",MAX(K$1:K674)+1)","v":""},null,{"$f":"IF(N675=\"\",\"\",MAX(M$1:M674)+1)","v":""}]
[null,null,{"$f":"IF(D676=\"\",\"\",MAX(C$1:C675)+1)","v":""},null,{"$f":"IF(F676=\"\",\"\",MAX(E$1:E675)+1)","v":""},null,{"$f":"IF(H676=\"\",\"\",MAX(G$1:G675)+1)","v":""},null,{"$f":"IF(J676=\"\",\"\",MAX(I$1:I675)+1)","v":""},null,{"$f":"IF(L676=\"\",\"\",MAX(K$1:K675)+1)","v":""},null,{"$f":"IF(N676=\"\",\"\",MAX(M$1:M675)+1)","v":""}]
[null,null,{"$f":"IF(D677=\"\",\"\",MAX(C$1:C676)+1)","v":""},null,{"$f":"IF(F677=\"\",\"\",MAX(E$1:E676)+1)","v":""},null,{"$f":"IF(H677=\"\",\"\",MAX(G$1:G676)+1)","v":""},null,{"$f":"IF(J677=\"\",\"\",MAX(I$1:I676)+1)","v":""},null,{"$f":"IF(L677=\"\",\"\",MAX(K$1:K676)+1)","v":""},null,{"$f":"IF(N677=\"\",\"\",MAX(M$1:M676)+1)","v":""}]
[null,null,{"$f":"IF(D678=\"\",\"\",MAX(C$1:C677)+1)","v":""},null,{"$f":"IF(F678=\"\",\"\",MAX(E$1:E677)+1)","v":""},null,{"$f":"IF(H678=\"\",\"\",MAX(G$1:G677)+1)","v":""},null,{"$f":"IF(J678=\"\",\"\",MAX(I$1:I677)+1)","v":""},null,{"$f":"IF(L678=\"\",\"\",MAX(K$1:K677)+1)","v":""},null,{"$f":"IF(N678=\"\",\"\",MAX(M$1:M677)+1)","v":""}]
[null,null,{"$f":"IF(D679=\"\",\"\",MAX(C$1:C678)+1)","v":""},null,{"$f":"IF(F679=\"\",\"\",MAX(E$1:E678)+1)","v":""},null,{"$f":"IF(H679=\"\",\"\",MAX(G$1:G678)+1)","v":""},null,{"$f":"IF(J679=\"\",\"\",MAX(I$1:I678)+1)","v":""},null,{"$f":"IF(L679=\"\",\"\",MAX(K$1:K678)+1)","v":""},null,{"$f":"IF(N679=\"\",\"\",MAX(M$1:M678)+1)","v":""}]
[null,null,{"$f":"IF(D680=\"\",\"\",MAX(C$1:C679)+1)","v":""},null,{"$f":"IF(F680=\"\",\"\",MAX(E$1:E679)+1)","v":""},null,{"$f":"IF(H680=\"\",\"\",MAX(G$1:G679)+1)","v":""},null,{"$f":"IF(J680=\"\",\"\",MAX(I$1:I679)+1)","v":""},null,{"$f":"IF(L680=\"\",\"\",MAX(K$1:K679)+1)","v":""},null,{"$f":"IF(N680=\"\",\"\",MAX(M$1:M679)+1)","v":""}]
[null,null,{"$f":"IF(D681=\"\",\"\",MAX(C$1:C680)+1)","v":""},null,{"$f":"IF(F681=\"\",\"\",MAX(E$1:E680)+1)","v":""},null,{"$f":"IF(H681=\"\",\"\",MAX(G$1:G680)+1)","v":""},null,{"$f":"IF(J681=\"\",\"\",MAX(I$1:I680)+1)","v":""},null,{"$f":"IF(L681=\"\",\"\",MAX(K$1:K680)+1)","v":""},null,{"$f":"IF(N681=\"\",\"\",MAX(M$1:M680)+1)","v":""}]
[null,null,{"$f":"IF(D682=\"\",\"\",MAX(C$1:C681)+1)","v":""},null,{"$f":"IF(F682=\"\",\"\",MAX(E$1:E681)+1)","v":""},null,{"$f":"IF(H682=\"\",\"\",MAX(G$1:G681)+1)","v":""},null,{"$f":"IF(J682=\"\",\"\",MAX(I$1:I681)+1)","v":""},null,{"$f":"IF(L682=\"\",\"\",MAX(K$1:K681)+1)","v":""},null,{"$f":"IF(N682=\"\",\"\",MAX(M$1:M681)+1)","v":""}]
[null,null,{"$f":"IF(D683=\"\",\"\",MAX(C$1:C682)+1)","v":""},null,{"$f":"IF(F683=\"\",\"\",MAX(E$1:E682)+1)","v":""},null,{"$f":"IF(H683=\"\",\"\",MAX(G$1:G682)+1)","v":""},null,{"$f":"IF(J683=\"\",\"\",MAX(I$1:I682)+1)","v":""},null,{"$f":"IF(L683=\"\",\"\",MAX(K$1:K682)+1)","v":""},null,{"$f":"IF(N683=\"\",\"\",MAX(M$1:M682)+1)","v":""}]
[null,null,{"$f":"IF(D684=\"\",\"\",MAX(C$1:C683)+1)","v":""},null,{"$f":"IF(F684=\"\",\"\",MAX(E$1:E683)+1)","v":""},null,{"$f":"IF(H684=\"\",\"\",MAX(G$1:G683)+1)","v":""},null,{"$f":"IF(J684=\"\",\"\",MAX(I$1:I683)+1)","v":""},null,{"$f":"IF(L684=\"\",\"\",MAX(K$1:K683)+1)","v":""},null,{"$f":"IF(N684=\"\",\"\",MAX(M$1:M683)+1)","v":""}]
[null,null,{"$f":"IF(D685=\"\",\"\",MAX(C$1:C684)+1)","v":""},null,{"$f":"IF(F685=\"\",\"\",MAX(E$1:E684)+1)","v":""},null,{"$f":"IF(H685=\"\",\"\",MAX(G$1:G684)+1)","v":""},null,{"$f":"IF(J685=\"\",\"\",MAX(I$1:I684)+1)","v":""},null,{"$f":"IF(L685=\"\",\"\",MAX(K$1:K684)+1)","v":""},null,{"$f":"IF(N685=\"\",\"\",MAX(M$1:M684)+1)","v":""}]
[null,null,{"$f":"IF(D686=\"\",\"\",MAX(C$1:C685)+1)","v":""},null,{"$f":"IF(F686=\"\",\"\",MAX(E$1:E685)+1)","v":""},null,{"$f":"IF(H686=\"\",\"\",MAX(G$1:G685)+1)","v":""},null,{"$f":"IF(J686=\"\",\"\",MAX(I$1:I685)+1)","v":""},null,{"$f":"IF(L686=\"\",\"\",MAX(K$1:K685)+1)","v":""},null,{"$f":"IF(N686=\"\",\"\",MAX(M$1:M685)+1)","v":""}]
[null,null,{"$f":"IF(D687=\"\",\"\",MAX(C$1:C686)+1)","v":""},null,{"$f":"IF(F687=\"\",\"\",MAX(E$1:E686)+1)","v":""},null,{"$f":"IF(H687=\"\",\"\",MAX(G$1:G686)+1)","v":""},null,{"$f":"IF(J687=\"\",\"\",MAX(I$1:I686)+1)","v":""},null,{"$f":"IF(L687=\"\",\"\",MAX(K$1:K686)+1)","v":""},null,{"$f":"IF(N687=\"\",\"\",MAX(M$1:M686)+1)","v":""}]
[null,null,{"$f":"IF(D688=\"\",\"\",MAX(C$1:C687)+1)","v":""},null,{"$f":"IF(F688=\"\",\"\",MAX(E$1:E687)+1)","v":""},null,{"$f":"IF(H688=\"\",\"\",MAX(G$1:G687)+1)","v":""},null,{"$f":"IF(J688=\"\",\"\",MAX(I$1:I687)+1)","v":""},null,{"$f":"IF(L688=\"\",\"\",MAX(K$1:K687)+1)","v":""},null,{"$f":"IF(N688=\"\",\"\",MAX(M$1:M687)+1)","v":""}]
[null,null,{"$f":"IF(D689=\"\",\"\",MAX(C$1:C688)+1)","v":""},null,{"$f":"IF(F689=\"\",\"\",MAX(E$1:E688)+1)","v":""},null,{"$f":"IF(H689=\"\",\"\",MAX(G$1:G688)+1)","v":""},null,{"$f":"IF(J689=\"\",\"\",MAX(I$1:I688)+1)","v":""},null,{"$f":"IF(L689=\"\",\"\",MAX(K$1:K688)+1)","v":""},null,{"$f":"IF(N689=\"\",\"\",MAX(M$1:M688)+1)","v":""}]
[null,null,{"$f":"IF(D690=\"\",\"\",MAX(C$1:C689)+1)","v":""},null,{"$f":"IF(F690=\"\",\"\",MAX(E$1:E689)+1)","v":""},null,{"$f":"IF(H690=\"\",\"\",MAX(G$1:G689)+1)","v":""},null,{"$f":"IF(J690=\"\",\"\",MAX(I$1:I689)+1)","v":""},null,{"$f":"IF(L690=\"\",\"\",MAX(K$1:K689)+1)","v":""},null,{"$f":"IF(N690=\"\",\"\",MAX(M$1:M689)+1)","v":""}]
[null,null,{"$f":"IF(D691=\"\",\"\",MAX(C$1:C690)+1)","v":""},null,{"$f":"IF(F691=\"\",\"\",MAX(E$1:E690)+1)","v":""},null,{"$f":"IF(H691=\"\",\"\",MAX(G$1:G690)+1)","v":""},null,{"$f":"IF(J691=\"\",\"\",MAX(I$1:I690)+1)","v":""},null,{"$f":"IF(L691=\"\",\"\",MAX(K$1:K690)+1)","v":""},null,{"$f":"IF(N691=\"\",\"\",MAX(M$1:M690)+1)","v":""}]
[null,null,{"$f":"IF(D692=\"\",\"\",MAX(C$1:C691)+1)","v":""},null,{"$f":"IF(F692=\"\",\"\",MAX(E$1:E691)+1)","v":""},null,{"$f":"IF(H692=\"\",\"\",MAX(G$1:G691)+1)","v":""},null,{"$f":"IF(J692=\"\",\"\",MAX(I$1:I691)+1)","v":""},null,{"$f":"IF(L692=\"\",\"\",MAX(K$1:K691)+1)","v":""},null,{"$f":"IF(N692=\"\",\"\",MAX(M$1:M691)+1)","v":""}]
[null,null,{"$f":"IF(D693=\"\",\"\",MAX(C$1:C692)+1)","v":""},null,{"$f":"IF(F693=\"\",\"\",MAX(E$1:E692)+1)","v":""},null,{"$f":"IF(H693=\"\",\"\",MAX(G$1:G692)+1)","v":""},null,{"$f":"IF(J693=\"\",\"\",MAX(I$1:I692)+1)","v":""},null,{"$f":"IF(L693=\"\",\"\",MAX(K$1:K692)+1)","v":""},null,{"$f":"IF(N693=\"\",\"\",MAX(M$1:M692)+1)","v":""}]
[null,null,{"$f":"IF(D694=\"\",\"\",MAX(C$1:C693)+1)","v":""},null,{"$f":"IF(F694=\"\",\"\",MAX(E$1:E693)+1)","v":""},null,{"$f":"IF(H694=\"\",\"\",MAX(G$1:G693)+1)","v":""},null,{"$f":"IF(J694=\"\",\"\",MAX(I$1:I693)+1)","v":""},null,{"$f":"IF(L694=\"\",\"\",MAX(K$1:K693)+1)","v":""},null,{"$f":"IF(N694=\"\",\"\",MAX(M$1:M693)+1)","v":""}]
[null,null,{"$f":"IF(D695=\"\",\"\",MAX(C$1:C694)+1)","v":""},null,{"$f":"IF(F695=\"\",\"\",MAX(E$1:E694)+1)","v":""},null,{"$f":"IF(H695=\"\",\"\",MAX(G$1:G694)+1)","v":""},null,{"$f":"IF(J695=\"\",\"\",MAX(I$1:I694)+1)","v":""},null,{"$f":"IF(L695=\"\",\"\",MAX(K$1:K694)+1)","v":""},null,{"$f":"IF(N695=\"\",\"\",MAX(M$1:M694)+1)","v":""}]
[null,null,{"$f":"IF(D696=\"\",\"\",MAX(C$1:C695)+1)","v":""},null,{"$f":"IF(F696=\"\",\"\",MAX(E$1:E695)+1)","v":""},null,{"$f":"IF(H696=\"\",\"\",MAX(G$1:G695)+1)","v":""},null,{"$f":"IF(J696=\"\",\"\",MAX(I$1:I695)+1)","v":""},null,{"$f":"IF(L696=\"\",\"\",MAX(K$1:K695)+1)","v":""},null,{"$f":"IF(N696=\"\",\"\",MAX(M$1:M695)+1)","v":""}]
[null,null,{"$f":"IF(D697=\"\",\"\",MAX(C$1:C696)+1)","v":""},null,{"$f":"IF(F697=\"\",\"\",MAX(E$1:E696)+1)","v":""},null,{"$f":"IF(H697=\"\",\"\",MAX(G$1:G696)+1)","v":""},null,{"$f":"IF(J697=\"\",\"\",MAX(I$1:I696)+1)","v":""},null,{"$f":"IF(L697=\"\",\"\",MAX(K$1:K696)+1)","v":""},null,{"$f":"IF(N697=\"\",\"\",MAX(M$1:M696)+1)","v":""}]
[null,null,{"$f":"IF(D698=\"\",\"\",MAX(C$1:C697)+1)","v":""},null,{"$f":"IF(F698=\"\",\"\",MAX(E$1:E697)+1)","v":""},null,{"$f":"IF(H698=\"\",\"\",MAX(G$1:G697)+1)","v":""},null,{"$f":"IF(J698=\"\",\"\",MAX(I$1:I697)+1)","v":""},null,{"$f":"IF(L698=\"\",\"\",MAX(K$1:K697)+1)","v":""},null,{"$f":"IF(N698=\"\",\"\",MAX(M$1:M697)+1)","v":""}]
[null,null,{"$f":"IF(D699=\"\",\"\",MAX(C$1:C698)+1)","v":""},null,{"$f":"IF(F699=\"\",\"\",MAX(E$1:E698)+1)","v":""},null,{"$f":"IF(H699=\"\",\"\",MAX(G$1:G698)+1)","v":""},null,{"$f":"IF(J699=\"\",\"\",MAX(I$1:I698)+1)","v":""},null,{"$f":"IF(L699=\"\",\"\",MAX(K$1:K698)+1)","v":""},null,{"$f":"IF(N699=\"\",\"\",MAX(M$1:M698)+1)","v":""}]
[null,null,{"$f":"IF(D700=\"\",\"\",MAX(C$1:C699)+1)","v":""},null,{"$f":"IF(F700=\"\",\"\",MAX(E$1:E699)+1)","v":""},null,{"$f":"IF(H700=\"\",\"\",MAX(G$1:G699)+1)","v":""},null,{"$f":"IF(J700=\"\",\"\",MAX(I$1:I699)+1)","v":""},null,{"$f":"IF(L700=\"\",\"\",MAX(K$1:K699)+1)","v":""},null,{"$f":"IF(N700=\"\",\"\",MAX(M$1:M699)+1)","v":""}]
[null,null,{"$f":"IF(D701=\"\",\"\",MAX(C$1:C700)+1)","v":""},null,{"$f":"IF(F701=\"\",\"\",MAX(E$1:E700)+1)","v":""},null,{"$f":"IF(H701=\"\",\"\",MAX(G$1:G700)+1)","v":""},null,{"$f":"IF(J701=\"\",\"\",MAX(I$1:I700)+1)","v":""},null,{"$f":"IF(L701=\"\",\"\",MAX(K$1:K700)+1)","v":""},null,{"$f":"IF(N701=\"\",\"\",MAX(M$1:M700)+1)","v":""}]
[null,null,{"$f":"IF(D702=\"\",\"\",MAX(C$1:C701)+1)","v":""},null,{"$f":"IF(F702=\"\",\"\",MAX(E$1:E701)+1)","v":""},null,{"$f":"IF(H702=\"\",\"\",MAX(G$1:G701)+1)","v":""},null,{"$f":"IF(J702=\"\",\"\",MAX(I$1:I701)+1)","v":""},null,{"$f":"IF(L702=\"\",\"\",MAX(K$1:K701)+1)","v":""},null,{"$f":"IF(N702=\"\",\"\",MAX(M$1:M701)+1)","v":""}]
[null,null,{"$f":"IF(D703=\"\",\"\",MAX(C$1:C702)+1)","v":""},null,{"$f":"IF(F703=\"\",\"\",MAX(E$1:E702)+1)","v":""},null,{"$f":"IF(H703=\"\",\"\",MAX(G$1:G702)+1)","v":""},null,{"$f":"IF(J703=\"\",\"\",MAX(I$1:I702)+1)","v":""},null,{"$f":"IF(L703=\"\",\"\",MAX(K$1:K702)+1)","v":""},null,{"$f":"IF(N703=\"\",\"\",MAX(M$1:M702)+1)","v":""}]
[null,null,{"$f":"IF(D704=\"\",\"\",MAX(C$1:C703)+1)","v":""},null,{"$f":"IF(F704=\"\",\"\",MAX(E$1:E703)+1)","v":""},null,{"$f":"IF(H704=\"\",\"\",MAX(G$1:G703)+1)","v":""},null,{"$f":"IF(J704=\"\",\"\",MAX(I$1:I703)+1)","v":""},null,{"$f":"IF(L704=\"\",\"\",MAX(K$1:K703)+1)","v":""},null,{"$f":"IF(N704=\"\",\"\",MAX(M$1:M703)+1)","v":""}]
[null,null,{"$f":"IF(D705=\"\",\"\",MAX(C$1:C704)+1)","v":""},null,{"$f":"IF(F705=\"\",\"\",MAX(E$1:E704)+1)","v":""},null,{"$f":"IF(H705=\"\",\"\",MAX(G$1:G704)+1)","v":""},null,{"$f":"IF(J705=\"\",\"\",MAX(I$1:I704)+1)","v":""},null,{"$f":"IF(L705=\"\",\"\",MAX(K$1:K704)+1)","v":""},null,{"$f":"IF(N705=\"\",\"\",MAX(M$1:M704)+1)","v":""}]
[null,null,{"$f":"IF(D706=\"\",\"\",MAX(C$1:C705)+1)","v":""},null,{"$f":"IF(F706=\"\",\"\",MAX(E$1:E705)+1)","v":""},null,{"$f":"IF(H706=\"\",\"\",MAX(G$1:G705)+1)","v":""},null,{"$f":"IF(J706=\"\",\"\",MAX(I$1:I705)+1)","v":""},null,{"$f":"IF(L706=\"\",\"\",MAX(K$1:K705)+1)","v":""},null,{"$f":"IF(N706=\"\",\"\",MAX(M$1:M705)+1)","v":""}]
[null,null,{"$f":"IF(D707=\"\",\"\",MAX(C$1:C706)+1)","v":""},null,{"$f":"IF(F707=\"\",\"\",MAX(E$1:E706)+1)","v":""},null,{"$f":"IF(H707=\"\",\"\",MAX(G$1:G706)+1)","v":""},null,{"$f":"IF(J707=\"\",\"\",MAX(I$1:I706)+1)","v":""},null,{"$f":"IF(L707=\"\",\"\",MAX(K$1:K706)+1)","v":""},null,{"$f":"IF(N707=\"\",\"\",MAX(M$1:M706)+1)","v":""}]
[null,null,{"$f":"IF(D708=\"\",\"\",MAX(C$1:C707)+1)","v":""},null,{"$f":"IF(F708=\"\",\"\",MAX(E$1:E707)+1)","v":""},null,{"$f":"IF(H708=\"\",\"\",MAX(G$1:G707)+1)","v":""},null,{"$f":"IF(J708=\"\",\"\",MAX(I$1:I707)+1)","v":""},null,{"$f":"IF(L708=\"\",\"\",MAX(K$1:K707)+1)","v":""},null,{"$f":"IF(N708=\"\",\"\",MAX(M$1:M707)+1)","v":""}]
[null,null,{"$f":"IF(D709=\"\",\"\",MAX(C$1:C708)+1)","v":""},null,{"$f":"IF(F709=\"\",\"\",MAX(E$1:E708)+1)","v":""},null,{"$f":"IF(H709=\"\",\"\",MAX(G$1:G708)+1)","v":""},null,{"$f":"IF(J709=\"\",\"\",MAX(I$1:I708)+1)","v":""},null,{"$f":"IF(L709=\"\",\"\",MAX(K$1:K708)+1)","v":""},null,{"$f":"IF(N709=\"\",\"\",MAX(M$1:M708)+1)","v":""}]
[null,null,{"$f":"IF(D710=\"\",\"\",MAX(C$1:C709)+1)","v":""},null,{"$f":"IF(F710=\"\",\"\",MAX(E$1:E709)+1)","v":""},null,{"$f":"IF(H710=\"\",\"\",MAX(G$1:G709)+1)","v":""},null,{"$f":"IF(J710=\"\",\"\",MAX(I$1:I709)+1)","v":""},null,{"$f":"IF(L710=\"\",\"\",MAX(K$1:K709)+1)","v":""},null,{"$f":"IF(N710=\"\",\"\",MAX(M$1:M709)+1)","v":""}]
[null,null,{"$f":"IF(D711=\"\",\"\",MAX(C$1:C710)+1)","v":""},null,{"$f":"IF(F711=\"\",\"\",MAX(E$1:E710)+1)","v":""},null,{"$f":"IF(H711=\"\",\"\",MAX(G$1:G710)+1)","v":""},null,{"$f":"IF(J711=\"\",\"\",MAX(I$1:I710)+1)","v":""},null,{"$f":"IF(L711=\"\",\"\",MAX(K$1:K710)+1)","v":""},null,{"$f":"IF(N711=\"\",\"\",MAX(M$1:M710)+1)","v":""}]
[null,null,{"$f":"IF(D712=\"\",\"\",MAX(C$1:C711)+1)","v":""},null,{"$f":"IF(F712=\"\",\"\",MAX(E$1:E711)+1)","v":""},null,{"$f":"IF(H712=\"\",\"\",MAX(G$1:G711)+1)","v":""},null,{"$f":"IF(J712=\"\",\"\",MAX(I$1:I711)+1)","v":""},null,{"$f":"IF(L712=\"\",\"\",MAX(K$1:K711)+1)","v":""},null,{"$f":"IF(N712=\"\",\"\",MAX(M$1:M711)+1)","v":""}]
[null,null,{"$f":"IF(D713=\"\",\"\",MAX(C$1:C712)+1)","v":""},null,{"$f":"IF(F713=\"\",\"\",MAX(E$1:E712)+1)","v":""},null,{"$f":"IF(H713=\"\",\"\",MAX(G$1:G712)+1)","v":""},null,{"$f":"IF(J713=\"\",\"\",MAX(I$1:I712)+1)","v":""},null,{"$f":"IF(L713=\"\",\"\",MAX(K$1:K712)+1)","v":""},null,{"$f":"IF(N713=\"\",\"\",MAX(M$1:M712)+1)","v":""}]
[null,null,{"$f":"IF(D714=\"\",\"\",MAX(C$1:C713)+1)","v":""},null,{"$f":"IF(F714=\"\",\"\",MAX(E$1:E713)+1)","v":""},null,{"$f":"IF(H714=\"\",\"\",MAX(G$1:G713)+1)","v":""},null,{"$f":"IF(J714=\"\",\"\",MAX(I$1:I713)+1)","v":""},null,{"$f":"IF(L714=\"\",\"\",MAX(K$1:K713)+1)","v":""},null,{"$f":"IF(N714=\"\",\"\",MAX(M$1:M713)+1)","v":""}]
[null,null,{"$f":"IF(D715=\"\",\"\",MAX(C$1:C714)+1)","v":""},null,{"$f":"IF(F715=\"\",\"\",MAX(E$1:E714)+1)","v":""},null,{"$f":"IF(H715=\"\",\"\",MAX(G$1:G714)+1)","v":""},null,{"$f":"IF(J715=\"\",\"\",MAX(I$1:I714)+1)","v":""},null,{"$f":"IF(L715=\"\",\"\",MAX(K$1:K714)+1)","v":""},null,{"$f":"IF(N715=\"\",\"\",MAX(M$1:M714)+1)","v":""}]
[null,null,{"$f":"IF(D716=\"\",\"\",MAX(C$1:C715)+1)","v":""},null,{"$f":"IF(F716=\"\",\"\",MAX(E$1:E715)+1)","v":""},null,{"$f":"IF(H716=\"\",\"\",MAX(G$1:G715)+1)","v":""},null,{"$f":"IF(J716=\"\",\"\",MAX(I$1:I715)+1)","v":""},null,{"$f":"IF(L716=\"\",\"\",MAX(K$1:K715)+1)","v":""},null,{"$f":"IF(N716=\"\",\"\",MAX(M$1:M715)+1)","v":""}]
[null,null,{"$f":"IF(D717=\"\",\"\",MAX(C$1:C716)+1)","v":""},null,{"$f":"IF(F717=\"\",\"\",MAX(E$1:E716)+1)","v":""},null,{"$f":"IF(H717=\"\",\"\",MAX(G$1:G716)+1)","v":""},null,{"$f":"IF(J717=\"\",\"\",MAX(I$1:I716)+1)","v":""},null,{"$f":"IF(L717=\"\",\"\",MAX(K$1:K716)+1)","v":""},null,{"$f":"IF(N717=\"\",\"\",MAX(M$1:M716)+1)","v":""}]
[null,null,{"$f":"IF(D718=\"\",\"\",MAX(C$1:C717)+1)","v":""},null,{"$f":"IF(F718=\"\",\"\",MAX(E$1:E717)+1)","v":""},null,{"$f":"IF(H718=\"\",\"\",MAX(G$1:G717)+1)","v":""},null,{"$f":"IF(J718=\"\",\"\",MAX(I$1:I717)+1)","v":""},null,{"$f":"IF(L718=\"\",\"\",MAX(K$1:K717)+1)","v":""},null,{"$f":"IF(N718=\"\",\"\",MAX(M$1:M717)+1)","v":""}]
[null,null,{"$f":"IF(D719=\"\",\"\",MAX(C$1:C718)+1)","v":""},null,{"$f":"IF(F719=\"\",\"\",MAX(E$1:E718)+1)","v":""},null,{"$f":"IF(H719=\"\",\"\",MAX(G$1:G718)+1)","v":""},null,{"$f":"IF(J719=\"\",\"\",MAX(I$1:I718)+1)","v":""},null,{"$f":"IF(L719=\"\",\"\",MAX(K$1:K718)+1)","v":""},null,{"$f":"IF(N719=\"\",\"\",MAX(M$1:M718)+1)","v":""}]
[null,null,{"$f":"IF(D720=\"\",\"\",MAX(C$1:C719)+1)","v":""},null,{"$f":"IF(F720=\"\",\"\",MAX(E$1:E719)+1)","v":""},null,{"$f":"IF(H720=\"\",\"\",MAX(G$1:G719)+1)","v":""},null,{"$f":"IF(J720=\"\",\"\",MAX(I$1:I719)+1)","v":""},null,{"$f":"IF(L720=\"\",\"\",MAX(K$1:K719)+1)","v":""},null,{"$f":"IF(N720=\"\",\"\",MAX(M$1:M719)+1)","v":""}]
[null,null,{"$f":"IF(D721=\"\",\"\",MAX(C$1:C720)+1)","v":""},null,{"$f":"IF(F721=\"\",\"\",MAX(E$1:E720)+1)","v":""},null,{"$f":"IF(H721=\"\",\"\",MAX(G$1:G720)+1)","v":""},null,{"$f":"IF(J721=\"\",\"\",MAX(I$1:I720)+1)","v":""},null,{"$f":"IF(L721=\"\",\"\",MAX(K$1:K720)+1)","v":""},null,{"$f":"IF(N721=\"\",\"\",MAX(M$1:M720)+1)","v":""}]
[null,null,{"$f":"IF(D722=\"\",\"\",MAX(C$1:C721)+1)","v":""},null,{"$f":"IF(F722=\"\",\"\",MAX(E$1:E721)+1)","v":""},null,{"$f":"IF(H722=\"\",\"\",MAX(G$1:G721)+1)","v":""},null,{"$f":"IF(J722=\"\",\"\",MAX(I$1:I721)+1)","v":""},null,{"$f":"IF(L722=\"\",\"\",MAX(K$1:K721)+1)","v":""},null,{"$f":"IF(N722=\"\",\"\",MAX(M$1:M721)+1)","v":""}]
[null,null,{"$f":"IF(D723=\"\",\"\",MAX(C$1:C722)+1)","v":""},null,{"$f":"IF(F723=\"\",\"\",MAX(E$1:E722)+1)","v":""},null,{"$f":"IF(H723=\"\",\"\",MAX(G$1:G722)+1)","v":""},null,{"$f":"IF(J723=\"\",\"\",MAX(I$1:I722)+1)","v":""},null,{"$f":"IF(L723=\"\",\"\",MAX(K$1:K722)+1)","v":""},null,{"$f":"IF(N723=\"\",\"\",MAX(M$1:M722)+1)","v":""}]
[null,null,{"$f":"IF(D724=\"\",\"\",MAX(C$1:C723)+1)","v":""},null,{"$f":"IF(F724=\"\",\"\",MAX(E$1:E723)+1)","v":""},null,{"$f":"IF(H724=\"\",\"\",MAX(G$1:G723)+1)","v":""},null,{"$f":"IF(J724=\"\",\"\",MAX(I$1:I723)+1)","v":""},null,{"$f":"IF(L724=\"\",\"\",MAX(K$1:K723)+1)","v":""},null,{"$f":"IF(N724=\"\",\"\",MAX(M$1:M723)+1)","v":""}]
[null,null,{"$f":"IF(D725=\"\",\"\",MAX(C$1:C724)+1)","v":""},null,{"$f":"IF(F725=\"\",\"\",MAX(E$1:E724)+1)","v":""},null,{"$f":"IF(H725=\"\",\"\",MAX(G$1:G724)+1)","v":""},null,{"$f":"IF(J725=\"\",\"\",MAX(I$1:I724)+1)","v":""},null,{"$f":"IF(L725=\"\",\"\",MAX(K$1:K724)+1)","v":""},null,{"$f":"IF(N725=\"\",\"\",MAX(M$1:M724)+1)","v":""}]
[null,null,{"$f":"IF(D726=\"\",\"\",MAX(C$1:C725)+1)","v":""},null,{"$f":"IF(F726=\"\",\"\",MAX(E$1:E725)+1)","v":""},null,{"$f":"IF(H726=\"\",\"\",MAX(G$1:G725)+1)","v":""},null,{"$f":"IF(J726=\"\",\"\",MAX(I$1:I725)+1)","v":""},null,{"$f":"IF(L726=\"\",\"\",MAX(K$1:K725)+1)","v":""},null,{"$f":"IF(N726=\"\",\"\",MAX(M$1:M725)+1)","v":""}]
[null,null,{"$f":"IF(D727=\"\",\"\",MAX(C$1:C726)+1)","v":""},null,{"$f":"IF(F727=\"\",\"\",MAX(E$1:E726)+1)","v":""},null,{"$f":"IF(H727=\"\",\"\",MAX(G$1:G726)+1)","v":""},null,{"$f":"IF(J727=\"\",\"\",MAX(I$1:I726)+1)","v":""},null,{"$f":"IF(L727=\"\",\"\",MAX(K$1:K726)+1)","v":""},null,{"$f":"IF(N727=\"\",\"\",MAX(M$1:M726)+1)","v":""}]
[null,null,{"$f":"IF(D728=\"\",\"\",MAX(C$1:C727)+1)","v":""},null,{"$f":"IF(F728=\"\",\"\",MAX(E$1:E727)+1)","v":""},null,{"$f":"IF(H728=\"\",\"\",MAX(G$1:G727)+1)","v":""},null,{"$f":"IF(J728=\"\",\"\",MAX(I$1:I727)+1)","v":""},null,{"$f":"IF(L728=\"\",\"\",MAX(K$1:K727)+1)","v":""},null,{"$f":"IF(N728=\"\",\"\",MAX(M$1:M727)+1)","v":""}]
[null,null,{"$f":"IF(D729=\"\",\"\",MAX(C$1:C728)+1)","v":""},null,{"$f":"IF(F729=\"\",\"\",MAX(E$1:E728)+1)","v":""},null,{"$f":"IF(H729=\"\",\"\",MAX(G$1:G728)+1)","v":""},null,{"$f":"IF(J729=\"\",\"\",MAX(I$1:I728)+1)","v":""},null,{"$f":"IF(L729=\"\",\"\",MAX(K$1:K728)+1)","v":""},null,{"$f":"IF(N729=\"\",\"\",MAX(M$1:M728)+1)","v":""}]
[null,null,{"$f":"IF(D730=\"\",\"\",MAX(C$1:C729)+1)","v":""},null,{"$f":"IF(F730=\"\",\"\",MAX(E$1:E729)+1)","v":""},null,{"$f":"IF(H730=\"\",\"\",MAX(G$1:G729)+1)","v":""},null,{"$f":"IF(J730=\"\",\"\",MAX(I$1:I729)+1)","v":""},null,{"$f":"IF(L730=\"\",\"\",MAX(K$1:K729)+1)","v":""},null,{"$f":"IF(N730=\"\",\"\",MAX(M$1:M729)+1)","v":""}]
[null,null,{"$f":"IF(D731=\"\",\"\",MAX(C$1:C730)+1)","v":""},null,{"$f":"IF(F731=\"\",\"\",MAX(E$1:E730)+1)","v":""},null,{"$f":"IF(H731=\"\",\"\",MAX(G$1:G730)+1)","v":""},null,{"$f":"IF(J731=\"\",\"\",MAX(I$1:I730)+1)","v":""},null,{"$f":"IF(L731=\"\",\"\",MAX(K$1:K730)+1)","v":""},null,{"$f":"IF(N731=\"\",\"\",MAX(M$1:M730)+1)","v":""}]
[null,null,{"$f":"IF(D732=\"\",\"\",MAX(C$1:C731)+1)","v":""},null,{"$f":"IF(F732=\"\",\"\",MAX(E$1:E731)+1)","v":""},null,{"$f":"IF(H732=\"\",\"\",MAX(G$1:G731)+1)","v":""},null,{"$f":"IF(J732=\"\",\"\",MAX(I$1:I731)+1)","v":""},null,{"$f":"IF(L732=\"\",\"\",MAX(K$1:K731)+1)","v":""},null,{"$f":"IF(N732=\"\",\"\",MAX(M$1:M731)+1)","v":""}]
[null,null,{"$f":"IF(D733=\"\",\"\",MAX(C$1:C732)+1)","v":""},null,{"$f":"IF(F733=\"\",\"\",MAX(E$1:E732)+1)","v":""},null,{"$f":"IF(H733=\"\",\"\",MAX(G$1:G732)+1)","v":""},null,{"$f":"IF(J733=\"\",\"\",MAX(I$1:I732)+1)","v":""},null,{"$f":"IF(L733=\"\",\"\",MAX(K$1:K732)+1)","v":""},null,{"$f":"IF(N733=\"\",\"\",MAX(M$1:M732)+1)","v":""}]
[null,null,{"$f":"IF(D734=\"\",\"\",MAX(C$1:C733)+1)","v":""},null,{"$f":"IF(F734=\"\",\"\",MAX(E$1:E733)+1)","v":""},null,{"$f":"IF(H734=\"\",\"\",MAX(G$1:G733)+1)","v":""},null,{"$f":"IF(J734=\"\",\"\",MAX(I$1:I733)+1)","v":""},null,{"$f":"IF(L734=\"\",\"\",MAX(K$1:K733)+1)","v":""},null,{"$f":"IF(N734=\"\",\"\",MAX(M$1:M733)+1)","v":""}]
[null,null,{"$f":"IF(D735=\"\",\"\",MAX(C$1:C734)+1)","v":""},null,{"$f":"IF(F735=\"\",\"\",MAX(E$1:E734)+1)","v":""},null,{"$f":"IF(H735=\"\",\"\",MAX(G$1:G734)+1)","v":""},null,{"$f":"IF(J735=\"\",\"\",MAX(I$1:I734)+1)","v":""},null,{"$f":"IF(L735=\"\",\"\",MAX(K$1:K734)+1)","v":""},null,{"$f":"IF(N735=\"\",\"\",MAX(M$1:M734)+1)","v":""}]
[null,null,{"$f":"IF(D736=\"\",\"\",MAX(C$1:C735)+1)","v":""},null,{"$f":"IF(F736=\"\",\"\",MAX(E$1:E735)+1)","v":""},null,{"$f":"IF(H736=\"\",\"\",MAX(G$1:G735)+1)","v":""},null,{"$f":"IF(J736=\"\",\"\",MAX(I$1:I735)+1)","v":""},null,{"$f":"IF(L736=\"\",\"\",MAX(K$1:K735)+1)","v":""},null,{"$f":"IF(N736=\"\",\"\",MAX(M$1:M735)+1)","v":""}]
[null,null,{"$f":"IF(D737=\"\",\"\",MAX(C$1:C736)+1)","v":""},null,{"$f":"IF(F737=\"\",\"\",MAX(E$1:E736)+1)","v":""},null,{"$f":"IF(H737=\"\",\"\",MAX(G$1:G736)+1)","v":""},null,{"$f":"IF(J737=\"\",\"\",MAX(I$1:I736)+1)","v":""},null,{"$f":"IF(L737=\"\",\"\",MAX(K$1:K736)+1)","v":""},null,{"$f":"IF(N737=\"\",\"\",MAX(M$1:M736)+1)","v":""}]
[null,null,{"$f":"IF(D738=\"\",\"\",MAX(C$1:C737)+1)","v":""},null,{"$f":"IF(F738=\"\",\"\",MAX(E$1:E737)+1)","v":""},null,{"$f":"IF(H738=\"\",\"\",MAX(G$1:G737)+1)","v":""},null,{"$f":"IF(J738=\"\",\"\",MAX(I$1:I737)+1)","v":""},null,{"$f":"IF(L738=\"\",\"\",MAX(K$1:K737)+1)","v":""},null,{"$f":"IF(N738=\"\",\"\",MAX(M$1:M737)+1)","v":""}]
[null,null,{"$f":"IF(D739=\"\",\"\",MAX(C$1:C738)+1)","v":""},null,{"$f":"IF(F739=\"\",\"\",MAX(E$1:E738)+1)","v":""},null,{"$f":"IF(H739=\"\",\"\",MAX(G$1:G738)+1)","v":""},null,{"$f":"IF(J739=\"\",\"\",MAX(I$1:I738)+1)","v":""},null,{"$f":"IF(L739=\"\",\"\",MAX(K$1:K738)+1)","v":""},null,{"$f":"IF(N739=\"\",\"\",MAX(M$1:M738)+1)","v":""}]
[null,null,{"$f":"IF(D740=\"\",\"\",MAX(C$1:C739)+1)","v":""},null,{"$f":"IF(F740=\"\",\"\",MAX(E$1:E739)+1)","v":""},null,{"$f":"IF(H740=\"\",\"\",MAX(G$1:G739)+1)","v":""},null,{"$f":"IF(J740=\"\",\"\",MAX(I$1:I739)+1)","v":""},null,{"$f":"IF(L740=\"\",\"\",MAX(K$1:K739)+1)","v":""},null,{"$f":"IF(N740=\"\",\"\",MAX(M$1:M739)+1)","v":""}]
[null,null,{"$f":"IF(D741=\"\",\"\",MAX(C$1:C740)+1)","v":""},null,{"$f":"IF(F741=\"\",\"\",MAX(E$1:E740)+1)","v":""},null,{"$f":"IF(H741=\"\",\"\",MAX(G$1:G740)+1)","v":""},null,{"$f":"IF(J741=\"\",\"\",MAX(I$1:I740)+1)","v":""},null,{"$f":"IF(L741=\"\",\"\",MAX(K$1:K740)+1)","v":""},null,{"$f":"IF(N741=\"\",\"\",MAX(M$1:M740)+1)","v":""}]
[null,null,{"$f":"IF(D742=\"\",\"\",MAX(C$1:C741)+1)","v":""},null,{"$f":"IF(F742=\"\",\"\",MAX(E$1:E741)+1)","v":""},null,{"$f":"IF(H742=\"\",\"\",MAX(G$1:G741)+1)","v":""},null,{"$f":"IF(J742=\"\",\"\",MAX(I$1:I741)+1)","v":""},null,{"$f":"IF(L742=\"\",\"\",MAX(K$1:K741)+1)","v":""},null,{"$f":"IF(N742=\"\",\"\",MAX(M$1:M741)+1)","v":""}]
[null,null,{"$f":"IF(D743=\"\",\"\",MAX(C$1:C742)+1)","v":""},null,{"$f":"IF(F743=\"\",\"\",MAX(E$1:E742)+1)","v":""},null,{"$f":"IF(H743=\"\",\"\",MAX(G$1:G742)+1)","v":""},null,{"$f":"IF(J743=\"\",\"\",MAX(I$1:I742)+1)","v":""},null,{"$f":"IF(L743=\"\",\"\",MAX(K$1:K742)+1)","v":""},null,{"$f":"IF(N743=\"\",\"\",MAX(M$1:M742)+1)","v":""}]
[null,null,{"$f":"IF(D744=\"\",\"\",MAX(C$1:C743)+1)","v":""},null,{"$f":"IF(F744=\"\",\"\",MAX(E$1:E743)+1)","v":""},null,{"$f":"IF(H744=\"\",\"\",MAX(G$1:G743)+1)","v":""},null,{"$f":"IF(J744=\"\",\"\",MAX(I$1:I743)+1)","v":""},null,{"$f":"IF(L744=\"\",\"\",MAX(K$1:K743)+1)","v":""},null,{"$f":"IF(N744=\"\",\"\",MAX(M$1:M743)+1)","v":""}]
[null,null,{"$f":"IF(D745=\"\",\"\",MAX(C$1:C744)+1)","v":""},null,{"$f":"IF(F745=\"\",\"\",MAX(E$1:E744)+1)","v":""},null,{"$f":"IF(H745=\"\",\"\",MAX(G$1:G744)+1)","v":""},null,{"$f":"IF(J745=\"\",\"\",MAX(I$1:I744)+1)","v":""},null,{"$f":"IF(L745=\"\",\"\",MAX(K$1:K744)+1)","v":""},null,{"$f":"IF(N745=\"\",\"\",MAX(M$1:M744)+1)","v":""}]
[null,null,{"$f":"IF(D746=\"\",\"\",MAX(C$1:C745)+1)","v":""},null,{"$f":"IF(F746=\"\",\"\",MAX(E$1:E745)+1)","v":""},null,{"$f":"IF(H746=\"\",\"\",MAX(G$1:G745)+1)","v":""},null,{"$f":"IF(J746=\"\",\"\",MAX(I$1:I745)+1)","v":""},null,{"$f":"IF(L746=\"\",\"\",MAX(K$1:K745)+1)","v":""},null,{"$f":"IF(N746=\"\",\"\",MAX(M$1:M745)+1)","v":""}]
[null,null,{"$f":"IF(D747=\"\",\"\",MAX(C$1:C746)+1)","v":""},null,{"$f":"IF(F747=\"\",\"\",MAX(E$1:E746)+1)","v":""},null,{"$f":"IF(H747=\"\",\"\",MAX(G$1:G746)+1)","v":""},null,{"$f":"IF(J747=\"\",\"\",MAX(I$1:I746)+1)","v":""},null,{"$f":"IF(L747=\"\",\"\",MAX(K$1:K746)+1)","v":""},null,{"$f":"IF(N747=\"\",\"\",MAX(M$1:M746)+1)","v":""}]
[null,null,{"$f":"IF(D748=\"\",\"\",MAX(C$1:C747)+1)","v":""},null,{"$f":"IF(F748=\"\",\"\",MAX(E$1:E747)+1)","v":""},null,{"$f":"IF(H748=\"\",\"\",MAX(G$1:G747)+1)","v":""},null,{"$f":"IF(J748=\"\",\"\",MAX(I$1:I747)+1)","v":""},null,{"$f":"IF(L748=\"\",\"\",MAX(K$1:K747)+1)","v":""},null,{"$f":"IF(N748=\"\",\"\",MAX(M$1:M747)+1)","v":""}]
[null,null,{"$f":"IF(D749=\"\",\"\",MAX(C$1:C748)+1)","v":""},null,{"$f":"IF(F749=\"\",\"\",MAX(E$1:E748)+1)","v":""},null,{"$f":"IF(H749=\"\",\"\",MAX(G$1:G748)+1)","v":""},null,{"$f":"IF(J749=\"\",\"\",MAX(I$1:I748)+1)","v":""},null,{"$f":"IF(L749=\"\",\"\",MAX(K$1:K748)+1)","v":""},null,{"$f":"IF(N749=\"\",\"\",MAX(M$1:M748)+1)","v":""}]
[null,null,{"$f":"IF(D750=\"\",\"\",MAX(C$1:C749)+1)","v":""},null,{"$f":"IF(F750=\"\",\"\",MAX(E$1:E749)+1)","v":""},null,{"$f":"IF(H750=\"\",\"\",MAX(G$1:G749)+1)","v":""},null,{"$f":"IF(J750=\"\",\"\",MAX(I$1:I749)+1)","v":""},null,{"$f":"IF(L750=\"\",\"\",MAX(K$1:K749)+1)","v":""},null,{"$f":"IF(N750=\"\",\"\",MAX(M$1:M749)+1)","v":""}]
[null,null,{"$f":"IF(D751=\"\",\"\",MAX(C$1:C750)+1)","v":""},null,{"$f":"IF(F751=\"\",\"\",MAX(E$1:E750)+1)","v":""},null,{"$f":"IF(H751=\"\",\"\",MAX(G$1:G750)+1)","v":""},null,{"$f":"IF(J751=\"\",\"\",MAX(I$1:I750)+1)","v":""},null,{"$f":"IF(L751=\"\",\"\",MAX(K$1:K750)+1)","v":""},null,{"$f":"IF(N751=\"\",\"\",MAX(M$1:M750)+1)","v":""}]
[null,null,{"$f":"IF(D752=\"\",\"\",MAX(C$1:C751)+1)","v":""},null,{"$f":"IF(F752=\"\",\"\",MAX(E$1:E751)+1)","v":""},null,{"$f":"IF(H752=\"\",\"\",MAX(G$1:G751)+1)","v":""},null,{"$f":"IF(J752=\"\",\"\",MAX(I$1:I751)+1)","v":""},null,{"$f":"IF(L752=\"\",\"\",MAX(K$1:K751)+1)","v":""},null,{"$f":"IF(N752=\"\",\"\",MAX(M$1:M751)+1)","v":""}]
[null,null,{"$f":"IF(D753=\"\",\"\",MAX(C$1:C752)+1)","v":""},null,{"$f":"IF(F753=\"\",\"\",MAX(E$1:E752)+1)","v":""},null,{"$f":"IF(H753=\"\",\"\",MAX(G$1:G752)+1)","v":""},null,{"$f":"IF(J753=\"\",\"\",MAX(I$1:I752)+1)","v":""},null,{"$f":"IF(L753=\"\",\"\",MAX(K$1:K752)+1)","v":""},null,{"$f":"IF(N753=\"\",\"\",MAX(M$1:M752)+1)","v":""}]
[null,null,{"$f":"IF(D754=\"\",\"\",MAX(C$1:C753)+1)","v":""},null,{"$f":"IF(F754=\"\",\"\",MAX(E$1:E753)+1)","v":""},null,{"$f":"IF(H754=\"\",\"\",MAX(G$1:G753)+1)","v":""},null,{"$f":"IF(J754=\"\",\"\",MAX(I$1:I753)+1)","v":""},null,{"$f":"IF(L754=\"\",\"\",MAX(K$1:K753)+1)","v":""},null,{"$f":"IF(N754=\"\",\"\",MAX(M$1:M753)+1)","v":""}]
[null,null,{"$f":"IF(D755=\"\",\"\",MAX(C$1:C754)+1)","v":""},null,{"$f":"IF(F755=\"\",\"\",MAX(E$1:E754)+1)","v":""},null,{"$f":"IF(H755=\"\",\"\",MAX(G$1:G754)+1)","v":""},null,{"$f":"IF(J755=\"\",\"\",MAX(I$1:I754)+1)","v":""},null,{"$f":"IF(L755=\"\",\"\",MAX(K$1:K754)+1)","v":""},null,{"$f":"IF(N755=\"\",\"\",MAX(M$1:M754)+1)","v":""}]
[null,null,{"$f":"IF(D756=\"\",\"\",MAX(C$1:C755)+1)","v":""},null,{"$f":"IF(F756=\"\",\"\",MAX(E$1:E755)+1)","v":""},null,{"$f":"IF(H756=\"\",\"\",MAX(G$1:G755)+1)","v":""},null,{"$f":"IF(J756=\"\",\"\",MAX(I$1:I755)+1)","v":""},null,{"$f":"IF(L756=\"\",\"\",MAX(K$1:K755)+1)","v":""},null,{"$f":"IF(N756=\"\",\"\",MAX(M$1:M755)+1)","v":""}]
[null,null,{"$f":"IF(D757=\"\",\"\",MAX(C$1:C756)+1)","v":""},null,{"$f":"IF(F757=\"\",\"\",MAX(E$1:E756)+1)","v":""},null,{"$f":"IF(H757=\"\",\"\",MAX(G$1:G756)+1)","v":""},null,{"$f":"IF(J757=\"\",\"\",MAX(I$1:I756)+1)","v":""},null,{"$f":"IF(L757=\"\",\"\",MAX(K$1:K756)+1)","v":""},null,{"$f":"IF(N757=\"\",\"\",MAX(M$1:M756)+1)","v":""}]
[null,null,{"$f":"IF(D758=\"\",\"\",MAX(C$1:C757)+1)","v":""},null,{"$f":"IF(F758=\"\",\"\",MAX(E$1:E757)+1)","v":""},null,{"$f":"IF(H758=\"\",\"\",MAX(G$1:G757)+1)","v":""},null,{"$f":"IF(J758=\"\",\"\",MAX(I$1:I757)+1)","v":""},null,{"$f":"IF(L758=\"\",\"\",MAX(K$1:K757)+1)","v":""},null,{"$f":"IF(N758=\"\",\"\",MAX(M$1:M757)+1)","v":""}]
[null,null,{"$f":"IF(D759=\"\",\"\",MAX(C$1:C758)+1)","v":""},null,{"$f":"IF(F759=\"\",\"\",MAX(E$1:E758)+1)","v":""},null,{"$f":"IF(H759=\"\",\"\",MAX(G$1:G758)+1)","v":""},null,{"$f":"IF(J759=\"\",\"\",MAX(I$1:I758)+1)","v":""},null,{"$f":"IF(L759=\"\",\"\",MAX(K$1:K758)+1)","v":""},null,{"$f":"IF(N759=\"\",\"\",MAX(M$1:M758)+1)","v":""}]
[null,null,{"$f":"IF(D760=\"\",\"\",MAX(C$1:C759)+1)","v":""},null,{"$f":"IF(F760=\"\",\"\",MAX(E$1:E759)+1)","v":""},null,{"$f":"IF(H760=\"\",\"\",MAX(G$1:G759)+1)","v":""},null,{"$f":"IF(J760=\"\",\"\",MAX(I$1:I759)+1)","v":""},null,{"$f":"IF(L760=\"\",\"\",MAX(K$1:K759)+1)","v":""},null,{"$f":"IF(N760=\"\",\"\",MAX(M$1:M759)+1)","v":""}]
[null,null,{"$f":"IF(D761=\"\",\"\",MAX(C$1:C760)+1)","v":""},null,{"$f":"IF(F761=\"\",\"\",MAX(E$1:E760)+1)","v":""},null,{"$f":"IF(H761=\"\",\"\",MAX(G$1:G760)+1)","v":""},null,{"$f":"IF(J761=\"\",\"\",MAX(I$1:I760)+1)","v":""},null,{"$f":"IF(L761=\"\",\"\",MAX(K$1:K760)+1)","v":""},null,{"$f":"IF(N761=\"\",\"\",MAX(M$1:M760)+1)","v":""}]
[null,null,{"$f":"IF(D762=\"\",\"\",MAX(C$1:C761)+1)","v":""},null,{"$f":"IF(F762=\"\",\"\",MAX(E$1:E761)+1)","v":""},null,{"$f":"IF(H762=\"\",\"\",MAX(G$1:G761)+1)","v":""},null,{"$f":"IF(J762=\"\",\"\",MAX(I$1:I761)+1)","v":""},null,{"$f":"IF(L762=\"\",\"\",MAX(K$1:K761)+1)","v":""},null,{"$f":"IF(N762=\"\",\"\",MAX(M$1:M761)+1)","v":""}]
[null,null,{"$f":"IF(D763=\"\",\"\",MAX(C$1:C762)+1)","v":""},null,{"$f":"IF(F763=\"\",\"\",MAX(E$1:E762)+1)","v":""},null,{"$f":"IF(H763=\"\",\"\",MAX(G$1:G762)+1)","v":""},null,{"$f":"IF(J763=\"\",\"\",MAX(I$1:I762)+1)","v":""},null,{"$f":"IF(L763=\"\",\"\",MAX(K$1:K762)+1)","v":""},null,{"$f":"IF(N763=\"\",\"\",MAX(M$1:M762)+1)","v":""}]
[null,null,{"$f":"IF(D764=\"\",\"\",MAX(C$1:C763)+1)","v":""},null,{"$f":"IF(F764=\"\",\"\",MAX(E$1:E763)+1)","v":""},null,{"$f":"IF(H764=\"\",\"\",MAX(G$1:G763)+1)","v":""},null,{"$f":"IF(J764=\"\",\"\",MAX(I$1:I763)+1)","v":""},null,{"$f":"IF(L764=\"\",\"\",MAX(K$1:K763)+1)","v":""},null,{"$f":"IF(N764=\"\",\"\",MAX(M$1:M763)+1)","v":""}]
[null,null,{"$f":"IF(D765=\"\",\"\",MAX(C$1:C764)+1)","v":""},null,{"$f":"IF(F765=\"\",\"\",MAX(E$1:E764)+1)","v":""},null,{"$f":"IF(H765=\"\",\"\",MAX(G$1:G764)+1)","v":""},null,{"$f":"IF(J765=\"\",\"\",MAX(I$1:I764)+1)","v":""},null,{"$f":"IF(L765=\"\",\"\",MAX(K$1:K764)+1)","v":""},null,{"$f":"IF(N765=\"\",\"\",MAX(M$1:M764)+1)","v":""}]
[null,null,{"$f":"IF(D766=\"\",\"\",MAX(C$1:C765)+1)","v":""},null,{"$f":"IF(F766=\"\",\"\",MAX(E$1:E765)+1)","v":""},null,{"$f":"IF(H766=\"\",\"\",MAX(G$1:G765)+1)","v":""},null,{"$f":"IF(J766=\"\",\"\",MAX(I$1:I765)+1)","v":""},null,{"$f":"IF(L766=\"\",\"\",MAX(K$1:K765)+1)","v":""},null,{"$f":"IF(N766=\"\",\"\",MAX(M$1:M765)+1)","v":""}]
[null,null,{"$f":"IF(D767=\"\",\"\",MAX(C$1:C766)+1)","v":""},null,{"$f":"IF(F767=\"\",\"\",MAX(E$1:E766)+1)","v":""},null,{"$f":"IF(H767=\"\",\"\",MAX(G$1:G766)+1)","v":""},null,{"$f":"IF(J767=\"\",\"\",MAX(I$1:I766)+1)","v":""},null,{"$f":"IF(L767=\"\",\"\",MAX(K$1:K766)+1)","v":""},null,{"$f":"IF(N767=\"\",\"\",MAX(M$1:M766)+1)","v":""}]
[null,null,{"$f":"IF(D768=\"\",\"\",MAX(C$1:C767)+1)","v":""},null,{"$f":"IF(F768=\"\",\"\",MAX(E$1:E767)+1)","v":""},null,{"$f":"IF(H768=\"\",\"\",MAX(G$1:G767)+1)","v":""},null,{"$f":"IF(J768=\"\",\"\",MAX(I$1:I767)+1)","v":""},null,{"$f":"IF(L768=\"\",\"\",MAX(K$1:K767)+1)","v":""},null,{"$f":"IF(N768=\"\",\"\",MAX(M$1:M767)+1)","v":""}]
[null,null,{"$f":"IF(D769=\"\",\"\",MAX(C$1:C768)+1)","v":""},null,{"$f":"IF(F769=\"\",\"\",MAX(E$1:E768)+1)","v":""},null,{"$f":"IF(H769=\"\",\"\",MAX(G$1:G768)+1)","v":""},null,{"$f":"IF(J769=\"\",\"\",MAX(I$1:I768)+1)","v":""},null,{"$f":"IF(L769=\"\",\"\",MAX(K$1:K768)+1)","v":""},null,{"$f":"IF(N769=\"\",\"\",MAX(M$1:M768)+1)","v":""}]
[null,null,{"$f":"IF(D770=\"\",\"\",MAX(C$1:C769)+1)","v":""},null,{"$f":"IF(F770=\"\",\"\",MAX(E$1:E769)+1)","v":""},null,{"$f":"IF(H770=\"\",\"\",MAX(G$1:G769)+1)","v":""},null,{"$f":"IF(J770=\"\",\"\",MAX(I$1:I769)+1)","v":""},null,{"$f":"IF(L770=\"\",\"\",MAX(K$1:K769)+1)","v":""},null,{"$f":"IF(N770=\"\",\"\",MAX(M$1:M769)+1)","v":""}]
[null,null,{"$f":"IF(D771=\"\",\"\",MAX(C$1:C770)+1)","v":""},null,{"$f":"IF(F771=\"\",\"\",MAX(E$1:E770)+1)","v":""},null,{"$f":"IF(H771=\"\",\"\",MAX(G$1:G770)+1)","v":""},null,{"$f":"IF(J771=\"\",\"\",MAX(I$1:I770)+1)","v":""},null,{"$f":"IF(L771=\"\",\"\",MAX(K$1:K770)+1)","v":""},null,{"$f":"IF(N771=\"\",\"\",MAX(M$1:M770)+1)","v":""}]
[null,null,{"$f":"IF(D772=\"\",\"\",MAX(C$1:C771)+1)","v":""},null,{"$f":"IF(F772=\"\",\"\",MAX(E$1:E771)+1)","v":""},null,{"$f":"IF(H772=\"\",\"\",MAX(G$1:G771)+1)","v":""},null,{"$f":"IF(J772=\"\",\"\",MAX(I$1:I771)+1)","v":""},null,{"$f":"IF(L772=\"\",\"\",MAX(K$1:K771)+1)","v":""},null,{"$f":"IF(N772=\"\",\"\",MAX(M$1:M771)+1)","v":""}]
[null,null,{"$f":"IF(D773=\"\",\"\",MAX(C$1:C772)+1)","v":""},null,{"$f":"IF(F773=\"\",\"\",MAX(E$1:E772)+1)","v":""},null,{"$f":"IF(H773=\"\",\"\",MAX(G$1:G772)+1)","v":""},null,{"$f":"IF(J773=\"\",\"\",MAX(I$1:I772)+1)","v":""},null,{"$f":"IF(L773=\"\",\"\",MAX(K$1:K772)+1)","v":""},null,{"$f":"IF(N773=\"\",\"\",MAX(M$1:M772)+1)","v":""}]
[null,null,{"$f":"IF(D774=\"\",\"\",MAX(C$1:C773)+1)","v":""},null,{"$f":"IF(F774=\"\",\"\",MAX(E$1:E773)+1)","v":""},null,{"$f":"IF(H774=\"\",\"\",MAX(G$1:G773)+1)","v":""},null,{"$f":"IF(J774=\"\",\"\",MAX(I$1:I773)+1)","v":""},null,{"$f":"IF(L774=\"\",\"\",MAX(K$1:K773)+1)","v":""},null,{"$f":"IF(N774=\"\",\"\",MAX(M$1:M773)+1)","v":""}]
[null,null,{"$f":"IF(D775=\"\",\"\",MAX(C$1:C774)+1)","v":""},null,{"$f":"IF(F775=\"\",\"\",MAX(E$1:E774)+1)","v":""},null,{"$f":"IF(H775=\"\",\"\",MAX(G$1:G774)+1)","v":""},null,{"$f":"IF(J775=\"\",\"\",MAX(I$1:I774)+1)","v":""},null,{"$f":"IF(L775=\"\",\"\",MAX(K$1:K774)+1)","v":""},null,{"$f":"IF(N775=\"\",\"\",MAX(M$1:M774)+1)","v":""}]
[null,null,{"$f":"IF(D776=\"\",\"\",MAX(C$1:C775)+1)","v":""},null,{"$f":"IF(F776=\"\",\"\",MAX(E$1:E775)+1)","v":""},null,{"$f":"IF(H776=\"\",\"\",MAX(G$1:G775)+1)","v":""},null,{"$f":"IF(J776=\"\",\"\",MAX(I$1:I775)+1)","v":""},null,{"$f":"IF(L776=\"\",\"\",MAX(K$1:K775)+1)","v":""},null,{"$f":"IF(N776=\"\",\"\",MAX(M$1:M775)+1)","v":""}]
[null,null,{"$f":"IF(D777=\"\",\"\",MAX(C$1:C776)+1)","v":""},null,{"$f":"IF(F777=\"\",\"\",MAX(E$1:E776)+1)","v":""},null,{"$f":"IF(H777=\"\",\"\",MAX(G$1:G776)+1)","v":""},null,{"$f":"IF(J777=\"\",\"\",MAX(I$1:I776)+1)","v":""},null,{"$f":"IF(L777=\"\",\"\",MAX(K$1:K776)+1)","v":""},null,{"$f":"IF(N777=\"\",\"\",MAX(M$1:M776)+1)","v":""}]
[null,null,{"$f":"IF(D778=\"\",\"\",MAX(C$1:C777)+1)","v":""},null,{"$f":"IF(F778=\"\",\"\",MAX(E$1:E777)+1)","v":""},null,{"$f":"IF(H778=\"\",\"\",MAX(G$1:G777)+1)","v":""},null,{"$f":"IF(J778=\"\",\"\",MAX(I$1:I777)+1)","v":""},null,{"$f":"IF(L778=\"\",\"\",MAX(K$1:K777)+1)","v":""},null,{"$f":"IF(N778=\"\",\"\",MAX(M$1:M777)+1)","v":""}]
[null,null,{"$f":"IF(D779=\"\",\"\",MAX(C$1:C778)+1)","v":""},null,{"$f":"IF(F779=\"\",\"\",MAX(E$1:E778)+1)","v":""},null,{"$f":"IF(H779=\"\",\"\",MAX(G$1:G778)+1)","v":""},null,{"$f":"IF(J779=\"\",\"\",MAX(I$1:I778)+1)","v":""},null,{"$f":"IF(L779=\"\",\"\",MAX(K$1:K778)+1)","v":""},null,{"$f":"IF(N779=\"\",\"\",MAX(M$1:M778)+1)","v":""}]
[null,null,{"$f":"IF(D780=\"\",\"\",MAX(C$1:C779)+1)","v":""},null,{"$f":"IF(F780=\"\",\"\",MAX(E$1:E779)+1)","v":""},null,{"$f":"IF(H780=\"\",\"\",MAX(G$1:G779)+1)","v":""},null,{"$f":"IF(J780=\"\",\"\",MAX(I$1:I779)+1)","v":""},null,{"$f":"IF(L780=\"\",\"\",MAX(K$1:K779)+1)","v":""},null,{"$f":"IF(N780=\"\",\"\",MAX(M$1:M779)+1)","v":""}]
[null,null,{"$f":"IF(D781=\"\",\"\",MAX(C$1:C780)+1)","v":""},null,{"$f":"IF(F781=\"\",\"\",MAX(E$1:E780)+1)","v":""},null,{"$f":"IF(H781=\"\",\"\",MAX(G$1:G780)+1)","v":""},null,{"$f":"IF(J781=\"\",\"\",MAX(I$1:I780)+1)","v":""},null,{"$f":"IF(L781=\"\",\"\",MAX(K$1:K780)+1)","v":""},null,{"$f":"IF(N781=\"\",\"\",MAX(M$1:M780)+1)","v":""}]
[null,null,{"$f":"IF(D782=\"\",\"\",MAX(C$1:C781)+1)","v":""},null,{"$f":"IF(F782=\"\",\"\",MAX(E$1:E781)+1)","v":""},null,{"$f":"IF(H782=\"\",\"\",MAX(G$1:G781)+1)","v":""},null,{"$f":"IF(J782=\"\",\"\",MAX(I$1:I781)+1)","v":""},null,{"$f":"IF(L782=\"\",\"\",MAX(K$1:K781)+1)","v":""},null,{"$f":"IF(N782=\"\",\"\",MAX(M$1:M781)+1)","v":""}]
[null,null,{"$f":"IF(D783=\"\",\"\",MAX(C$1:C782)+1)","v":""},null,{"$f":"IF(F783=\"\",\"\",MAX(E$1:E782)+1)","v":""},null,{"$f":"IF(H783=\"\",\"\",MAX(G$1:G782)+1)","v":""},null,{"$f":"IF(J783=\"\",\"\",MAX(I$1:I782)+1)","v":""},null,{"$f":"IF(L783=\"\",\"\",MAX(K$1:K782)+1)","v":""},null,{"$f":"IF(N783=\"\",\"\",MAX(M$1:M782)+1)","v":""}]
[null,null,{"$f":"IF(D784=\"\",\"\",MAX(C$1:C783)+1)","v":""},null,{"$f":"IF(F784=\"\",\"\",MAX(E$1:E783)+1)","v":""},null,{"$f":"IF(H784=\"\",\"\",MAX(G$1:G783)+1)","v":""},null,{"$f":"IF(J784=\"\",\"\",MAX(I$1:I783)+1)","v":""},null,{"$f":"IF(L784=\"\",\"\",MAX(K$1:K783)+1)","v":""},null,{"$f":"IF(N784=\"\",\"\",MAX(M$1:M783)+1)","v":""}]
[null,null,{"$f":"IF(D785=\"\",\"\",MAX(C$1:C784)+1)","v":""},null,{"$f":"IF(F785=\"\",\"\",MAX(E$1:E784)+1)","v":""},null,{"$f":"IF(H785=\"\",\"\",MAX(G$1:G784)+1)","v":""},null,{"$f":"IF(J785=\"\",\"\",MAX(I$1:I784)+1)","v":""},null,{"$f":"IF(L785=\"\",\"\",MAX(K$1:K784)+1)","v":""},null,{"$f":"IF(N785=\"\",\"\",MAX(M$1:M784)+1)","v":""}]
[null,null,{"$f":"IF(D786=\"\",\"\",MAX(C$1:C785)+1)","v":""},null,{"$f":"IF(F786=\"\",\"\",MAX(E$1:E785)+1)","v":""},null,{"$f":"IF(H786=\"\",\"\",MAX(G$1:G785)+1)","v":""},null,{"$f":"IF(J786=\"\",\"\",MAX(I$1:I785)+1)","v":""},null,{"$f":"IF(L786=\"\",\"\",MAX(K$1:K785)+1)","v":""},null,{"$f":"IF(N786=\"\",\"\",MAX(M$1:M785)+1)","v":""}]
[null,null,{"$f":"IF(D787=\"\",\"\",MAX(C$1:C786)+1)","v":""},null,{"$f":"IF(F787=\"\",\"\",MAX(E$1:E786)+1)","v":""},null,{"$f":"IF(H787=\"\",\"\",MAX(G$1:G786)+1)","v":""},null,{"$f":"IF(J787=\"\",\"\",MAX(I$1:I786)+1)","v":""},null,{"$f":"IF(L787=\"\",\"\",MAX(K$1:K786)+1)","v":""},null,{"$f":"IF(N787=\"\",\"\",MAX(M$1:M786)+1)","v":""}]
[null,null,{"$f":"IF(D788=\"\",\"\",MAX(C$1:C787)+1)","v":""},null,{"$f":"IF(F788=\"\",\"\",MAX(E$1:E787)+1)","v":""},null,{"$f":"IF(H788=\"\",\"\",MAX(G$1:G787)+1)","v":""},null,{"$f":"IF(J788=\"\",\"\",MAX(I$1:I787)+1)","v":""},null,{"$f":"IF(L788=\"\",\"\",MAX(K$1:K787)+1)","v":""},null,{"$f":"IF(N788=\"\",\"\",MAX(M$1:M787)+1)","v":""}]
[null,null,{"$f":"IF(D789=\"\",\"\",MAX(C$1:C788)+1)","v":""},null,{"$f":"IF(F789=\"\",\"\",MAX(E$1:E788)+1)","v":""},null,{"$f":"IF(H789=\"\",\"\",MAX(G$1:G788)+1)","v":""},null,{"$f":"IF(J789=\"\",\"\",MAX(I$1:I788)+1)","v":""},null,{"$f":"IF(L789=\"\",\"\",MAX(K$1:K788)+1)","v":""},null,{"$f":"IF(N789=\"\",\"\",MAX(M$1:M788)+1)","v":""}]
[null,null,{"$f":"IF(D790=\"\",\"\",MAX(C$1:C789)+1)","v":""},null,{"$f":"IF(F790=\"\",\"\",MAX(E$1:E789)+1)","v":""},null,{"$f":"IF(H790=\"\",\"\",MAX(G$1:G789)+1)","v":""},null,{"$f":"IF(J790=\"\",\"\",MAX(I$1:I789)+1)","v":""},null,{"$f":"IF(L790=\"\",\"\",MAX(K$1:K789)+1)","v":""},null,{"$f":"IF(N790=\"\",\"\",MAX(M$1:M789)+1)","v":""}]
[null,null,{"$f":"IF(D791=\"\",\"\",MAX(C$1:C790)+1)","v":""},null,{"$f":"IF(F791=\"\",\"\",MAX(E$1:E790)+1)","v":""},null,{"$f":"IF(H791=\"\",\"\",MAX(G$1:G790)+1)","v":""},null,{"$f":"IF(J791=\"\",\"\",MAX(I$1:I790)+1)","v":""},null,{"$f":"IF(L791=\"\",\"\",MAX(K$1:K790)+1)","v":""},null,{"$f":"IF(N791=\"\",\"\",MAX(M$1:M790)+1)","v":""}]
[null,null,{"$f":"IF(D792=\"\",\"\",MAX(C$1:C791)+1)","v":""},null,{"$f":"IF(F792=\"\",\"\",MAX(E$1:E791)+1)","v":""},null,{"$f":"IF(H792=\"\",\"\",MAX(G$1:G791)+1)","v":""},null,{"$f":"IF(J792=\"\",\"\",MAX(I$1:I791)+1)","v":""},null,{"$f":"IF(L792=\"\",\"\",MAX(K$1:K791)+1)","v":""},null,{"$f":"IF(N792=\"\",\"\",MAX(M$1:M791)+1)","v":""}]
[null,null,{"$f":"IF(D793=\"\",\"\",MAX(C$1:C792)+1)","v":""},null,{"$f":"IF(F793=\"\",\"\",MAX(E$1:E792)+1)","v":""},null,{"$f":"IF(H793=\"\",\"\",MAX(G$1:G792)+1)","v":""},null,{"$f":"IF(J793=\"\",\"\",MAX(I$1:I792)+1)","v":""},null,{"$f":"IF(L793=\"\",\"\",MAX(K$1:K792)+1)","v":""},null,{"$f":"IF(N793=\"\",\"\",MAX(M$1:M792)+1)","v":""}]
[null,null,{"$f":"IF(D794=\"\",\"\",MAX(C$1:C793)+1)","v":""},null,{"$f":"IF(F794=\"\",\"\",MAX(E$1:E793)+1)","v":""},null,{"$f":"IF(H794=\"\",\"\",MAX(G$1:G793)+1)","v":""},null,{"$f":"IF(J794=\"\",\"\",MAX(I$1:I793)+1)","v":""},null,{"$f":"IF(L794=\"\",\"\",MAX(K$1:K793)+1)","v":""},null,{"$f":"IF(N794=\"\",\"\",MAX(M$1:M793)+1)","v":""}]
[null,null,{"$f":"IF(D795=\"\",\"\",MAX(C$1:C794)+1)","v":""},null,{"$f":"IF(F795=\"\",\"\",MAX(E$1:E794)+1)","v":""},null,{"$f":"IF(H795=\"\",\"\",MAX(G$1:G794)+1)","v":""},null,{"$f":"IF(J795=\"\",\"\",MAX(I$1:I794)+1)","v":""},null,{"$f":"IF(L795=\"\",\"\",MAX(K$1:K794)+1)","v":""},null,{"$f":"IF(N795=\"\",\"\",MAX(M$1:M794)+1)","v":""}]
[null,null,{"$f":"IF(D796=\"\",\"\",MAX(C$1:C795)+1)","v":""},null,{"$f":"IF(F796=\"\",\"\",MAX(E$1:E795)+1)","v":""},null,{"$f":"IF(H796=\"\",\"\",MAX(G$1:G795)+1)","v":""},null,{"$f":"IF(J796=\"\",\"\",MAX(I$1:I795)+1)","v":""},null,{"$f":"IF(L796=\"\",\"\",MAX(K$1:K795)+1)","v":""},null,{"$f":"IF(N796=\"\",\"\",MAX(M$1:M795)+1)","v":""}]
[null,null,{"$f":"IF(D797=\"\",\"\",MAX(C$1:C796)+1)","v":""},null,{"$f":"IF(F797=\"\",\"\",MAX(E$1:E796)+1)","v":""},null,{"$f":"IF(H797=\"\",\"\",MAX(G$1:G796)+1)","v":""},null,{"$f":"IF(J797=\"\",\"\",MAX(I$1:I796)+1)","v":""},null,{"$f":"IF(L797=\"\",\"\",MAX(K$1:K796)+1)","v":""},null,{"$f":"IF(N797=\"\",\"\",MAX(M$1:M796)+1)","v":""}]
[null,null,{"$f":"IF(D798=\"\",\"\",MAX(C$1:C797)+1)","v":""},null,{"$f":"IF(F798=\"\",\"\",MAX(E$1:E797)+1)","v":""},null,{"$f":"IF(H798=\"\",\"\",MAX(G$1:G797)+1)","v":""},null,{"$f":"IF(J798=\"\",\"\",MAX(I$1:I797)+1)","v":""},null,{"$f":"IF(L798=\"\",\"\",MAX(K$1:K797)+1)","v":""},null,{"$f":"IF(N798=\"\",\"\",MAX(M$1:M797)+1)","v":""}]
[null,null,{"$f":"IF(D799=\"\",\"\",MAX(C$1:C798)+1)","v":""},null,{"$f":"IF(F799=\"\",\"\",MAX(E$1:E798)+1)","v":""},null,{"$f":"IF(H799=\"\",\"\",MAX(G$1:G798)+1)","v":""},null,{"$f":"IF(J799=\"\",\"\",MAX(I$1:I798)+1)","v":""},null,{"$f":"IF(L799=\"\",\"\",MAX(K$1:K798)+1)","v":""},null,{"$f":"IF(N799=\"\",\"\",MAX(M$1:M798)+1)","v":""}]
[null,null,{"$f":"IF(D800=\"\",\"\",MAX(C$1:C799)+1)","v":""},null,{"$f":"IF(F800=\"\",\"\",MAX(E$1:E799)+1)","v":""},null,{"$f":"IF(H800=\"\",\"\",MAX(G$1:G799)+1)","v":""},null,{"$f":"IF(J800=\"\",\"\",MAX(I$1:I799)+1)","v":""},null,{"$f":"IF(L800=\"\",\"\",MAX(K$1:K799)+1)","v":""},null,{"$f":"IF(N800=\"\",\"\",MAX(M$1:M799)+1)","v":""}]
[null,null,{"$f":"IF(D801=\"\",\"\",MAX(C$1:C800)+1)","v":""},null,{"$f":"IF(F801=\"\",\"\",MAX(E$1:E800)+1)","v":""},null,{"$f":"IF(H801=\"\",\"\",MAX(G$1:G800)+1)","v":""},null,{"$f":"IF(J801=\"\",\"\",MAX(I$1:I800)+1)","v":""},null,{"$f":"IF(L801=\"\",\"\",MAX(K$1:K800)+1)","v":""},null,{"$f":"IF(N801=\"\",\"\",MAX(M$1:M800)+1)","v":""}]
[null,null,{"$f":"IF(D802=\"\",\"\",MAX(C$1:C801)+1)","v":""},null,{"$f":"IF(F802=\"\",\"\",MAX(E$1:E801)+1)","v":""},null,{"$f":"IF(H802=\"\",\"\",MAX(G$1:G801)+1)","v":""},null,{"$f":"IF(J802=\"\",\"\",MAX(I$1:I801)+1)","v":""},null,{"$f":"IF(L802=\"\",\"\",MAX(K$1:K801)+1)","v":""},null,{"$f":"IF(N802=\"\",\"\",MAX(M$1:M801)+1)","v":""}]
[null,null,{"$f":"IF(D803=\"\",\"\",MAX(C$1:C802)+1)","v":""},null,{"$f":"IF(F803=\"\",\"\",MAX(E$1:E802)+1)","v":""},null,{"$f":"IF(H803=\"\",\"\",MAX(G$1:G802)+1)","v":""},null,{"$f":"IF(J803=\"\",\"\",MAX(I$1:I802)+1)","v":""},null,{"$f":"IF(L803=\"\",\"\",MAX(K$1:K802)+1)","v":""},null,{"$f":"IF(N803=\"\",\"\",MAX(M$1:M802)+1)","v":""}]
[null,null,{"$f":"IF(D804=\"\",\"\",MAX(C$1:C803)+1)","v":""},null,{"$f":"IF(F804=\"\",\"\",MAX(E$1:E803)+1)","v":""},null,{"$f":"IF(H804=\"\",\"\",MAX(G$1:G803)+1)","v":""},null,{"$f":"IF(J804=\"\",\"\",MAX(I$1:I803)+1)","v":""},null,{"$f":"IF(L804=\"\",\"\",MAX(K$1:K803)+1)","v":""},null,{"$f":"IF(N804=\"\",\"\",MAX(M$1:M803)+1)","v":""}]
[null,null,{"$f":"IF(D805=\"\",\"\",MAX(C$1:C804)+1)","v":""},null,{"$f":"IF(F805=\"\",\"\",MAX(E$1:E804)+1)","v":""},null,{"$f":"IF(H805=\"\",\"\",MAX(G$1:G804)+1)","v":""},null,{"$f":"IF(J805=\"\",\"\",MAX(I$1:I804)+1)","v":""},null,{"$f":"IF(L805=\"\",\"\",MAX(K$1:K804)+1)","v":""},null,{"$f":"IF(N805=\"\",\"\",MAX(M$1:M804)+1)","v":""}]
[null,null,{"$f":"IF(D806=\"\",\"\",MAX(C$1:C805)+1)","v":""},null,{"$f":"IF(F806=\"\",\"\",MAX(E$1:E805)+1)","v":""},null,{"$f":"IF(H806=\"\",\"\",MAX(G$1:G805)+1)","v":""},null,{"$f":"IF(J806=\"\",\"\",MAX(I$1:I805)+1)","v":""},null,{"$f":"IF(L806=\"\",\"\",MAX(K$1:K805)+1)","v":""},null,{"$f":"IF(N806=\"\",\"\",MAX(M$1:M805)+1)","v":""}]
[null,null,{"$f":"IF(D807=\"\",\"\",MAX(C$1:C806)+1)","v":""},null,{"$f":"IF(F807=\"\",\"\",MAX(E$1:E806)+1)","v":""},null,{"$f":"IF(H807=\"\",\"\",MAX(G$1:G806)+1)","v":""},null,{"$f":"IF(J807=\"\",\"\",MAX(I$1:I806)+1)","v":""},null,{"$f":"IF(L807=\"\",\"\",MAX(K$1:K806)+1)","v":""},null,{"$f":"IF(N807=\"\",\"\",MAX(M$1:M806)+1)","v":""}]
[null,null,{"$f":"IF(D808=\"\",\"\",MAX(C$1:C807)+1)","v":""},null,{"$f":"IF(F808=\"\",\"\",MAX(E$1:E807)+1)","v":""},null,{"$f":"IF(H808=\"\",\"\",MAX(G$1:G807)+1)","v":""},null,{"$f":"IF(J808=\"\",\"\",MAX(I$1:I807)+1)","v":""},null,{"$f":"IF(L808=\"\",\"\",MAX(K$1:K807)+1)","v":""},null,{"$f":"IF(N808=\"\",\"\",MAX(M$1:M807)+1)","v":""}]
[null,null,{"$f":"IF(D809=\"\",\"\",MAX(C$1:C808)+1)","v":""},null,{"$f":"IF(F809=\"\",\"\",MAX(E$1:E808)+1)","v":""},null,{"$f":"IF(H809=\"\",\"\",MAX(G$1:G808)+1)","v":""},null,{"$f":"IF(J809=\"\",\"\",MAX(I$1:I808)+1)","v":""},null,{"$f":"IF(L809=\"\",\"\",MAX(K$1:K808)+1)","v":""},null,{"$f":"IF(N809=\"\",\"\",MAX(M$1:M808)+1)","v":""}]
[null,null,{"$f":"IF(D810=\"\",\"\",MAX(C$1:C809)+1)","v":""},null,{"$f":"IF(F810=\"\",\"\",MAX(E$1:E809)+1)","v":""},null,{"$f":"IF(H810=\"\",\"\",MAX(G$1:G809)+1)","v":""},null,{"$f":"IF(J810=\"\",\"\",MAX(I$1:I809)+1)","v":""},null,{"$f":"IF(L810=\"\",\"\",MAX(K$1:K809)+1)","v":""},null,{"$f":"IF(N810=\"\",\"\",MAX(M$1:M809)+1)","v":""}]
[null,null,{"$f":"IF(D811=\"\",\"\",MAX(C$1:C810)+1)","v":""},null,{"$f":"IF(F811=\"\",\"\",MAX(E$1:E810)+1)","v":""},null,{"$f":"IF(H811=\"\",\"\",MAX(G$1:G810)+1)","v":""},null,{"$f":"IF(J811=\"\",\"\",MAX(I$1:I810)+1)","v":""},null,{"$f":"IF(L811=\"\",\"\",MAX(K$1:K810)+1)","v":""},null,{"$f":"IF(N811=\"\",\"\",MAX(M$1:M810)+1)","v":""}]
[null,null,{"$f":"IF(D812=\"\",\"\",MAX(C$1:C811)+1)","v":""},null,{"$f":"IF(F812=\"\",\"\",MAX(E$1:E811)+1)","v":""},null,{"$f":"IF(H812=\"\",\"\",MAX(G$1:G811)+1)","v":""},null,{"$f":"IF(J812=\"\",\"\",MAX(I$1:I811)+1)","v":""},null,{"$f":"IF(L812=\"\",\"\",MAX(K$1:K811)+1)","v":""},null,{"$f":"IF(N812=\"\",\"\",MAX(M$1:M811)+1)","v":""}]
[null,null,{"$f":"IF(D813=\"\",\"\",MAX(C$1:C812)+1)","v":""},null,{"$f":"IF(F813=\"\",\"\",MAX(E$1:E812)+1)","v":""},null,{"$f":"IF(H813=\"\",\"\",MAX(G$1:G812)+1)","v":""},null,{"$f":"IF(J813=\"\",\"\",MAX(I$1:I812)+1)","v":""},null,{"$f":"IF(L813=\"\",\"\",MAX(K$1:K812)+1)","v":""},null,{"$f":"IF(N813=\"\",\"\",MAX(M$1:M812)+1)","v":""}]
[null,null,{"$f":"IF(D814=\"\",\"\",MAX(C$1:C813)+1)","v":""},null,{"$f":"IF(F814=\"\",\"\",MAX(E$1:E813)+1)","v":""},null,{"$f":"IF(H814=\"\",\"\",MAX(G$1:G813)+1)","v":""},null,{"$f":"IF(J814=\"\",\"\",MAX(I$1:I813)+1)","v":""},null,{"$f":"IF(L814=\"\",\"\",MAX(K$1:K813)+1)","v":""},null,{"$f":"IF(N814=\"\",\"\",MAX(M$1:M813)+1)","v":""}]
[null,null,{"$f":"IF(D815=\"\",\"\",MAX(C$1:C814)+1)","v":""},null,{"$f":"IF(F815=\"\",\"\",MAX(E$1:E814)+1)","v":""},null,{"$f":"IF(H815=\"\",\"\",MAX(G$1:G814)+1)","v":""},null,{"$f":"IF(J815=\"\",\"\",MAX(I$1:I814)+1)","v":""},null,{"$f":"IF(L815=\"\",\"\",MAX(K$1:K814)+1)","v":""},null,{"$f":"IF(N815=\"\",\"\",MAX(M$1:M814)+1)","v":""}]
[null,null,{"$f":"IF(D816=\"\",\"\",MAX(C$1:C815)+1)","v":""},null,{"$f":"IF(F816=\"\",\"\",MAX(E$1:E815)+1)","v":""},null,{"$f":"IF(H816=\"\",\"\",MAX(G$1:G815)+1)","v":""},null,{"$f":"IF(J816=\"\",\"\",MAX(I$1:I815)+1)","v":""},null,{"$f":"IF(L816=\"\",\"\",MAX(K$1:K815)+1)","v":""},null,{"$f":"IF(N816=\"\",\"\",MAX(M$1:M815)+1)","v":""}]
[null,null,{"$f":"IF(D817=\"\",\"\",MAX(C$1:C816)+1)","v":""},null,{"$f":"IF(F817=\"\",\"\",MAX(E$1:E816)+1)","v":""},null,{"$f":"IF(H817=\"\",\"\",MAX(G$1:G816)+1)","v":""},null,{"$f":"IF(J817=\"\",\"\",MAX(I$1:I816)+1)","v":""},null,{"$f":"IF(L817=\"\",\"\",MAX(K$1:K816)+1)","v":""},null,{"$f":"IF(N817=\"\",\"\",MAX(M$1:M816)+1)","v":""}]
[null,null,{"$f":"IF(D818=\"\",\"\",MAX(C$1:C817)+1)","v":""},null,{"$f":"IF(F818=\"\",\"\",MAX(E$1:E817)+1)","v":""},null,{"$f":"IF(H818=\"\",\"\",MAX(G$1:G817)+1)","v":""},null,{"$f":"IF(J818=\"\",\"\",MAX(I$1:I817)+1)","v":""},null,{"$f":"IF(L818=\"\",\"\",MAX(K$1:K817)+1)","v":""},null,{"$f":"IF(N818=\"\",\"\",MAX(M$1:M817)+1)","v":""}]
[null,null,{"$f":"IF(D819=\"\",\"\",MAX(C$1:C818)+1)","v":""},null,{"$f":"IF(F819=\"\",\"\",MAX(E$1:E818)+1)","v":""},null,{"$f":"IF(H819=\"\",\"\",MAX(G$1:G818)+1)","v":""},null,{"$f":"IF(J819=\"\",\"\",MAX(I$1:I818)+1)","v":""},null,{"$f":"IF(L819=\"\",\"\",MAX(K$1:K818)+1)","v":""},null,{"$f":"IF(N819=\"\",\"\",MAX(M$1:M818)+1)","v":""}]
[null,null,{"$f":"IF(D820=\"\",\"\",MAX(C$1:C819)+1)","v":""},null,{"$f":"IF(F820=\"\",\"\",MAX(E$1:E819)+1)","v":""},null,{"$f":"IF(H820=\"\",\"\",MAX(G$1:G819)+1)","v":""},null,{"$f":"IF(J820=\"\",\"\",MAX(I$1:I819)+1)","v":""},null,{"$f":"IF(L820=\"\",\"\",MAX(K$1:K819)+1)","v":""},null,{"$f":"IF(N820=\"\",\"\",MAX(M$1:M819)+1)","v":""}]
[null,null,{"$f":"IF(D821=\"\",\"\",MAX(C$1:C820)+1)","v":""},null,{"$f":"IF(F821=\"\",\"\",MAX(E$1:E820)+1)","v":""},null,{"$f":"IF(H821=\"\",\"\",MAX(G$1:G820)+1)","v":""},null,{"$f":"IF(J821=\"\",\"\",MAX(I$1:I820)+1)","v":""},null,{"$f":"IF(L821=\"\",\"\",MAX(K$1:K820)+1)","v":""},null,{"$f":"IF(N821=\"\",\"\",MAX(M$1:M820)+1)","v":""}]
[null,null,{"$f":"IF(D822=\"\",\"\",MAX(C$1:C821)+1)","v":""},null,{"$f":"IF(F822=\"\",\"\",MAX(E$1:E821)+1)","v":""},null,{"$f":"IF(H822=\"\",\"\",MAX(G$1:G821)+1)","v":""},null,{"$f":"IF(J822=\"\",\"\",MAX(I$1:I821)+1)","v":""},null,{"$f":"IF(L822=\"\",\"\",MAX(K$1:K821)+1)","v":""},null,{"$f":"IF(N822=\"\",\"\",MAX(M$1:M821)+1)","v":""}]
[null,null,{"$f":"IF(D823=\"\",\"\",MAX(C$1:C822)+1)","v":""},null,{"$f":"IF(F823=\"\",\"\",MAX(E$1:E822)+1)","v":""},null,{"$f":"IF(H823=\"\",\"\",MAX(G$1:G822)+1)","v":""},null,{"$f":"IF(J823=\"\",\"\",MAX(I$1:I822)+1)","v":""},null,{"$f":"IF(L823=\"\",\"\",MAX(K$1:K822)+1)","v":""},null,{"$f":"IF(N823=\"\",\"\",MAX(M$1:M822)+1)","v":""}]
[null,null,{"$f":"IF(D824=\"\",\"\",MAX(C$1:C823)+1)","v":""},null,{"$f":"IF(F824=\"\",\"\",MAX(E$1:E823)+1)","v":""},null,{"$f":"IF(H824=\"\",\"\",MAX(G$1:G823)+1)","v":""},null,{"$f":"IF(J824=\"\",\"\",MAX(I$1:I823)+1)","v":""},null,{"$f":"IF(L824=\"\",\"\",MAX(K$1:K823)+1)","v":""},null,{"$f":"IF(N824=\"\",\"\",MAX(M$1:M823)+1)","v":""}]
[null,null,{"$f":"IF(D825=\"\",\"\",MAX(C$1:C824)+1)","v":""},null,{"$f":"IF(F825=\"\",\"\",MAX(E$1:E824)+1)","v":""},null,{"$f":"IF(H825=\"\",\"\",MAX(G$1:G824)+1)","v":""},null,{"$f":"IF(J825=\"\",\"\",MAX(I$1:I824)+1)","v":""},null,{"$f":"IF(L825=\"\",\"\",MAX(K$1:K824)+1)","v":""},null,{"$f":"IF(N825=\"\",\"\",MAX(M$1:M824)+1)","v":""}]
[null,null,{"$f":"IF(D826=\"\",\"\",MAX(C$1:C825)+1)","v":""},null,{"$f":"IF(F826=\"\",\"\",MAX(E$1:E825)+1)","v":""},null,{"$f":"IF(H826=\"\",\"\",MAX(G$1:G825)+1)","v":""},null,{"$f":"IF(J826=\"\",\"\",MAX(I$1:I825)+1)","v":""},null,{"$f":"IF(L826=\"\",\"\",MAX(K$1:K825)+1)","v":""},null,{"$f":"IF(N826=\"\",\"\",MAX(M$1:M825)+1)","v":""}]
[null,null,{"$f":"IF(D827=\"\",\"\",MAX(C$1:C826)+1)","v":""},null,{"$f":"IF(F827=\"\",\"\",MAX(E$1:E826)+1)","v":""},null,{"$f":"IF(H827=\"\",\"\",MAX(G$1:G826)+1)","v":""},null,{"$f":"IF(J827=\"\",\"\",MAX(I$1:I826)+1)","v":""},null,{"$f":"IF(L827=\"\",\"\",MAX(K$1:K826)+1)","v":""},null,{"$f":"IF(N827=\"\",\"\",MAX(M$1:M826)+1)","v":""}]
[null,null,{"$f":"IF(D828=\"\",\"\",MAX(C$1:C827)+1)","v":""},null,{"$f":"IF(F828=\"\",\"\",MAX(E$1:E827)+1)","v":""},null,{"$f":"IF(H828=\"\",\"\",MAX(G$1:G827)+1)","v":""},null,{"$f":"IF(J828=\"\",\"\",MAX(I$1:I827)+1)","v":""},null,{"$f":"IF(L828=\"\",\"\",MAX(K$1:K827)+1)","v":""},null,{"$f":"IF(N828=\"\",\"\",MAX(M$1:M827)+1)","v":""}]
[null,null,{"$f":"IF(D829=\"\",\"\",MAX(C$1:C828)+1)","v":""},null,{"$f":"IF(F829=\"\",\"\",MAX(E$1:E828)+1)","v":""},null,{"$f":"IF(H829=\"\",\"\",MAX(G$1:G828)+1)","v":""},null,{"$f":"IF(J829=\"\",\"\",MAX(I$1:I828)+1)","v":""},null,{"$f":"IF(L829=\"\",\"\",MAX(K$1:K828)+1)","v":""},null,{"$f":"IF(N829=\"\",\"\",MAX(M$1:M828)+1)","v":""}]
[null,null,{"$f":"IF(D830=\"\",\"\",MAX(C$1:C829)+1)","v":""},null,{"$f":"IF(F830=\"\",\"\",MAX(E$1:E829)+1)","v":""},null,{"$f":"IF(H830=\"\",\"\",MAX(G$1:G829)+1)","v":""},null,{"$f":"IF(J830=\"\",\"\",MAX(I$1:I829)+1)","v":""},null,{"$f":"IF(L830=\"\",\"\",MAX(K$1:K829)+1)","v":""},null,{"$f":"IF(N830=\"\",\"\",MAX(M$1:M829)+1)","v":""}]
[null,null,{"$f":"IF(D831=\"\",\"\",MAX(C$1:C830)+1)","v":""},null,{"$f":"IF(F831=\"\",\"\",MAX(E$1:E830)+1)","v":""},null,{"$f":"IF(H831=\"\",\"\",MAX(G$1:G830)+1)","v":""},null,{"$f":"IF(J831=\"\",\"\",MAX(I$1:I830)+1)","v":""},null,{"$f":"IF(L831=\"\",\"\",MAX(K$1:K830)+1)","v":""},null,{"$f":"IF(N831=\"\",\"\",MAX(M$1:M830)+1)","v":""}]
[null,null,{"$f":"IF(D832=\"\",\"\",MAX(C$1:C831)+1)","v":""},null,{"$f":"IF(F832=\"\",\"\",MAX(E$1:E831)+1)","v":""},null,{"$f":"IF(H832=\"\",\"\",MAX(G$1:G831)+1)","v":""},null,{"$f":"IF(J832=\"\",\"\",MAX(I$1:I831)+1)","v":""},null,{"$f":"IF(L832=\"\",\"\",MAX(K$1:K831)+1)","v":""},null,{"$f":"IF(N832=\"\",\"\",MAX(M$1:M831)+1)","v":""}]
[null,null,{"$f":"IF(D833=\"\",\"\",MAX(C$1:C832)+1)","v":""},null,{"$f":"IF(F833=\"\",\"\",MAX(E$1:E832)+1)","v":""},null,{"$f":"IF(H833=\"\",\"\",MAX(G$1:G832)+1)","v":""},null,{"$f":"IF(J833=\"\",\"\",MAX(I$1:I832)+1)","v":""},null,{"$f":"IF(L833=\"\",\"\",MAX(K$1:K832)+1)","v":""},null,{"$f":"IF(N833=\"\",\"\",MAX(M$1:M832)+1)","v":""}]
[null,null,{"$f":"IF(D834=\"\",\"\",MAX(C$1:C833)+1)","v":""},null,{"$f":"IF(F834=\"\",\"\",MAX(E$1:E833)+1)","v":""},null,{"$f":"IF(H834=\"\",\"\",MAX(G$1:G833)+1)","v":""},null,{"$f":"IF(J834=\"\",\"\",MAX(I$1:I833)+1)","v":""},null,{"$f":"IF(L834=\"\",\"\",MAX(K$1:K833)+1)","v":""},null,{"$f":"IF(N834=\"\",\"\",MAX(M$1:M833)+1)","v":""}]
[null,null,{"$f":"IF(D835=\"\",\"\",MAX(C$1:C834)+1)","v":""},null,{"$f":"IF(F835=\"\",\"\",MAX(E$1:E834)+1)","v":""},null,{"$f":"IF(H835=\"\",\"\",MAX(G$1:G834)+1)","v":""},null,{"$f":"IF(J835=\"\",\"\",MAX(I$1:I834)+1)","v":""},null,{"$f":"IF(L835=\"\",\"\",MAX(K$1:K834)+1)","v":""},null,{"$f":"IF(N835=\"\",\"\",MAX(M$1:M834)+1)","v":""}]
[null,null,{"$f":"IF(D836=\"\",\"\",MAX(C$1:C835)+1)","v":""},null,{"$f":"IF(F836=\"\",\"\",MAX(E$1:E835)+1)","v":""},null,{"$f":"IF(H836=\"\",\"\",MAX(G$1:G835)+1)","v":""},null,{"$f":"IF(J836=\"\",\"\",MAX(I$1:I835)+1)","v":""},null,{"$f":"IF(L836=\"\",\"\",MAX(K$1:K835)+1)","v":""},null,{"$f":"IF(N836=\"\",\"\",MAX(M$1:M835)+1)","v":""}]
[null,null,{"$f":"IF(D837=\"\",\"\",MAX(C$1:C836)+1)","v":""},null,{"$f":"IF(F837=\"\",\"\",MAX(E$1:E836)+1)","v":""},null,{"$f":"IF(H837=\"\",\"\",MAX(G$1:G836)+1)","v":""},null,{"$f":"IF(J837=\"\",\"\",MAX(I$1:I836)+1)","v":""},null,{"$f":"IF(L837=\"\",\"\",MAX(K$1:K836)+1)","v":""},null,{"$f":"IF(N837=\"\",\"\",MAX(M$1:M836)+1)","v":""}]
[null,null,{"$f":"IF(D838=\"\",\"\",MAX(C$1:C837)+1)","v":""},null,{"$f":"IF(F838=\"\",\"\",MAX(E$1:E837)+1)","v":""},null,{"$f":"IF(H838=\"\",\"\",MAX(G$1:G837)+1)","v":""},null,{"$f":"IF(J838=\"\",\"\",MAX(I$1:I837)+1)","v":""},null,{"$f":"IF(L838=\"\",\"\",MAX(K$1:K837)+1)","v":""},null,{"$f":"IF(N838=\"\",\"\",MAX(M$1:M837)+1)","v":""}]
[null,null,{"$f":"IF(D839=\"\",\"\",MAX(C$1:C838)+1)","v":""},null,{"$f":"IF(F839=\"\",\"\",MAX(E$1:E838)+1)","v":""},null,{"$f":"IF(H839=\"\",\"\",MAX(G$1:G838)+1)","v":""},null,{"$f":"IF(J839=\"\",\"\",MAX(I$1:I838)+1)","v":""},null,{"$f":"IF(L839=\"\",\"\",MAX(K$1:K838)+1)","v":""},null,{"$f":"IF(N839=\"\",\"\",MAX(M$1:M838)+1)","v":""}]
[null,null,{"$f":"IF(D840=\"\",\"\",MAX(C$1:C839)+1)","v":""},null,{"$f":"IF(F840=\"\",\"\",MAX(E$1:E839)+1)","v":""},null,{"$f":"IF(H840=\"\",\"\",MAX(G$1:G839)+1)","v":""},null,{"$f":"IF(J840=\"\",\"\",MAX(I$1:I839)+1)","v":""},null,{"$f":"IF(L840=\"\",\"\",MAX(K$1:K839)+1)","v":""},null,{"$f":"IF(N840=\"\",\"\",MAX(M$1:M839)+1)","v":""}]
[null,null,{"$f":"IF(D841=\"\",\"\",MAX(C$1:C840)+1)","v":""},null,{"$f":"IF(F841=\"\",\"\",MAX(E$1:E840)+1)","v":""},null,{"$f":"IF(H841=\"\",\"\",MAX(G$1:G840)+1)","v":""},null,{"$f":"IF(J841=\"\",\"\",MAX(I$1:I840)+1)","v":""},null,{"$f":"IF(L841=\"\",\"\",MAX(K$1:K840)+1)","v":""},null,{"$f":"IF(N841=\"\",\"\",MAX(M$1:M840)+1)","v":""}]
[null,null,{"$f":"IF(D842=\"\",\"\",MAX(C$1:C841)+1)","v":""},null,{"$f":"IF(F842=\"\",\"\",MAX(E$1:E841)+1)","v":""},null,{"$f":"IF(H842=\"\",\"\",MAX(G$1:G841)+1)","v":""},null,{"$f":"IF(J842=\"\",\"\",MAX(I$1:I841)+1)","v":""},null,{"$f":"IF(L842=\"\",\"\",MAX(K$1:K841)+1)","v":""},null,{"$f":"IF(N842=\"\",\"\",MAX(M$1:M841)+1)","v":""}]
[null,null,{"$f":"IF(D843=\"\",\"\",MAX(C$1:C842)+1)","v":""},null,{"$f":"IF(F843=\"\",\"\",MAX(E$1:E842)+1)","v":""},null,{"$f":"IF(H843=\"\",\"\",MAX(G$1:G842)+1)","v":""},null,{"$f":"IF(J843=\"\",\"\",MAX(I$1:I842)+1)","v":""},null,{"$f":"IF(L843=\"\",\"\",MAX(K$1:K842)+1)","v":""},null,{"$f":"IF(N843=\"\",\"\",MAX(M$1:M842)+1)","v":""}]
[null,null,{"$f":"IF(D844=\"\",\"\",MAX(C$1:C843)+1)","v":""},null,{"$f":"IF(F844=\"\",\"\",MAX(E$1:E843)+1)","v":""},null,{"$f":"IF(H844=\"\",\"\",MAX(G$1:G843)+1)","v":""},null,{"$f":"IF(J844=\"\",\"\",MAX(I$1:I843)+1)","v":""},null,{"$f":"IF(L844=\"\",\"\",MAX(K$1:K843)+1)","v":""},null,{"$f":"IF(N844=\"\",\"\",MAX(M$1:M843)+1)","v":""}]
[null,null,{"$f":"IF(D845=\"\",\"\",MAX(C$1:C844)+1)","v":""},null,{"$f":"IF(F845=\"\",\"\",MAX(E$1:E844)+1)","v":""},null,{"$f":"IF(H845=\"\",\"\",MAX(G$1:G844)+1)","v":""},null,{"$f":"IF(J845=\"\",\"\",MAX(I$1:I844)+1)","v":""},null,{"$f":"IF(L845=\"\",\"\",MAX(K$1:K844)+1)","v":""},null,{"$f":"IF(N845=\"\",\"\",MAX(M$1:M844)+1)","v":""}]
[null,null,{"$f":"IF(D846=\"\",\"\",MAX(C$1:C845)+1)","v":""},null,{"$f":"IF(F846=\"\",\"\",MAX(E$1:E845)+1)","v":""},null,{"$f":"IF(H846=\"\",\"\",MAX(G$1:G845)+1)","v":""},null,{"$f":"IF(J846=\"\",\"\",MAX(I$1:I845)+1)","v":""},null,{"$f":"IF(L846=\"\",\"\",MAX(K$1:K845)+1)","v":""},null,{"$f":"IF(N846=\"\",\"\",MAX(M$1:M845)+1)","v":""}]
[null,null,{"$f":"IF(D847=\"\",\"\",MAX(C$1:C846)+1)","v":""},null,{"$f":"IF(F847=\"\",\"\",MAX(E$1:E846)+1)","v":""},null,{"$f":"IF(H847=\"\",\"\",MAX(G$1:G846)+1)","v":""},null,{"$f":"IF(J847=\"\",\"\",MAX(I$1:I846)+1)","v":""},null,{"$f":"IF(L847=\"\",\"\",MAX(K$1:K846)+1)","v":""},null,{"$f":"IF(N847=\"\",\"\",MAX(M$1:M846)+1)","v":""}]
[null,null,{"$f":"IF(D848=\"\",\"\",MAX(C$1:C847)+1)","v":""},null,{"$f":"IF(F848=\"\",\"\",MAX(E$1:E847)+1)","v":""},null,{"$f":"IF(H848=\"\",\"\",MAX(G$1:G847)+1)","v":""},null,{"$f":"IF(J848=\"\",\"\",MAX(I$1:I847)+1)","v":""},null,{"$f":"IF(L848=\"\",\"\",MAX(K$1:K847)+1)","v":""},null,{"$f":"IF(N848=\"\",\"\",MAX(M$1:M847)+1)","v":""}]
[null,null,{"$f":"IF(D849=\"\",\"\",MAX(C$1:C848)+1)","v":""},null,{"$f":"IF(F849=\"\",\"\",MAX(E$1:E848)+1)","v":""},null,{"$f":"IF(H849=\"\",\"\",MAX(G$1:G848)+1)","v":""},null,{"$f":"IF(J849=\"\",\"\",MAX(I$1:I848)+1)","v":""},null,{"$f":"IF(L849=\"\",\"\",MAX(K$1:K848)+1)","v":""},null,{"$f":"IF(N849=\"\",\"\",MAX(M$1:M848)+1)","v":""}]
[null,null,{"$f":"IF(D850=\"\",\"\",MAX(C$1:C849)+1)","v":""},null,{"$f":"IF(F850=\"\",\"\",MAX(E$1:E849)+1)","v":""},null,{"$f":"IF(H850=\"\",\"\",MAX(G$1:G849)+1)","v":""},null,{"$f":"IF(J850=\"\",\"\",MAX(I$1:I849)+1)","v":""},null,{"$f":"IF(L850=\"\",\"\",MAX(K$1:K849)+1)","v":""},null,{"$f":"IF(N850=\"\",\"\",MAX(M$1:M849)+1)","v":""}]
[null,null,{"$f":"IF(D851=\"\",\"\",MAX(C$1:C850)+1)","v":""},null,{"$f":"IF(F851=\"\",\"\",MAX(E$1:E850)+1)","v":""},null,{"$f":"IF(H851=\"\",\"\",MAX(G$1:G850)+1)","v":""},null,{"$f":"IF(J851=\"\",\"\",MAX(I$1:I850)+1)","v":""},null,{"$f":"IF(L851=\"\",\"\",MAX(K$1:K850)+1)","v":""},null,{"$f":"IF(N851=\"\",\"\",MAX(M$1:M850)+1)","v":""}]
[null,null,{"$f":"IF(D852=\"\",\"\",MAX(C$1:C851)+1)","v":""},null,{"$f":"IF(F852=\"\",\"\",MAX(E$1:E851)+1)","v":""},null,{"$f":"IF(H852=\"\",\"\",MAX(G$1:G851)+1)","v":""},null,{"$f":"IF(J852=\"\",\"\",MAX(I$1:I851)+1)","v":""},null,{"$f":"IF(L852=\"\",\"\",MAX(K$1:K851)+1)","v":""},null,{"$f":"IF(N852=\"\",\"\",MAX(M$1:M851)+1)","v":""}]
[null,null,{"$f":"IF(D853=\"\",\"\",MAX(C$1:C852)+1)","v":""},null,{"$f":"IF(F853=\"\",\"\",MAX(E$1:E852)+1)","v":""},null,{"$f":"IF(H853=\"\",\"\",MAX(G$1:G852)+1)","v":""},null,{"$f":"IF(J853=\"\",\"\",MAX(I$1:I852)+1)","v":""},null,{"$f":"IF(L853=\"\",\"\",MAX(K$1:K852)+1)","v":""},null,{"$f":"IF(N853=\"\",\"\",MAX(M$1:M852)+1)","v":""}]
[null,null,{"$f":"IF(D854=\"\",\"\",MAX(C$1:C853)+1)","v":""},null,{"$f":"IF(F854=\"\",\"\",MAX(E$1:E853)+1)","v":""},null,{"$f":"IF(H854=\"\",\"\",MAX(G$1:G853)+1)","v":""},null,{"$f":"IF(J854=\"\",\"\",MAX(I$1:I853)+1)","v":""},null,{"$f":"IF(L854=\"\",\"\",MAX(K$1:K853)+1)","v":""},null,{"$f":"IF(N854=\"\",\"\",MAX(M$1:M853)+1)","v":""}]
[null,null,{"$f":"IF(D855=\"\",\"\",MAX(C$1:C854)+1)","v":""},null,{"$f":"IF(F855=\"\",\"\",MAX(E$1:E854)+1)","v":""},null,{"$f":"IF(H855=\"\",\"\",MAX(G$1:G854)+1)","v":""},null,{"$f":"IF(J855=\"\",\"\",MAX(I$1:I854)+1)","v":""},null,{"$f":"IF(L855=\"\",\"\",MAX(K$1:K854)+1)","v":""},null,{"$f":"IF(N855=\"\",\"\",MAX(M$1:M854)+1)","v":""}]
[null,null,{"$f":"IF(D856=\"\",\"\",MAX(C$1:C855)+1)","v":""},null,{"$f":"IF(F856=\"\",\"\",MAX(E$1:E855)+1)","v":""},null,{"$f":"IF(H856=\"\",\"\",MAX(G$1:G855)+1)","v":""},null,{"$f":"IF(J856=\"\",\"\",MAX(I$1:I855)+1)","v":""},null,{"$f":"IF(L856=\"\",\"\",MAX(K$1:K855)+1)","v":""},null,{"$f":"IF(N856=\"\",\"\",MAX(M$1:M855)+1)","v":""}]
[null,null,{"$f":"IF(D857=\"\",\"\",MAX(C$1:C856)+1)","v":""},null,{"$f":"IF(F857=\"\",\"\",MAX(E$1:E856)+1)","v":""},null,{"$f":"IF(H857=\"\",\"\",MAX(G$1:G856)+1)","v":""},null,{"$f":"IF(J857=\"\",\"\",MAX(I$1:I856)+1)","v":""},null,{"$f":"IF(L857=\"\",\"\",MAX(K$1:K856)+1)","v":""},null,{"$f":"IF(N857=\"\",\"\",MAX(M$1:M856)+1)","v":""}]
[null,null,{"$f":"IF(D858=\"\",\"\",MAX(C$1:C857)+1)","v":""},null,{"$f":"IF(F858=\"\",\"\",MAX(E$1:E857)+1)","v":""},null,{"$f":"IF(H858=\"\",\"\",MAX(G$1:G857)+1)","v":""},null,{"$f":"IF(J858=\"\",\"\",MAX(I$1:I857)+1)","v":""},null,{"$f":"IF(L858=\"\",\"\",MAX(K$1:K857)+1)","v":""},null,{"$f":"IF(N858=\"\",\"\",MAX(M$1:M857)+1)","v":""}]
[null,null,{"$f":"IF(D859=\"\",\"\",MAX(C$1:C858)+1)","v":""},null,{"$f":"IF(F859=\"\",\"\",MAX(E$1:E858)+1)","v":""},null,{"$f":"IF(H859=\"\",\"\",MAX(G$1:G858)+1)","v":""},null,{"$f":"IF(J859=\"\",\"\",MAX(I$1:I858)+1)","v":""},null,{"$f":"IF(L859=\"\",\"\",MAX(K$1:K858)+1)","v":""},null,{"$f":"IF(N859=\"\",\"\",MAX(M$1:M858)+1)","v":""}]
[null,null,{"$f":"IF(D860=\"\",\"\",MAX(C$1:C859)+1)","v":""},null,{"$f":"IF(F860=\"\",\"\",MAX(E$1:E859)+1)","v":""},null,{"$f":"IF(H860=\"\",\"\",MAX(G$1:G859)+1)","v":""},null,{"$f":"IF(J860=\"\",\"\",MAX(I$1:I859)+1)","v":""},null,{"$f":"IF(L860=\"\",\"\",MAX(K$1:K859)+1)","v":""},null,{"$f":"IF(N860=\"\",\"\",MAX(M$1:M859)+1)","v":""}]
[null,null,{"$f":"IF(D861=\"\",\"\",MAX(C$1:C860)+1)","v":""},null,{"$f":"IF(F861=\"\",\"\",MAX(E$1:E860)+1)","v":""},null,{"$f":"IF(H861=\"\",\"\",MAX(G$1:G860)+1)","v":""},null,{"$f":"IF(J861=\"\",\"\",MAX(I$1:I860)+1)","v":""},null,{"$f":"IF(L861=\"\",\"\",MAX(K$1:K860)+1)","v":""},null,{"$f":"IF(N861=\"\",\"\",MAX(M$1:M860)+1)","v":""}]
[null,null,{"$f":"IF(D862=\"\",\"\",MAX(C$1:C861)+1)","v":""},null,{"$f":"IF(F862=\"\",\"\",MAX(E$1:E861)+1)","v":""},null,{"$f":"IF(H862=\"\",\"\",MAX(G$1:G861)+1)","v":""},null,{"$f":"IF(J862=\"\",\"\",MAX(I$1:I861)+1)","v":""},null,{"$f":"IF(L862=\"\",\"\",MAX(K$1:K861)+1)","v":""},null,{"$f":"IF(N862=\"\",\"\",MAX(M$1:M861)+1)","v":""}]
[null,null,{"$f":"IF(D863=\"\",\"\",MAX(C$1:C862)+1)","v":""},null,{"$f":"IF(F863=\"\",\"\",MAX(E$1:E862)+1)","v":""},null,{"$f":"IF(H863=\"\",\"\",MAX(G$1:G862)+1)","v":""},null,{"$f":"IF(J863=\"\",\"\",MAX(I$1:I862)+1)","v":""},null,{"$f":"IF(L863=\"\",\"\",MAX(K$1:K862)+1)","v":""},null,{"$f":"IF(N863=\"\",\"\",MAX(M$1:M862)+1)","v":""}]
[null,null,{"$f":"IF(D864=\"\",\"\",MAX(C$1:C863)+1)","v":""},null,{"$f":"IF(F864=\"\",\"\",MAX(E$1:E863)+1)","v":""},null,{"$f":"IF(H864=\"\",\"\",MAX(G$1:G863)+1)","v":""},null,{"$f":"IF(J864=\"\",\"\",MAX(I$1:I863)+1)","v":""},null,{"$f":"IF(L864=\"\",\"\",MAX(K$1:K863)+1)","v":""},null,{"$f":"IF(N864=\"\",\"\",MAX(M$1:M863)+1)","v":""}]
[null,null,{"$f":"IF(D865=\"\",\"\",MAX(C$1:C864)+1)","v":""},null,{"$f":"IF(F865=\"\",\"\",MAX(E$1:E864)+1)","v":""},null,{"$f":"IF(H865=\"\",\"\",MAX(G$1:G864)+1)","v":""},null,{"$f":"IF(J865=\"\",\"\",MAX(I$1:I864)+1)","v":""},null,{"$f":"IF(L865=\"\",\"\",MAX(K$1:K864)+1)","v":""},null,{"$f":"IF(N865=\"\",\"\",MAX(M$1:M864)+1)","v":""}]
[null,null,{"$f":"IF(D866=\"\",\"\",MAX(C$1:C865)+1)","v":""},null,{"$f":"IF(F866=\"\",\"\",MAX(E$1:E865)+1)","v":""},null,{"$f":"IF(H866=\"\",\"\",MAX(G$1:G865)+1)","v":""},null,{"$f":"IF(J866=\"\",\"\",MAX(I$1:I865)+1)","v":""},null,{"$f":"IF(L866=\"\",\"\",MAX(K$1:K865)+1)","v":""},null,{"$f":"IF(N866=\"\",\"\",MAX(M$1:M865)+1)","v":""}]
[null,null,{"$f":"IF(D867=\"\",\"\",MAX(C$1:C866)+1)","v":""},null,{"$f":"IF(F867=\"\",\"\",MAX(E$1:E866)+1)","v":""},null,{"$f":"IF(H867=\"\",\"\",MAX(G$1:G866)+1)","v":""},null,{"$f":"IF(J867=\"\",\"\",MAX(I$1:I866)+1)","v":""},null,{"$f":"IF(L867=\"\",\"\",MAX(K$1:K866)+1)","v":""},null,{"$f":"IF(N867=\"\",\"\",MAX(M$1:M866)+1)","v":""}]
[null,null,{"$f":"IF(D868=\"\",\"\",MAX(C$1:C867)+1)","v":""},null,{"$f":"IF(F868=\"\",\"\",MAX(E$1:E867)+1)","v":""},null,{"$f":"IF(H868=\"\",\"\",MAX(G$1:G867)+1)","v":""},null,{"$f":"IF(J868=\"\",\"\",MAX(I$1:I867)+1)","v":""},null,{"$f":"IF(L868=\"\",\"\",MAX(K$1:K867)+1)","v":""},null,{"$f":"IF(N868=\"\",\"\",MAX(M$1:M867)+1)","v":""}]
[null,null,{"$f":"IF(D869=\"\",\"\",MAX(C$1:C868)+1)","v":""},null,{"$f":"IF(F869=\"\",\"\",MAX(E$1:E868)+1)","v":""},null,{"$f":"IF(H869=\"\",\"\",MAX(G$1:G868)+1)","v":""},null,{"$f":"IF(J869=\"\",\"\",MAX(I$1:I868)+1)","v":""},null,{"$f":"IF(L869=\"\",\"\",MAX(K$1:K868)+1)","v":""},null,{"$f":"IF(N869=\"\",\"\",MAX(M$1:M868)+1)","v":""}]
[null,null,{"$f":"IF(D870=\"\",\"\",MAX(C$1:C869)+1)","v":""},null,{"$f":"IF(F870=\"\",\"\",MAX(E$1:E869)+1)","v":""},null,{"$f":"IF(H870=\"\",\"\",MAX(G$1:G869)+1)","v":""},null,{"$f":"IF(J870=\"\",\"\",MAX(I$1:I869)+1)","v":""},null,{"$f":"IF(L870=\"\",\"\",MAX(K$1:K869)+1)","v":""},null,{"$f":"IF(N870=\"\",\"\",MAX(M$1:M869)+1)","v":""}]
[null,null,{"$f":"IF(D871=\"\",\"\",MAX(C$1:C870)+1)","v":""},null,{"$f":"IF(F871=\"\",\"\",MAX(E$1:E870)+1)","v":""},null,{"$f":"IF(H871=\"\",\"\",MAX(G$1:G870)+1)","v":""},null,{"$f":"IF(J871=\"\",\"\",MAX(I$1:I870)+1)","v":""},null,{"$f":"IF(L871=\"\",\"\",MAX(K$1:K870)+1)","v":""},null,{"$f":"IF(N871=\"\",\"\",MAX(M$1:M870)+1)","v":""}]
[null,null,{"$f":"IF(D872=\"\",\"\",MAX(C$1:C871)+1)","v":""},null,{"$f":"IF(F872=\"\",\"\",MAX(E$1:E871)+1)","v":""},null,{"$f":"IF(H872=\"\",\"\",MAX(G$1:G871)+1)","v":""},null,{"$f":"IF(J872=\"\",\"\",MAX(I$1:I871)+1)","v":""},null,{"$f":"IF(L872=\"\",\"\",MAX(K$1:K871)+1)","v":""},null,{"$f":"IF(N872=\"\",\"\",MAX(M$1:M871)+1)","v":""}]
[null,null,{"$f":"IF(D873=\"\",\"\",MAX(C$1:C872)+1)","v":""},null,{"$f":"IF(F873=\"\",\"\",MAX(E$1:E872)+1)","v":""},null,{"$f":"IF(H873=\"\",\"\",MAX(G$1:G872)+1)","v":""},null,{"$f":"IF(J873=\"\",\"\",MAX(I$1:I872)+1)","v":""},null,{"$f":"IF(L873=\"\",\"\",MAX(K$1:K872)+1)","v":""},null,{"$f":"IF(N873=\"\",\"\",MAX(M$1:M872)+1)","v":""}]
[null,null,{"$f":"IF(D874=\"\",\"\",MAX(C$1:C873)+1)","v":""},null,{"$f":"IF(F874=\"\",\"\",MAX(E$1:E873)+1)","v":""},null,{"$f":"IF(H874=\"\",\"\",MAX(G$1:G873)+1)","v":""},null,{"$f":"IF(J874=\"\",\"\",MAX(I$1:I873)+1)","v":""},null,{"$f":"IF(L874=\"\",\"\",MAX(K$1:K873)+1)","v":""},null,{"$f":"IF(N874=\"\",\"\",MAX(M$1:M873)+1)","v":""}]
[null,null,{"$f":"IF(D875=\"\",\"\",MAX(C$1:C874)+1)","v":""},null,{"$f":"IF(F875=\"\",\"\",MAX(E$1:E874)+1)","v":""},null,{"$f":"IF(H875=\"\",\"\",MAX(G$1:G874)+1)","v":""},null,{"$f":"IF(J875=\"\",\"\",MAX(I$1:I874)+1)","v":""},null,{"$f":"IF(L875=\"\",\"\",MAX(K$1:K874)+1)","v":""},null,{"$f":"IF(N875=\"\",\"\",MAX(M$1:M874)+1)","v":""}]
[null,null,{"$f":"IF(D876=\"\",\"\",MAX(C$1:C875)+1)","v":""},null,{"$f":"IF(F876=\"\",\"\",MAX(E$1:E875)+1)","v":""},null,{"$f":"IF(H876=\"\",\"\",MAX(G$1:G875)+1)","v":""},null,{"$f":"IF(J876=\"\",\"\",MAX(I$1:I875)+1)","v":""},null,{"$f":"IF(L876=\"\",\"\",MAX(K$1:K875)+1)","v":""},null,{"$f":"IF(N876=\"\",\"\",MAX(M$1:M875)+1)","v":""}]
[null,null,{"$f":"IF(D877=\"\",\"\",MAX(C$1:C876)+1)","v":""},null,{"$f":"IF(F877=\"\",\"\",MAX(E$1:E876)+1)","v":""},null,{"$f":"IF(H877=\"\",\"\",MAX(G$1:G876)+1)","v":""},null,{"$f":"IF(J877=\"\",\"\",MAX(I$1:I876)+1)","v":""},null,{"$f":"IF(L877=\"\",\"\",MAX(K$1:K876)+1)","v":""},null,{"$f":"IF(N877=\"\",\"\",MAX(M$1:M876)+1)","v":""}]
[null,null,{"$f":"IF(D878=\"\",\"\",MAX(C$1:C877)+1)","v":""},null,{"$f":"IF(F878=\"\",\"\",MAX(E$1:E877)+1)","v":""},null,{"$f":"IF(H878=\"\",\"\",MAX(G$1:G877)+1)","v":""},null,{"$f":"IF(J878=\"\",\"\",MAX(I$1:I877)+1)","v":""},null,{"$f":"IF(L878=\"\",\"\",MAX(K$1:K877)+1)","v":""},null,{"$f":"IF(N878=\"\",\"\",MAX(M$1:M877)+1)","v":""}]
[null,null,{"$f":"IF(D879=\"\",\"\",MAX(C$1:C878)+1)","v":""},null,{"$f":"IF(F879=\"\",\"\",MAX(E$1:E878)+1)","v":""},null,{"$f":"IF(H879=\"\",\"\",MAX(G$1:G878)+1)","v":""},null,{"$f":"IF(J879=\"\",\"\",MAX(I$1:I878)+1)","v":""},null,{"$f":"IF(L879=\"\",\"\",MAX(K$1:K878)+1)","v":""},null,{"$f":"IF(N879=\"\",\"\",MAX(M$1:M878)+1)","v":""}]
[null,null,{"$f":"IF(D880=\"\",\"\",MAX(C$1:C879)+1)","v":""},null,{"$f":"IF(F880=\"\",\"\",MAX(E$1:E879)+1)","v":""},null,{"$f":"IF(H880=\"\",\"\",MAX(G$1:G879)+1)","v":""},null,{"$f":"IF(J880=\"\",\"\",MAX(I$1:I879)+1)","v":""},null,{"$f":"IF(L880=\"\",\"\",MAX(K$1:K879)+1)","v":""},null,{"$f":"IF(N880=\"\",\"\",MAX(M$1:M879)+1)","v":""}]
[null,null,{"$f":"IF(D881=\"\",\"\",MAX(C$1:C880)+1)","v":""},null,{"$f":"IF(F881=\"\",\"\",MAX(E$1:E880)+1)","v":""},null,{"$f":"IF(H881=\"\",\"\",MAX(G$1:G880)+1)","v":""},null,{"$f":"IF(J881=\"\",\"\",MAX(I$1:I880)+1)","v":""},null,{"$f":"IF(L881=\"\",\"\",MAX(K$1:K880)+1)","v":""},null,{"$f":"IF(N881=\"\",\"\",MAX(M$1:M880)+1)","v":""}]
[null,null,{"$f":"IF(D882=\"\",\"\",MAX(C$1:C881)+1)","v":""},null,{"$f":"IF(F882=\"\",\"\",MAX(E$1:E881)+1)","v":""},null,{"$f":"IF(H882=\"\",\"\",MAX(G$1:G881)+1)","v":""},null,{"$f":"IF(J882=\"\",\"\",MAX(I$1:I881)+1)","v":""},null,{"$f":"IF(L882=\"\",\"\",MAX(K$1:K881)+1)","v":""},null,{"$f":"IF(N882=\"\",\"\",MAX(M$1:M881)+1)","v":""}]
[null,null,{"$f":"IF(D883=\"\",\"\",MAX(C$1:C882)+1)","v":""},null,{"$f":"IF(F883=\"\",\"\",MAX(E$1:E882)+1)","v":""},null,{"$f":"IF(H883=\"\",\"\",MAX(G$1:G882)+1)","v":""},null,{"$f":"IF(J883=\"\",\"\",MAX(I$1:I882)+1)","v":""},null,{"$f":"IF(L883=\"\",\"\",MAX(K$1:K882)+1)","v":""},null,{"$f":"IF(N883=\"\",\"\",MAX(M$1:M882)+1)","v":""}]
[null,null,{"$f":"IF(D884=\"\",\"\",MAX(C$1:C883)+1)","v":""},null,{"$f":"IF(F884=\"\",\"\",MAX(E$1:E883)+1)","v":""},null,{"$f":"IF(H884=\"\",\"\",MAX(G$1:G883)+1)","v":""},null,{"$f":"IF(J884=\"\",\"\",MAX(I$1:I883)+1)","v":""},null,{"$f":"IF(L884=\"\",\"\",MAX(K$1:K883)+1)","v":""},null,{"$f":"IF(N884=\"\",\"\",MAX(M$1:M883)+1)","v":""}]
[null,null,{"$f":"IF(D885=\"\",\"\",MAX(C$1:C884)+1)","v":""},null,{"$f":"IF(F885=\"\",\"\",MAX(E$1:E884)+1)","v":""},null,{"$f":"IF(H885=\"\",\"\",MAX(G$1:G884)+1)","v":""},null,{"$f":"IF(J885=\"\",\"\",MAX(I$1:I884)+1)","v":""},null,{"$f":"IF(L885=\"\",\"\",MAX(K$1:K884)+1)","v":""},null,{"$f":"IF(N885=\"\",\"\",MAX(M$1:M884)+1)","v":""}]
[null,null,{"$f":"IF(D886=\"\",\"\",MAX(C$1:C885)+1)","v":""},null,{"$f":"IF(F886=\"\",\"\",MAX(E$1:E885)+1)","v":""},null,{"$f":"IF(H886=\"\",\"\",MAX(G$1:G885)+1)","v":""},null,{"$f":"IF(J886=\"\",\"\",MAX(I$1:I885)+1)","v":""},null,{"$f":"IF(L886=\"\",\"\",MAX(K$1:K885)+1)","v":""},null,{"$f":"IF(N886=\"\",\"\",MAX(M$1:M885)+1)","v":""}]
[null,null,{"$f":"IF(D887=\"\",\"\",MAX(C$1:C886)+1)","v":""},null,{"$f":"IF(F887=\"\",\"\",MAX(E$1:E886)+1)","v":""},null,{"$f":"IF(H887=\"\",\"\",MAX(G$1:G886)+1)","v":""},null,{"$f":"IF(J887=\"\",\"\",MAX(I$1:I886)+1)","v":""},null,{"$f":"IF(L887=\"\",\"\",MAX(K$1:K886)+1)","v":""},null,{"$f":"IF(N887=\"\",\"\",MAX(M$1:M886)+1)","v":""}]
[null,null,{"$f":"IF(D888=\"\",\"\",MAX(C$1:C887)+1)","v":""},null,{"$f":"IF(F888=\"\",\"\",MAX(E$1:E887)+1)","v":""},null,{"$f":"IF(H888=\"\",\"\",MAX(G$1:G887)+1)","v":""},null,{"$f":"IF(J888=\"\",\"\",MAX(I$1:I887)+1)","v":""},null,{"$f":"IF(L888=\"\",\"\",MAX(K$1:K887)+1)","v":""},null,{"$f":"IF(N888=\"\",\"\",MAX(M$1:M887)+1)","v":""}]
[null,null,{"$f":"IF(D889=\"\",\"\",MAX(C$1:C888)+1)","v":""},null,{"$f":"IF(F889=\"\",\"\",MAX(E$1:E888)+1)","v":""},null,{"$f":"IF(H889=\"\",\"\",MAX(G$1:G888)+1)","v":""},null,{"$f":"IF(J889=\"\",\"\",MAX(I$1:I888)+1)","v":""},null,{"$f":"IF(L889=\"\",\"\",MAX(K$1:K888)+1)","v":""},null,{"$f":"IF(N889=\"\",\"\",MAX(M$1:M888)+1)","v":""}]
[null,null,{"$f":"IF(D890=\"\",\"\",MAX(C$1:C889)+1)","v":""},null,{"$f":"IF(F890=\"\",\"\",MAX(E$1:E889)+1)","v":""},null,{"$f":"IF(H890=\"\",\"\",MAX(G$1:G889)+1)","v":""},null,{"$f":"IF(J890=\"\",\"\",MAX(I$1:I889)+1)","v":""},null,{"$f":"IF(L890=\"\",\"\",MAX(K$1:K889)+1)","v":""},null,{"$f":"IF(N890=\"\",\"\",MAX(M$1:M889)+1)","v":""}]
[null,null,{"$f":"IF(D891=\"\",\"\",MAX(C$1:C890)+1)","v":""},null,{"$f":"IF(F891=\"\",\"\",MAX(E$1:E890)+1)","v":""},null,{"$f":"IF(H891=\"\",\"\",MAX(G$1:G890)+1)","v":""},null,{"$f":"IF(J891=\"\",\"\",MAX(I$1:I890)+1)","v":""},null,{"$f":"IF(L891=\"\",\"\",MAX(K$1:K890)+1)","v":""},null,{"$f":"IF(N891=\"\",\"\",MAX(M$1:M890)+1)","v":""}]
[null,null,{"$f":"IF(D892=\"\",\"\",MAX(C$1:C891)+1)","v":""},null,{"$f":"IF(F892=\"\",\"\",MAX(E$1:E891)+1)","v":""},null,{"$f":"IF(H892=\"\",\"\",MAX(G$1:G891)+1)","v":""},null,{"$f":"IF(J892=\"\",\"\",MAX(I$1:I891)+1)","v":""},null,{"$f":"IF(L892=\"\",\"\",MAX(K$1:K891)+1)","v":""},null,{"$f":"IF(N892=\"\",\"\",MAX(M$1:M891)+1)","v":""}]
[null,null,{"$f":"IF(D893=\"\",\"\",MAX(C$1:C892)+1)","v":""},null,{"$f":"IF(F893=\"\",\"\",MAX(E$1:E892)+1)","v":""},null,{"$f":"IF(H893=\"\",\"\",MAX(G$1:G892)+1)","v":""},null,{"$f":"IF(J893=\"\",\"\",MAX(I$1:I892)+1)","v":""},null,{"$f":"IF(L893=\"\",\"\",MAX(K$1:K892)+1)","v":""},null,{"$f":"IF(N893=\"\",\"\",MAX(M$1:M892)+1)","v":""}]
[null,null,{"$f":"IF(D894=\"\",\"\",MAX(C$1:C893)+1)","v":""},null,{"$f":"IF(F894=\"\",\"\",MAX(E$1:E893)+1)","v":""},null,{"$f":"IF(H894=\"\",\"\",MAX(G$1:G893)+1)","v":""},null,{"$f":"IF(J894=\"\",\"\",MAX(I$1:I893)+1)","v":""},null,{"$f":"IF(L894=\"\",\"\",MAX(K$1:K893)+1)","v":""},null,{"$f":"IF(N894=\"\",\"\",MAX(M$1:M893)+1)","v":""}]
[null,null,{"$f":"IF(D895=\"\",\"\",MAX(C$1:C894)+1)","v":""},null,{"$f":"IF(F895=\"\",\"\",MAX(E$1:E894)+1)","v":""},null,{"$f":"IF(H895=\"\",\"\",MAX(G$1:G894)+1)","v":""},null,{"$f":"IF(J895=\"\",\"\",MAX(I$1:I894)+1)","v":""},null,{"$f":"IF(L895=\"\",\"\",MAX(K$1:K894)+1)","v":""},null,{"$f":"IF(N895=\"\",\"\",MAX(M$1:M894)+1)","v":""}]
[null,null,{"$f":"IF(D896=\"\",\"\",MAX(C$1:C895)+1)","v":""},null,{"$f":"IF(F896=\"\",\"\",MAX(E$1:E895)+1)","v":""},null,{"$f":"IF(H896=\"\",\"\",MAX(G$1:G895)+1)","v":""},null,{"$f":"IF(J896=\"\",\"\",MAX(I$1:I895)+1)","v":""},null,{"$f":"IF(L896=\"\",\"\",MAX(K$1:K895)+1)","v":""},null,{"$f":"IF(N896=\"\",\"\",MAX(M$1:M895)+1)","v":""}]
[null,null,{"$f":"IF(D897=\"\",\"\",MAX(C$1:C896)+1)","v":""},null,{"$f":"IF(F897=\"\",\"\",MAX(E$1:E896)+1)","v":""},null,{"$f":"IF(H897=\"\",\"\",MAX(G$1:G896)+1)","v":""},null,{"$f":"IF(J897=\"\",\"\",MAX(I$1:I896)+1)","v":""},null,{"$f":"IF(L897=\"\",\"\",MAX(K$1:K896)+1)","v":""},null,{"$f":"IF(N897=\"\",\"\",MAX(M$1:M896)+1)","v":""}]
[null,null,{"$f":"IF(D898=\"\",\"\",MAX(C$1:C897)+1)","v":""},null,{"$f":"IF(F898=\"\",\"\",MAX(E$1:E897)+1)","v":""},null,{"$f":"IF(H898=\"\",\"\",MAX(G$1:G897)+1)","v":""},null,{"$f":"IF(J898=\"\",\"\",MAX(I$1:I897)+1)","v":""},null,{"$f":"IF(L898=\"\",\"\",MAX(K$1:K897)+1)","v":""},null,{"$f":"IF(N898=\"\",\"\",MAX(M$1:M897)+1)","v":""}]
[null,null,{"$f":"IF(D899=\"\",\"\",MAX(C$1:C898)+1)","v":""},null,{"$f":"IF(F899=\"\",\"\",MAX(E$1:E898)+1)","v":""},null,{"$f":"IF(H899=\"\",\"\",MAX(G$1:G898)+1)","v":""},null,{"$f":"IF(J899=\"\",\"\",MAX(I$1:I898)+1)","v":""},null,{"$f":"IF(L899=\"\",\"\",MAX(K$1:K898)+1)","v":""},null,{"$f":"IF(N899=\"\",\"\",MAX(M$1:M898)+1)","v":""}]
[null,null,{"$f":"IF(D900=\"\",\"\",MAX(C$1:C899)+1)","v":""},null,{"$f":"IF(F900=\"\",\"\",MAX(E$1:E899)+1)","v":""},null,{"$f":"IF(H900=\"\",\"\",MAX(G$1:G899)+1)","v":""},null,{"$f":"IF(J900=\"\",\"\",MAX(I$1:I899)+1)","v":""},null,{"$f":"IF(L900=\"\",\"\",MAX(K$1:K899)+1)","v":""},null,{"$f":"IF(N900=\"\",\"\",MAX(M$1:M899)+1)","v":""}]
[null,null,{"$f":"IF(D901=\"\",\"\",MAX(C$1:C900)+1)","v":""},null,{"$f":"IF(F901=\"\",\"\",MAX(E$1:E900)+1)","v":""},null,{"$f":"IF(H901=\"\",\"\",MAX(G$1:G900)+1)","v":""},null,{"$f":"IF(J901=\"\",\"\",MAX(I$1:I900)+1)","v":""},null,{"$f":"IF(L901=\"\",\"\",MAX(K$1:K900)+1)","v":""},null,{"$f":"IF(N901=\"\",\"\",MAX(M$1:M900)+1)","v":""}]
[null,null,{"$f":"IF(D902=\"\",\"\",MAX(C$1:C901)+1)","v":""},null,{"$f":"IF(F902=\"\",\"\",MAX(E$1:E901)+1)","v":""},null,{"$f":"IF(H902=\"\",\"\",MAX(G$1:G901)+1)","v":""},null,{"$f":"IF(J902=\"\",\"\",MAX(I$1:I901)+1)","v":""},null,{"$f":"IF(L902=\"\",\"\",MAX(K$1:K901)+1)","v":""},null,{"$f":"IF(N902=\"\",\"\",MAX(M$1:M901)+1)","v":""}]
[null,null,{"$f":"IF(D903=\"\",\"\",MAX(C$1:C902)+1)","v":""},null,{"$f":"IF(F903=\"\",\"\",MAX(E$1:E902)+1)","v":""},null,{"$f":"IF(H903=\"\",\"\",MAX(G$1:G902)+1)","v":""},null,{"$f":"IF(J903=\"\",\"\",MAX(I$1:I902)+1)","v":""},null,{"$f":"IF(L903=\"\",\"\",MAX(K$1:K902)+1)","v":""},null,{"$f":"IF(N903=\"\",\"\",MAX(M$1:M902)+1)","v":""}]
[null,null,{"$f":"IF(D904=\"\",\"\",MAX(C$1:C903)+1)","v":""},null,{"$f":"IF(F904=\"\",\"\",MAX(E$1:E903)+1)","v":""},null,{"$f":"IF(H904=\"\",\"\",MAX(G$1:G903)+1)","v":""},null,{"$f":"IF(J904=\"\",\"\",MAX(I$1:I903)+1)","v":""},null,{"$f":"IF(L904=\"\",\"\",MAX(K$1:K903)+1)","v":""},null,{"$f":"IF(N904=\"\",\"\",MAX(M$1:M903)+1)","v":""}]
[null,null,{"$f":"IF(D905=\"\",\"\",MAX(C$1:C904)+1)","v":""},null,{"$f":"IF(F905=\"\",\"\",MAX(E$1:E904)+1)","v":""},null,{"$f":"IF(H905=\"\",\"\",MAX(G$1:G904)+1)","v":""},null,{"$f":"IF(J905=\"\",\"\",MAX(I$1:I904)+1)","v":""},null,{"$f":"IF(L905=\"\",\"\",MAX(K$1:K904)+1)","v":""},null,{"$f":"IF(N905=\"\",\"\",MAX(M$1:M904)+1)","v":""}]
[null,null,{"$f":"IF(D906=\"\",\"\",MAX(C$1:C905)+1)","v":""},null,{"$f":"IF(F906=\"\",\"\",MAX(E$1:E905)+1)","v":""},null,{"$f":"IF(H906=\"\",\"\",MAX(G$1:G905)+1)","v":""},null,{"$f":"IF(J906=\"\",\"\",MAX(I$1:I905)+1)","v":""},null,{"$f":"IF(L906=\"\",\"\",MAX(K$1:K905)+1)","v":""},null,{"$f":"IF(N906=\"\",\"\",MAX(M$1:M905)+1)","v":""}]
[null,null,{"$f":"IF(D907=\"\",\"\",MAX(C$1:C906)+1)","v":""},null,{"$f":"IF(F907=\"\",\"\",MAX(E$1:E906)+1)","v":""},null,{"$f":"IF(H907=\"\",\"\",MAX(G$1:G906)+1)","v":""},null,{"$f":"IF(J907=\"\",\"\",MAX(I$1:I906)+1)","v":""},null,{"$f":"IF(L907=\"\",\"\",MAX(K$1:K906)+1)","v":""},null,{"$f":"IF(N907=\"\",\"\",MAX(M$1:M906)+1)","v":""}]
[null,null,{"$f":"IF(D908=\"\",\"\",MAX(C$1:C907)+1)","v":""},null,{"$f":"IF(F908=\"\",\"\",MAX(E$1:E907)+1)","v":""},null,{"$f":"IF(H908=\"\",\"\",MAX(G$1:G907)+1)","v":""},null,{"$f":"IF(J908=\"\",\"\",MAX(I$1:I907)+1)","v":""},null,{"$f":"IF(L908=\"\",\"\",MAX(K$1:K907)+1)","v":""},null,{"$f":"IF(N908=\"\",\"\",MAX(M$1:M907)+1)","v":""}]
[null,null,{"$f":"IF(D909=\"\",\"\",MAX(C$1:C908)+1)","v":""},null,{"$f":"IF(F909=\"\",\"\",MAX(E$1:E908)+1)","v":""},null,{"$f":"IF(H909=\"\",\"\",MAX(G$1:G908)+1)","v":""},null,{"$f":"IF(J909=\"\",\"\",MAX(I$1:I908)+1)","v":""},null,{"$f":"IF(L909=\"\",\"\",MAX(K$1:K908)+1)","v":""},null,{"$f":"IF(N909=\"\",\"\",MAX(M$1:M908)+1)","v":""}]
[null,null,{"$f":"IF(D910=\"\",\"\",MAX(C$1:C909)+1)","v":""},null,{"$f":"IF(F910=\"\",\"\",MAX(E$1:E909)+1)","v":""},null,{"$f":"IF(H910=\"\",\"\",MAX(G$1:G909)+1)","v":""},null,{"$f":"IF(J910=\"\",\"\",MAX(I$1:I909)+1)","v":""},null,{"$f":"IF(L910=\"\",\"\",MAX(K$1:K909)+1)","v":""},null,{"$f":"IF(N910=\"\",\"\",MAX(M$1:M909)+1)","v":""}]
[null,null,{"$f":"IF(D911=\"\",\"\",MAX(C$1:C910)+1)","v":""},null,{"$f":"IF(F911=\"\",\"\",MAX(E$1:E910)+1)","v":""},null,{"$f":"IF(H911=\"\",\"\",MAX(G$1:G910)+1)","v":""},null,{"$f":"IF(J911=\"\",\"\",MAX(I$1:I910)+1)","v":""},null,{"$f":"IF(L911=\"\",\"\",MAX(K$1:K910)+1)","v":""},null,{"$f":"IF(N911=\"\",\"\",MAX(M$1:M910)+1)","v":""}]
[null,null,{"$f":"IF(D912=\"\",\"\",MAX(C$1:C911)+1)","v":""},null,{"$f":"IF(F912=\"\",\"\",MAX(E$1:E911)+1)","v":""},null,{"$f":"IF(H912=\"\",\"\",MAX(G$1:G911)+1)","v":""},null,{"$f":"IF(J912=\"\",\"\",MAX(I$1:I911)+1)","v":""},null,{"$f":"IF(L912=\"\",\"\",MAX(K$1:K911)+1)","v":""},null,{"$f":"IF(N912=\"\",\"\",MAX(M$1:M911)+1)","v":""}]
[null,null,{"$f":"IF(D913=\"\",\"\",MAX(C$1:C912)+1)","v":""},null,{"$f":"IF(F913=\"\",\"\",MAX(E$1:E912)+1)","v":""},null,{"$f":"IF(H913=\"\",\"\",MAX(G$1:G912)+1)","v":""},null,{"$f":"IF(J913=\"\",\"\",MAX(I$1:I912)+1)","v":""},null,{"$f":"IF(L913=\"\",\"\",MAX(K$1:K912)+1)","v":""},null,{"$f":"IF(N913=\"\",\"\",MAX(M$1:M912)+1)","v":""}]
[null,null,{"$f":"IF(D914=\"\",\"\",MAX(C$1:C913)+1)","v":""},null,{"$f":"IF(F914=\"\",\"\",MAX(E$1:E913)+1)","v":""},null,{"$f":"IF(H914=\"\",\"\",MAX(G$1:G913)+1)","v":""},null,{"$f":"IF(J914=\"\",\"\",MAX(I$1:I913)+1)","v":""},null,{"$f":"IF(L914=\"\",\"\",MAX(K$1:K913)+1)","v":""},null,{"$f":"IF(N914=\"\",\"\",MAX(M$1:M913)+1)","v":""}]
[null,null,{"$f":"IF(D915=\"\",\"\",MAX(C$1:C914)+1)","v":""},null,{"$f":"IF(F915=\"\",\"\",MAX(E$1:E914)+1)","v":""},null,{"$f":"IF(H915=\"\",\"\",MAX(G$1:G914)+1)","v":""},null,{"$f":"IF(J915=\"\",\"\",MAX(I$1:I914)+1)","v":""},null,{"$f":"IF(L915=\"\",\"\",MAX(K$1:K914)+1)","v":""},null,{"$f":"IF(N915=\"\",\"\",MAX(M$1:M914)+1)","v":""}]
[null,null,{"$f":"IF(D916=\"\",\"\",MAX(C$1:C915)+1)","v":""},null,{"$f":"IF(F916=\"\",\"\",MAX(E$1:E915)+1)","v":""},null,{"$f":"IF(H916=\"\",\"\",MAX(G$1:G915)+1)","v":""},null,{"$f":"IF(J916=\"\",\"\",MAX(I$1:I915)+1)","v":""},null,{"$f":"IF(L916=\"\",\"\",MAX(K$1:K915)+1)","v":""},null,{"$f":"IF(N916=\"\",\"\",MAX(M$1:M915)+1)","v":""}]
[null,null,{"$f":"IF(D917=\"\",\"\",MAX(C$1:C916)+1)","v":""},null,{"$f":"IF(F917=\"\",\"\",MAX(E$1:E916)+1)","v":""},null,{"$f":"IF(H917=\"\",\"\",MAX(G$1:G916)+1)","v":""},null,{"$f":"IF(J917=\"\",\"\",MAX(I$1:I916)+1)","v":""},null,{"$f":"IF(L917=\"\",\"\",MAX(K$1:K916)+1)","v":""},null,{"$f":"IF(N917=\"\",\"\",MAX(M$1:M916)+1)","v":""}]
[null,null,{"$f":"IF(D918=\"\",\"\",MAX(C$1:C917)+1)","v":""},null,{"$f":"IF(F918=\"\",\"\",MAX(E$1:E917)+1)","v":""},null,{"$f":"IF(H918=\"\",\"\",MAX(G$1:G917)+1)","v":""},null,{"$f":"IF(J918=\"\",\"\",MAX(I$1:I917)+1)","v":""},null,{"$f":"IF(L918=\"\",\"\",MAX(K$1:K917)+1)","v":""},null,{"$f":"IF(N918=\"\",\"\",MAX(M$1:M917)+1)","v":""}]
[null,null,{"$f":"IF(D919=\"\",\"\",MAX(C$1:C918)+1)","v":""},null,{"$f":"IF(F919=\"\",\"\",MAX(E$1:E918)+1)","v":""},null,{"$f":"IF(H919=\"\",\"\",MAX(G$1:G918)+1)","v":""},null,{"$f":"IF(J919=\"\",\"\",MAX(I$1:I918)+1)","v":""},null,{"$f":"IF(L919=\"\",\"\",MAX(K$1:K918)+1)","v":""},null,{"$f":"IF(N919=\"\",\"\",MAX(M$1:M918)+1)","v":""}]
[null,null,{"$f":"IF(D920=\"\",\"\",MAX(C$1:C919)+1)","v":""},null,{"$f":"IF(F920=\"\",\"\",MAX(E$1:E919)+1)","v":""},null,{"$f":"IF(H920=\"\",\"\",MAX(G$1:G919)+1)","v":""},null,{"$f":"IF(J920=\"\",\"\",MAX(I$1:I919)+1)","v":""},null,{"$f":"IF(L920=\"\",\"\",MAX(K$1:K919)+1)","v":""},null,{"$f":"IF(N920=\"\",\"\",MAX(M$1:M919)+1)","v":""}]
[null,null,{"$f":"IF(D921=\"\",\"\",MAX(C$1:C920)+1)","v":""},null,{"$f":"IF(F921=\"\",\"\",MAX(E$1:E920)+1)","v":""},null,{"$f":"IF(H921=\"\",\"\",MAX(G$1:G920)+1)","v":""},null,{"$f":"IF(J921=\"\",\"\",MAX(I$1:I920)+1)","v":""},null,{"$f":"IF(L921=\"\",\"\",MAX(K$1:K920)+1)","v":""},null,{"$f":"IF(N921=\"\",\"\",MAX(M$1:M920)+1)","v":""}]
[null,null,{"$f":"IF(D922=\"\",\"\",MAX(C$1:C921)+1)","v":""},null,{"$f":"IF(F922=\"\",\"\",MAX(E$1:E921)+1)","v":""},null,{"$f":"IF(H922=\"\",\"\",MAX(G$1:G921)+1)","v":""},null,{"$f":"IF(J922=\"\",\"\",MAX(I$1:I921)+1)","v":""},null,{"$f":"IF(L922=\"\",\"\",MAX(K$1:K921)+1)","v":""},null,{"$f":"IF(N922=\"\",\"\",MAX(M$1:M921)+1)","v":""}]
[null,null,{"$f":"IF(D923=\"\",\"\",MAX(C$1:C922)+1)","v":""},null,{"$f":"IF(F923=\"\",\"\",MAX(E$1:E922)+1)","v":""},null,{"$f":"IF(H923=\"\",\"\",MAX(G$1:G922)+1)","v":""},null,{"$f":"IF(J923=\"\",\"\",MAX(I$1:I922)+1)","v":""},null,{"$f":"IF(L923=\"\",\"\",MAX(K$1:K922)+1)","v":""},null,{"$f":"IF(N923=\"\",\"\",MAX(M$1:M922)+1)","v":""}]
[null,null,{"$f":"IF(D924=\"\",\"\",MAX(C$1:C923)+1)","v":""},null,{"$f":"IF(F924=\"\",\"\",MAX(E$1:E923)+1)","v":""},null,{"$f":"IF(H924=\"\",\"\",MAX(G$1:G923)+1)","v":""},null,{"$f":"IF(J924=\"\",\"\",MAX(I$1:I923)+1)","v":""},null,{"$f":"IF(L924=\"\",\"\",MAX(K$1:K923)+1)","v":""},null,{"$f":"IF(N924=\"\",\"\",MAX(M$1:M923)+1)","v":""}]
[null,null,{"$f":"IF(D925=\"\",\"\",MAX(C$1:C924)+1)","v":""},null,{"$f":"IF(F925=\"\",\"\",MAX(E$1:E924)+1)","v":""},null,{"$f":"IF(H925=\"\",\"\",MAX(G$1:G924)+1)","v":""},null,{"$f":"IF(J925=\"\",\"\",MAX(I$1:I924)+1)","v":""},null,{"$f":"IF(L925=\"\",\"\",MAX(K$1:K924)+1)","v":""},null,{"$f":"IF(N925=\"\",\"\",MAX(M$1:M924)+1)","v":""}]
[null,null,{"$f":"IF(D926=\"\",\"\",MAX(C$1:C925)+1)","v":""},null,{"$f":"IF(F926=\"\",\"\",MAX(E$1:E925)+1)","v":""},null,{"$f":"IF(H926=\"\",\"\",MAX(G$1:G925)+1)","v":""},null,{"$f":"IF(J926=\"\",\"\",MAX(I$1:I925)+1)","v":""},null,{"$f":"IF(L926=\"\",\"\",MAX(K$1:K925)+1)","v":""},null,{"$f":"IF(N926=\"\",\"\",MAX(M$1:M925)+1)","v":""}]
[null,null,{"$f":"IF(D927=\"\",\"\",MAX(C$1:C926)+1)","v":""},null,{"$f":"IF(F927=\"\",\"\",MAX(E$1:E926)+1)","v":""},null,{"$f":"IF(H927=\"\",\"\",MAX(G$1:G926)+1)","v":""},null,{"$f":"IF(J927=\"\",\"\",MAX(I$1:I926)+1)","v":""},null,{"$f":"IF(L927=\"\",\"\",MAX(K$1:K926)+1)","v":""},null,{"$f":"IF(N927=\"\",\"\",MAX(M$1:M926)+1)","v":""}]
[null,null,{"$f":"IF(D928=\"\",\"\",MAX(C$1:C927)+1)","v":""},null,{"$f":"IF(F928=\"\",\"\",MAX(E$1:E927)+1)","v":""},null,{"$f":"IF(H928=\"\",\"\",MAX(G$1:G927)+1)","v":""},null,{"$f":"IF(J928=\"\",\"\",MAX(I$1:I927)+1)","v":""},null,{"$f":"IF(L928=\"\",\"\",MAX(K$1:K927)+1)","v":""},null,{"$f":"IF(N928=\"\",\"\",MAX(M$1:M927)+1)","v":""}]
[null,null,{"$f":"IF(D929=\"\",\"\",MAX(C$1:C928)+1)","v":""},null,{"$f":"IF(F929=\"\",\"\",MAX(E$1:E928)+1)","v":""},null,{"$f":"IF(H929=\"\",\"\",MAX(G$1:G928)+1)","v":""},null,{"$f":"IF(J929=\"\",\"\",MAX(I$1:I928)+1)","v":""},null,{"$f":"IF(L929=\"\",\"\",MAX(K$1:K928)+1)","v":""},null,{"$f":"IF(N929=\"\",\"\",MAX(M$1:M928)+1)","v":""}]
[null,null,{"$f":"IF(D930=\"\",\"\",MAX(C$1:C929)+1)","v":""},null,{"$f":"IF(F930=\"\",\"\",MAX(E$1:E929)+1)","v":""},null,{"$f":"IF(H930=\"\",\"\",MAX(G$1:G929)+1)","v":""},null,{"$f":"IF(J930=\"\",\"\",MAX(I$1:I929)+1)","v":""},null,{"$f":"IF(L930=\"\",\"\",MAX(K$1:K929)+1)","v":""},null,{"$f":"IF(N930=\"\",\"\",MAX(M$1:M929)+1)","v":""}]
[null,null,{"$f":"IF(D931=\"\",\"\",MAX(C$1:C930)+1)","v":""},null,{"$f":"IF(F931=\"\",\"\",MAX(E$1:E930)+1)","v":""},null,{"$f":"IF(H931=\"\",\"\",MAX(G$1:G930)+1)","v":""},null,{"$f":"IF(J931=\"\",\"\",MAX(I$1:I930)+1)","v":""},null,{"$f":"IF(L931=\"\",\"\",MAX(K$1:K930)+1)","v":""},null,{"$f":"IF(N931=\"\",\"\",MAX(M$1:M930)+1)","v":""}]
[null,null,{"$f":"IF(D932=\"\",\"\",MAX(C$1:C931)+1)","v":""},null,{"$f":"IF(F932=\"\",\"\",MAX(E$1:E931)+1)","v":""},null,{"$f":"IF(H932=\"\",\"\",MAX(G$1:G931)+1)","v":""},null,{"$f":"IF(J932=\"\",\"\",MAX(I$1:I931)+1)","v":""},null,{"$f":"IF(L932=\"\",\"\",MAX(K$1:K931)+1)","v":""},null,{"$f":"IF(N932=\"\",\"\",MAX(M$1:M931)+1)","v":""}]
[null,null,{"$f":"IF(D933=\"\",\"\",MAX(C$1:C932)+1)","v":""},null,{"$f":"IF(F933=\"\",\"\",MAX(E$1:E932)+1)","v":""},null,{"$f":"IF(H933=\"\",\"\",MAX(G$1:G932)+1)","v":""},null,{"$f":"IF(J933=\"\",\"\",MAX(I$1:I932)+1)","v":""},null,{"$f":"IF(L933=\"\",\"\",MAX(K$1:K932)+1)","v":""},null,{"$f":"IF(N933=\"\",\"\",MAX(M$1:M932)+1)","v":""}]
[null,null,{"$f":"IF(D934=\"\",\"\",MAX(C$1:C933)+1)","v":""},null,{"$f":"IF(F934=\"\",\"\",MAX(E$1:E933)+1)","v":""},null,{"$f":"IF(H934=\"\",\"\",MAX(G$1:G933)+1)","v":""},null,{"$f":"IF(J934=\"\",\"\",MAX(I$1:I933)+1)","v":""},null,{"$f":"IF(L934=\"\",\"\",MAX(K$1:K933)+1)","v":""},null,{"$f":"IF(N934=\"\",\"\",MAX(M$1:M933)+1)","v":""}]
[null,null,{"$f":"IF(D935=\"\",\"\",MAX(C$1:C934)+1)","v":""},null,{"$f":"IF(F935=\"\",\"\",MAX(E$1:E934)+1)","v":""},null,{"$f":"IF(H935=\"\",\"\",MAX(G$1:G934)+1)","v":""},null,{"$f":"IF(J935=\"\",\"\",MAX(I$1:I934)+1)","v":""},null,{"$f":"IF(L935=\"\",\"\",MAX(K$1:K934)+1)","v":""},null,{"$f":"IF(N935=\"\",\"\",MAX(M$1:M934)+1)","v":""}]
[null,null,{"$f":"IF(D936=\"\",\"\",MAX(C$1:C935)+1)","v":""},null,{"$f":"IF(F936=\"\",\"\",MAX(E$1:E935)+1)","v":""},null,{"$f":"IF(H936=\"\",\"\",MAX(G$1:G935)+1)","v":""},null,{"$f":"IF(J936=\"\",\"\",MAX(I$1:I935)+1)","v":""},null,{"$f":"IF(L936=\"\",\"\",MAX(K$1:K935)+1)","v":""},null,{"$f":"IF(N936=\"\",\"\",MAX(M$1:M935)+1)","v":""}]
[null,null,{"$f":"IF(D937=\"\",\"\",MAX(C$1:C936)+1)","v":""},null,{"$f":"IF(F937=\"\",\"\",MAX(E$1:E936)+1)","v":""},null,{"$f":"IF(H937=\"\",\"\",MAX(G$1:G936)+1)","v":""},null,{"$f":"IF(J937=\"\",\"\",MAX(I$1:I936)+1)","v":""},null,{"$f":"IF(L937=\"\",\"\",MAX(K$1:K936)+1)","v":""},null,{"$f":"IF(N937=\"\",\"\",MAX(M$1:M936)+1)","v":""}]
[null,null,{"$f":"IF(D938=\"\",\"\",MAX(C$1:C937)+1)","v":""},null,{"$f":"IF(F938=\"\",\"\",MAX(E$1:E937)+1)","v":""},null,{"$f":"IF(H938=\"\",\"\",MAX(G$1:G937)+1)","v":""},null,{"$f":"IF(J938=\"\",\"\",MAX(I$1:I937)+1)","v":""},null,{"$f":"IF(L938=\"\",\"\",MAX(K$1:K937)+1)","v":""},null,{"$f":"IF(N938=\"\",\"\",MAX(M$1:M937)+1)","v":""}]
[null,null,{"$f":"IF(D939=\"\",\"\",MAX(C$1:C938)+1)","v":""},null,{"$f":"IF(F939=\"\",\"\",MAX(E$1:E938)+1)","v":""},null,{"$f":"IF(H939=\"\",\"\",MAX(G$1:G938)+1)","v":""},null,{"$f":"IF(J939=\"\",\"\",MAX(I$1:I938)+1)","v":""},null,{"$f":"IF(L939=\"\",\"\",MAX(K$1:K938)+1)","v":""},null,{"$f":"IF(N939=\"\",\"\",MAX(M$1:M938)+1)","v":""}]
[null,null,{"$f":"IF(D940=\"\",\"\",MAX(C$1:C939)+1)","v":""},null,{"$f":"IF(F940=\"\",\"\",MAX(E$1:E939)+1)","v":""},null,{"$f":"IF(H940=\"\",\"\",MAX(G$1:G939)+1)","v":""},null,{"$f":"IF(J940=\"\",\"\",MAX(I$1:I939)+1)","v":""},null,{"$f":"IF(L940=\"\",\"\",MAX(K$1:K939)+1)","v":""},null,{"$f":"IF(N940=\"\",\"\",MAX(M$1:M939)+1)","v":""}]
[null,null,{"$f":"IF(D941=\"\",\"\",MAX(C$1:C940)+1)","v":""},null,{"$f":"IF(F941=\"\",\"\",MAX(E$1:E940)+1)","v":""},null,{"$f":"IF(H941=\"\",\"\",MAX(G$1:G940)+1)","v":""},null,{"$f":"IF(J941=\"\",\"\",MAX(I$1:I940)+1)","v":""},null,{"$f":"IF(L941=\"\",\"\",MAX(K$1:K940)+1)","v":""},null,{"$f":"IF(N941=\"\",\"\",MAX(M$1:M940)+1)","v":""}]
[null,null,{"$f":"IF(D942=\"\",\"\",MAX(C$1:C941)+1)","v":""},null,{"$f":"IF(F942=\"\",\"\",MAX(E$1:E941)+1)","v":""},null,{"$f":"IF(H942=\"\",\"\",MAX(G$1:G941)+1)","v":""},null,{"$f":"IF(J942=\"\",\"\",MAX(I$1:I941)+1)","v":""},null,{"$f":"IF(L942=\"\",\"\",MAX(K$1:K941)+1)","v":""},null,{"$f":"IF(N942=\"\",\"\",MAX(M$1:M941)+1)","v":""}]
[null,null,{"$f":"IF(D943=\"\",\"\",MAX(C$1:C942)+1)","v":""},null,{"$f":"IF(F943=\"\",\"\",MAX(E$1:E942)+1)","v":""},null,{"$f":"IF(H943=\"\",\"\",MAX(G$1:G942)+1)","v":""},null,{"$f":"IF(J943=\"\",\"\",MAX(I$1:I942)+1)","v":""},null,{"$f":"IF(L943=\"\",\"\",MAX(K$1:K942)+1)","v":""},null,{"$f":"IF(N943=\"\",\"\",MAX(M$1:M942)+1)","v":""}]
[null,null,{"$f":"IF(D944=\"\",\"\",MAX(C$1:C943)+1)","v":""},null,{"$f":"IF(F944=\"\",\"\",MAX(E$1:E943)+1)","v":""},null,{"$f":"IF(H944=\"\",\"\",MAX(G$1:G943)+1)","v":""},null,{"$f":"IF(J944=\"\",\"\",MAX(I$1:I943)+1)","v":""},null,{"$f":"IF(L944=\"\",\"\",MAX(K$1:K943)+1)","v":""},null,{"$f":"IF(N944=\"\",\"\",MAX(M$1:M943)+1)","v":""}]
[null,null,{"$f":"IF(D945=\"\",\"\",MAX(C$1:C944)+1)","v":""},null,{"$f":"IF(F945=\"\",\"\",MAX(E$1:E944)+1)","v":""},null,{"$f":"IF(H945=\"\",\"\",MAX(G$1:G944)+1)","v":""},null,{"$f":"IF(J945=\"\",\"\",MAX(I$1:I944)+1)","v":""},null,{"$f":"IF(L945=\"\",\"\",MAX(K$1:K944)+1)","v":""},null,{"$f":"IF(N945=\"\",\"\",MAX(M$1:M944)+1)","v":""}]
[null,null,{"$f":"IF(D946=\"\",\"\",MAX(C$1:C945)+1)","v":""},null,{"$f":"IF(F946=\"\",\"\",MAX(E$1:E945)+1)","v":""},null,{"$f":"IF(H946=\"\",\"\",MAX(G$1:G945)+1)","v":""},null,{"$f":"IF(J946=\"\",\"\",MAX(I$1:I945)+1)","v":""},null,{"$f":"IF(L946=\"\",\"\",MAX(K$1:K945)+1)","v":""},null,{"$f":"IF(N946=\"\",\"\",MAX(M$1:M945)+1)","v":""}]
[null,null,{"$f":"IF(D947=\"\",\"\",MAX(C$1:C946)+1)","v":""},null,{"$f":"IF(F947=\"\",\"\",MAX(E$1:E946)+1)","v":""},null,{"$f":"IF(H947=\"\",\"\",MAX(G$1:G946)+1)","v":""},null,{"$f":"IF(J947=\"\",\"\",MAX(I$1:I946)+1)","v":""},null,{"$f":"IF(L947=\"\",\"\",MAX(K$1:K946)+1)","v":""},null,{"$f":"IF(N947=\"\",\"\",MAX(M$1:M946)+1)","v":""}]
[null,null,{"$f":"IF(D948=\"\",\"\",MAX(C$1:C947)+1)","v":""},null,{"$f":"IF(F948=\"\",\"\",MAX(E$1:E947)+1)","v":""},null,{"$f":"IF(H948=\"\",\"\",MAX(G$1:G947)+1)","v":""},null,{"$f":"IF(J948=\"\",\"\",MAX(I$1:I947)+1)","v":""},null,{"$f":"IF(L948=\"\",\"\",MAX(K$1:K947)+1)","v":""},null,{"$f":"IF(N948=\"\",\"\",MAX(M$1:M947)+1)","v":""}]
[null,null,{"$f":"IF(D949=\"\",\"\",MAX(C$1:C948)+1)","v":""},null,{"$f":"IF(F949=\"\",\"\",MAX(E$1:E948)+1)","v":""},null,{"$f":"IF(H949=\"\",\"\",MAX(G$1:G948)+1)","v":""},null,{"$f":"IF(J949=\"\",\"\",MAX(I$1:I948)+1)","v":""},null,{"$f":"IF(L949=\"\",\"\",MAX(K$1:K948)+1)","v":""},null,{"$f":"IF(N949=\"\",\"\",MAX(M$1:M948)+1)","v":""}]
[null,null,{"$f":"IF(D950=\"\",\"\",MAX(C$1:C949)+1)","v":""},null,{"$f":"IF(F950=\"\",\"\",MAX(E$1:E949)+1)","v":""},null,{"$f":"IF(H950=\"\",\"\",MAX(G$1:G949)+1)","v":""},null,{"$f":"IF(J950=\"\",\"\",MAX(I$1:I949)+1)","v":""},null,{"$f":"IF(L950=\"\",\"\",MAX(K$1:K949)+1)","v":""},null,{"$f":"IF(N950=\"\",\"\",MAX(M$1:M949)+1)","v":""}]
[null,null,{"$f":"IF(D951=\"\",\"\",MAX(C$1:C950)+1)","v":""},null,{"$f":"IF(F951=\"\",\"\",MAX(E$1:E950)+1)","v":""},null,{"$f":"IF(H951=\"\",\"\",MAX(G$1:G950)+1)","v":""},null,{"$f":"IF(J951=\"\",\"\",MAX(I$1:I950)+1)","v":""},null,{"$f":"IF(L951=\"\",\"\",MAX(K$1:K950)+1)","v":""},null,{"$f":"IF(N951=\"\",\"\",MAX(M$1:M950)+1)","v":""}]
[null,null,{"$f":"IF(D952=\"\",\"\",MAX(C$1:C951)+1)","v":""},null,{"$f":"IF(F952=\"\",\"\",MAX(E$1:E951)+1)","v":""},null,{"$f":"IF(H952=\"\",\"\",MAX(G$1:G951)+1)","v":""},null,{"$f":"IF(J952=\"\",\"\",MAX(I$1:I951)+1)","v":""},null,{"$f":"IF(L952=\"\",\"\",MAX(K$1:K951)+1)","v":""},null,{"$f":"IF(N952=\"\",\"\",MAX(M$1:M951)+1)","v":""}]
[null,null,{"$f":"IF(D953=\"\",\"\",MAX(C$1:C952)+1)","v":""},null,{"$f":"IF(F953=\"\",\"\",MAX(E$1:E952)+1)","v":""},null,{"$f":"IF(H953=\"\",\"\",MAX(G$1:G952)+1)","v":""},null,{"$f":"IF(J953=\"\",\"\",MAX(I$1:I952)+1)","v":""},null,{"$f":"IF(L953=\"\",\"\",MAX(K$1:K952)+1)","v":""},null,{"$f":"IF(N953=\"\",\"\",MAX(M$1:M952)+1)","v":""}]
[null,null,{"$f":"IF(D954=\"\",\"\",MAX(C$1:C953)+1)","v":""},null,{"$f":"IF(F954=\"\",\"\",MAX(E$1:E953)+1)","v":""},null,{"$f":"IF(H954=\"\",\"\",MAX(G$1:G953)+1)","v":""},null,{"$f":"IF(J954=\"\",\"\",MAX(I$1:I953)+1)","v":""},null,{"$f":"IF(L954=\"\",\"\",MAX(K$1:K953)+1)","v":""},null,{"$f":"IF(N954=\"\",\"\",MAX(M$1:M953)+1)","v":""}]
[null,null,{"$f":"IF(D955=\"\",\"\",MAX(C$1:C954)+1)","v":""},null,{"$f":"IF(F955=\"\",\"\",MAX(E$1:E954)+1)","v":""},null,{"$f":"IF(H955=\"\",\"\",MAX(G$1:G954)+1)","v":""},null,{"$f":"IF(J955=\"\",\"\",MAX(I$1:I954)+1)","v":""},null,{"$f":"IF(L955=\"\",\"\",MAX(K$1:K954)+1)","v":""},null,{"$f":"IF(N955=\"\",\"\",MAX(M$1:M954)+1)","v":""}]
[null,null,{"$f":"IF(D956=\"\",\"\",MAX(C$1:C955)+1)","v":""},null,{"$f":"IF(F956=\"\",\"\",MAX(E$1:E955)+1)","v":""},null,{"$f":"IF(H956=\"\",\"\",MAX(G$1:G955)+1)","v":""},null,{"$f":"IF(J956=\"\",\"\",MAX(I$1:I955)+1)","v":""},null,{"$f":"IF(L956=\"\",\"\",MAX(K$1:K955)+1)","v":""},null,{"$f":"IF(N956=\"\",\"\",MAX(M$1:M955)+1)","v":""}]
[null,null,{"$f":"IF(D957=\"\",\"\",MAX(C$1:C956)+1)","v":""},null,{"$f":"IF(F957=\"\",\"\",MAX(E$1:E956)+1)","v":""},null,{"$f":"IF(H957=\"\",\"\",MAX(G$1:G956)+1)","v":""},null,{"$f":"IF(J957=\"\",\"\",MAX(I$1:I956)+1)","v":""},null,{"$f":"IF(L957=\"\",\"\",MAX(K$1:K956)+1)","v":""},null,{"$f":"IF(N957=\"\",\"\",MAX(M$1:M956)+1)","v":""}]
[null,null,{"$f":"IF(D958=\"\",\"\",MAX(C$1:C957)+1)","v":""},null,{"$f":"IF(F958=\"\",\"\",MAX(E$1:E957)+1)","v":""},null,{"$f":"IF(H958=\"\",\"\",MAX(G$1:G957)+1)","v":""},null,{"$f":"IF(J958=\"\",\"\",MAX(I$1:I957)+1)","v":""},null,{"$f":"IF(L958=\"\",\"\",MAX(K$1:K957)+1)","v":""},null,{"$f":"IF(N958=\"\",\"\",MAX(M$1:M957)+1)","v":""}]
[null,null,{"$f":"IF(D959=\"\",\"\",MAX(C$1:C958)+1)","v":""},null,{"$f":"IF(F959=\"\",\"\",MAX(E$1:E958)+1)","v":""},null,{"$f":"IF(H959=\"\",\"\",MAX(G$1:G958)+1)","v":""},null,{"$f":"IF(J959=\"\",\"\",MAX(I$1:I958)+1)","v":""},null,{"$f":"IF(L959=\"\",\"\",MAX(K$1:K958)+1)","v":""},null,{"$f":"IF(N959=\"\",\"\",MAX(M$1:M958)+1)","v":""}]
[null,null,{"$f":"IF(D960=\"\",\"\",MAX(C$1:C959)+1)","v":""},null,{"$f":"IF(F960=\"\",\"\",MAX(E$1:E959)+1)","v":""},null,{"$f":"IF(H960=\"\",\"\",MAX(G$1:G959)+1)","v":""},null,{"$f":"IF(J960=\"\",\"\",MAX(I$1:I959)+1)","v":""},null,{"$f":"IF(L960=\"\",\"\",MAX(K$1:K959)+1)","v":""},null,{"$f":"IF(N960=\"\",\"\",MAX(M$1:M959)+1)","v":""}]
[null,null,{"$f":"IF(D961=\"\",\"\",MAX(C$1:C960)+1)","v":""},null,{"$f":"IF(F961=\"\",\"\",MAX(E$1:E960)+1)","v":""},null,{"$f":"IF(H961=\"\",\"\",MAX(G$1:G960)+1)","v":""},null,{"$f":"IF(J961=\"\",\"\",MAX(I$1:I960)+1)","v":""},null,{"$f":"IF(L961=\"\",\"\",MAX(K$1:K960)+1)","v":""},null,{"$f":"IF(N961=\"\",\"\",MAX(M$1:M960)+1)","v":""}]
[null,null,{"$f":"IF(D962=\"\",\"\",MAX(C$1:C961)+1)","v":""},null,{"$f":"IF(F962=\"\",\"\",MAX(E$1:E961)+1)","v":""},null,{"$f":"IF(H962=\"\",\"\",MAX(G$1:G961)+1)","v":""},null,{"$f":"IF(J962=\"\",\"\",MAX(I$1:I961)+1)","v":""},null,{"$f":"IF(L962=\"\",\"\",MAX(K$1:K961)+1)","v":""},null,{"$f":"IF(N962=\"\",\"\",MAX(M$1:M961)+1)","v":""}]
[null,null,{"$f":"IF(D963=\"\",\"\",MAX(C$1:C962)+1)","v":""},null,{"$f":"IF(F963=\"\",\"\",MAX(E$1:E962)+1)","v":""},null,{"$f":"IF(H963=\"\",\"\",MAX(G$1:G962)+1)","v":""},null,{"$f":"IF(J963=\"\",\"\",MAX(I$1:I962)+1)","v":""},null,{"$f":"IF(L963=\"\",\"\",MAX(K$1:K962)+1)","v":""},null,{"$f":"IF(N963=\"\",\"\",MAX(M$1:M962)+1)","v":""}]
[null,null,{"$f":"IF(D964=\"\",\"\",MAX(C$1:C963)+1)","v":""},null,{"$f":"IF(F964=\"\",\"\",MAX(E$1:E963)+1)","v":""},null,{"$f":"IF(H964=\"\",\"\",MAX(G$1:G963)+1)","v":""},null,{"$f":"IF(J964=\"\",\"\",MAX(I$1:I963)+1)","v":""},null,{"$f":"IF(L964=\"\",\"\",MAX(K$1:K963)+1)","v":""},null,{"$f":"IF(N964=\"\",\"\",MAX(M$1:M963)+1)","v":""}]
[null,null,{"$f":"IF(D965=\"\",\"\",MAX(C$1:C964)+1)","v":""},null,{"$f":"IF(F965=\"\",\"\",MAX(E$1:E964)+1)","v":""},null,{"$f":"IF(H965=\"\",\"\",MAX(G$1:G964)+1)","v":""},null,{"$f":"IF(J965=\"\",\"\",MAX(I$1:I964)+1)","v":""},null,{"$f":"IF(L965=\"\",\"\",MAX(K$1:K964)+1)","v":""},null,{"$f":"IF(N965=\"\",\"\",MAX(M$1:M964)+1)","v":""}]
[null,null,{"$f":"IF(D966=\"\",\"\",MAX(C$1:C965)+1)","v":""},null,{"$f":"IF(F966=\"\",\"\",MAX(E$1:E965)+1)","v":""},null,{"$f":"IF(H966=\"\",\"\",MAX(G$1:G965)+1)","v":""},null,{"$f":"IF(J966=\"\",\"\",MAX(I$1:I965)+1)","v":""},null,{"$f":"IF(L966=\"\",\"\",MAX(K$1:K965)+1)","v":""},null,{"$f":"IF(N966=\"\",\"\",MAX(M$1:M965)+1)","v":""}]
[null,null,{"$f":"IF(D967=\"\",\"\",MAX(C$1:C966)+1)","v":""},null,{"$f":"IF(F967=\"\",\"\",MAX(E$1:E966)+1)","v":""},null,{"$f":"IF(H967=\"\",\"\",MAX(G$1:G966)+1)","v":""},null,{"$f":"IF(J967=\"\",\"\",MAX(I$1:I966)+1)","v":""},null,{"$f":"IF(L967=\"\",\"\",MAX(K$1:K966)+1)","v":""},null,{"$f":"IF(N967=\"\",\"\",MAX(M$1:M966)+1)","v":""}]
[null,null,{"$f":"IF(D968=\"\",\"\",MAX(C$1:C967)+1)","v":""},null,{"$f":"IF(F968=\"\",\"\",MAX(E$1:E967)+1)","v":""},null,{"$f":"IF(H968=\"\",\"\",MAX(G$1:G967)+1)","v":""},null,{"$f":"IF(J968=\"\",\"\",MAX(I$1:I967)+1)","v":""},null,{"$f":"IF(L968=\"\",\"\",MAX(K$1:K967)+1)","v":""},null,{"$f":"IF(N968=\"\",\"\",MAX(M$1:M967)+1)","v":""}]
[null,null,{"$f":"IF(D969=\"\",\"\",MAX(C$1:C968)+1)","v":""},null,{"$f":"IF(F969=\"\",\"\",MAX(E$1:E968)+1)","v":""},null,{"$f":"IF(H969=\"\",\"\",MAX(G$1:G968)+1)","v":""},null,{"$f":"IF(J969=\"\",\"\",MAX(I$1:I968)+1)","v":""},null,{"$f":"IF(L969=\"\",\"\",MAX(K$1:K968)+1)","v":""},null,{"$f":"IF(N969=\"\",\"\",MAX(M$1:M968)+1)","v":""}]
[null,null,{"$f":"IF(D970=\"\",\"\",MAX(C$1:C969)+1)","v":""},null,{"$f":"IF(F970=\"\",\"\",MAX(E$1:E969)+1)","v":""},null,{"$f":"IF(H970=\"\",\"\",MAX(G$1:G969)+1)","v":""},null,{"$f":"IF(J970=\"\",\"\",MAX(I$1:I969)+1)","v":""},null,{"$f":"IF(L970=\"\",\"\",MAX(K$1:K969)+1)","v":""},null,{"$f":"IF(N970=\"\",\"\",MAX(M$1:M969)+1)","v":""}]
[null,null,{"$f":"IF(D971=\"\",\"\",MAX(C$1:C970)+1)","v":""},null,{"$f":"IF(F971=\"\",\"\",MAX(E$1:E970)+1)","v":""},null,{"$f":"IF(H971=\"\",\"\",MAX(G$1:G970)+1)","v":""},null,{"$f":"IF(J971=\"\",\"\",MAX(I$1:I970)+1)","v":""},null,{"$f":"IF(L971=\"\",\"\",MAX(K$1:K970)+1)","v":""},null,{"$f":"IF(N971=\"\",\"\",MAX(M$1:M970)+1)","v":""}]
[null,null,{"$f":"IF(D972=\"\",\"\",MAX(C$1:C971)+1)","v":""},null,{"$f":"IF(F972=\"\",\"\",MAX(E$1:E971)+1)","v":""},null,{"$f":"IF(H972=\"\",\"\",MAX(G$1:G971)+1)","v":""},null,{"$f":"IF(J972=\"\",\"\",MAX(I$1:I971)+1)","v":""},null,{"$f":"IF(L972=\"\",\"\",MAX(K$1:K971)+1)","v":""},null,{"$f":"IF(N972=\"\",\"\",MAX(M$1:M971)+1)","v":""}]
[null,null,{"$f":"IF(D973=\"\",\"\",MAX(C$1:C972)+1)","v":""},null,{"$f":"IF(F973=\"\",\"\",MAX(E$1:E972)+1)","v":""},null,{"$f":"IF(H973=\"\",\"\",MAX(G$1:G972)+1)","v":""},null,{"$f":"IF(J973=\"\",\"\",MAX(I$1:I972)+1)","v":""},null,{"$f":"IF(L973=\"\",\"\",MAX(K$1:K972)+1)","v":""},null,{"$f":"IF(N973=\"\",\"\",MAX(M$1:M972)+1)","v":""}]
[null,null,{"$f":"IF(D974=\"\",\"\",MAX(C$1:C973)+1)","v":""},null,{"$f":"IF(F974=\"\",\"\",MAX(E$1:E973)+1)","v":""},null,{"$f":"IF(H974=\"\",\"\",MAX(G$1:G973)+1)","v":""},null,{"$f":"IF(J974=\"\",\"\",MAX(I$1:I973)+1)","v":""},null,{"$f":"IF(L974=\"\",\"\",MAX(K$1:K973)+1)","v":""},null,{"$f":"IF(N974=\"\",\"\",MAX(M$1:M973)+1)","v":""}]
[null,null,{"$f":"IF(D975=\"\",\"\",MAX(C$1:C974)+1)","v":""},null,{"$f":"IF(F975=\"\",\"\",MAX(E$1:E974)+1)","v":""},null,{"$f":"IF(H975=\"\",\"\",MAX(G$1:G974)+1)","v":""},null,{"$f":"IF(J975=\"\",\"\",MAX(I$1:I974)+1)","v":""},null,{"$f":"IF(L975=\"\",\"\",MAX(K$1:K974)+1)","v":""},null,{"$f":"IF(N975=\"\",\"\",MAX(M$1:M974)+1)","v":""}]
[null,null,{"$f":"IF(D976=\"\",\"\",MAX(C$1:C975)+1)","v":""},null,{"$f":"IF(F976=\"\",\"\",MAX(E$1:E975)+1)","v":""},null,{"$f":"IF(H976=\"\",\"\",MAX(G$1:G975)+1)","v":""},null,{"$f":"IF(J976=\"\",\"\",MAX(I$1:I975)+1)","v":""},null,{"$f":"IF(L976=\"\",\"\",MAX(K$1:K975)+1)","v":""},null,{"$f":"IF(N976=\"\",\"\",MAX(M$1:M975)+1)","v":""}]
[null,null,{"$f":"IF(D977=\"\",\"\",MAX(C$1:C976)+1)","v":""},null,{"$f":"IF(F977=\"\",\"\",MAX(E$1:E976)+1)","v":""},null,{"$f":"IF(H977=\"\",\"\",MAX(G$1:G976)+1)","v":""},null,{"$f":"IF(J977=\"\",\"\",MAX(I$1:I976)+1)","v":""},null,{"$f":"IF(L977=\"\",\"\",MAX(K$1:K976)+1)","v":""},null,{"$f":"IF(N977=\"\",\"\",MAX(M$1:M976)+1)","v":""}]
[null,null,{"$f":"IF(D978=\"\",\"\",MAX(C$1:C977)+1)","v":""},null,{"$f":"IF(F978=\"\",\"\",MAX(E$1:E977)+1)","v":""},null,{"$f":"IF(H978=\"\",\"\",MAX(G$1:G977)+1)","v":""},null,{"$f":"IF(J978=\"\",\"\",MAX(I$1:I977)+1)","v":""},null,{"$f":"IF(L978=\"\",\"\",MAX(K$1:K977)+1)","v":""},null,{"$f":"IF(N978=\"\",\"\",MAX(M$1:M977)+1)","v":""}]
[null,null,{"$f":"IF(D979=\"\",\"\",MAX(C$1:C978)+1)","v":""},null,{"$f":"IF(F979=\"\",\"\",MAX(E$1:E978)+1)","v":""},null,{"$f":"IF(H979=\"\",\"\",MAX(G$1:G978)+1)","v":""},null,{"$f":"IF(J979=\"\",\"\",MAX(I$1:I978)+1)","v":""},null,{"$f":"IF(L979=\"\",\"\",MAX(K$1:K978)+1)","v":""},null,{"$f":"IF(N979=\"\",\"\",MAX(M$1:M978)+1)","v":""}]
[null,null,{"$f":"IF(D980=\"\",\"\",MAX(C$1:C979)+1)","v":""},null,{"$f":"IF(F980=\"\",\"\",MAX(E$1:E979)+1)","v":""},null,{"$f":"IF(H980=\"\",\"\",MAX(G$1:G979)+1)","v":""},null,{"$f":"IF(J980=\"\",\"\",MAX(I$1:I979)+1)","v":""},null,{"$f":"IF(L980=\"\",\"\",MAX(K$1:K979)+1)","v":""},null,{"$f":"IF(N980=\"\",\"\",MAX(M$1:M979)+1)","v":""}]
[null,null,{"$f":"IF(D981=\"\",\"\",MAX(C$1:C980)+1)","v":""},null,{"$f":"IF(F981=\"\",\"\",MAX(E$1:E980)+1)","v":""},null,{"$f":"IF(H981=\"\",\"\",MAX(G$1:G980)+1)","v":""},null,{"$f":"IF(J981=\"\",\"\",MAX(I$1:I980)+1)","v":""},null,{"$f":"IF(L981=\"\",\"\",MAX(K$1:K980)+1)","v":""},null,{"$f":"IF(N981=\"\",\"\",MAX(M$1:M980)+1)","v":""}]
[null,null,{"$f":"IF(D982=\"\",\"\",MAX(C$1:C981)+1)","v":""},null,{"$f":"IF(F982=\"\",\"\",MAX(E$1:E981)+1)","v":""},null,{"$f":"IF(H982=\"\",\"\",MAX(G$1:G981)+1)","v":""},null,{"$f":"IF(J982=\"\",\"\",MAX(I$1:I981)+1)","v":""},null,{"$f":"IF(L982=\"\",\"\",MAX(K$1:K981)+1)","v":""},null,{"$f":"IF(N982=\"\",\"\",MAX(M$1:M981)+1)","v":""}]
[null,null,{"$f":"IF(D983=\"\",\"\",MAX(C$1:C982)+1)","v":""},null,{"$f":"IF(F983=\"\",\"\",MAX(E$1:E982)+1)","v":""},null,{"$f":"IF(H983=\"\",\"\",MAX(G$1:G982)+1)","v":""},null,{"$f":"IF(J983=\"\",\"\",MAX(I$1:I982)+1)","v":""},null,{"$f":"IF(L983=\"\",\"\",MAX(K$1:K982)+1)","v":""},null,{"$f":"IF(N983=\"\",\"\",MAX(M$1:M982)+1)","v":""}]
[null,null,{"$f":"IF(D984=\"\",\"\",MAX(C$1:C983)+1)","v":""},null,{"$f":"IF(F984=\"\",\"\",MAX(E$1:E983)+1)","v":""},null,{"$f":"IF(H984=\"\",\"\",MAX(G$1:G983)+1)","v":""},null,{"$f":"IF(J984=\"\",\"\",MAX(I$1:I983)+1)","v":""},null,{"$f":"IF(L984=\"\",\"\",MAX(K$1:K983)+1)","v":""},null,{"$f":"IF(N984=\"\",\"\",MAX(M$1:M983)+1)","v":""}]
[null,null,{"$f":"IF(D985=\"\",\"\",MAX(C$1:C984)+1)","v":""},null,{"$f":"IF(F985=\"\",\"\",MAX(E$1:E984)+1)","v":""},null,{"$f":"IF(H985=\"\",\"\",MAX(G$1:G984)+1)","v":""},null,{"$f":"IF(J985=\"\",\"\",MAX(I$1:I984)+1)","v":""},null,{"$f":"IF(L985=\"\",\"\",MAX(K$1:K984)+1)","v":""},null,{"$f":"IF(N985=\"\",\"\",MAX(M$1:M984)+1)","v":""}]
[null,null,{"$f":"IF(D986=\"\",\"\",MAX(C$1:C985)+1)","v":""},null,{"$f":"IF(F986=\"\",\"\",MAX(E$1:E985)+1)","v":""},null,{"$f":"IF(H986=\"\",\"\",MAX(G$1:G985)+1)","v":""},null,{"$f":"IF(J986=\"\",\"\",MAX(I$1:I985)+1)","v":""},null,{"$f":"IF(L986=\"\",\"\",MAX(K$1:K985)+1)","v":""},null,{"$f":"IF(N986=\"\",\"\",MAX(M$1:M985)+1)","v":""}]
[null,null,{"$f":"IF(D987=\"\",\"\",MAX(C$1:C986)+1)","v":""},null,{"$f":"IF(F987=\"\",\"\",MAX(E$1:E986)+1)","v":""},null,{"$f":"IF(H987=\"\",\"\",MAX(G$1:G986)+1)","v":""},null,{"$f":"IF(J987=\"\",\"\",MAX(I$1:I986)+1)","v":""},null,{"$f":"IF(L987=\"\",\"\",MAX(K$1:K986)+1)","v":""},null,{"$f":"IF(N987=\"\",\"\",MAX(M$1:M986)+1)","v":""}]
[null,null,{"$f":"IF(D988=\"\",\"\",MAX(C$1:C987)+1)","v":""},null,{"$f":"IF(F988=\"\",\"\",MAX(E$1:E987)+1)","v":""},null,{"$f":"IF(H988=\"\",\"\",MAX(G$1:G987)+1)","v":""},null,{"$f":"IF(J988=\"\",\"\",MAX(I$1:I987)+1)","v":""},null,{"$f":"IF(L988=\"\",\"\",MAX(K$1:K987)+1)","v":""},null,{"$f":"IF(N988=\"\",\"\",MAX(M$1:M987)+1)","v":""}]
[null,null,{"$f":"IF(D989=\"\",\"\",MAX(C$1:C988)+1)","v":""},null,{"$f":"IF(F989=\"\",\"\",MAX(E$1:E988)+1)","v":""},null,{"$f":"IF(H989=\"\",\"\",MAX(G$1:G988)+1)","v":""},null,{"$f":"IF(J989=\"\",\"\",MAX(I$1:I988)+1)","v":""},null,{"$f":"IF(L989=\"\",\"\",MAX(K$1:K988)+1)","v":""},null,{"$f":"IF(N989=\"\",\"\",MAX(M$1:M988)+1)","v":""}]
[null,null,{"$f":"IF(D990=\"\",\"\",MAX(C$1:C989)+1)","v":""},null,{"$f":"IF(F990=\"\",\"\",MAX(E$1:E989)+1)","v":""},null,{"$f":"IF(H990=\"\",\"\",MAX(G$1:G989)+1)","v":""},null,{"$f":"IF(J990=\"\",\"\",MAX(I$1:I989)+1)","v":""},null,{"$f":"IF(L990=\"\",\"\",MAX(K$1:K989)+1)","v":""},null,{"$f":"IF(N990=\"\",\"\",MAX(M$1:M989)+1)","v":""}]
[null,null,{"$f":"IF(D991=\"\",\"\",MAX(C$1:C990)+1)","v":""},null,{"$f":"IF(F991=\"\",\"\",MAX(E$1:E990)+1)","v":""},null,{"$f":"IF(H991=\"\",\"\",MAX(G$1:G990)+1)","v":""},null,{"$f":"IF(J991=\"\",\"\",MAX(I$1:I990)+1)","v":""},null,{"$f":"IF(L991=\"\",\"\",MAX(K$1:K990)+1)","v":""},null,{"$f":"IF(N991=\"\",\"\",MAX(M$1:M990)+1)","v":""}]
[null,null,{"$f":"IF(D992=\"\",\"\",MAX(C$1:C991)+1)","v":""},null,{"$f":"IF(F992=\"\",\"\",MAX(E$1:E991)+1)","v":""},null,{"$f":"IF(H992=\"\",\"\",MAX(G$1:G991)+1)","v":""},null,{"$f":"IF(J992=\"\",\"\",MAX(I$1:I991)+1)","v":""},null,{"$f":"IF(L992=\"\",\"\",MAX(K$1:K991)+1)","v":""},null,{"$f":"IF(N992=\"\",\"\",MAX(M$1:M991)+1)","v":""}]
[null,null,{"$f":"IF(D993=\"\",\"\",MAX(C$1:C992)+1)","v":""},null,{"$f":"IF(F993=\"\",\"\",MAX(E$1:E992)+1)","v":""},null,{"$f":"IF(H993=\"\",\"\",MAX(G$1:G992)+1)","v":""},null,{"$f":"IF(J993=\"\",\"\",MAX(I$1:I992)+1)","v":""},null,{"$f":"IF(L993=\"\",\"\",MAX(K$1:K992)+1)","v":""},null,{"$f":"IF(N993=\"\",\"\",MAX(M$1:M992)+1)","v":""}]
[null,null,{"$f":"IF(D994=\"\",\"\",MAX(C$1:C993)+1)","v":""},null,{"$f":"IF(F994=\"\",\"\",MAX(E$1:E993)+1)","v":""},null,{"$f":"IF(H994=\"\",\"\",MAX(G$1:G993)+1)","v":""},null,{"$f":"IF(J994=\"\",\"\",MAX(I$1:I993)+1)","v":""},null,{"$f":"IF(L994=\"\",\"\",MAX(K$1:K993)+1)","v":""},null,{"$f":"IF(N994=\"\",\"\",MAX(M$1:M993)+1)","v":""}]
[null,null,{"$f":"IF(D995=\"\",\"\",MAX(C$1:C994)+1)","v":""},null,{"$f":"IF(F995=\"\",\"\",MAX(E$1:E994)+1)","v":""},null,{"$f":"IF(H995=\"\",\"\",MAX(G$1:G994)+1)","v":""},null,{"$f":"IF(J995=\"\",\"\",MAX(I$1:I994)+1)","v":""},null,{"$f":"IF(L995=\"\",\"\",MAX(K$1:K994)+1)","v":""},null,{"$f":"IF(N995=\"\",\"\",MAX(M$1:M994)+1)","v":""}]
[null,null,{"$f":"IF(D996=\"\",\"\",MAX(C$1:C995)+1)","v":""},null,{"$f":"IF(F996=\"\",\"\",MAX(E$1:E995)+1)","v":""},null,{"$f":"IF(H996=\"\",\"\",MAX(G$1:G995)+1)","v":""},null,{"$f":"IF(J996=\"\",\"\",MAX(I$1:I995)+1)","v":""},null,{"$f":"IF(L996=\"\",\"\",MAX(K$1:K995)+1)","v":""},null,{"$f":"IF(N996=\"\",\"\",MAX(M$1:M995)+1)","v":""}]
[null,null,{"$f":"IF(D997=\"\",\"\",MAX(C$1:C996)+1)","v":""},null,{"$f":"IF(F997=\"\",\"\",MAX(E$1:E996)+1)","v":""},null,{"$f":"IF(H997=\"\",\"\",MAX(G$1:G996)+1)","v":""},null,{"$f":"IF(J997=\"\",\"\",MAX(I$1:I996)+1)","v":""},null,{"$f":"IF(L997=\"\",\"\",MAX(K$1:K996)+1)","v":""},null,{"$f":"IF(N997=\"\",\"\",MAX(M$1:M996)+1)","v":""}]
[null,null,{"$f":"IF(D998=\"\",\"\",MAX(C$1:C997)+1)","v":""},null,{"$f":"IF(F998=\"\",\"\",MAX(E$1:E997)+1)","v":""},null,{"$f":"IF(H998=\"\",\"\",MAX(G$1:G997)+1)","v":""},null,{"$f":"IF(J998=\"\",\"\",MAX(I$1:I997)+1)","v":""},null,{"$f":"IF(L998=\"\",\"\",MAX(K$1:K997)+1)","v":""},null,{"$f":"IF(N998=\"\",\"\",MAX(M$1:M997)+1)","v":""}]
[null,null,{"$f":"IF(D999=\"\",\"\",MAX(C$1:C998)+1)","v":""},null,{"$f":"IF(F999=\"\",\"\",MAX(E$1:E998)+1)","v":""},null,{"$f":"IF(H999=\"\",\"\",MAX(G$1:G998)+1)","v":""},null,{"$f":"IF(J999=\"\",\"\",MAX(I$1:I998)+1)","v":""},null,{"$f":"IF(L999=\"\",\"\",MAX(K$1:K998)+1)","v":""},null,{"$f":"IF(N999=\"\",\"\",MAX(M$1:M998)+1)","v":""}]
[null,null,{"$f":"IF(D1000=\"\",\"\",MAX(C$1:C999)+1)","v":""},null,{"$f":"IF(F1000=\"\",\"\",MAX(E$1:E999)+1)","v":""},null,{"$f":"IF(H1000=\"\",\"\",MAX(G$1:G999)+1)","v":""},null,{"$f":"IF(J1000=\"\",\"\",MAX(I$1:I999)+1)","v":""},null,{"$f":"IF(L1000=\"\",\"\",MAX(K$1:K999)+1)","v":""},null,{"$f":"IF(N1000=\"\",\"\",MAX(M$1:M999)+1)","v":""}]

{"sheet":"Vertragspartner","index":8,"n_rows":1000,"n_cols":2,"rows_kept":1000,"cut":false,"hidden":false,"merged":[]}
[null,{"$f":"MID(CELL(\"Dateiname\",$A$1),FIND(\"]\", CELL(\"Dateiname\",$A$1))+1,31)","v":"Vertragspartner"}]
[]
[{"$f":"IF(B3=\"\",\"\",1)","v":1},"Firma 1"]
[{"$f":"IF(B4=\"\",\"\",MAX($A$1:A3)+1)","v":2},"Firma 2"]
[{"$f":"IF(B5=\"\",\"\",MAX($A$1:A4)+1)","v":3},"Firma 3"]
[{"$f":"IF(B6=\"\",\"\",MAX($A$1:A5)+1)","v":4},"Firma 4"]
[{"$f":"IF(B7=\"\",\"\",MAX($A$1:A6)+1)","v":""}]
[{"$f":"IF(B8=\"\",\"\",MAX($A$1:A7)+1)","v":""}]
[{"$f":"IF(B9=\"\",\"\",MAX($A$1:A8)+1)","v":""}]
[{"$f":"IF(B10=\"\",\"\",MAX($A$1:A9)+1)","v":""}]
[{"$f":"IF(B11=\"\",\"\",MAX($A$1:A10)+1)","v":""}]
[{"$f":"IF(B12=\"\",\"\",MAX($A$1:A11)+1)","v":""}]
[{"$f":"IF(B13=\"\",\"\",MAX($A$1:A12)+1)","v":""}]
[{"$f":"IF(B14=\"\",\"\",MAX($A$1:A13)+1)","v":""}]
[{"$f":"IF(B15=\"\",\"\",MAX($A$1:A14)+1)","v":""}]
[{"$f":"IF(B16=\"\",\"\",MAX($A$1:A15)+1)","v":""}]
[{"$f":"IF(B17=\"\",\"\",MAX($A$1:A16)+1)","v":""}]
[{"$f":"IF(B18=\"\",\"\",MAX($A$1:A17)+1)","v":""}]
[{"$f":"IF(B19=\"\",\"\",MAX($A$1:A18)+1)","v":""}]
[{"$f":"IF(B20=\"\",\"\",MAX($A$1:A19)+1)","v":""}]
[{"$f":"IF(B21=\"\",\"\",MAX($A$1:A20)+1)","v":""}]
[{"$f":"IF(B22=\"\",\"\",MAX($A$1:A21)+1)","v":""}]
[{"$f":"IF(B23=\"\",\"\",MAX($A$1:A22)+1)","v":""}]
[{"$f":"IF(B24=\"\",\"\",MAX($A$1:A23)+1)","v":""}]
[{"$f":"IF(B25=\"\",\"\",MAX($A$1:A24)+1)","v":""}]
[{"$f":"IF(B26=\"\",\"\",MAX($A$1:A25)+1)","v":""}]
[{"$f":"IF(B27=\"\",\"\",MAX($A$1:A26)+1)","v":""}]
[{"$f":"IF(B28=\"\",\"\",MAX($A$1:A27)+1)","v":""}]
[{"$f":"IF(B29=\"\",\"\",MAX($A$1:A28)+1)","v":""}]
[{"$f":"IF(B30=\"\",\"\",MAX($A$1:A29)+1)","v":""}]
[{"$f":"IF(B31=\"\",\"\",MAX($A$1:A30)+1)","v":""}]
[{"$f":"IF(B32=\"\",\"\",MAX($A$1:A31)+1)","v":""}]
[{"$f":"IF(B33=\"\",\"\",MAX($A$1:A32)+1)","v":""}]
[{"$f":"IF(B34=\"\",\"\",MAX($A$1:A33)+1)","v":""}]
[{"$f":"IF(B35=\"\",\"\",MAX($A$1:A34)+1)","v":""}]
[{"$f":"IF(B36=\"\",\"\",MAX($A$1:A35)+1)","v":""}]
[{"$f":"IF(B37=\"\",\"\",MAX($A$1:A36)+1)","v":""}]
[{"$f":"IF(B38=\"\",\"\",MAX($A$1:A37)+1)","v":""}]
[{"$f":"IF(B39=\"\",\"\",MAX($A$1:A38)+1)","v":""}]
[{"$f":"IF(B40=\"\",\"\",MAX($A$1:A39)+1)","v":""}]
[{"$f":"IF(B41=\"\",\"\",MAX($A$1:A40)+1)","v":""}]
[{"$f":"IF(B42=\"\",\"\",MAX($A$1:A41)+1)","v":""}]
[{"$f":"IF(B43=\"\",\"\",MAX($A$1:A42)+1)","v":""}]
[{"$f":"IF(B44=\"\",\"\",MAX($A$1:A43)+1)","v":""}]
[{"$f":"IF(B45=\"\",\"\",MAX($A$1:A44)+1)","v":""}]
[{"$f":"IF(B46=\"\",\"\",MAX($A$1:A45)+1)","v":""}]
[{"$f":"IF(B47=\"\",\"\",MAX($A$1:A46)+1)","v":""}]
[{"$f":"IF(B48=\"\",\"\",MAX($A$1:A47)+1)","v":""}]
[{"$f":"IF(B49=\"\",\"\",MAX($A$1:A48)+1)","v":""}]
[{"$f":"IF(B50=\"\",\"\",MAX($A$1:A49)+1)","v":""}]
[{"$f":"IF(B51=\"\",\"\",MAX($A$1:A50)+1)","v":""}]
[{"$f":"IF(B52=\"\",\"\",MAX($A$1:A51)+1)","v":""}]
[{"$f":"IF(B53=\"\",\"\",MAX($A$1:A52)+1)","v":""}]
[{"$f":"IF(B54=\"\",\"\",MAX($A$1:A53)+1)","v":""}]
[{"$f":"IF(B55=\"\",\"\",MAX($A$1:A54)+1)","v":""}]
[{"$f":"IF(B56=\"\",\"\",MAX($A$1:A55)+1)","v":""}]
[{"$f":"IF(B57=\"\",\"\",MAX($A$1:A56)+1)","v":""}]
[{"$f":"IF(B58=\"\",\"\",MAX($A$1:A57)+1)","v":""}]
[{"$f":"IF(B59=\"\",\"\",MAX($A$1:A58)+1)","v":""}]
[{"$f":"IF(B60=\"\",\"\",MAX($A$1:A59)+1)","v":""}]
[{"$f":"IF(B61=\"\",\"\",MAX($A$1:A60)+1)","v":""}]
[{"$f":"IF(B62=\"\",\"\",MAX($A$1:A61)+1)","v":""}]
[{"$f":"IF(B63=\"\",\"\",MAX($A$1:A62)+1)","v":""}]
[{"$f":"IF(B64=\"\",\"\",MAX($A$1:A63)+1)","v":""}]
[{"$f":"IF(B65=\"\",\"\",MAX($A$1:A64)+1)","v":""}]
[{"$f":"IF(B66=\"\",\"\",MAX($A$1:A65)+1)","v":""}]
[{"$f":"IF(B67=\"\",\"\",MAX($A$1:A66)+1)","v":""}]
[{"$f":"IF(B68=\"\",\"\",MAX($A$1:A67)+1)","v":""}]
[{"$f":"IF(B69=\"\",\"\",MAX($A$1:A68)+1)","v":""}]
[{"$f":"IF(B70=\"\",\"\",MAX($A$1:A69)+1)","v":""}]
[{"$f":"IF(B71=\"\",\"\",MAX($A$1:A70)+1)","v":""}]
[{"$f":"IF(B72=\"\",\"\",MAX($A$1:A71)+1)","v":""}]
[{"$f":"IF(B73=\"\",\"\",MAX($A$1:A72)+1)","v":""}]
[{"$f":"IF(B74=\"\",\"\",MAX($A$1:A73)+1)","v":""}]
[{"$f":"IF(B75=\"\",\"\",MAX($A$1:A74)+1)","v":""}]
[{"$f":"IF(B76=\"\",\"\",MAX($A$1:A75)+1)","v":""}]
[{"$f":"IF(B77=\"\",\"\",MAX($A$1:A76)+1)","v":""}]
[{"$f":"IF(B78=\"\",\"\",MAX($A$1:A77)+1)","v":""}]
[{"$f":"IF(B79=\"\",\"\",MAX($A$1:A78)+1)","v":""}]
[{"$f":"IF(B80=\"\",\"\",MAX($A$1:A79)+1)","v":""}]
[{"$f":"IF(B81=\"\",\"\",MAX($A$1:A80)+1)","v":""}]
[{"$f":"IF(B82=\"\",\"\",MAX($A$1:A81)+1)","v":""}]
[{"$f":"IF(B83=\"\",\"\",MAX($A$1:A82)+1)","v":""}]
[{"$f":"IF(B84=\"\",\"\",MAX($A$1:A83)+1)","v":""}]
[{"$f":"IF(B85=\"\",\"\",MAX($A$1:A84)+1)","v":""}]
[{"$f":"IF(B86=\"\",\"\",MAX($A$1:A85)+1)","v":""}]
[{"$f":"IF(B87=\"\",\"\",MAX($A$1:A86)+1)","v":""}]
[{"$f":"IF(B88=\"\",\"\",MAX($A$1:A87)+1)","v":""}]
[{"$f":"IF(B89=\"\",\"\",MAX($A$1:A88)+1)","v":""}]
[{"$f":"IF(B90=\"\",\"\",MAX($A$1:A89)+1)","v":""}]
[{"$f":"IF(B91=\"\",\"\",MAX($A$1:A90)+1)","v":""}]
[{"$f":"IF(B92=\"\",\"\",MAX($A$1:A91)+1)","v":""}]
[{"$f":"IF(B93=\"\",\"\",MAX($A$1:A92)+1)","v":""}]
[{"$f":"IF(B94=\"\",\"\",MAX($A$1:A93)+1)","v":""}]
[{"$f":"IF(B95=\"\",\"\",MAX($A$1:A94)+1)","v":""}]
[{"$f":"IF(B96=\"\",\"\",MAX($A$1:A95)+1)","v":""}]
[{"$f":"IF(B97=\"\",\"\",MAX($A$1:A96)+1)","v":""}]
[{"$f":"IF(B98=\"\",\"\",MAX($A$1:A97)+1)","v":""}]
[{"$f":"IF(B99=\"\",\"\",MAX($A$1:A98)+1)","v":""}]
[{"$f":"IF(B100=\"\",\"\",MAX($A$1:A99)+1)","v":""}]
[{"$f":"IF(B101=\"\",\"\",MAX($A$1:A100)+1)","v":""}]
[{"$f":"IF(B102=\"\",\"\",MAX($A$1:A101)+1)","v":""}]
[{"$f":"IF(B103=\"\",\"\",MAX($A$1:A102)+1)","v":""}]
[{"$f":"IF(B104=\"\",\"\",MAX($A$1:A103)+1)","v":""}]
[{"$f":"IF(B105=\"\",\"\",MAX($A$1:A104)+1)","v":""}]
[{"$f":"IF(B106=\"\",\"\",MAX($A$1:A105)+1)","v":""}]
[{"$f":"IF(B107=\"\",\"\",MAX($A$1:A106)+1)","v":""}]
[{"$f":"IF(B108=\"\",\"\",MAX($A$1:A107)+1)","v":""}]
[{"$f":"IF(B109=\"\",\"\",MAX($A$1:A108)+1)","v":""}]
[{"$f":"IF(B110=\"\",\"\",MAX($A$1:A109)+1)","v":""}]
[{"$f":"IF(B111=\"\",\"\",MAX($A$1:A110)+1)","v":""}]
[{"$f":"IF(B112=\"\",\"\",MAX($A$1:A111)+1)","v":""}]
[{"$f":"IF(B113=\"\",\"\",MAX($A$1:A112)+1)","v":""}]
[{"$f":"IF(B114=\"\",\"\",MAX($A$1:A113)+1)","v":""}]
[{"$f":"IF(B115=\"\",\"\",MAX($A$1:A114)+1)","v":""}]
[{"$f":"IF(B116=\"\",\"\",MAX($A$1:A115)+1)","v":""}]
[{"$f":"IF(B117=\"\",\"\",MAX($A$1:A116)+1)","v":""}]
[{"$f":"IF(B118=\"\",\"\",MAX($A$1:A117)+1)","v":""}]
[{"$f":"IF(B119=\"\",\"\",MAX($A$1:A118)+1)","v":""}]
[{"$f":"IF(B120=\"\",\"\",MAX($A$1:A119)+1)","v":""}]
[{"$f":"IF(B121=\"\",\"\",MAX($A$1:A120)+1)","v":""}]
[{"$f":"IF(B122=\"\",\"\",MAX($A$1:A121)+1)","v":""}]
[{"$f":"IF(B123=\"\",\"\",MAX($A$1:A122)+1)","v":""}]
[{"$f":"IF(B124=\"\",\"\",MAX($A$1:A123)+1)","v":""}]
[{"$f":"IF(B125=\"\",\"\",MAX($A$1:A124)+1)","v":""}]
[{"$f":"IF(B126=\"\",\"\",MAX($A$1:A125)+1)","v":""}]
[{"$f":"IF(B127=\"\",\"\",MAX($A$1:A126)+1)","v":""}]
[{"$f":"IF(B128=\"\",\"\",MAX($A$1:A127)+1)","v":""}]
[{"$f":"IF(B129=\"\",\"\",MAX($A$1:A128)+1)","v":""}]
[{"$f":"IF(B130=\"\",\"\",MAX($A$1:A129)+1)","v":""}]
[{"$f":"IF(B131=\"\",\"\",MAX($A$1:A130)+1)","v":""}]
[{"$f":"IF(B132=\"\",\"\",MAX($A$1:A131)+1)","v":""}]
[{"$f":"IF(B133=\"\",\"\",MAX($A$1:A132)+1)","v":""}]
[{"$f":"IF(B134=\"\",\"\",MAX($A$1:A133)+1)","v":""}]
[{"$f":"IF(B135=\"\",\"\",MAX($A$1:A134)+1)","v":""}]
[{"$f":"IF(B136=\"\",\"\",MAX($A$1:A135)+1)","v":""}]
[{"$f":"IF(B137=\"\",\"\",MAX($A$1:A136)+1)","v":""}]
[{"$f":"IF(B138=\"\",\"\",MAX($A$1:A137)+1)","v":""}]
[{"$f":"IF(B139=\"\",\"\",MAX($A$1:A138)+1)","v":""}]
[{"$f":"IF(B140=\"\",\"\",MAX($A$1:A139)+1)","v":""}]
[{"$f":"IF(B141=\"\",\"\",MAX($A$1:A140)+1)","v":""}]
[{"$f":"IF(B142=\"\",\"\",MAX($A$1:A141)+1)","v":""}]
[{"$f":"IF(B143=\"\",\"\",MAX($A$1:A142)+1)","v":""}]
[{"$f":"IF(B144=\"\",\"\",MAX($A$1:A143)+1)","v":""}]
[{"$f":"IF(B145=\"\",\"\",MAX($A$1:A144)+1)","v":""}]
[{"$f":"IF(B146=\"\",\"\",MAX($A$1:A145)+1)","v":""}]
[{"$f":"IF(B147=\"\",\"\",MAX($A$1:A146)+1)","v":""}]
[{"$f":"IF(B148=\"\",\"\",MAX($A$1:A147)+1)","v":""}]
[{"$f":"IF(B149=\"\",\"\",MAX($A$1:A148)+1)","v":""}]
[{"$f":"IF(B150=\"\",\"\",MAX($A$1:A149)+1)","v":""}]
[{"$f":"IF(B151=\"\",\"\",MAX($A$1:A150)+1)","v":""}]
[{"$f":"IF(B152=\"\",\"\",MAX($A$1:A151)+1)","v":""}]
[{"$f":"IF(B153=\"\",\"\",MAX($A$1:A152)+1)","v":""}]
[{"$f":"IF(B154=\"\",\"\",MAX($A$1:A153)+1)","v":""}]
[{"$f":"IF(B155=\"\",\"\",MAX($A$1:A154)+1)","v":""}]
[{"$f":"IF(B156=\"\",\"\",MAX($A$1:A155)+1)","v":""}]
[{"$f":"IF(B157=\"\",\"\",MAX($A$1:A156)+1)","v":""}]
[{"$f":"IF(B158=\"\",\"\",MAX($A$1:A157)+1)","v":""}]
[{"$f":"IF(B159=\"\",\"\",MAX($A$1:A158)+1)","v":""}]
[{"$f":"IF(B160=\"\",\"\",MAX($A$1:A159)+1)","v":""}]
[{"$f":"IF(B161=\"\",\"\",MAX($A$1:A160)+1)","v":""}]
[{"$f":"IF(B162=\"\",\"\",MAX($A$1:A161)+1)","v":""}]
[{"$f":"IF(B163=\"\",\"\",MAX($A$1:A162)+1)","v":""}]
[{"$f":"IF(B164=\"\",\"\",MAX($A$1:A163)+1)","v":""}]
[{"$f":"IF(B165=\"\",\"\",MAX($A$1:A164)+1)","v":""}]
[{"$f":"IF(B166=\"\",\"\",MAX($A$1:A165)+1)","v":""}]
[{"$f":"IF(B167=\"\",\"\",MAX($A$1:A166)+1)","v":""}]
[{"$f":"IF(B168=\"\",\"\",MAX($A$1:A167)+1)","v":""}]
[{"$f":"IF(B169=\"\",\"\",MAX($A$1:A168)+1)","v":""}]
[{"$f":"IF(B170=\"\",\"\",MAX($A$1:A169)+1)","v":""}]
[{"$f":"IF(B171=\"\",\"\",MAX($A$1:A170)+1)","v":""}]
[{"$f":"IF(B172=\"\",\"\",MAX($A$1:A171)+1)","v":""}]
[{"$f":"IF(B173=\"\",\"\",MAX($A$1:A172)+1)","v":""}]
[{"$f":"IF(B174=\"\",\"\",MAX($A$1:A173)+1)","v":""}]
[{"$f":"IF(B175=\"\",\"\",MAX($A$1:A174)+1)","v":""}]
[{"$f":"IF(B176=\"\",\"\",MAX($A$1:A175)+1)","v":""}]
[{"$f":"IF(B177=\"\",\"\",MAX($A$1:A176)+1)","v":""}]
[{"$f":"IF(B178=\"\",\"\",MAX($A$1:A177)+1)","v":""}]
[{"$f":"IF(B179=\"\",\"\",MAX($A$1:A178)+1)","v":""}]
[{"$f":"IF(B180=\"\",\"\",MAX($A$1:A179)+1)","v":""}]
[{"$f":"IF(B181=\"\",\"\",MAX($A$1:A180)+1)","v":""}]
[{"$f":"IF(B182=\"\",\"\",MAX($A$1:A181)+1)","v":""}]
[{"$f":"IF(B183=\"\",\"\",MAX($A$1:A182)+1)","v":""}]
[{"$f":"IF(B184=\"\",\"\",MAX($A$1:A183)+1)","v":""}]
[{"$f":"IF(B185=\"\",\"\",MAX($A$1:A184)+1)","v":""}]
[{"$f":"IF(B186=\"\",\"\",MAX($A$1:A185)+1)","v":""}]
[{"$f":"IF(B187=\"\",\"\",MAX($A$1:A186)+1)","v":""}]
[{"$f":"IF(B188=\"\",\"\",MAX($A$1:A187)+1)","v":""}]
[{"$f":"IF(B189=\"\",\"\",MAX($A$1:A188)+1)","v":""}]
[{"$f":"IF(B190=\"\",\"\",MAX($A$1:A189)+1)","v":""}]
[{"$f":"IF(B191=\"\",\"\",MAX($A$1:A190)+1)","v":""}]
[{"$f":"IF(B192=\"\",\"\",MAX($A$1:A191)+1)","v":""}]
[{"$f":"IF(B193=\"\",\"\",MAX($A$1:A192)+1)","v":""}]
[{"$f":"IF(B194=\"\",\"\",MAX($A$1:A193)+1)","v":""}]
[{"$f":"IF(B195=\"\",\"\",MAX($A$1:A194)+1)","v":""}]
[{"$f":"IF(B196=\"\",\"\",MAX($A$1:A195)+1)","v":""}]
[{"$f":"IF(B197=\"\",\"\",MAX($A$1:A196)+1)","v":""}]
[{"$f":"IF(B198=\"\",\"\",MAX($A$1:A197)+1)","v":""}]
[{"$f":"IF(B199=\"\",\"\",MAX($A$1:A198)+1)","v":""}]
[{"$f":"IF(B200=\"\",\"\",MAX($A$1:A199)+1)","v":""}]
[{"$f":"IF(B201=\"\",\"\",MAX($A$1:A200)+1)","v":""}]
[{"$f":"IF(B202=\"\",\"\",MAX($A$1:A201)+1)","v":""}]
[{"$f":"IF(B203=\"\",\"\",MAX($A$1:A202)+1)","v":""}]
[{"$f":"IF(B204=\"\",\"\",MAX($A$1:A203)+1)","v":""}]
[{"$f":"IF(B205=\"\",\"\",MAX($A$1:A204)+1)","v":""}]
[{"$f":"IF(B206=\"\",\"\",MAX($A$1:A205)+1)","v":""}]
[{"$f":"IF(B207=\"\",\"\",MAX($A$1:A206)+1)","v":""}]
[{"$f":"IF(B208=\"\",\"\",MAX($A$1:A207)+1)","v":""}]
[{"$f":"IF(B209=\"\",\"\",MAX($A$1:A208)+1)","v":""}]
[{"$f":"IF(B210=\"\",\"\",MAX($A$1:A209)+1)","v":""}]
[{"$f":"IF(B211=\"\",\"\",MAX($A$1:A210)+1)","v":""}]
[{"$f":"IF(B212=\"\",\"\",MAX($A$1:A211)+1)","v":""}]
[{"$f":"IF(B213=\"\",\"\",MAX($A$1:A212)+1)","v":""}]
[{"$f":"IF(B214=\"\",\"\",MAX($A$1:A213)+1)","v":""}]
[{"$f":"IF(B215=\"\",\"\",MAX($A$1:A214)+1)","v":""}]
[{"$f":"IF(B216=\"\",\"\",MAX($A$1:A215)+1)","v":""}]
[{"$f":"IF(B217=\"\",\"\",MAX($A$1:A216)+1)","v":""}]
[{"$f":"IF(B218=\"\",\"\",MAX($A$1:A217)+1)","v":""}]
[{"$f":"IF(B219=\"\",\"\",MAX($A$1:A218)+1)","v":""}]
[{"$f":"IF(B220=\"\",\"\",MAX($A$1:A219)+1)","v":""}]
[{"$f":"IF(B221=\"\",\"\",MAX($A$1:A220)+1)","v":""}]
[{"$f":"IF(B222=\"\",\"\",MAX($A$1:A221)+1)","v":""}]
[{"$f":"IF(B223=\"\",\"\",MAX($A$1:A222)+1)","v":""}]
[{"$f":"IF(B224=\"\",\"\",MAX($A$1:A223)+1)","v":""}]
[{"$f":"IF(B225=\"\",\"\",MAX($A$1:A224)+1)","v":""}]
[{"$f":"IF(B226=\"\",\"\",MAX($A$1:A225)+1)","v":""}]
[{"$f":"IF(B227=\"\",\"\",MAX($A$1:A226)+1)","v":""}]
[{"$f":"IF(B228=\"\",\"\",MAX($A$1:A227)+1)","v":""}]
[{"$f":"IF(B229=\"\",\"\",MAX($A$1:A228)+1)","v":""}]
[{"$f":"IF(B230=\"\",\"\",MAX($A$1:A229)+1)","v":""}]
[{"$f":"IF(B231=\"\",\"\",MAX($A$1:A230)+1)","v":""}]
[{"$f":"IF(B232=\"\",\"\",MAX($A$1:A231)+1)","v":""}]
[{"$f":"IF(B233=\"\",\"\",MAX($A$1:A232)+1)","v":""}]
[{"$f":"IF(B234=\"\",\"\",MAX($A$1:A233)+1)","v":""}]
[{"$f":"IF(B235=\"\",\"\",MAX($A$1:A234)+1)","v":""}]
[{"$f":"IF(B236=\"\",\"\",MAX($A$1:A235)+1)","v":""}]
[{"$f":"IF(B237=\"\",\"\",MAX($A$1:A236)+1)","v":""}]
[{"$f":"IF(B238=\"\",\"\",MAX($A$1:A237)+1)","v":""}]
[{"$f":"IF(B239=\"\",\"\",MAX($A$1:A238)+1)","v":""}]
[{"$f":"IF(B240=\"\",\"\",MAX($A$1:A239)+1)","v":""}]
[{"$f":"IF(B241=\"\",\"\",MAX($A$1:A240)+1)","v":""}]
[{"$f":"IF(B242=\"\",\"\",MAX($A$1:A241)+1)","v":""}]
[{"$f":"IF(B243=\"\",\"\",MAX($A$1:A242)+1)","v":""}]
[{"$f":"IF(B244=\"\",\"\",MAX($A$1:A243)+1)","v":""}]
[{"$f":"IF(B245=\"\",\"\",MAX($A$1:A244)+1)","v":""}]
[{"$f":"IF(B246=\"\",\"\",MAX($A$1:A245)+1)","v":""}]
[{"$f":"IF(B247=\"\",\"\",MAX($A$1:A246)+1)","v":""}]
[{"$f":"IF(B248=\"\",\"\",MAX($A$1:A247)+1)","v":""}]
[{"$f":"IF(B249=\"\",\"\",MAX($A$1:A248)+1)","v":""}]
[{"$f":"IF(B250=\"\",\"\",MAX($A$1:A249)+1)","v":""}]
[{"$f":"IF(B251=\"\",\"\",MAX($A$1:A250)+1)","v":""}]
[{"$f":"IF(B252=\"\",\"\",MAX($A$1:A251)+1)","v":""}]
[{"$f":"IF(B253=\"\",\"\",MAX($A$1:A252)+1)","v":""}]
[{"$f":"IF(B254=\"\",\"\",MAX($A$1:A253)+1)","v":""}]
[{"$f":"IF(B255=\"\",\"\",MAX($A$1:A254)+1)","v":""}]
[{"$f":"IF(B256=\"\",\"\",MAX($A$1:A255)+1)","v":""}]
[{"$f":"IF(B257=\"\",\"\",MAX($A$1:A256)+1)","v":""}]
[{"$f":"IF(B258=\"\",\"\",MAX($A$1:A257)+1)","v":""}]
[{"$f":"IF(B259=\"\",\"\",MAX($A$1:A258)+1)","v":""}]
[{"$f":"IF(B260=\"\",\"\",MAX($A$1:A259)+1)","v":""}]
[{"$f":"IF(B261=\"\",\"\",MAX($A$1:A260)+1)","v":""}]
[{"$f":"IF(B262=\"\",\"\",MAX($A$1:A261)+1)","v":""}]
[{"$f":"IF(B263=\"\",\"\",MAX($A$1:A262)+1)","v":""}]
[{"$f":"IF(B264=\"\",\"\",MAX($A$1:A263)+1)","v":""}]
[{"$f":"IF(B265=\"\",\"\",MAX($A$1:A264)+1)","v":""}]
[{"$f":"IF(B266=\"\",\"\",MAX($A$1:A265)+1)","v":""}]
[{"$f":"IF(B267=\"\",\"\",MAX($A$1:A266)+1)","v":""}]
[{"$f":"IF(B268=\"\",\"\",MAX($A$1:A267)+1)","v":""}]
[{"$f":"IF(B269=\"\",\"\",MAX($A$1:A268)+1)","v":""}]
[{"$f":"IF(B270=\"\",\"\",MAX($A$1:A269)+1)","v":""}]
[{"$f":"IF(B271=\"\",\"\",MAX($A$1:A270)+1)","v":""}]
[{"$f":"IF(B272=\"\",\"\",MAX($A$1:A271)+1)","v":""}]
[{"$f":"IF(B273=\"\",\"\",MAX($A$1:A272)+1)","v":""}]
[{"$f":"IF(B274=\"\",\"\",MAX($A$1:A273)+1)","v":""}]
[{"$f":"IF(B275=\"\",\"\",MAX($A$1:A274)+1)","v":""}]
[{"$f":"IF(B276=\"\",\"\",MAX($A$1:A275)+1)","v":""}]
[{"$f":"IF(B277=\"\",\"\",MAX($A$1:A276)+1)","v":""}]
[{"$f":"IF(B278=\"\",\"\",MAX($A$1:A277)+1)","v":""}]
[{"$f":"IF(B279=\"\",\"\",MAX($A$1:A278)+1)","v":""}]
[{"$f":"IF(B280=\"\",\"\",MAX($A$1:A279)+1)","v":""}]
[{"$f":"IF(B281=\"\",\"\",MAX($A$1:A280)+1)","v":""}]
[{"$f":"IF(B282=\"\",\"\",MAX($A$1:A281)+1)","v":""}]
[{"$f":"IF(B283=\"\",\"\",MAX($A$1:A282)+1)","v":""}]
[{"$f":"IF(B284=\"\",\"\",MAX($A$1:A283)+1)","v":""}]
[{"$f":"IF(B285=\"\",\"\",MAX($A$1:A284)+1)","v":""}]
[{"$f":"IF(B286=\"\",\"\",MAX($A$1:A285)+1)","v":""}]
[{"$f":"IF(B287=\"\",\"\",MAX($A$1:A286)+1)","v":""}]
[{"$f":"IF(B288=\"\",\"\",MAX($A$1:A287)+1)","v":""}]
[{"$f":"IF(B289=\"\",\"\",MAX($A$1:A288)+1)","v":""}]
[{"$f":"IF(B290=\"\",\"\",MAX($A$1:A289)+1)","v":""}]
[{"$f":"IF(B291=\"\",\"\",MAX($A$1:A290)+1)","v":""}]
[{"$f":"IF(B292=\"\",\"\",MAX($A$1:A291)+1)","v":""}]
[{"$f":"IF(B293=\"\",\"\",MAX($A$1:A292)+1)","v":""}]
[{"$f":"IF(B294=\"\",\"\",MAX($A$1:A293)+1)","v":""}]
[{"$f":"IF(B295=\"\",\"\",MAX($A$1:A294)+1)","v":""}]
[{"$f":"IF(B296=\"\",\"\",MAX($A$1:A295)+1)","v":""}]
[{"$f":"IF(B297=\"\",\"\",MAX($A$1:A296)+1)","v":""}]
[{"$f":"IF(B298=\"\",\"\",MAX($A$1:A297)+1)","v":""}]
[{"$f":"IF(B299=\"\",\"\",MAX($A$1:A298)+1)","v":""}]
[{"$f":"IF(B300=\"\",\"\",MAX($A$1:A299)+1)","v":""}]
[{"$f":"IF(B301=\"\",\"\",MAX($A$1:A300)+1)","v":""}]
[{"$f":"IF(B302=\"\",\"\",MAX($A$1:A301)+1)","v":""}]
[{"$f":"IF(B303=\"\",\"\",MAX($A$1:A302)+1)","v":""}]
[{"$f":"IF(B304=\"\",\"\",MAX($A$1:A303)+1)","v":""}]
[{"$f":"IF(B305=\"\",\"\",MAX($A$1:A304)+1)","v":""}]
[{"$f":"IF(B306=\"\",\"\",MAX($A$1:A305)+1)","v":""}]
[{"$f":"IF(B307=\"\",\"\",MAX($A$1:A306)+1)","v":""}]
[{"$f":"IF(B308=\"\",\"\",MAX($A$1:A307)+1)","v":""}]
[{"$f":"IF(B309=\"\",\"\",MAX($A$1:A308)+1)","v":""}]
[{"$f":"IF(B310=\"\",\"\",MAX($A$1:A309)+1)","v":""}]
[{"$f":"IF(B311=\"\",\"\",MAX($A$1:A310)+1)","v":""}]
[{"$f":"IF(B312=\"\",\"\",MAX($A$1:A311)+1)","v":""}]
[{"$f":"IF(B313=\"\",\"\",MAX($A$1:A312)+1)","v":""}]
[{"$f":"IF(B314=\"\",\"\",MAX($A$1:A313)+1)","v":""}]
[{"$f":"IF(B315=\"\",\"\",MAX($A$1:A314)+1)","v":""}]
[{"$f":"IF(B316=\"\",\"\",MAX($A$1:A315)+1)","v":""}]
[{"$f":"IF(B317=\"\",\"\",MAX($A$1:A316)+1)","v":""}]
[{"$f":"IF(B318=\"\",\"\",MAX($A$1:A317)+1)","v":""}]
[{"$f":"IF(B319=\"\",\"\",MAX($A$1:A318)+1)","v":""}]
[{"$f":"IF(B320=\"\",\"\",MAX($A$1:A319)+1)","v":""}]
[{"$f":"IF(B321=\"\",\"\",MAX($A$1:A320)+1)","v":""}]
[{"$f":"IF(B322=\"\",\"\",MAX($A$1:A321)+1)","v":""}]
[{"$f":"IF(B323=\"\",\"\",MAX($A$1:A322)+1)","v":""}]
[{"$f":"IF(B324=\"\",\"\",MAX($A$1:A323)+1)","v":""}]
[{"$f":"IF(B325=\"\",\"\",MAX($A$1:A324)+1)","v":""}]
[{"$f":"IF(B326=\"\",\"\",MAX($A$1:A325)+1)","v":""}]
[{"$f":"IF(B327=\"\",\"\",MAX($A$1:A326)+1)","v":""}]
[{"$f":"IF(B328=\"\",\"\",MAX($A$1:A327)+1)","v":""}]
[{"$f":"IF(B329=\"\",\"\",MAX($A$1:A328)+1)","v":""}]
[{"$f":"IF(B330=\"\",\"\",MAX($A$1:A329)+1)","v":""}]
[{"$f":"IF(B331=\"\",\"\",MAX($A$1:A330)+1)","v":""}]
[{"$f":"IF(B332=\"\",\"\",MAX($A$1:A331)+1)","v":""}]
[{"$f":"IF(B333=\"\",\"\",MAX($A$1:A332)+1)","v":""}]
[{"$f":"IF(B334=\"\",\"\",MAX($A$1:A333)+1)","v":""}]
[{"$f":"IF(B335=\"\",\"\",MAX($A$1:A334)+1)","v":""}]
[{"$f":"IF(B336=\"\",\"\",MAX($A$1:A335)+1)","v":""}]
[{"$f":"IF(B337=\"\",\"\",MAX($A$1:A336)+1)","v":""}]
[{"$f":"IF(B338=\"\",\"\",MAX($A$1:A337)+1)","v":""}]
[{"$f":"IF(B339=\"\",\"\",MAX($A$1:A338)+1)","v":""}]
[{"$f":"IF(B340=\"\",\"\",MAX($A$1:A339)+1)","v":""}]
[{"$f":"IF(B341=\"\",\"\",MAX($A$1:A340)+1)","v":""}]
[{"$f":"IF(B342=\"\",\"\",MAX($A$1:A341)+1)","v":""}]
[{"$f":"IF(B343=\"\",\"\",MAX($A$1:A342)+1)","v":""}]
[{"$f":"IF(B344=\"\",\"\",MAX($A$1:A343)+1)","v":""}]
[{"$f":"IF(B345=\"\",\"\",MAX($A$1:A344)+1)","v":""}]
[{"$f":"IF(B346=\"\",\"\",MAX($A$1:A345)+1)","v":""}]
[{"$f":"IF(B347=\"\",\"\",MAX($A$1:A346)+1)","v":""}]
[{"$f":"IF(B348=\"\",\"\",MAX($A$1:A347)+1)","v":""}]
[{"$f":"IF(B349=\"\",\"\",MAX($A$1:A348)+1)","v":""}]
[{"$f":"IF(B350=\"\",\"\",MAX($A$1:A349)+1)","v":""}]
[{"$f":"IF(B351=\"\",\"\",MAX($A$1:A350)+1)","v":""}]
[{"$f":"IF(B352=\"\",\"\",MAX($A$1:A351)+1)","v":""}]
[{"$f":"IF(B353=\"\",\"\",MAX($A$1:A352)+1)","v":""}]
[{"$f":"IF(B354=\"\",\"\",MAX($A$1:A353)+1)","v":""}]
[{"$f":"IF(B355=\"\",\"\",MAX($A$1:A354)+1)","v":""}]
[{"$f":"IF(B356=\"\",\"\",MAX($A$1:A355)+1)","v":""}]
[{"$f":"IF(B357=\"\",\"\",MAX($A$1:A356)+1)","v":""}]
[{"$f":"IF(B358=\"\",\"\",MAX($A$1:A357)+1)","v":""}]
[{"$f":"IF(B359=\"\",\"\",MAX($A$1:A358)+1)","v":""}]
[{"$f":"IF(B360=\"\",\"\",MAX($A$1:A359)+1)","v":""}]
[{"$f":"IF(B361=\"\",\"\",MAX($A$1:A360)+1)","v":""}]
[{"$f":"IF(B362=\"\",\"\",MAX($A$1:A361)+1)","v":""}]
[{"$f":"IF(B363=\"\",\"\",MAX($A$1:A362)+1)","v":""}]
[{"$f":"IF(B364=\"\",\"\",MAX($A$1:A363)+1)","v":""}]
[{"$f":"IF(B365=\"\",\"\",MAX($A$1:A364)+1)","v":""}]
[{"$f":"IF(B366=\"\",\"\",MAX($A$1:A365)+1)","v":""}]
[{"$f":"IF(B367=\"\",\"\",MAX($A$1:A366)+1)","v":""}]
[{"$f":"IF(B368=\"\",\"\",MAX($A$1:A367)+1)","v":""}]
[{"$f":"IF(B369=\"\",\"\",MAX($A$1:A368)+1)","v":""}]
[{"$f":"IF(B370=\"\",\"\",MAX($A$1:A369)+1)","v":""}]
[{"$f":"IF(B371=\"\",\"\",MAX($A$1:A370)+1)","v":""}]
[{"$f":"IF(B372=\"\",\"\",MAX($A$1:A371)+1)","v":""}]
[{"$f":"IF(B373=\"\",\"\",MAX($A$1:A372)+1)","v":""}]
[{"$f":"IF(B374=\"\",\"\",MAX($A$1:A373)+1)","v":""}]
[{"$f":"IF(B375=\"\",\"\",MAX($A$1:A374)+1)","v":""}]
[{"$f":"IF(B376=\"\",\"\",MAX($A$1:A375)+1)","v":""}]
[{"$f":"IF(B377=\"\",\"\",MAX($A$1:A376)+1)","v":""}]
[{"$f":"IF(B378=\"\",\"\",MAX($A$1:A377)+1)","v":""}]
[{"$f":"IF(B379=\"\",\"\",MAX($A$1:A378)+1)","v":""}]
[{"$f":"IF(B380=\"\",\"\",MAX($A$1:A379)+1)","v":""}]
[{"$f":"IF(B381=\"\",\"\",MAX($A$1:A380)+1)","v":""}]
[{"$f":"IF(B382=\"\",\"\",MAX($A$1:A381)+1)","v":""}]
[{"$f":"IF(B383=\"\",\"\",MAX($A$1:A382)+1)","v":""}]
[{"$f":"IF(B384=\"\",\"\",MAX($A$1:A383)+1)","v":""}]
[{"$f":"IF(B385=\"\",\"\",MAX($A$1:A384)+1)","v":""}]
[{"$f":"IF(B386=\"\",\"\",MAX($A$1:A385)+1)","v":""}]
[{"$f":"IF(B387=\"\",\"\",MAX($A$1:A386)+1)","v":""}]
[{"$f":"IF(B388=\"\",\"\",MAX($A$1:A387)+1)","v":""}]
[{"$f":"IF(B389=\"\",\"\",MAX($A$1:A388)+1)","v":""}]
[{"$f":"IF(B390=\"\",\"\",MAX($A$1:A389)+1)","v":""}]
[{"$f":"IF(B391=\"\",\"\",MAX($A$1:A390)+1)","v":""}]
[{"$f":"IF(B392=\"\",\"\",MAX($A$1:A391)+1)","v":""}]
[{"$f":"IF(B393=\"\",\"\",MAX($A$1:A392)+1)","v":""}]
[{"$f":"IF(B394=\"\",\"\",MAX($A$1:A393)+1)","v":""}]
[{"$f":"IF(B395=\"\",\"\",MAX($A$1:A394)+1)","v":""}]
[{"$f":"IF(B396=\"\",\"\",MAX($A$1:A395)+1)","v":""}]
[{"$f":"IF(B397=\"\",\"\",MAX($A$1:A396)+1)","v":""}]
[{"$f":"IF(B398=\"\",\"\",MAX($A$1:A397)+1)","v":""}]
[{"$f":"IF(B399=\"\",\"\",MAX($A$1:A398)+1)","v":""}]
[{"$f":"IF(B400=\"\",\"\",MAX($A$1:A399)+1)","v":""}]
[{"$f":"IF(B401=\"\",\"\",MAX($A$1:A400)+1)","v":""}]
[{"$f":"IF(B402=\"\",\"\",MAX($A$1:A401)+1)","v":""}]
[{"$f":"IF(B403=\"\",\"\",MAX($A$1:A402)+1)","v":""}]
[{"$f":"IF(B404=\"\",\"\",MAX($A$1:A403)+1)","v":""}]
[{"$f":"IF(B405=\"\",\"\",MAX($A$1:A404)+1)","v":""}]
[{"$f":"IF(B406=\"\",\"\",MAX($A$1:A405)+1)","v":""}]
[{"$f":"IF(B407=\"\",\"\",MAX($A$1:A406)+1)","v":""}]
[{"$f":"IF(B408=\"\",\"\",MAX($A$1:A407)+1)","v":""}]
[{"$f":"IF(B409=\"\",\"\",MAX($A$1:A408)+1)","v":""}]
[{"$f":"IF(B410=\"\",\"\",MAX($A$1:A409)+1)","v":""}]
[{"$f":"IF(B411=\"\",\"\",MAX($A$1:A410)+1)","v":""}]
[{"$f":"IF(B412=\"\",\"\",MAX($A$1:A411)+1)","v":""}]
[{"$f":"IF(B413=\"\",\"\",MAX($A$1:A412)+1)","v":""}]
[{"$f":"IF(B414=\"\",\"\",MAX($A$1:A413)+1)","v":""}]
[{"$f":"IF(B415=\"\",\"\",MAX($A$1:A414)+1)","v":""}]
[{"$f":"IF(B416=\"\",\"\",MAX($A$1:A415)+1)","v":""}]
[{"$f":"IF(B417=\"\",\"\",MAX($A$1:A416)+1)","v":""}]
[{"$f":"IF(B418=\"\",\"\",MAX($A$1:A417)+1)","v":""}]
[{"$f":"IF(B419=\"\",\"\",MAX($A$1:A418)+1)","v":""}]
[{"$f":"IF(B420=\"\",\"\",MAX($A$1:A419)+1)","v":""}]
[{"$f":"IF(B421=\"\",\"\",MAX($A$1:A420)+1)","v":""}]
[{"$f":"IF(B422=\"\",\"\",MAX($A$1:A421)+1)","v":""}]
[{"$f":"IF(B423=\"\",\"\",MAX($A$1:A422)+1)","v":""}]
[{"$f":"IF(B424=\"\",\"\",MAX($A$1:A423)+1)","v":""}]
[{"$f":"IF(B425=\"\",\"\",MAX($A$1:A424)+1)","v":""}]
[{"$f":"IF(B426=\"\",\"\",MAX($A$1:A425)+1)","v":""}]
[{"$f":"IF(B427=\"\",\"\",MAX($A$1:A426)+1)","v":""}]
[{"$f":"IF(B428=\"\",\"\",MAX($A$1:A427)+1)","v":""}]
[{"$f":"IF(B429=\"\",\"\",MAX($A$1:A428)+1)","v":""}]
[{"$f":"IF(B430=\"\",\"\",MAX($A$1:A429)+1)","v":""}]
[{"$f":"IF(B431=\"\",\"\",MAX($A$1:A430)+1)","v":""}]
[{"$f":"IF(B432=\"\",\"\",MAX($A$1:A431)+1)","v":""}]
[{"$f":"IF(B433=\"\",\"\",MAX($A$1:A432)+1)","v":""}]
[{"$f":"IF(B434=\"\",\"\",MAX($A$1:A433)+1)","v":""}]
[{"$f":"IF(B435=\"\",\"\",MAX($A$1:A434)+1)","v":""}]
[{"$f":"IF(B436=\"\",\"\",MAX($A$1:A435)+1)","v":""}]
[{"$f":"IF(B437=\"\",\"\",MAX($A$1:A436)+1)","v":""}]
[{"$f":"IF(B438=\"\",\"\",MAX($A$1:A437)+1)","v":""}]
[{"$f":"IF(B439=\"\",\"\",MAX($A$1:A438)+1)","v":""}]
[{"$f":"IF(B440=\"\",\"\",MAX($A$1:A439)+1)","v":""}]
[{"$f":"IF(B441=\"\",\"\",MAX($A$1:A440)+1)","v":""}]
[{"$f":"IF(B442=\"\",\"\",MAX($A$1:A441)+1)","v":""}]
[{"$f":"IF(B443=\"\",\"\",MAX($A$1:A442)+1)","v":""}]
[{"$f":"IF(B444=\"\",\"\",MAX($A$1:A443)+1)","v":""}]
[{"$f":"IF(B445=\"\",\"\",MAX($A$1:A444)+1)","v":""}]
[{"$f":"IF(B446=\"\",\"\",MAX($A$1:A445)+1)","v":""}]
[{"$f":"IF(B447=\"\",\"\",MAX($A$1:A446)+1)","v":""}]
[{"$f":"IF(B448=\"\",\"\",MAX($A$1:A447)+1)","v":""}]
[{"$f":"IF(B449=\"\",\"\",MAX($A$1:A448)+1)","v":""}]
[{"$f":"IF(B450=\"\",\"\",MAX($A$1:A449)+1)","v":""}]
[{"$f":"IF(B451=\"\",\"\",MAX($A$1:A450)+1)","v":""}]
[{"$f":"IF(B452=\"\",\"\",MAX($A$1:A451)+1)","v":""}]
[{"$f":"IF(B453=\"\",\"\",MAX($A$1:A452)+1)","v":""}]
[{"$f":"IF(B454=\"\",\"\",MAX($A$1:A453)+1)","v":""}]
[{"$f":"IF(B455=\"\",\"\",MAX($A$1:A454)+1)","v":""}]
[{"$f":"IF(B456=\"\",\"\",MAX($A$1:A455)+1)","v":""}]
[{"$f":"IF(B457=\"\",\"\",MAX($A$1:A456)+1)","v":""}]
[{"$f":"IF(B458=\"\",\"\",MAX($A$1:A457)+1)","v":""}]
[{"$f":"IF(B459=\"\",\"\",MAX($A$1:A458)+1)","v":""}]
[{"$f":"IF(B460=\"\",\"\",MAX($A$1:A459)+1)","v":""}]
[{"$f":"IF(B461=\"\",\"\",MAX($A$1:A460)+1)","v":""}]
[{"$f":"IF(B462=\"\",\"\",MAX($A$1:A461)+1)","v":""}]
[{"$f":"IF(B463=\"\",\"\",MAX($A$1:A462)+1)","v":""}]
[{"$f":"IF(B464=\"\",\"\",MAX($A$1:A463)+1)","v":""}]
[{"$f":"IF(B465=\"\",\"\",MAX($A$1:A464)+1)","v":""}]
[{"$f":"IF(B466=\"\",\"\",MAX($A$1:A465)+1)","v":""}]
[{"$f":"IF(B467=\"\",\"\",MAX($A$1:A466)+1)","v":""}]
[{"$f":"IF(B468=\"\",\"\",MAX($A$1:A467)+1)","v":""}]
[{"$f":"IF(B469=\"\",\"\",MAX($A$1:A468)+1)","v":""}]
[{"$f":"IF(B470=\"\",\"\",MAX($A$1:A469)+1)","v":""}]
[{"$f":"IF(B471=\"\",\"\",MAX($A$1:A470)+1)","v":""}]
[{"$f":"IF(B472=\"\",\"\",MAX($A$1:A471)+1)","v":""}]
[{"$f":"IF(B473=\"\",\"\",MAX($A$1:A472)+1)","v":""}]
[{"$f":"IF(B474=\"\",\"\",MAX($A$1:A473)+1)","v":""}]
[{"$f":"IF(B475=\"\",\"\",MAX($A$1:A474)+1)","v":""}]
[{"$f":"IF(B476=\"\",\"\",MAX($A$1:A475)+1)","v":""}]
[{"$f":"IF(B477=\"\",\"\",MAX($A$1:A476)+1)","v":""}]
[{"$f":"IF(B478=\"\",\"\",MAX($A$1:A477)+1)","v":""}]
[{"$f":"IF(B479=\"\",\"\",MAX($A$1:A478)+1)","v":""}]
[{"$f":"IF(B480=\"\",\"\",MAX($A$1:A479)+1)","v":""}]
[{"$f":"IF(B481=\"\",\"\",MAX($A$1:A480)+1)","v":""}]
[{"$f":"IF(B482=\"\",\"\",MAX($A$1:A481)+1)","v":""}]
[{"$f":"IF(B483=\"\",\"\",MAX($A$1:A482)+1)","v":""}]
[{"$f":"IF(B484=\"\",\"\",MAX($A$1:A483)+1)","v":""}]
[{"$f":"IF(B485=\"\",\"\",MAX($A$1:A484)+1)","v":""}]
[{"$f":"IF(B486=\"\",\"\",MAX($A$1:A485)+1)","v":""}]
[{"$f":"IF(B487=\"\",\"\",MAX($A$1:A486)+1)","v":""}]
[{"$f":"IF(B488=\"\",\"\",MAX($A$1:A487)+1)","v":""}]
[{"$f":"IF(B489=\"\",\"\",MAX($A$1:A488)+1)","v":""}]
[{"$f":"IF(B490=\"\",\"\",MAX($A$1:A489)+1)","v":""}]
[{"$f":"IF(B491=\"\",\"\",MAX($A$1:A490)+1)","v":""}]
[{"$f":"IF(B492=\"\",\"\",MAX($A$1:A491)+1)","v":""}]
[{"$f":"IF(B493=\"\",\"\",MAX($A$1:A492)+1)","v":""}]
[{"$f":"IF(B494=\"\",\"\",MAX($A$1:A493)+1)","v":""}]
[{"$f":"IF(B495=\"\",\"\",MAX($A$1:A494)+1)","v":""}]
[{"$f":"IF(B496=\"\",\"\",MAX($A$1:A495)+1)","v":""}]
[{"$f":"IF(B497=\"\",\"\",MAX($A$1:A496)+1)","v":""}]
[{"$f":"IF(B498=\"\",\"\",MAX($A$1:A497)+1)","v":""}]
[{"$f":"IF(B499=\"\",\"\",MAX($A$1:A498)+1)","v":""}]
[{"$f":"IF(B500=\"\",\"\",MAX($A$1:A499)+1)","v":""}]
[{"$f":"IF(B501=\"\",\"\",MAX($A$1:A500)+1)","v":""}]
[{"$f":"IF(B502=\"\",\"\",MAX($A$1:A501)+1)","v":""}]
[{"$f":"IF(B503=\"\",\"\",MAX($A$1:A502)+1)","v":""}]
[{"$f":"IF(B504=\"\",\"\",MAX($A$1:A503)+1)","v":""}]
[{"$f":"IF(B505=\"\",\"\",MAX($A$1:A504)+1)","v":""}]
[{"$f":"IF(B506=\"\",\"\",MAX($A$1:A505)+1)","v":""}]
[{"$f":"IF(B507=\"\",\"\",MAX($A$1:A506)+1)","v":""}]
[{"$f":"IF(B508=\"\",\"\",MAX($A$1:A507)+1)","v":""}]
[{"$f":"IF(B509=\"\",\"\",MAX($A$1:A508)+1)","v":""}]
[{"$f":"IF(B510=\"\",\"\",MAX($A$1:A509)+1)","v":""}]
[{"$f":"IF(B511=\"\",\"\",MAX($A$1:A510)+1)","v":""}]
[{"$f":"IF(B512=\"\",\"\",MAX($A$1:A511)+1)","v":""}]
[{"$f":"IF(B513=\"\",\"\",MAX($A$1:A512)+1)","v":""}]
[{"$f":"IF(B514=\"\",\"\",MAX($A$1:A513)+1)","v":""}]
[{"$f":"IF(B515=\"\",\"\",MAX($A$1:A514)+1)","v":""}]
[{"$f":"IF(B516=\"\",\"\",MAX($A$1:A515)+1)","v":""}]
[{"$f":"IF(B517=\"\",\"\",MAX($A$1:A516)+1)","v":""}]
[{"$f":"IF(B518=\"\",\"\",MAX($A$1:A517)+1)","v":""}]
[{"$f":"IF(B519=\"\",\"\",MAX($A$1:A518)+1)","v":""}]
[{"$f":"IF(B520=\"\",\"\",MAX($A$1:A519)+1)","v":""}]
[{"$f":"IF(B521=\"\",\"\",MAX($A$1:A520)+1)","v":""}]
[{"$f":"IF(B522=\"\",\"\",MAX($A$1:A521)+1)","v":""}]
[{"$f":"IF(B523=\"\",\"\",MAX($A$1:A522)+1)","v":""}]
[{"$f":"IF(B524=\"\",\"\",MAX($A$1:A523)+1)","v":""}]
[{"$f":"IF(B525=\"\",\"\",MAX($A$1:A524)+1)","v":""}]
[{"$f":"IF(B526=\"\",\"\",MAX($A$1:A525)+1)","v":""}]
[{"$f":"IF(B527=\"\",\"\",MAX($A$1:A526)+1)","v":""}]
[{"$f":"IF(B528=\"\",\"\",MAX($A$1:A527)+1)","v":""}]
[{"$f":"IF(B529=\"\",\"\",MAX($A$1:A528)+1)","v":""}]
[{"$f":"IF(B530=\"\",\"\",MAX($A$1:A529)+1)","v":""}]
[{"$f":"IF(B531=\"\",\"\",MAX($A$1:A530)+1)","v":""}]
[{"$f":"IF(B532=\"\",\"\",MAX($A$1:A531)+1)","v":""}]
[{"$f":"IF(B533=\"\",\"\",MAX($A$1:A532)+1)","v":""}]
[{"$f":"IF(B534=\"\",\"\",MAX($A$1:A533)+1)","v":""}]
[{"$f":"IF(B535=\"\",\"\",MAX($A$1:A534)+1)","v":""}]
[{"$f":"IF(B536=\"\",\"\",MAX($A$1:A535)+1)","v":""}]
[{"$f":"IF(B537=\"\",\"\",MAX($A$1:A536)+1)","v":""}]
[{"$f":"IF(B538=\"\",\"\",MAX($A$1:A537)+1)","v":""}]
[{"$f":"IF(B539=\"\",\"\",MAX($A$1:A538)+1)","v":""}]
[{"$f":"IF(B540=\"\",\"\",MAX($A$1:A539)+1)","v":""}]
[{"$f":"IF(B541=\"\",\"\",MAX($A$1:A540)+1)","v":""}]
[{"$f":"IF(B542=\"\",\"\",MAX($A$1:A541)+1)","v":""}]
[{"$f":"IF(B543=\"\",\"\",MAX($A$1:A542)+1)","v":""}]
[{"$f":"IF(B544=\"\",\"\",MAX($A$1:A543)+1)","v":""}]
[{"$f":"IF(B545=\"\",\"\",MAX($A$1:A544)+1)","v":""}]
[{"$f":"IF(B546=\"\",\"\",MAX($A$1:A545)+1)","v":""}]
[{"$f":"IF(B547=\"\",\"\",MAX($A$1:A546)+1)","v":""}]
[{"$f":"IF(B548=\"\",\"\",MAX($A$1:A547)+1)","v":""}]
[{"$f":"IF(B549=\"\",\"\",MAX($A$1:A548)+1)","v":""}]
[{"$f":"IF(B550=\"\",\"\",MAX($A$1:A549)+1)","v":""}]
[{"$f":"IF(B551=\"\",\"\",MAX($A$1:A550)+1)","v":""}]
[{"$f":"IF(B552=\"\",\"\",MAX($A$1:A551)+1)","v":""}]
[{"$f":"IF(B553=\"\",\"\",MAX($A$1:A552)+1)","v":""}]
[{"$f":"IF(B554=\"\",\"\",MAX($A$1:A553)+1)","v":""}]
[{"$f":"IF(B555=\"\",\"\",MAX($A$1:A554)+1)","v":""}]
[{"$f":"IF(B556=\"\",\"\",MAX($A$1:A555)+1)","v":""}]
[{"$f":"IF(B557=\"\",\"\",MAX($A$1:A556)+1)","v":""}]
[{"$f":"IF(B558=\"\",\"\",MAX($A$1:A557)+1)","v":""}]
[{"$f":"IF(B559=\"\",\"\",MAX($A$1:A558)+1)","v":""}]
[{"$f":"IF(B560=\"\",\"\",MAX($A$1:A559)+1)","v":""}]
[{"$f":"IF(B561=\"\",\"\",MAX($A$1:A560)+1)","v":""}]
[{"$f":"IF(B562=\"\",\"\",MAX($A$1:A561)+1)","v":""}]
[{"$f":"IF(B563=\"\",\"\",MAX($A$1:A562)+1)","v":""}]
[{"$f":"IF(B564=\"\",\"\",MAX($A$1:A563)+1)","v":""}]
[{"$f":"IF(B565=\"\",\"\",MAX($A$1:A564)+1)","v":""}]
[{"$f":"IF(B566=\"\",\"\",MAX($A$1:A565)+1)","v":""}]
[{"$f":"IF(B567=\"\",\"\",MAX($A$1:A566)+1)","v":""}]
[{"$f":"IF(B568=\"\",\"\",MAX($A$1:A567)+1)","v":""}]
[{"$f":"IF(B569=\"\",\"\",MAX($A$1:A568)+1)","v":""}]
[{"$f":"IF(B570=\"\",\"\",MAX($A$1:A569)+1)","v":""}]
[{"$f":"IF(B571=\"\",\"\",MAX($A$1:A570)+1)","v":""}]
[{"$f":"IF(B572=\"\",\"\",MAX($A$1:A571)+1)","v":""}]
[{"$f":"IF(B573=\"\",\"\",MAX($A$1:A572)+1)","v":""}]
[{"$f":"IF(B574=\"\",\"\",MAX($A$1:A573)+1)","v":""}]
[{"$f":"IF(B575=\"\",\"\",MAX($A$1:A574)+1)","v":""}]
[{"$f":"IF(B576=\"\",\"\",MAX($A$1:A575)+1)","v":""}]
[{"$f":"IF(B577=\"\",\"\",MAX($A$1:A576)+1)","v":""}]
[{"$f":"IF(B578=\"\",\"\",MAX($A$1:A577)+1)","v":""}]
[{"$f":"IF(B579=\"\",\"\",MAX($A$1:A578)+1)","v":""}]
[{"$f":"IF(B580=\"\",\"\",MAX($A$1:A579)+1)","v":""}]
[{"$f":"IF(B581=\"\",\"\",MAX($A$1:A580)+1)","v":""}]
[{"$f":"IF(B582=\"\",\"\",MAX($A$1:A581)+1)","v":""}]
[{"$f":"IF(B583=\"\",\"\",MAX($A$1:A582)+1)","v":""}]
[{"$f":"IF(B584=\"\",\"\",MAX($A$1:A583)+1)","v":""}]
[{"$f":"IF(B585=\"\",\"\",MAX($A$1:A584)+1)","v":""}]
[{"$f":"IF(B586=\"\",\"\",MAX($A$1:A585)+1)","v":""}]
[{"$f":"IF(B587=\"\",\"\",MAX($A$1:A586)+1)","v":""}]
[{"$f":"IF(B588=\"\",\"\",MAX($A$1:A587)+1)","v":""}]
[{"$f":"IF(B589=\"\",\"\",MAX($A$1:A588)+1)","v":""}]
[{"$f":"IF(B590=\"\",\"\",MAX($A$1:A589)+1)","v":""}]
[{"$f":"IF(B591=\"\",\"\",MAX($A$1:A590)+1)","v":""}]
[{"$f":"IF(B592=\"\",\"\",MAX($A$1:A591)+1)","v":""}]
[{"$f":"IF(B593=\"\",\"\",MAX($A$1:A592)+1)","v":""}]
[{"$f":"IF(B594=\"\",\"\",MAX($A$1:A593)+1)","v":""}]
[{"$f":"IF(B595=\"\",\"\",MAX($A$1:A594)+1)","v":""}]
[{"$f":"IF(B596=\"\",\"\",MAX($A$1:A595)+1)","v":""}]
[{"$f":"IF(B597=\"\",\"\",MAX($A$1:A596)+1)","v":""}]
[{"$f":"IF(B598=\"\",\"\",MAX($A$1:A597)+1)","v":""}]
[{"$f":"IF(B599=\"\",\"\",MAX($A$1:A598)+1)","v":""}]
[{"$f":"IF(B600=\"\",\"\",MAX($A$1:A599)+1)","v":""}]
[{"$f":"IF(B601=\"\",\"\",MAX($A$1:A600)+1)","v":""}]
[{"$f":"IF(B602=\"\",\"\",MAX($A$1:A601)+1)","v":""}]
[{"$f":"IF(B603=\"\",\"\",MAX($A$1:A602)+1)","v":""}]
[{"$f":"IF(B604=\"\",\"\",MAX($A$1:A603)+1)","v":""}]
[{"$f":"IF(B605=\"\",\"\",MAX($A$1:A604)+1)","v":""}]
[{"$f":"IF(B606=\"\",\"\",MAX($A$1:A605)+1)","v":""}]
[{"$f":"IF(B607=\"\",\"\",MAX($A$1:A606)+1)","v":""}]
[{"$f":"IF(B608=\"\",\"\",MAX($A$1:A607)+1)","v":""}]
[{"$f":"IF(B609=\"\",\"\",MAX($A$1:A608)+1)","v":""}]
[{"$f":"IF(B610=\"\",\"\",MAX($A$1:A609)+1)","v":""}]
[{"$f":"IF(B611=\"\",\"\",MAX($A$1:A610)+1)","v":""}]
[{"$f":"IF(B612=\"\",\"\",MAX($A$1:A611)+1)","v":""}]
[{"$f":"IF(B613=\"\",\"\",MAX($A$1:A612)+1)","v":""}]
[{"$f":"IF(B614=\"\",\"\",MAX($A$1:A613)+1)","v":""}]
[{"$f":"IF(B615=\"\",\"\",MAX($A$1:A614)+1)","v":""}]
[{"$f":"IF(B616=\"\",\"\",MAX($A$1:A615)+1)","v":""}]
[{"$f":"IF(B617=\"\",\"\",MAX($A$1:A616)+1)","v":""}]
[{"$f":"IF(B618=\"\",\"\",MAX($A$1:A617)+1)","v":""}]
[{"$f":"IF(B619=\"\",\"\",MAX($A$1:A618)+1)","v":""}]
[{"$f":"IF(B620=\"\",\"\",MAX($A$1:A619)+1)","v":""}]
[{"$f":"IF(B621=\"\",\"\",MAX($A$1:A620)+1)","v":""}]
[{"$f":"IF(B622=\"\",\"\",MAX($A$1:A621)+1)","v":""}]
[{"$f":"IF(B623=\"\",\"\",MAX($A$1:A622)+1)","v":""}]
[{"$f":"IF(B624=\"\",\"\",MAX($A$1:A623)+1)","v":""}]
[{"$f":"IF(B625=\"\",\"\",MAX($A$1:A624)+1)","v":""}]
[{"$f":"IF(B626=\"\",\"\",MAX($A$1:A625)+1)","v":""}]
[{"$f":"IF(B627=\"\",\"\",MAX($A$1:A626)+1)","v":""}]
[{"$f":"IF(B628=\"\",\"\",MAX($A$1:A627)+1)","v":""}]
[{"$f":"IF(B629=\"\",\"\",MAX($A$1:A628)+1)","v":""}]
[{"$f":"IF(B630=\"\",\"\",MAX($A$1:A629)+1)","v":""}]
[{"$f":"IF(B631=\"\",\"\",MAX($A$1:A630)+1)","v":""}]
[{"$f":"IF(B632=\"\",\"\",MAX($A$1:A631)+1)","v":""}]
[{"$f":"IF(B633=\"\",\"\",MAX($A$1:A632)+1)","v":""}]
[{"$f":"IF(B634=\"\",\"\",MAX($A$1:A633)+1)","v":""}]
[{"$f":"IF(B635=\"\",\"\",MAX($A$1:A634)+1)","v":""}]
[{"$f":"IF(B636=\"\",\"\",MAX($A$1:A635)+1)","v":""}]
[{"$f":"IF(B637=\"\",\"\",MAX($A$1:A636)+1)","v":""}]
[{"$f":"IF(B638=\"\",\"\",MAX($A$1:A637)+1)","v":""}]
[{"$f":"IF(B639=\"\",\"\",MAX($A$1:A638)+1)","v":""}]
[{"$f":"IF(B640=\"\",\"\",MAX($A$1:A639)+1)","v":""}]
[{"$f":"IF(B641=\"\",\"\",MAX($A$1:A640)+1)","v":""}]
[{"$f":"IF(B642=\"\",\"\",MAX($A$1:A641)+1)","v":""}]
[{"$f":"IF(B643=\"\",\"\",MAX($A$1:A642)+1)","v":""}]
[{"$f":"IF(B644=\"\",\"\",MAX($A$1:A643)+1)","v":""}]
[{"$f":"IF(B645=\"\",\"\",MAX($A$1:A644)+1)","v":""}]
[{"$f":"IF(B646=\"\",\"\",MAX($A$1:A645)+1)","v":""}]
[{"$f":"IF(B647=\"\",\"\",MAX($A$1:A646)+1)","v":""}]
[{"$f":"IF(B648=\"\",\"\",MAX($A$1:A647)+1)","v":""}]
[{"$f":"IF(B649=\"\",\"\",MAX($A$1:A648)+1)","v":""}]
[{"$f":"IF(B650=\"\",\"\",MAX($A$1:A649)+1)","v":""}]
[{"$f":"IF(B651=\"\",\"\",MAX($A$1:A650)+1)","v":""}]
[{"$f":"IF(B652=\"\",\"\",MAX($A$1:A651)+1)","v":""}]
[{"$f":"IF(B653=\"\",\"\",MAX($A$1:A652)+1)","v":""}]
[{"$f":"IF(B654=\"\",\"\",MAX($A$1:A653)+1)","v":""}]
[{"$f":"IF(B655=\"\",\"\",MAX($A$1:A654)+1)","v":""}]
[{"$f":"IF(B656=\"\",\"\",MAX($A$1:A655)+1)","v":""}]
[{"$f":"IF(B657=\"\",\"\",MAX($A$1:A656)+1)","v":""}]
[{"$f":"IF(B658=\"\",\"\",MAX($A$1:A657)+1)","v":""}]
[{"$f":"IF(B659=\"\",\"\",MAX($A$1:A658)+1)","v":""}]
[{"$f":"IF(B660=\"\",\"\",MAX($A$1:A659)+1)","v":""}]
[{"$f":"IF(B661=\"\",\"\",MAX($A$1:A660)+1)","v":""}]
[{"$f":"IF(B662=\"\",\"\",MAX($A$1:A661)+1)","v":""}]
[{"$f":"IF(B663=\"\",\"\",MAX($A$1:A662)+1)","v":""}]
[{"$f":"IF(B664=\"\",\"\",MAX($A$1:A663)+1)","v":""}]
[{"$f":"IF(B665=\"\",\"\",MAX($A$1:A664)+1)","v":""}]
[{"$f":"IF(B666=\"\",\"\",MAX($A$1:A665)+1)","v":""}]
[{"$f":"IF(B667=\"\",\"\",MAX($A$1:A666)+1)","v":""}]
[{"$f":"IF(B668=\"\",\"\",MAX($A$1:A667)+1)","v":""}]
[{"$f":"IF(B669=\"\",\"\",MAX($A$1:A668)+1)","v":""}]
[{"$f":"IF(B670=\"\",\"\",MAX($A$1:A669)+1)","v":""}]
[{"$f":"IF(B671=\"\",\"\",MAX($A$1:A670)+1)","v":""}]
[{"$f":"IF(B672=\"\",\"\",MAX($A$1:A671)+1)","v":""}]
[{"$f":"IF(B673=\"\",\"\",MAX($A$1:A672)+1)","v":""}]
[{"$f":"IF(B674=\"\",\"\",MAX($A$1:A673)+1)","v":""}]
[{"$f":"IF(B675=\"\",\"\",MAX($A$1:A674)+1)","v":""}]
[{"$f":"IF(B676=\"\",\"\",MAX($A$1:A675)+1)","v":""}]
[{"$f":"IF(B677=\"\",\"\",MAX($A$1:A676)+1)","v":""}]
[{"$f":"IF(B678=\"\",\"\",MAX($A$1:A677)+1)","v":""}]
[{"$f":"IF(B679=\"\",\"\",MAX($A$1:A678)+1)","v":""}]
[{"$f":"IF(B680=\"\",\"\",MAX($A$1:A679)+1)","v":""}]
[{"$f":"IF(B681=\"\",\"\",MAX($A$1:A680)+1)","v":""}]
[{"$f":"IF(B682=\"\",\"\",MAX($A$1:A681)+1)","v":""}]
[{"$f":"IF(B683=\"\",\"\",MAX($A$1:A682)+1)","v":""}]
[{"$f":"IF(B684=\"\",\"\",MAX($A$1:A683)+1)","v":""}]
[{"$f":"IF(B685=\"\",\"\",MAX($A$1:A684)+1)","v":""}]
[{"$f":"IF(B686=\"\",\"\",MAX($A$1:A685)+1)","v":""}]
[{"$f":"IF(B687=\"\",\"\",MAX($A$1:A686)+1)","v":""}]
[{"$f":"IF(B688=\"\",\"\",MAX($A$1:A687)+1)","v":""}]
[{"$f":"IF(B689=\"\",\"\",MAX($A$1:A688)+1)","v":""}]
[{"$f":"IF(B690=\"\",\"\",MAX($A$1:A689)+1)","v":""}]
[{"$f":"IF(B691=\"\",\"\",MAX($A$1:A690)+1)","v":""}]
[{"$f":"IF(B692=\"\",\"\",MAX($A$1:A691)+1)","v":""}]
[{"$f":"IF(B693=\"\",\"\",MAX($A$1:A692)+1)","v":""}]
[{"$f":"IF(B694=\"\",\"\",MAX($A$1:A693)+1)","v":""}]
[{"$f":"IF(B695=\"\",\"\",MAX($A$1:A694)+1)","v":""}]
[{"$f":"IF(B696=\"\",\"\",MAX($A$1:A695)+1)","v":""}]
[{"$f":"IF(B697=\"\",\"\",MAX($A$1:A696)+1)","v":""}]
[{"$f":"IF(B698=\"\",\"\",MAX($A$1:A697)+1)","v":""}]
[{"$f":"IF(B699=\"\",\"\",MAX($A$1:A698)+1)","v":""}]
[{"$f":"IF(B700=\"\",\"\",MAX($A$1:A699)+1)","v":""}]
[{"$f":"IF(B701=\"\",\"\",MAX($A$1:A700)+1)","v":""}]
[{"$f":"IF(B702=\"\",\"\",MAX($A$1:A701)+1)","v":""}]
[{"$f":"IF(B703=\"\",\"\",MAX($A$1:A702)+1)","v":""}]
[{"$f":"IF(B704=\"\",\"\",MAX($A$1:A703)+1)","v":""}]
[{"$f":"IF(B705=\"\",\"\",MAX($A$1:A704)+1)","v":""}]
[{"$f":"IF(B706=\"\",\"\",MAX($A$1:A705)+1)","v":""}]
[{"$f":"IF(B707=\"\",\"\",MAX($A$1:A706)+1)","v":""}]
[{"$f":"IF(B708=\"\",\"\",MAX($A$1:A707)+1)","v":""}]
[{"$f":"IF(B709=\"\",\"\",MAX($A$1:A708)+1)","v":""}]
[{"$f":"IF(B710=\"\",\"\",MAX($A$1:A709)+1)","v":""}]
[{"$f":"IF(B711=\"\",\"\",MAX($A$1:A710)+1)","v":""}]
[{"$f":"IF(B712=\"\",\"\",MAX($A$1:A711)+1)","v":""}]
[{"$f":"IF(B713=\"\",\"\",MAX($A$1:A712)+1)","v":""}]
[{"$f":"IF(B714=\"\",\"\",MAX($A$1:A713)+1)","v":""}]
[{"$f":"IF(B715=\"\",\"\",MAX($A$1:A714)+1)","v":""}]
[{"$f":"IF(B716=\"\",\"\",MAX($A$1:A715)+1)","v":""}]
[{"$f":"IF(B717=\"\",\"\",MAX($A$1:A716)+1)","v":""}]
[{"$f":"IF(B718=\"\",\"\",MAX($A$1:A717)+1)","v":""}]
[{"$f":"IF(B719=\"\",\"\",MAX($A$1:A718)+1)","v":""}]
[{"$f":"IF(B720=\"\",\"\",MAX($A$1:A719)+1)","v":""}]
[{"$f":"IF(B721=\"\",\"\",MAX($A$1:A720)+1)","v":""}]
[{"$f":"IF(B722=\"\",\"\",MAX($A$1:A721)+1)","v":""}]
[{"$f":"IF(B723=\"\",\"\",MAX($A$1:A722)+1)","v":""}]
[{"$f":"IF(B724=\"\",\"\",MAX($A$1:A723)+1)","v":""}]
[{"$f":"IF(B725=\"\",\"\",MAX($A$1:A724)+1)","v":""}]
[{"$f":"IF(B726=\"\",\"\",MAX($A$1:A725)+1)","v":""}]
[{"$f":"IF(B727=\"\",\"\",MAX($A$1:A726)+1)","v":""}]
[{"$f":"IF(B728=\"\",\"\",MAX($A$1:A727)+1)","v":""}]
[{"$f":"IF(B729=\"\",\"\",MAX($A$1:A728)+1)","v":""}]
[{"$f":"IF(B730=\"\",\"\",MAX($A$1:A729)+1)","v":""}]
[{"$f":"IF(B731=\"\",\"\",MAX($A$1:A730)+1)","v":""}]
[{"$f":"IF(B732=\"\",\"\",MAX($A$1:A731)+1)","v":""}]
[{"$f":"IF(B733=\"\",\"\",MAX($A$1:A732)+1)","v":""}]
[{"$f":"IF(B734=\"\",\"\",MAX($A$1:A733)+1)","v":""}]
[{"$f":"IF(B735=\"\",\"\",MAX($A$1:A734)+1)","v":""}]
[{"$f":"IF(B736=\"\",\"\",MAX($A$1:A735)+1)","v":""}]
[{"$f":"IF(B737=\"\",\"\",MAX($A$1:A736)+1)","v":""}]
[{"$f":"IF(B738=\"\",\"\",MAX($A$1:A737)+1)","v":""}]
[{"$f":"IF(B739=\"\",\"\",MAX($A$1:A738)+1)","v":""}]
[{"$f":"IF(B740=\"\",\"\",MAX($A$1:A739)+1)","v":""}]
[{"$f":"IF(B741=\"\",\"\",MAX($A$1:A740)+1)","v":""}]
[{"$f":"IF(B742=\"\",\"\",MAX($A$1:A741)+1)","v":""}]
[{"$f":"IF(B743=\"\",\"\",MAX($A$1:A742)+1)","v":""}]
[{"$f":"IF(B744=\"\",\"\",MAX($A$1:A743)+1)","v":""}]
[{"$f":"IF(B745=\"\",\"\",MAX($A$1:A744)+1)","v":""}]
[{"$f":"IF(B746=\"\",\"\",MAX($A$1:A745)+1)","v":""}]
[{"$f":"IF(B747=\"\",\"\",MAX($A$1:A746)+1)","v":""}]
[{"$f":"IF(B748=\"\",\"\",MAX($A$1:A747)+1)","v":""}]
[{"$f":"IF(B749=\"\",\"\",MAX($A$1:A748)+1)","v":""}]
[{"$f":"IF(B750=\"\",\"\",MAX($A$1:A749)+1)","v":""}]
[{"$f":"IF(B751=\"\",\"\",MAX($A$1:A750)+1)","v":""}]
[{"$f":"IF(B752=\"\",\"\",MAX($A$1:A751)+1)","v":""}]
[{"$f":"IF(B753=\"\",\"\",MAX($A$1:A752)+1)","v":""}]
[{"$f":"IF(B754=\"\",\"\",MAX($A$1:A753)+1)","v":""}]
[{"$f":"IF(B755=\"\",\"\",MAX($A$1:A754)+1)","v":""}]
[{"$f":"IF(B756=\"\",\"\",MAX($A$1:A755)+1)","v":""}]
[{"$f":"IF(B757=\"\",\"\",MAX($A$1:A756)+1)","v":""}]
[{"$f":"IF(B758=\"\",\"\",MAX($A$1:A757)+1)","v":""}]
[{"$f":"IF(B759=\"\",\"\",MAX($A$1:A758)+1)","v":""}]
[{"$f":"IF(B760=\"\",\"\",MAX($A$1:A759)+1)","v":""}]
[{"$f":"IF(B761=\"\",\"\",MAX($A$1:A760)+1)","v":""}]
[{"$f":"IF(B762=\"\",\"\",MAX($A$1:A761)+1)","v":""}]
[{"$f":"IF(B763=\"\",\"\",MAX($A$1:A762)+1)","v":""}]
[{"$f":"IF(B764=\"\",\"\",MAX($A$1:A763)+1)","v":""}]
[{"$f":"IF(B765=\"\",\"\",MAX($A$1:A764)+1)","v":""}]
[{"$f":"IF(B766=\"\",\"\",MAX($A$1:A765)+1)","v":""}]
[{"$f":"IF(B767=\"\",\"\",MAX($A$1:A766)+1)","v":""}]
[{"$f":"IF(B768=\"\",\"\",MAX($A$1:A767)+1)","v":""}]
[{"$f":"IF(B769=\"\",\"\",MAX($A$1:A768)+1)","v":""}]
[{"$f":"IF(B770=\"\",\"\",MAX($A$1:A769)+1)","v":""}]
[{"$f":"IF(B771=\"\",\"\",MAX($A$1:A770)+1)","v":""}]
[{"$f":"IF(B772=\"\",\"\",MAX($A$1:A771)+1)","v":""}]
[{"$f":"IF(B773=\"\",\"\",MAX($A$1:A772)+1)","v":""}]
[{"$f":"IF(B774=\"\",\"\",MAX($A$1:A773)+1)","v":""}]
[{"$f":"IF(B775=\"\",\"\",MAX($A$1:A774)+1)","v":""}]
[{"$f":"IF(B776=\"\",\"\",MAX($A$1:A775)+1)","v":""}]
[{"$f":"IF(B777=\"\",\"\",MAX($A$1:A776)+1)","v":""}]
[{"$f":"IF(B778=\"\",\"\",MAX($A$1:A777)+1)","v":""}]
[{"$f":"IF(B779=\"\",\"\",MAX($A$1:A778)+1)","v":""}]
[{"$f":"IF(B780=\"\",\"\",MAX($A$1:A779)+1)","v":""}]
[{"$f":"IF(B781=\"\",\"\",MAX($A$1:A780)+1)","v":""}]
[{"$f":"IF(B782=\"\",\"\",MAX($A$1:A781)+1)","v":""}]
[{"$f":"IF(B783=\"\",\"\",MAX($A$1:A782)+1)","v":""}]
[{"$f":"IF(B784=\"\",\"\",MAX($A$1:A783)+1)","v":""}]
[{"$f":"IF(B785=\"\",\"\",MAX($A$1:A784)+1)","v":""}]
[{"$f":"IF(B786=\"\",\"\",MAX($A$1:A785)+1)","v":""}]
[{"$f":"IF(B787=\"\",\"\",MAX($A$1:A786)+1)","v":""}]
[{"$f":"IF(B788=\"\",\"\",MAX($A$1:A787)+1)","v":""}]
[{"$f":"IF(B789=\"\",\"\",MAX($A$1:A788)+1)","v":""}]
[{"$f":"IF(B790=\"\",\"\",MAX($A$1:A789)+1)","v":""}]
[{"$f":"IF(B791=\"\",\"\",MAX($A$1:A790)+1)","v":""}]
[{"$f":"IF(B792=\"\",\"\",MAX($A$1:A791)+1)","v":""}]
[{"$f":"IF(B793=\"\",\"\",MAX($A$1:A792)+1)","v":""}]
[{"$f":"IF(B794=\"\",\"\",MAX($A$1:A793)+1)","v":""}]
[{"$f":"IF(B795=\"\",\"\",MAX($A$1:A794)+1)","v":""}]
[{"$f":"IF(B796=\"\",\"\",MAX($A$1:A795)+1)","v":""}]
[{"$f":"IF(B797=\"\",\"\",MAX($A$1:A796)+1)","v":""}]
[{"$f":"IF(B798=\"\",\"\",MAX($A$1:A797)+1)","v":""}]
[{"$f":"IF(B799=\"\",\"\",MAX($A$1:A798)+1)","v":""}]
[{"$f":"IF(B800=\"\",\"\",MAX($A$1:A799)+1)","v":""}]
[{"$f":"IF(B801=\"\",\"\",MAX($A$1:A800)+1)","v":""}]
[{"$f":"IF(B802=\"\",\"\",MAX($A$1:A801)+1)","v":""}]
[{"$f":"IF(B803=\"\",\"\",MAX($A$1:A802)+1)","v":""}]
[{"$f":"IF(B804=\"\",\"\",MAX($A$1:A803)+1)","v":""}]
[{"$f":"IF(B805=\"\",\"\",MAX($A$1:A804)+1)","v":""}]
[{"$f":"IF(B806=\"\",\"\",MAX($A$1:A805)+1)","v":""}]
[{"$f":"IF(B807=\"\",\"\",MAX($A$1:A806)+1)","v":""}]
[{"$f":"IF(B808=\"\",\"\",MAX($A$1:A807)+1)","v":""}]
[{"$f":"IF(B809=\"\",\"\",MAX($A$1:A808)+1)","v":""}]
[{"$f":"IF(B810=\"\",\"\",MAX($A$1:A809)+1)","v":""}]
[{"$f":"IF(B811=\"\",\"\",MAX($A$1:A810)+1)","v":""}]
[{"$f":"IF(B812=\"\",\"\",MAX($A$1:A811)+1)","v":""}]
[{"$f":"IF(B813=\"\",\"\",MAX($A$1:A812)+1)","v":""}]
[{"$f":"IF(B814=\"\",\"\",MAX($A$1:A813)+1)","v":""}]
[{"$f":"IF(B815=\"\",\"\",MAX($A$1:A814)+1)","v":""}]
[{"$f":"IF(B816=\"\",\"\",MAX($A$1:A815)+1)","v":""}]
[{"$f":"IF(B817=\"\",\"\",MAX($A$1:A816)+1)","v":""}]
[{"$f":"IF(B818=\"\",\"\",MAX($A$1:A817)+1)","v":""}]
[{"$f":"IF(B819=\"\",\"\",MAX($A$1:A818)+1)","v":""}]
[{"$f":"IF(B820=\"\",\"\",MAX($A$1:A819)+1)","v":""}]
[{"$f":"IF(B821=\"\",\"\",MAX($A$1:A820)+1)","v":""}]
[{"$f":"IF(B822=\"\",\"\",MAX($A$1:A821)+1)","v":""}]
[{"$f":"IF(B823=\"\",\"\",MAX($A$1:A822)+1)","v":""}]
[{"$f":"IF(B824=\"\",\"\",MAX($A$1:A823)+1)","v":""}]
[{"$f":"IF(B825=\"\",\"\",MAX($A$1:A824)+1)","v":""}]
[{"$f":"IF(B826=\"\",\"\",MAX($A$1:A825)+1)","v":""}]
[{"$f":"IF(B827=\"\",\"\",MAX($A$1:A826)+1)","v":""}]
[{"$f":"IF(B828=\"\",\"\",MAX($A$1:A827)+1)","v":""}]
[{"$f":"IF(B829=\"\",\"\",MAX($A$1:A828)+1)","v":""}]
[{"$f":"IF(B830=\"\",\"\",MAX($A$1:A829)+1)","v":""}]
[{"$f":"IF(B831=\"\",\"\",MAX($A$1:A830)+1)","v":""}]
[{"$f":"IF(B832=\"\",\"\",MAX($A$1:A831)+1)","v":""}]
[{"$f":"IF(B833=\"\",\"\",MAX($A$1:A832)+1)","v":""}]
[{"$f":"IF(B834=\"\",\"\",MAX($A$1:A833)+1)","v":""}]
[{"$f":"IF(B835=\"\",\"\",MAX($A$1:A834)+1)","v":""}]
[{"$f":"IF(B836=\"\",\"\",MAX($A$1:A835)+1)","v":""}]
[{"$f":"IF(B837=\"\",\"\",MAX($A$1:A836)+1)","v":""}]
[{"$f":"IF(B838=\"\",\"\",MAX($A$1:A837)+1)","v":""}]
[{"$f":"IF(B839=\"\",\"\",MAX($A$1:A838)+1)","v":""}]
[{"$f":"IF(B840=\"\",\"\",MAX($A$1:A839)+1)","v":""}]
[{"$f":"IF(B841=\"\",\"\",MAX($A$1:A840)+1)","v":""}]
[{"$f":"IF(B842=\"\",\"\",MAX($A$1:A841)+1)","v":""}]
[{"$f":"IF(B843=\"\",\"\",MAX($A$1:A842)+1)","v":""}]
[{"$f":"IF(B844=\"\",\"\",MAX($A$1:A843)+1)","v":""}]
[{"$f":"IF(B845=\"\",\"\",MAX($A$1:A844)+1)","v":""}]
[{"$f":"IF(B846=\"\",\"\",MAX($A$1:A845)+1)","v":""}]
[{"$f":"IF(B847=\"\",\"\",MAX($A$1:A846)+1)","v":""}]
[{"$f":"IF(B848=\"\",\"\",MAX($A$1:A847)+1)","v":""}]
[{"$f":"IF(B849=\"\",\"\",MAX($A$1:A848)+1)","v":""}]
[{"$f":"IF(B850=\"\",\"\",MAX($A$1:A849)+1)","v":""}]
[{"$f":"IF(B851=\"\",\"\",MAX($A$1:A850)+1)","v":""}]
[{"$f":"IF(B852=\"\",\"\",MAX($A$1:A851)+1)","v":""}]
[{"$f":"IF(B853=\"\",\"\",MAX($A$1:A852)+1)","v":""}]
[{"$f":"IF(B854=\"\",\"\",MAX($A$1:A853)+1)","v":""}]
[{"$f":"IF(B855=\"\",\"\",MAX($A$1:A854)+1)","v":""}]
[{"$f":"IF(B856=\"\",\"\",MAX($A$1:A855)+1)","v":""}]
[{"$f":"IF(B857=\"\",\"\",MAX($A$1:A856)+1)","v":""}]
[{"$f":"IF(B858=\"\",\"\",MAX($A$1:A857)+1)","v":""}]
[{"$f":"IF(B859=\"\",\"\",MAX($A$1:A858)+1)","v":""}]
[{"$f":"IF(B860=\"\",\"\",MAX($A$1:A859)+1)","v":""}]
[{"$f":"IF(B861=\"\",\"\",MAX($A$1:A860)+1)","v":""}]
[{"$f":"IF(B862=\"\",\"\",MAX($A$1:A861)+1)","v":""}]
[{"$f":"IF(B863=\"\",\"\",MAX($A$1:A862)+1)","v":""}]
[{"$f":"IF(B864=\"\",\"\",MAX($A$1:A863)+1)","v":""}]
[{"$f":"IF(B865=\"\",\"\",MAX($A$1:A864)+1)","v":""}]
[{"$f":"IF(B866=\"\",\"\",MAX($A$1:A865)+1)","v":""}]
[{"$f":"IF(B867=\"\",\"\",MAX($A$1:A866)+1)","v":""}]
[{"$f":"IF(B868=\"\",\"\",MAX($A$1:A867)+1)","v":""}]
[{"$f":"IF(B869=\"\",\"\",MAX($A$1:A868)+1)","v":""}]
[{"$f":"IF(B870=\"\",\"\",MAX($A$1:A869)+1)","v":""}]
[{"$f":"IF(B871=\"\",\"\",MAX($A$1:A870)+1)","v":""}]
[{"$f":"IF(B872=\"\",\"\",MAX($A$1:A871)+1)","v":""}]
[{"$f":"IF(B873=\"\",\"\",MAX($A$1:A872)+1)","v":""}]
[{"$f":"IF(B874=\"\",\"\",MAX($A$1:A873)+1)","v":""}]
[{"$f":"IF(B875=\"\",\"\",MAX($A$1:A874)+1)","v":""}]
[{"$f":"IF(B876=\"\",\"\",MAX($A$1:A875)+1)","v":""}]
[{"$f":"IF(B877=\"\",\"\",MAX($A$1:A876)+1)","v":""}]
[{"$f":"IF(B878=\"\",\"\",MAX($A$1:A877)+1)","v":""}]
[{"$f":"IF(B879=\"\",\"\",MAX($A$1:A878)+1)","v":""}]
[{"$f":"IF(B880=\"\",\"\",MAX($A$1:A879)+1)","v":""}]
[{"$f":"IF(B881=\"\",\"\",MAX($A$1:A880)+1)","v":""}]
[{"$f":"IF(B882=\"\",\"\",MAX($A$1:A881)+1)","v":""}]
[{"$f":"IF(B883=\"\",\"\",MAX($A$1:A882)+1)","v":""}]
[{"$f":"IF(B884=\"\",\"\",MAX($A$1:A883)+1)","v":""}]
[{"$f":"IF(B885=\"\",\"\",MAX($A$1:A884)+1)","v":""}]
[{"$f":"IF(B886=\"\",\"\",MAX($A$1:A885)+1)","v":""}]
[{"$f":"IF(B887=\"\",\"\",MAX($A$1:A886)+1)","v":""}]
[{"$f":"IF(B888=\"\",\"\",MAX($A$1:A887)+1)","v":""}]
[{"$f":"IF(B889=\"\",\"\",MAX($A$1:A888)+1)","v":""}]
[{"$f":"IF(B890=\"\",\"\",MAX($A$1:A889)+1)","v":""}]
[{"$f":"IF(B891=\"\",\"\",MAX($A$1:A890)+1)","v":""}]
[{"$f":"IF(B892=\"\",\"\",MAX($A$1:A891)+1)","v":""}]
[{"$f":"IF(B893=\"\",\"\",MAX($A$1:A892)+1)","v":""}]
[{"$f":"IF(B894=\"\",\"\",MAX($A$1:A893)+1)","v":""}]
[{"$f":"IF(B895=\"\",\"\",MAX($A$1:A894)+1)","v":""}]
[{"$f":"IF(B896=\"\",\"\",MAX($A$1:A895)+1)","v":""}]
[{"$f":"IF(B897=\"\",\"\",MAX($A$1:A896)+1)","v":""}]
[{"$f":"IF(B898=\"\",\"\",MAX($A$1:A897)+1)","v":""}]
[{"$f":"IF(B899=\"\",\"\",MAX($A$1:A898)+1)","v":""}]
[{"$f":"IF(B900=\"\",\"\",MAX($A$1:A899)+1)","v":""}]
[{"$f":"IF(B901=\"\",\"\",MAX($A$1:A900)+1)","v":""}]
[{"$f":"IF(B902=\"\",\"\",MAX($A$1:A901)+1)","v":""}]
[{"$f":"IF(B903=\"\",\"\",MAX($A$1:A902)+1)","v":""}]
[{"$f":"IF(B904=\"\",\"\",MAX($A$1:A903)+1)","v":""}]
[{"$f":"IF(B905=\"\",\"\",MAX($A$1:A904)+1)","v":""}]
[{"$f":"IF(B906=\"\",\"\",MAX($A$1:A905)+1)","v":""}]
[{"$f":"IF(B907=\"\",\"\",MAX($A$1:A906)+1)","v":""}]
[{"$f":"IF(B908=\"\",\"\",MAX($A$1:A907)+1)","v":""}]
[{"$f":"IF(B909=\"\",\"\",MAX($A$1:A908)+1)","v":""}]
[{"$f":"IF(B910=\"\",\"\",MAX($A$1:A909)+1)","v":""}]
[{"$f":"IF(B911=\"\",\"\",MAX($A$1:A910)+1)","v":""}]
[{"$f":"IF(B912=\"\",\"\",MAX($A$1:A911)+1)","v":""}]
[{"$f":"IF(B913=\"\",\"\",MAX($A$1:A912)+1)","v":""}]
[{"$f":"IF(B914=\"\",\"\",MAX($A$1:A913)+1)","v":""}]
[{"$f":"IF(B915=\"\",\"\",MAX($A$1:A914)+1)","v":""}]
[{"$f":"IF(B916=\"\",\"\",MAX($A$1:A915)+1)","v":""}]
[{"$f":"IF(B917=\"\",\"\",MAX($A$1:A916)+1)","v":""}]
[{"$f":"IF(B918=\"\",\"\",MAX($A$1:A917)+1)","v":""}]
[{"$f":"IF(B919=\"\",\"\",MAX($A$1:A918)+1)","v":""}]
[{"$f":"IF(B920=\"\",\"\",MAX($A$1:A919)+1)","v":""}]
[{"$f":"IF(B921=\"\",\"\",MAX($A$1:A920)+1)","v":""}]
[{"$f":"IF(B922=\"\",\"\",MAX($A$1:A921)+1)","v":""}]
[{"$f":"IF(B923=\"\",\"\",MAX($A$1:A922)+1)","v":""}]
[{"$f":"IF(B924=\"\",\"\",MAX($A$1:A923)+1)","v":""}]
[{"$f":"IF(B925=\"\",\"\",MAX($A$1:A924)+1)","v":""}]
[{"$f":"IF(B926=\"\",\"\",MAX($A$1:A925)+1)","v":""}]
[{"$f":"IF(B927=\"\",\"\",MAX($A$1:A926)+1)","v":""}]
[{"$f":"IF(B928=\"\",\"\",MAX($A$1:A927)+1)","v":""}]
[{"$f":"IF(B929=\"\",\"\",MAX($A$1:A928)+1)","v":""}]
[{"$f":"IF(B930=\"\",\"\",MAX($A$1:A929)+1)","v":""}]
[{"$f":"IF(B931=\"\",\"\",MAX($A$1:A930)+1)","v":""}]
[{"$f":"IF(B932=\"\",\"\",MAX($A$1:A931)+1)","v":""}]
[{"$f":"IF(B933=\"\",\"\",MAX($A$1:A932)+1)","v":""}]
[{"$f":"IF(B934=\"\",\"\",MAX($A$1:A933)+1)","v":""}]
[{"$f":"IF(B935=\"\",\"\",MAX($A$1:A934)+1)","v":""}]
[{"$f":"IF(B936=\"\",\"\",MAX($A$1:A935)+1)","v":""}]
[{"$f":"IF(B937=\"\",\"\",MAX($A$1:A936)+1)","v":""}]
[{"$f":"IF(B938=\"\",\"\",MAX($A$1:A937)+1)","v":""}]
[{"$f":"IF(B939=\"\",\"\",MAX($A$1:A938)+1)","v":""}]
[{"$f":"IF(B940=\"\",\"\",MAX($A$1:A939)+1)","v":""}]
[{"$f":"IF(B941=\"\",\"\",MAX($A$1:A940)+1)","v":""}]
[{"$f":"IF(B942=\"\",\"\",MAX($A$1:A941)+1)","v":""}]
[{"$f":"IF(B943=\"\",\"\",MAX($A$1:A942)+1)","v":""}]
[{"$f":"IF(B944=\"\",\"\",MAX($A$1:A943)+1)","v":""}]
[{"$f":"IF(B945=\"\",\"\",MAX($A$1:A944)+1)","v":""}]
[{"$f":"IF(B946=\"\",\"\",MAX($A$1:A945)+1)","v":""}]
[{"$f":"IF(B947=\"\",\"\",MAX($A$1:A946)+1)","v":""}]
[{"$f":"IF(B948=\"\",\"\",MAX($A$1:A947)+1)","v":""}]
[{"$f":"IF(B949=\"\",\"\",MAX($A$1:A948)+1)","v":""}]
[{"$f":"IF(B950=\"\",\"\",MAX($A$1:A949)+1)","v":""}]
[{"$f":"IF(B951=\"\",\"\",MAX($A$1:A950)+1)","v":""}]
[{"$f":"IF(B952=\"\",\"\",MAX($A$1:A951)+1)","v":""}]
[{"$f":"IF(B953=\"\",\"\",MAX($A$1:A952)+1)","v":""}]
[{"$f":"IF(B954=\"\",\"\",MAX($A$1:A953)+1)","v":""}]
[{"$f":"IF(B955=\"\",\"\",MAX($A$1:A954)+1)","v":""}]
[{"$f":"IF(B956=\"\",\"\",MAX($A$1:A955)+1)","v":""}]
[{"$f":"IF(B957=\"\",\"\",MAX($A$1:A956)+1)","v":""}]
[{"$f":"IF(B958=\"\",\"\",MAX($A$1:A957)+1)","v":""}]
[{"$f":"IF(B959=\"\",\"\",MAX($A$1:A958)+1)","v":""}]
[{"$f":"IF(B960=\"\",\"\",MAX($A$1:A959)+1)","v":""}]
[{"$f":"IF(B961=\"\",\"\",MAX($A$1:A960)+1)","v":""}]
[{"$f":"IF(B962=\"\",\"\",MAX($A$1:A961)+1)","v":""}]
[{"$f":"IF(B963=\"\",\"\",MAX($A$1:A962)+1)","v":""}]
[{"$f":"IF(B964=\"\",\"\",MAX($A$1:A963)+1)","v":""}]
[{"$f":"IF(B965=\"\",\"\",MAX($A$1:A964)+1)","v":""}]
[{"$f":"IF(B966=\"\",\"\",MAX($A$1:A965)+1)","v":""}]
[{"$f":"IF(B967=\"\",\"\",MAX($A$1:A966)+1)","v":""}]
[{"$f":"IF(B968=\"\",\"\",MAX($A$1:A967)+1)","v":""}]
[{"$f":"IF(B969=\"\",\"\",MAX($A$1:A968)+1)","v":""}]
[{"$f":"IF(B970=\"\",\"\",MAX($A$1:A969)+1)","v":""}]
[{"$f":"IF(B971=\"\",\"\",MAX($A$1:A970)+1)","v":""}]
[{"$f":"IF(B972=\"\",\"\",MAX($A$1:A971)+1)","v":""}]
[{"$f":"IF(B973=\"\",\"\",MAX($A$1:A972)+1)","v":""}]
[{"$f":"IF(B974=\"\",\"\",MAX($A$1:A973)+1)","v":""}]
[{"$f":"IF(B975=\"\",\"\",MAX($A$1:A974)+1)","v":""}]
[{"$f":"IF(B976=\"\",\"\",MAX($A$1:A975)+1)","v":""}]
[{"$f":"IF(B977=\"\",\"\",MAX($A$1:A976)+1)","v":""}]
[{"$f":"IF(B978=\"\",\"\",MAX($A$1:A977)+1)","v":""}]
[{"$f":"IF(B979=\"\",\"\",MAX($A$1:A978)+1)","v":""}]
[{"$f":"IF(B980=\"\",\"\",MAX($A$1:A979)+1)","v":""}]
[{"$f":"IF(B981=\"\",\"\",MAX($A$1:A980)+1)","v":""}]
[{"$f":"IF(B982=\"\",\"\",MAX($A$1:A981)+1)","v":""}]
[{"$f":"IF(B983=\"\",\"\",MAX($A$1:A982)+1)","v":""}]
[{"$f":"IF(B984=\"\",\"\",MAX($A$1:A983)+1)","v":""}]
[{"$f":"IF(B985=\"\",\"\",MAX($A$1:A984)+1)","v":""}]
[{"$f":"IF(B986=\"\",\"\",MAX($A$1:A985)+1)","v":""}]
[{"$f":"IF(B987=\"\",\"\",MAX($A$1:A986)+1)","v":""}]
[{"$f":"IF(B988=\"\",\"\",MAX($A$1:A987)+1)","v":""}]
[{"$f":"IF(B989=\"\",\"\",MAX($A$1:A988)+1)","v":""}]
[{"$f":"IF(B990=\"\",\"\",MAX($A$1:A989)+1)","v":""}]
[{"$f":"IF(B991=\"\",\"\",MAX($A$1:A990)+1)","v":""}]
[{"$f":"IF(B992=\"\",\"\",MAX($A$1:A991)+1)","v":""}]
[{"$f":"IF(B993=\"\",\"\",MAX($A$1:A992)+1)","v":""}]
[{"$f":"IF(B994=\"\",\"\",MAX($A$1:A993)+1)","v":""}]
[{"$f":"IF(B995=\"\",\"\",MAX($A$1:A994)+1)","v":""}]
[{"$f":"IF(B996=\"\",\"\",MAX($A$1:A995)+1)","v":""}]
[{"$f":"IF(B997=\"\",\"\",MAX($A$1:A996)+1)","v":""}]
[{"$f":"IF(B998=\"\",\"\",MAX($A$1:A997)+1)","v":""}]
[{"$f":"IF(B999=\"\",\"\",MAX($A$1:A998)+1)","v":""}]
[{"$f":"IF(B1000=\"\",\"\",MAX($A$1:A999)+1)","v":""}]